{"text_format":"1","workbook":"xlsx","n_sheets":4,"sheets":["Design Data","CUHP_Calcs","INTERPOLATION","Program Data"],"not_rendered":{"charts":2,"images":2,"macros":1,"external_links":0,"defined_names":184,"comments":2,"pivot_tables":0},"unopened":[],"bounds":{"document_bytes":16777216,"sheet_cells":100000,"rows_first":2000,"rows_last":500,"rows_between":2000,"halvings":0,"cell_chars":16384,"cell_head_chars":4096},"cells_cut":0,"cells_raw":0,"read":"whole","date_system":"1900"}

{"sheet":"Design Data","index":0,"n_rows":2780,"n_cols":105,"rows_kept":1125,"cut":true,"hidden":false,"merged":[[23,1,27,4],[43,10,43,13],[50,10,50,13],[0,20,0,30],[0,9,0,19],[0,0,0,8],[2,1,2,8],[3,1,3,8],[1,0,1,8],[1,20,1,30],[16,0,16,1],[19,1,22,4]],"bounds":{"rows_first":500,"rows_last":125,"rows_between":500,"halvings":2}}
["Stormwater Detention and Infiltration Design Data Sheet",null,null,null,null,null,null,null,null,{"$f":"A1","v":"Stormwater Detention and Infiltration Design Data Sheet"},null,null,null,null,null,null,null,null,null,null,{"$f":"J1","v":"Stormwater Detention and Infiltration Design Data Sheet"}]
["SDI-Design Data v2.00, Released January 2020",null,null,null,null,null,null,null,null,null,null,null,null,null,null,null,null,null,null,null,{"$f":"Version_Release","v":"SDI-Design Data v2.00, Released January 2020"},null,null,null,null,null,null,null,null,null,null,null,null,"Workbook Protected"]
["Stormwater Facility Name:",null,null,null,null,null,null,null,null,null,null,null,null,null,null,null,null,null,null,null,null,null,null,null,null,null,null,null,null,null,null,null,null,"Worksheet Protected"]
["Facility Location & Jurisdiction:",null,null,null,null,null,null,null,null,null,null,null,null,null,null,null,null,null,null,null,null,"Storm Inflow Hydrographs"]
[null,null,null,null,null,null,null,null,null,null,null,null,null,null,null,null,null,null,null,null,null,"The user can override the calculated inflow hydrographs from this workbook with inflow hydrographs developed in a separate program."]
["User Input: Watershed Characteristics",null,null,null,null,"User Defined","User Defined","User Defined","User Defined",null,null,null,null,null,null,null,null,null,null,null,null,{"$f":"IF(Time_Interval_Boolean=TRUE,\"User-Defined\",\"\")","v":""},"SOURCE",{"$f":"IF(OR(X8=\"\",B46=\"\"),\"\",IF(SUM(X8:X80)=SUM(B2707:B2779),IF(MAX(X8:X80)=MAX(B2707:B2779),\"CUHP\"),\"USER\"))","v":""},"","","","",""]
["Selected BMP Type =",{"$f":"IF(BMP_Type=1,\"\",IF(BMP_Type=2,\"EDB\",IF(BMP_Type=3,\"SF\",IF(BMP_Type=4,\"RG\",IF(BMP_Type=5,\"No BMP\",\"\")))))","v":""},null,{"$f":"IF(OR(Watershed_Area=\"\",Watershed_Length=\"\"),\"\",\nIF((Watershed_Length^2)/(Watershed_Area*43560)<1,\"Note: L / W Ratio < 1\",IF((Watershed_Length^2)/(Watershed_Area*43560)>8,\"Note: L / W Ratio > 8\",\"\")))","v":""},null,"Stage [ft]","Area [ft^2]","Stage [ft]","Discharge [cfs]",null,null,null,null,null,null,null,null,null,null,null,null,"Time Interval","TIME","WQCV [cfs]","2 Year [cfs]","5 Year [cfs]","10 Year [cfs]","50 Year [cfs]","100 Year [cfs]"]
["Watershed Area =",null,"acres",{"$f":"IF(OR(Watershed_Area=\"\",Watershed_Length=\"\"),\"\",IF((Watershed_Length^2)/(Watershed_Area*43560)<1,\"L / W Ratio = \" & ROUND((Watershed_Length^2)/(Watershed_Area*43560),2),IF((Watershed_Length^2)/(Watershed_Area*43560)>8,\"L / W Ratio = \" & ROUND((Watershed_Length^2)/(Watershed_Area*43560),2),\"\")))","v":""},null,0,null,0,null,null,null,null,null,null,null,null,null,null,null,null,null,5,"00:00:00"]
["Watershed Length =",null,"ft",{"$f":"IF(OR(Watershed_Length=\"\",Watershed_CentroidLength=\"\"),\"\",\nIF(Watershed_CentroidLength/Watershed_Length<0.1,\"Note: Lc/L Ratio < 0.1\",IF(Watershed_CentroidLength/Watershed_Length>0.9,\"Note: Lc/L Ratio > 0.9\",\"\")))","v":""},null,null,null,null,null,null,null,"Booleans for Message",null,null,"Booleans for CUHP",null,null,null,null,null,null,null,{"$f":"W8+$V$8/(60*24)","v":"00:05:00"}]
["Watershed Length to Centroid =",null,"ft",{"$f":"IF(OR(Watershed_Length=\"\",Watershed_CentroidLength=\"\"),\"\",IF(Watershed_CentroidLength/Watershed_Length<0.1,\"Lc / L Ratio = \" & ROUND(Watershed_CentroidLength/Watershed_Length,2),IF(Watershed_CentroidLength/Watershed_Length>0.9,\"Lc / L Ratio = \" & ROUND(Watershed_CentroidLength/Watershed_Length,2),\"\")))","v":""},null,null,null,null,null,null,null,null,"Watershed L:W",null,{"$f":"IF(AND(COUNTA(B8:B15)=8,Precip_User=1),1,0)","v":0},"CUHP Inputs Complete",null,null,null,null,null,null,"00:10:00"]
["Watershed Slope =",null,"ft/ft",{"$f":"IF(Watershed_Slope=\"\",\"\",\nIF(Watershed_Slope<0.005,\"Flat Slope < 0.005 ft/ft\",IF(Watershed_Slope>0.06,\"Steep Slope > 0.06 ft/ft\",\"\")))","v":""},null,null,null,null,null,null,null,null,"Watershed Lc:L",null,null,"CUHP Results Calculated",null,null,null,null,null,"Optional WQCV","00:15:00"]
["Watershed Imperviousness =",null,"percent",null,null,null,null,null,null,null,null,null,"Watershed Slope",null,false,"Time Interval",null,null,null,null,null,"Override (ac-ft)","00:20:00"]
["Percentage Hydrologic Soil Group A =",null,"percent",null,null,null,null,null,null,null,null,null,null,null,null,null,null,null,null,null,null,null,"00:25:00"]
["Percentage Hydrologic Soil Group B =",null,"percent",null,null,null,null,null,null,null,null,null,null,null,null,null,null,null,null,null,null,null,"00:30:00"]
["Percentage Hydrologic Soil Groups C/D =",null,"percent",null,null,null,null,null,null,null,null,null,null,null,null,null,null,null,null,null,null,null,"00:35:00"]
["Target WQCV Drain Time =",null,"hours",null,null,null,null,null,null,null,null,null,null,null,null,null,null,null,null,null,null,null,"00:40:00"]
["Location for 1-hr Rainfall Depths (use dropdown):",null,null,null,null,null,null,null,null,null,null,null,null,null,null,null,null,null,null,null,null,null,"00:45:00"]
[null,{"$f":"Rainfall_Location","v":"Denver - Capitol Building"},null,null,null,null,null,null,null,null,"RunOnce",null,null,null,null,null,null,null,null,null,null,null,"00:50:00"]
[null,null,null,null,null,null,null,null,null,null,"CountA",{"$f":"IF(AND(COUNTA(Watershed_Area,Watershed_Length,Watershed_CentroidLength,Watershed_Slope,Imperviousness,Target_WQCV_Drain_Time)=6,SUM(Pct_A,Pct_B,Pct_CD)=1),1,0)","v":0},null,null,null,null,null,null,null,null,null,null,"00:55:00"]
[null,"After providing required inputs above including 1-hour rainfall depths, click 'Run CUHP' to generate runoff hydrographs using the embedded Colorado Urban Hydrograph Procedure.",null,null,null,null,null,null,null,null,"Draintime Coeff",{"$f":"IF(Target_WQCV_Drain_Time=40,1,IF(Target_WQCV_Drain_Time=12,0.8,1))","v":1},null,null,null,null,null,null,null,null,null,null,"01:00:00"]
[null,null,null,null,null,null,null,null,null,null,"User Precip",{"$f":"IF(Rainfall_Selected<>49,1,\nIF(OR(P_2yr=\"\",P_5yr=\"\",P_10yr=\"\",P_50yr=\"\",P_100yr=\"\"),0,1))","v":1},null,null,null,null,null,null,null,null,null,null,"01:05:00"]
[null,null,null,null,null,null,null,null,null,null,"Equal SA Inputs",{"$f":"IF(COUNTA(stage1)=COUNTA(area1),1,0)","v":0},null,null,null,null,null,null,null,null,null,null,"01:10:00"]
[null,null,null,null,null,null,null,null,null,null,"Equal SD Inputs",{"$f":"IF(COUNTA(stage2)=COUNTA(discharge2),1,0)","v":0},null,null,null,null,null,null,null,null,null,null,"01:15:00"]
[null,"Once CUHP has been run and the Stage-Area-Discharge information has been provided, click 'Process Data' to interpolate the Stage-Area-Volume-Discharge data and generate summary results in the table below.  Once this is complete, click 'Print to PDF'.",null,null,null,null,null,null,null,null,null,null,null,null,null,null,null,null,null,null,null,null,"01:20:00"]
[null,null,null,null,null,null,null,null,null,null,null,null,null,null,null,null,null,null,null,null,null,null,"01:25:00"]
[null,null,null,null,null,null,null,null,null,null,null,null,null,null,null,null,null,null,null,null,null,null,"01:30:00"]
[null,null,null,null,null,null,null,null,null,null,null,null,null,null,null,null,null,null,null,null,null,null,"01:35:00"]
[null,null,null,null,null,null,null,null,null,null,null,null,null,null,null,null,null,null,null,null,null,null,"01:40:00"]
[0,null,null,null,null,null,null,null,null,null,null,null,null,null,null,null,null,null,null,null,null,null,"01:45:00"]
[null,null,null,null,null,null,null,null,null,null,null,null,null,null,null,null,null,null,null,null,null,null,"01:50:00"]
[null,null,null,null,null,null,null,null,null,null,null,null,null,null,null,null,null,null,null,null,null,null,"01:55:00"]
[null,null,null,null,null,null,null,null,null,null,null,null,null,null,null,null,null,null,null,null,null,null,"02:00:00"]
[null,null,null,null,null,null,null,null,null,null,null,null,null,null,null,null,null,null,null,null,null,null,"02:05:00"]
[null,null,null,null,null,null,null,null,null,null,null,null,null,null,null,null,null,null,null,null,null,null,"02:10:00"]
[null,null,null,null,null,null,null,null,null,null,null,null,null,null,null,null,null,null,null,null,null,null,"02:15:00"]
[null,null,null,null,null,null,null,null,null,null,null,null,null,null,null,null,null,null,null,null,null,null,"02:20:00"]
[null,null,null,null,null,null,null,null,null,null,null,null,null,null,null,null,null,null,null,null,null,null,"02:25:00"]
["After completing and printing this worksheet to a pdf, go to:",null,null,null,null,null,null,null,null,null,null,null,null,null,null,null,null,null,null,null,null,null,"02:30:00"]
["https://maperture.digitaldataservices.com/gvh/?viewer=cswdif",null,null,null,null,null,null,null,null,null,null,null,null,null,null,null,null,null,null,null,null,null,"02:35:00"]
["Create a new stormwater facility, and attach the PDF of this",null,null,null,null,null,null,null,null,null,null,null,null,null,null,null,null,null,null,null,null,null,"02:40:00"]
["worksheet to that record.",null,null,null,null,null,null,null,null,null,null,null,null,null,null,null,null,null,null,null,null,null,{"$f":"W40+$V$8/(60*24)","v":"02:45:00"}]
[null,null,null,null,null,null,null,null,null,null,null,null,null,null,null,null,null,null,null,null,null,null,"02:50:00"]
["Routed Hydrograph Results",null,null,null,null,null,null,null,null,null,null,null,null,null,null,null,null,null,null,null,null,null,"02:55:00"]
["Design Storm Return Period =","WQCV","2 Year","5 Year","10 Year","50 Year","100 Year",null,null,null,null,null,null,null,null,null,null,null,null,null,null,null,"03:00:00"]
["One-Hour Rainfall Depth =","N/A",{"$f":"VLOOKUP('Program Data'!B53,'Program Data'!B4:M52,6)","v":0.82499999999999996},{"$f":"VLOOKUP('Program Data'!B53,'Program Data'!B4:M52,7)","v":1.0900000000000001},{"$f":"VLOOKUP('Program Data'!B53,'Program Data'!B4:M52,8)","v":1.33},{"$f":"VLOOKUP('Program Data'!B53,'Program Data'!B4:M52,10)","v":1.99},{"$f":"VLOOKUP('Program Data'!B53,'Program Data'!B4:M52,11)","v":2.31},"in",null,null,null,null,null,null,null,null,null,null,null,null,null,null,"03:05:00"]
["CUHP Runoff Volume =",{"$f":"IF(OR(Watershed_Area=\"\",Imperviousness=\"\",SUM(Pct_A,Pct_B,Pct_CD)<>1,Target_WQCV_Drain_Time=\"\"),\"\",\nIF(BMP_Type=5,\"N/A\",\nIF(WQCV_Override<>\"\",WQCV_Override,\nDraintime_Coeff*(0.91*Imperviousness^3-1.19*Imperviousness^2+0.78*Imperviousness)/12*Watershed_Area)))","v":""},null,null,null,null,null,"acre-ft",null,null,null,null,null,null,null,null,null,null,null,null,null,null,"03:10:00"]
["Inflow Hydrograph Volume =",{"$f":"IF(OR(Target_WQCV_Drain_Time=\"\",RunOnce=\"\"),\"\",\nIF(WQCV=\"N/A\",\"N/A\",\nIF(Hydrograph_Source_WQCV=\"USER\",$D2703,\"N/A\")))","v":""},{"$f":"IF(RunOnce=\"\",\"\",$U2703)","v":""},{"$f":"IF(RunOnce=\"\",\"\",AL2703)","v":""},{"$f":"IF(RunOnce=\"\",\"\",BC2703)","v":""},{"$f":"IF(RunOnce=\"\",\"\",BT2703)","v":""},{"$f":"IF(RunOnce=\"\",\"\",CK2703)","v":""},"acre-ft",null,null,null,null,null,null,null,null,null,null,null,null,null,null,"03:15:00"]
["Time to Drain 97% of Inflow Volume =",{"$f":"IF(OR(Target_WQCV_Drain_Time=\"\",RunOnce=\"\"),\"\",\nIF(WQCV=\"N/A\",\"N/A\",\nIF(MAX(S1265:S2702)=0,CONCATENATE(\">\",TEXT($B$2702,\"0\")),ROUND(MAX(S1265:S2702),1))))","v":""},{"$f":"IF(RunOnce=\"\",\"\",IF(MAX(AJ1265:AJ2702)=0,CONCATENATE(\">\",TEXT($B$2702,\"0\")),ROUND(MAX(AJ1265:AJ2702),1)))","v":""},{"$f":"IF(RunOnce=\"\",\"\",IF(MAX(BA1265:BA2702)=0,CONCATENATE(\">\",TEXT($B$2702,\"0\")),ROUND(MAX(BA1265:BA2702),1)))","v":""},{"$f":"IF(RunOnce=\"\",\"\",IF(MAX(BR1265:BR2702)=0,CONCATENATE(\">\",TEXT($B$2702,\"0\")),ROUND(MAX(BR1265:BR2702),1)))","v":""},{"$f":"IF(RunOnce=\"\",\"\",IF(MAX(CI1265:CI2702)=0,CONCATENATE(\">\",TEXT($B$2702,\"0\")),ROUND(MAX(CI1265:CI2702),1)))","v":""},{"$f":"IF(RunOnce=\"\",\"\",IF(MAX(CZ1265:CZ2702)=0,CONCATENATE(\">\",TEXT($B$2702,\"0\")),ROUND(MAX(CZ1265:CZ2702),1)))","v":""},"hours",null,null,null,null,null,null,null,null,null,null,null,null,null,null,"03:20:00"]
["Time to Drain 99% of Inflow Volume =",{"$f":"IF(OR(Target_WQCV_Drain_Time=\"\",RunOnce=\"\"),\"\",\nIF(WQCV=\"N/A\",\"N/A\",\nIF(MAX(T1265:T2702)=0,CONCATENATE(\">\",TEXT($B$2702,\"0\")),ROUND(MAX(T1265:T2702),1))))","v":""},{"$f":"IF(RunOnce=\"\",\"\",IF(MAX(AJ1265:AJ2702)=0,CONCATENATE(\">\",TEXT($B$2702,\"0\")),ROUND(MAX(AK1265:AK2702),1)))","v":""},{"$f":"IF(RunOnce=\"\",\"\",IF(MAX(BA1265:BA2702)=0,CONCATENATE(\">\",TEXT($B$2702,\"0\")),ROUND(MAX(BB1265:BB2702),1)))","v":""},{"$f":"IF(RunOnce=\"\",\"\",IF(MAX(BR1265:BR2702)=0,CONCATENATE(\">\",TEXT($B$2702,\"0\")),ROUND(MAX(BS1265:BS2702),1)))","v":""},{"$f":"IF(RunOnce=\"\",\"\",IF(MAX(CI1265:CI2702)=0,CONCATENATE(\">\",TEXT($B$2702,\"0\")),ROUND(MAX(CJ1265:CJ2702),1)))","v":""},{"$f":"IF(RunOnce=\"\",\"\",IF(MAX(CZ1265:CZ2702)=0,CONCATENATE(\">\",TEXT($B$2702,\"0\")),ROUND(MAX(DA1265:DA2702),1)))","v":""},"hours",null,null,null,null,null,null,null,null,null,null,null,null,null,null,"03:25:00"]
["Maximum Ponding Depth =",{"$f":"IF(OR(Target_WQCV_Drain_Time=\"\",RunOnce=\"\"),\"\",\nIF(WQCV=\"N/A\",\"N/A\",MAX(L1262:L2702)))","v":""},{"$f":"IF(RunOnce=\"\",\"\",MAX(AC1262:AC2702))","v":""},{"$f":"IF(RunOnce=\"\",\"\",MAX(AT1262:AT2702))","v":""},{"$f":"IF(RunOnce=\"\",\"\",MAX(BK1262:BK2702))","v":""},{"$f":"IF(RunOnce=\"\",\"\",MAX(CB1262:CB2702))","v":""},{"$f":"IF(RunOnce=\"\",\"\",MAX(CS1262:CS2702))","v":""},{"$f":"IF(MaxPondDepth=\"\",\"ft\",IF(MaxPondDepth<=B1258,\"ft\",\"WARNING!\"))","v":"ft"},null,null,null,null,null,null,null,null,null,null,null,null,null,null,"03:30:00"]
["Maximum Ponded Area =",{"$f":"IF(OR(Target_WQCV_Drain_Time=\"\",B50 = \"\",SUM($B$87:$B$1258)=0),\"\",\nIF(WQCV=\"N/A\",\"N/A\",VLOOKUP(B50,$B$87:$E$1258,4,TRUE)/43560))","v":""},{"$f":"IF(OR(C50 = \"\",SUM($B$87:$B$1258)=0),\"\",VLOOKUP(C50,$B$87:$E$1258,4,TRUE)/43560)","v":""},{"$f":"IF(OR(D50 = \"\",SUM($B$87:$B$1258)=0),\"\",VLOOKUP(D50,$B$87:$E$1258,4,TRUE)/43560)","v":""},{"$f":"IF(OR(E50 = \"\",SUM($B$87:$B$1258)=0),\"\",VLOOKUP(E50,$B$87:$E$1258,4,TRUE)/43560)","v":""},{"$f":"IF(OR(F50 = \"\",SUM($B$87:$B$1258)=0),\"\",VLOOKUP(F50,$B$87:$E$1258,4,TRUE)/43560)","v":""},{"$f":"IF(OR(G50 = \"\",SUM($B$87:$B$1258)=0),\"\",VLOOKUP(G50,$B$87:$E$1258,4,TRUE)/43560)","v":""},"acres",null,null,null,null,null,null,null,null,null,null,null,null,null,null,"03:35:00"]
["Maximum Volume Stored =",{"$f":"IF(OR(Target_WQCV_Drain_Time=\"\",RunOnce=\"\"),\"\",\nIF(WQCV=\"N/A\",\"N/A\",MIN(B47,VLOOKUP(B50,$B$87:$F$1258,5)/43560)))","v":""},{"$f":"IF(RunOnce=\"\",\"\",MIN(C47,VLOOKUP(C50,$B$87:$F$1258,5)/43560))","v":""},{"$f":"IF(RunOnce=\"\",\"\",MIN(D47,VLOOKUP(D50,$B$87:$F$1258,5)/43560))","v":""},{"$f":"IF(RunOnce=\"\",\"\",MIN(E47,VLOOKUP(E50,$B$87:$F$1258,5)/43560))","v":""},{"$f":"IF(RunOnce=\"\",\"\",MIN(F47,VLOOKUP(F50,$B$87:$F$1258,5)/43560))","v":""},{"$f":"IF(RunOnce=\"\",\"\",MIN(G47,VLOOKUP(G50,$B$87:$F$1258,5)/43560))","v":""},"acre-ft",null,null,null,null,null,null,null,null,null,null,null,null,null,null,"03:40:00"]
[null,null,null,null,null,null,null,null,null,null,null,null,null,null,null,null,null,null,null,null,null,null,"03:45:00"]
[null,null,null,null,null,null,null,null,null,null,null,null,null,null,null,null,null,null,null,null,null,null,"03:50:00"]
[null,null,null,null,null,null,null,null,null,null,null,null,null,null,null,null,null,null,null,null,null,null,"03:55:00"]
[null,null,null,null,null,null,null,null,null,null,null,null,null,null,null,null,null,null,null,null,null,null,"04:00:00"]
[null,null,null,null,null,null,null,null,null,null,null,null,null,null,null,null,null,null,null,null,null,null,"04:05:00"]
[null,null,null,null,null,null,null,null,null,null,null,null,null,null,null,null,null,null,null,null,null,null,"04:10:00"]
[null,"Hidden Stage-Area-Volume_Discharge Table starts on row 84 below",null,null,null,null,null,null,null,null,null,null,null,null,null,null,null,null,null,null,null,null,"04:15:00"]
[null,"Hidden Routing Table starts on row 1260 below",null,null,null,null,null,null,null,null,null,null,null,null,null,null,null,null,null,null,null,null,"04:20:00"]
[null,null,null,null,null,null,null,null,null,null,null,null,null,null,null,null,null,null,null,null,null,null,"04:25:00"]
[null,null,null,null,null,null,null,null,null,null,null,null,null,null,null,null,null,null,null,null,null,null,"04:30:00"]
[null,null,null,null,null,null,null,null,null,null,null,null,null,null,null,null,null,null,null,null,null,null,"04:35:00"]
[null,null,null,null,null,null,null,null,null,null,null,null,null,null,null,null,null,null,null,null,null,null,"04:40:00"]
[null,null,null,null,null,null,null,null,null,null,null,null,null,null,null,null,null,null,null,null,null,null,"04:45:00"]
[null,null,null,null,null,null,null,null,null,null,null,null,null,null,null,null,null,null,null,null,null,null,"04:50:00"]
[null,null,null,null,null,null,null,null,null,null,null,null,null,null,null,null,null,null,null,null,null,null,"04:55:00"]
[null,null,null,null,null,null,null,null,null,null,null,null,null,null,null,null,null,null,null,null,null,null,"05:00:00"]
[null,null,null,null,null,null,null,null,null,null,null,null,null,null,null,null,null,null,null,null,null,null,"05:05:00"]
[null,null,null,null,null,null,null,null,null,null,null,null,null,null,null,null,null,null,null,null,null,null,"05:10:00"]
[null,null,null,null,null,null,null,null,null,null,null,null,null,null,null,null,null,null,null,null,null,null,"05:15:00"]
[null,null,null,null,null,null,null,null,null,null,null,null,null,null,null,null,null,null,null,null,null,null,"05:20:00"]
[null,null,null,null,null,null,null,null,null,null,null,null,null,null,null,null,null,null,null,null,null,null,{"$f":"W72+$V$8/(60*24)","v":"05:25:00"}]
[null,null,null,null,null,null,null,null,null,null,null,null,null,null,null,null,null,null,null,null,null,null,"05:30:00"]
[null,null,null,null,null,null,null,null,null,null,null,null,null,null,null,null,null,null,null,null,null,null,"05:35:00"]
[null,null,null,null,null,null,null,null,null,null,null,null,null,null,null,null,null,null,null,null,null,null,"05:40:00"]
[null,null,null,null,null,null,null,null,null,null,null,null,null,null,null,null,null,null,null,null,null,null,"05:45:00"]
[null,null,null,null,null,null,null,null,null,null,null,null,null,null,null,null,null,null,null,null,null,null,"05:50:00"]
[null,null,null,null,null,null,null,null,null,null,null,null,null,null,null,null,null,null,null,null,null,null,"05:55:00"]
[null,null,null,null,null,null,null,null,null,null,null,null,null,null,null,null,null,null,null,null,null,null,"06:00:00"]
[]
[]
[]
[null,null,null,null,null,null,null,null,null,null,null,null,"Count S-A","Count S-D"]
[null,"User Defined","User Defined","User Defined","Area","Volume","2*Vol","Outflow","O*dt+2S\n\"R\"","Outflow Slope","Stage Slope",null,{"$f":"COUNT(stage1)","v":1},{"$f":"COUNT(stage2)","v":1}]
[null,"Stage [ft]","Area [ft^2]","Discharge [cfs]","[ft^2]","[ft^3]","[ft^3]","[cfs]","[ft^3]","[ft / ft]","[ft / ft]",null,"Match S-A","Match S-D"]
[null,null,null,null,{"$f":"IF(C87=\"\",\"\",C87)","v":""},{"$f":"IF(OR(B87=\"\",E87=\"\"),\"\",0)","v":""},{"$f":"IF(B87=\"\",\"\",IF(F87=\"\",\"\",2*F87))","v":""},{"$f":"IF(D87=\"\",\"\",D87)","v":""},{"$f":"IF(B87=\"\",\"\",IF(H87=\"\",\"\",IF(F87=\"\",\"\",H87*$C$1260*60+G87)))","v":""},{"$f":"0","v":0},0,null,{"$f":"IF(B87=\"\",\"\",MATCH(B87,stage1))","v":""},{"$f":"IF(B87=\"\",\"\",MATCH(B87,stage2))","v":""}]
[null,null,null,null,"",{"$f":"IF(OR(B88=\"\",E88=\"\"),\"\",(B88-B87)/3*(E87+E88+(E87*E88)^0.5)+F87)","v":""},"",{"$f":"IF(D88=\"\",\"\",D88)","v":""},"",{"$f":"IF(I88<=0,0,IF(I88=\"\",J87,((H88-H87)/(I88-I87))))","v":0},{"$f":"IF(I88<=0,0,IF(I88=\"\",K87,((B88-B87)/(I88-I87))))","v":0},null,"",""]
[null,null,null,null,"",{"$f":"IF(OR(B89=\"\",E89=\"\"),\"\",(B89-B88)/3*(E88+E89+(E88*E89)^0.5)+F88)","v":""},"","","",0,0,null,"",""]
[null,null,null,null,"","","","","",0,0,null,"",""]
[null,null,null,null,"","","","","",0,0,null,"",""]
[null,null,null,null,"","","","","",0,0,null,"",""]
[null,null,null,null,"","","","","",0,0,null,"",""]
[null,null,null,null,"","","","","",0,0,null,"",""]
[null,null,null,null,"","","","","",0,0,null,"",""]
[null,null,null,null,"","","","","",0,0,null,"",""]
[null,null,null,null,"","","","","",0,0,null,"",""]
[null,null,null,null,"","","","","",0,0,null,"",""]
[null,null,null,null,"","","","","",0,0,null,"",""]
[null,null,null,null,"","","","","",0,0,null,"",""]
[null,null,null,null,"","","","","",0,0,null,"",""]
[null,null,null,null,"","","","","",0,0,null,"",""]
[null,null,null,null,"","","","","",0,0,null,"",""]
[null,null,null,null,"","","","","",0,0,null,"",""]
[null,null,null,null,"","","","","",0,0,null,"",""]
[null,null,null,null,"","","","","",0,0,null,"",""]
[null,null,null,null,"","","","","",0,0,null,"",""]
[null,null,null,null,"","","","","",0,0,null,"",""]
[null,null,null,null,"","","","","",0,0,null,"",""]
[null,null,null,null,"","","","","",0,0,null,"",""]
[null,null,null,null,"","","","","",0,0,null,"",""]
[null,null,null,null,"","","","","",0,0,null,"",""]
[null,null,null,null,"","","","","",0,0,null,"",""]
[null,null,null,null,"","","","","",0,0,null,"",""]
[null,null,null,null,"","","","","",0,0,null,"",""]
[null,null,null,null,"","","","","",0,0,null,"",""]
[null,null,null,null,"","","","","",0,0,null,"",""]
[null,null,null,null,"","","","","",0,0,null,"",""]
[null,null,null,null,"","","","","",0,0,null,"",""]
[null,null,null,null,"","","","","",0,0,null,"",""]
[null,null,null,null,"","","","","",0,0,null,"",""]
[null,null,null,null,"","","","","",0,0,null,"",""]
[null,null,null,null,"","","","","",0,0,null,"",""]
[null,null,null,null,"","","","","",0,0,null,"",""]
[null,null,null,null,"","","","","",0,0,null,"",""]
[null,null,null,null,"","","","","",0,0,null,"",""]
[null,null,null,null,"","","","","",0,0,null,"",""]
[null,null,null,null,"","","","","",0,0,null,"",""]
[null,null,null,null,"","","","","",0,0,null,"",""]
[null,null,null,null,"","","","","",0,0,null,"",""]
[null,null,null,null,"","","","","",0,0,null,"",""]
[null,null,null,null,"","","","","",0,0,null,"",""]
[null,null,null,null,"","","","","",0,0,null,"",""]
[null,null,null,null,"","","","","",0,0,null,"",""]
[null,null,null,null,"","","","","",0,0,null,"",""]
[null,null,null,null,"","","","","",0,0,null,"",""]
[null,null,null,null,"","","","","",0,0,null,"",""]
[null,null,null,null,"","","","","",0,0,null,"",""]
[null,null,null,null,"","","","","",0,0,null,"",""]
[null,null,null,null,"","","","","",0,0,null,"",""]
[null,null,null,null,"","","","","",0,0,null,"",""]
[null,null,null,null,"","","","","",0,0,null,"",""]
[null,null,null,null,"","","","","",0,0,null,"",""]
[null,null,null,null,"","","","","",0,0,null,"",""]
[null,null,null,null,"","","","","",0,0,null,"",""]
[null,null,null,null,"","","","","",0,0,null,"",""]
[null,null,null,null,"","","","","",0,0,null,"",""]
[null,null,null,null,"","","","","",0,0,null,"",""]
[null,null,null,null,"","","","","",0,0,null,"",""]
[null,null,null,null,"","","","","",0,0,null,"",""]
[null,null,null,null,{"$f":"IF(C151=\"\",\"\",C151)","v":""},"",{"$f":"IF(B151=\"\",\"\",IF(F151=\"\",\"\",2*F151))","v":""},"",{"$f":"IF(B151=\"\",\"\",IF(H151=\"\",\"\",IF(F151=\"\",\"\",H151*$C$1260*60+G151)))","v":""},0,0,null,{"$f":"IF(B151=\"\",\"\",MATCH(B151,stage1))","v":""},{"$f":"IF(B151=\"\",\"\",MATCH(B151,stage2))","v":""}]
[null,null,null,null,"","","",{"$f":"IF(D152=\"\",\"\",D152)","v":""},"",{"$f":"IF(I152<=0,0,IF(I152=\"\",J151,((H152-H151)/(I152-I151))))","v":0},{"$f":"IF(I152<=0,0,IF(I152=\"\",K151,((B152-B151)/(I152-I151))))","v":0},null,"",""]
[null,null,null,null,"",{"$f":"IF(OR(B153=\"\",E153=\"\"),\"\",(B153-B152)/3*(E152+E153+(E152*E153)^0.5)+F152)","v":""},"","","",0,0,null,"",""]
[null,null,null,null,"","","","","",0,0,null,"",""]
[null,null,null,null,"","","","","",0,0,null,"",""]
[null,null,null,null,"","","","","",0,0,null,"",""]
[null,null,null,null,"","","","","",0,0,null,"",""]
[null,null,null,null,"","","","","",0,0,null,"",""]
[null,null,null,null,"","","","","",0,0,null,"",""]
[null,null,null,null,"","","","","",0,0,null,"",""]
[null,null,null,null,"","","","","",0,0,null,"",""]
[null,null,null,null,"","","","","",0,0,null,"",""]
[null,null,null,null,"","","","","",0,0,null,"",""]
[null,null,null,null,"","","","","",0,0,null,"",""]
[null,null,null,null,"","","","","",0,0,null,"",""]
[null,null,null,null,"","","","","",0,0,null,"",""]
[null,null,null,null,"","","","","",0,0,null,"",""]
[null,null,null,null,"","","","","",0,0,null,"",""]
[null,null,null,null,"","","","","",0,0,null,"",""]
[null,null,null,null,"","","","","",0,0,null,"",""]
[null,null,null,null,"","","","","",0,0,null,"",""]
[null,null,null,null,"","","","","",0,0,null,"",""]
[null,null,null,null,"","","","","",0,0,null,"",""]
[null,null,null,null,"","","","","",0,0,null,"",""]
[null,null,null,null,"","","","","",0,0,null,"",""]
[null,null,null,null,"","","","","",0,0,null,"",""]
[null,null,null,null,"","","","","",0,0,null,"",""]
[null,null,null,null,"","","","","",0,0,null,"",""]
[null,null,null,null,"","","","","",0,0,null,"",""]
[null,null,null,null,"","","","","",0,0,null,"",""]
[null,null,null,null,"","","","","",0,0,null,"",""]
[null,null,null,null,"","","","","",0,0,null,"",""]
[null,null,null,null,"","","","","",0,0,null,"",""]
[null,null,null,null,"","","","","",0,0,null,"",""]
[null,null,null,null,"","","","","",0,0,null,"",""]
[null,null,null,null,"","","","","",0,0,null,"",""]
[null,null,null,null,"","","","","",0,0,null,"",""]
[null,null,null,null,"","","","","",0,0,null,"",""]
[null,null,null,null,"","","","","",0,0,null,"",""]
[null,null,null,null,"","","","","",0,0,null,"",""]
[null,null,null,null,"","","","","",0,0,null,"",""]
[null,null,null,null,"","","","","",0,0,null,"",""]
[null,null,null,null,"","","","","",0,0,null,"",""]
[null,null,null,null,"","","","","",0,0,null,"",""]
[null,null,null,null,"","","","","",0,0,null,"",""]
[null,null,null,null,"","","","","",0,0,null,"",""]
[null,null,null,null,"","","","","",0,0,null,"",""]
[null,null,null,null,"","","","","",0,0,null,"",""]
[null,null,null,null,"","","","","",0,0,null,"",""]
[null,null,null,null,"","","","","",0,0,null,"",""]
[null,null,null,null,"","","","","",0,0,null,"",""]
[null,null,null,null,"","","","","",0,0,null,"",""]
[null,null,null,null,"","","","","",0,0,null,"",""]
[null,null,null,null,"","","","","",0,0,null,"",""]
[null,null,null,null,"","","","","",0,0,null,"",""]
[null,null,null,null,"","","","","",0,0,null,"",""]
[null,null,null,null,"","","","","",0,0,null,"",""]
[null,null,null,null,"","","","","",0,0,null,"",""]
[null,null,null,null,"","","","","",0,0,null,"",""]
[null,null,null,null,"","","","","",0,0,null,"",""]
[null,null,null,null,"","","","","",0,0,null,"",""]
[null,null,null,null,"","","","","",0,0,null,"",""]
[null,null,null,null,"","","","","",0,0,null,"",""]
[null,null,null,null,"","","","","",0,0,null,"",""]
[null,null,null,null,{"$f":"IF(C215=\"\",\"\",C215)","v":""},"",{"$f":"IF(B215=\"\",\"\",IF(F215=\"\",\"\",2*F215))","v":""},"",{"$f":"IF(B215=\"\",\"\",IF(H215=\"\",\"\",IF(F215=\"\",\"\",H215*$C$1260*60+G215)))","v":""},0,0,null,{"$f":"IF(B215=\"\",\"\",MATCH(B215,stage1))","v":""},{"$f":"IF(B215=\"\",\"\",MATCH(B215,stage2))","v":""}]
[null,null,null,null,"","","",{"$f":"IF(D216=\"\",\"\",D216)","v":""},"",{"$f":"IF(I216<=0,0,IF(I216=\"\",J215,((H216-H215)/(I216-I215))))","v":0},{"$f":"IF(I216<=0,0,IF(I216=\"\",K215,((B216-B215)/(I216-I215))))","v":0},null,"",""]
[null,null,null,null,"",{"$f":"IF(OR(B217=\"\",E217=\"\"),\"\",(B217-B216)/3*(E216+E217+(E216*E217)^0.5)+F216)","v":""},"","","",0,0,null,"",""]
[null,null,null,null,"","","","","",0,0,null,"",""]
[null,null,null,null,"","","","","",0,0,null,"",""]
[null,null,null,null,"","","","","",0,0,null,"",""]
[null,null,null,null,"","","","","",0,0,null,"",""]
[null,null,null,null,"","","","","",0,0,null,"",""]
[null,null,null,null,"","","","","",0,0,null,"",""]
[null,null,null,null,"","","","","",0,0,null,"",""]
[null,null,null,null,"","","","","",0,0,null,"",""]
[null,null,null,null,"","","","","",0,0,null,"",""]
[null,null,null,null,"","","","","",0,0,null,"",""]
[null,null,null,null,"","","","","",0,0,null,"",""]
[null,null,null,null,"","","","","",0,0,null,"",""]
[null,null,null,null,"","","","","",0,0,null,"",""]
[null,null,null,null,"","","","","",0,0,null,"",""]
[null,null,null,null,"","","","","",0,0,null,"",""]
[null,null,null,null,"","","","","",0,0,null,"",""]
[null,null,null,null,"","","","","",0,0,null,"",""]
[null,null,null,null,"","","","","",0,0,null,"",""]
[null,null,null,null,"","","","","",0,0,null,"",""]
[null,null,null,null,"","","","","",0,0,null,"",""]
[null,null,null,null,"","","","","",0,0,null,"",""]
[null,null,null,null,"","","","","",0,0,null,"",""]
[null,null,null,null,"","","","","",0,0,null,"",""]
[null,null,null,null,"","","","","",0,0,null,"",""]
[null,null,null,null,"","","","","",0,0,null,"",""]
[null,null,null,null,"","","","","",0,0,null,"",""]
[null,null,null,null,"","","","","",0,0,null,"",""]
[null,null,null,null,"","","","","",0,0,null,"",""]
[null,null,null,null,"","","","","",0,0,null,"",""]
[null,null,null,null,"","","","","",0,0,null,"",""]
[null,null,null,null,"","","","","",0,0,null,"",""]
[null,null,null,null,"","","","","",0,0,null,"",""]
[null,null,null,null,"","","","","",0,0,null,"",""]
[null,null,null,null,"","","","","",0,0,null,"",""]
[null,null,null,null,"","","","","",0,0,null,"",""]
[null,null,null,null,"","","","","",0,0,null,"",""]
[null,null,null,null,"","","","","",0,0,null,"",""]
[null,null,null,null,"","","","","",0,0,null,"",""]
[null,null,null,null,"","","","","",0,0,null,"",""]
[null,null,null,null,"","","","","",0,0,null,"",""]
[null,null,null,null,"","","","","",0,0,null,"",""]
[null,null,null,null,"","","","","",0,0,null,"",""]
[null,null,null,null,"","","","","",0,0,null,"",""]
[null,null,null,null,"","","","","",0,0,null,"",""]
[null,null,null,null,"","","","","",0,0,null,"",""]
[null,null,null,null,"","","","","",0,0,null,"",""]
[null,null,null,null,"","","","","",0,0,null,"",""]
[null,null,null,null,"","","","","",0,0,null,"",""]
[null,null,null,null,"","","","","",0,0,null,"",""]
[null,null,null,null,"","","","","",0,0,null,"",""]
[null,null,null,null,"","","","","",0,0,null,"",""]
[null,null,null,null,"","","","","",0,0,null,"",""]
[null,null,null,null,"","","","","",0,0,null,"",""]
[null,null,null,null,"","","","","",0,0,null,"",""]
[null,null,null,null,"","","","","",0,0,null,"",""]
[null,null,null,null,"","","","","",0,0,null,"",""]
[null,null,null,null,"","","","","",0,0,null,"",""]
[null,null,null,null,"","","","","",0,0,null,"",""]
[null,null,null,null,"","","","","",0,0,null,"",""]
[null,null,null,null,"","","","","",0,0,null,"",""]
[null,null,null,null,"","","","","",0,0,null,"",""]
[null,null,null,null,{"$f":"IF(C279=\"\",\"\",C279)","v":""},"",{"$f":"IF(B279=\"\",\"\",IF(F279=\"\",\"\",2*F279))","v":""},"",{"$f":"IF(B279=\"\",\"\",IF(H279=\"\",\"\",IF(F279=\"\",\"\",H279*$C$1260*60+G279)))","v":""},0,0,null,{"$f":"IF(B279=\"\",\"\",MATCH(B279,stage1))","v":""},{"$f":"IF(B279=\"\",\"\",MATCH(B279,stage2))","v":""}]
[null,null,null,null,"","","",{"$f":"IF(D280=\"\",\"\",D280)","v":""},"",{"$f":"IF(I280<=0,0,IF(I280=\"\",J279,((H280-H279)/(I280-I279))))","v":0},{"$f":"IF(I280<=0,0,IF(I280=\"\",K279,((B280-B279)/(I280-I279))))","v":0},null,"",""]
[null,null,null,null,"",{"$f":"IF(OR(B281=\"\",E281=\"\"),\"\",(B281-B280)/3*(E280+E281+(E280*E281)^0.5)+F280)","v":""},"","","",0,0,null,"",""]
[null,null,null,null,"","","","","",0,0,null,"",""]
[null,null,null,null,"","","","","",0,0,null,"",""]
[null,null,null,null,"","","","","",0,0,null,"",""]
[null,null,null,null,"","","","","",0,0,null,"",""]
[null,null,null,null,"","","","","",0,0,null,"",""]
[null,null,null,null,"","","","","",0,0,null,"",""]
[null,null,null,null,"","","","","",0,0,null,"",""]
[null,null,null,null,"","","","","",0,0,null,"",""]
[null,null,null,null,"","","","","",0,0,null,"",""]
[null,null,null,null,"","","","","",0,0,null,"",""]
[null,null,null,null,"","","","","",0,0,null,"",""]
[null,null,null,null,"","","","","",0,0,null,"",""]
[null,null,null,null,"","","","","",0,0,null,"",""]
[null,null,null,null,"","","","","",0,0,null,"",""]
[null,null,null,null,"","","","","",0,0,null,"",""]
[null,null,null,null,"","","","","",0,0,null,"",""]
[null,null,null,null,"","","","","",0,0,null,"",""]
[null,null,null,null,"","","","","",0,0,null,"",""]
[null,null,null,null,"","","","","",0,0,null,"",""]
[null,null,null,null,"","","","","",0,0,null,"",""]
[null,null,null,null,"","","","","",0,0,null,"",""]
[null,null,null,null,"","","","","",0,0,null,"",""]
[null,null,null,null,"","","","","",0,0,null,"",""]
[null,null,null,null,"","","","","",0,0,null,"",""]
[null,null,null,null,"","","","","",0,0,null,"",""]
[null,null,null,null,"","","","","",0,0,null,"",""]
[null,null,null,null,"","","","","",0,0,null,"",""]
[null,null,null,null,"","","","","",0,0,null,"",""]
[null,null,null,null,"","","","","",0,0,null,"",""]
[null,null,null,null,"","","","","",0,0,null,"",""]
[null,null,null,null,"","","","","",0,0,null,"",""]
[null,null,null,null,"","","","","",0,0,null,"",""]
[null,null,null,null,"","","","","",0,0,null,"",""]
[null,null,null,null,"","","","","",0,0,null,"",""]
[null,null,null,null,"","","","","",0,0,null,"",""]
[null,null,null,null,"","","","","",0,0,null,"",""]
[null,null,null,null,"","","","","",0,0,null,"",""]
[null,null,null,null,"","","","","",0,0,null,"",""]
[null,null,null,null,"","","","","",0,0,null,"",""]
[null,null,null,null,"","","","","",0,0,null,"",""]
[null,null,null,null,"","","","","",0,0,null,"",""]
[null,null,null,null,"","","","","",0,0,null,"",""]
[null,null,null,null,"","","","","",0,0,null,"",""]
[null,null,null,null,"","","","","",0,0,null,"",""]
[null,null,null,null,"","","","","",0,0,null,"",""]
[null,null,null,null,"","","","","",0,0,null,"",""]
[null,null,null,null,"","","","","",0,0,null,"",""]
[null,null,null,null,"","","","","",0,0,null,"",""]
[null,null,null,null,"","","","","",0,0,null,"",""]
[null,null,null,null,"","","","","",0,0,null,"",""]
[null,null,null,null,"","","","","",0,0,null,"",""]
[null,null,null,null,"","","","","",0,0,null,"",""]
[null,null,null,null,"","","","","",0,0,null,"",""]
[null,null,null,null,"","","","","",0,0,null,"",""]
[null,null,null,null,"","","","","",0,0,null,"",""]
[null,null,null,null,"","","","","",0,0,null,"",""]
[null,null,null,null,"","","","","",0,0,null,"",""]
[null,null,null,null,"","","","","",0,0,null,"",""]
[null,null,null,null,"","","","","",0,0,null,"",""]
[null,null,null,null,"","","","","",0,0,null,"",""]
[null,null,null,null,"","","","","",0,0,null,"",""]
[null,null,null,null,{"$f":"IF(C343=\"\",\"\",C343)","v":""},"",{"$f":"IF(B343=\"\",\"\",IF(F343=\"\",\"\",2*F343))","v":""},"",{"$f":"IF(B343=\"\",\"\",IF(H343=\"\",\"\",IF(F343=\"\",\"\",H343*$C$1260*60+G343)))","v":""},0,0,null,{"$f":"IF(B343=\"\",\"\",MATCH(B343,stage1))","v":""},{"$f":"IF(B343=\"\",\"\",MATCH(B343,stage2))","v":""}]
[null,null,null,null,"","","",{"$f":"IF(D344=\"\",\"\",D344)","v":""},"",{"$f":"IF(I344<=0,0,IF(I344=\"\",J343,((H344-H343)/(I344-I343))))","v":0},{"$f":"IF(I344<=0,0,IF(I344=\"\",K343,((B344-B343)/(I344-I343))))","v":0},null,"",""]
[null,null,null,null,"",{"$f":"IF(OR(B345=\"\",E345=\"\"),\"\",(B345-B344)/3*(E344+E345+(E344*E345)^0.5)+F344)","v":""},"","","",0,0,null,"",""]
[null,null,null,null,"","","","","",0,0,null,"",""]
[null,null,null,null,"","","","","",0,0,null,"",""]
[null,null,null,null,"","","","","",0,0,null,"",""]
[null,null,null,null,"","","","","",0,0,null,"",""]
[null,null,null,null,"","","","","",0,0,null,"",""]
[null,null,null,null,"","","","","",0,0,null,"",""]
[null,null,null,null,"","","","","",0,0,null,"",""]
[null,null,null,null,"","","","","",0,0,null,"",""]
[null,null,null,null,"","","","","",0,0,null,"",""]
[null,null,null,null,"","","","","",0,0,null,"",""]
[null,null,null,null,"","","","","",0,0,null,"",""]
[null,null,null,null,"","","","","",0,0,null,"",""]
[null,null,null,null,"","","","","",0,0,null,"",""]
[null,null,null,null,"","","","","",0,0,null,"",""]
[null,null,null,null,"","","","","",0,0,null,"",""]
[null,null,null,null,"","","","","",0,0,null,"",""]
[null,null,null,null,"","","","","",0,0,null,"",""]
[null,null,null,null,"","","","","",0,0,null,"",""]
[null,null,null,null,"","","","","",0,0,null,"",""]
[null,null,null,null,"","","","","",0,0,null,"",""]
[null,null,null,null,"","","","","",0,0,null,"",""]
[null,null,null,null,"","","","","",0,0,null,"",""]
[null,null,null,null,"","","","","",0,0,null,"",""]
[null,null,null,null,"","","","","",0,0,null,"",""]
[null,null,null,null,"","","","","",0,0,null,"",""]
[null,null,null,null,"","","","","",0,0,null,"",""]
[null,null,null,null,"","","","","",0,0,null,"",""]
[null,null,null,null,"","","","","",0,0,null,"",""]
[null,null,null,null,"","","","","",0,0,null,"",""]
[null,null,null,null,"","","","","",0,0,null,"",""]
[null,null,null,null,"","","","","",0,0,null,"",""]
[null,null,null,null,"","","","","",0,0,null,"",""]
[null,null,null,null,"","","","","",0,0,null,"",""]
[null,null,null,null,"","","","","",0,0,null,"",""]
[null,null,null,null,"","","","","",0,0,null,"",""]
[null,null,null,null,"","","","","",0,0,null,"",""]
[null,null,null,null,"","","","","",0,0,null,"",""]
[null,null,null,null,"","","","","",0,0,null,"",""]
[null,null,null,null,"","","","","",0,0,null,"",""]
[null,null,null,null,"","","","","",0,0,null,"",""]
[null,null,null,null,"","","","","",0,0,null,"",""]
[null,null,null,null,"","","","","",0,0,null,"",""]
[null,null,null,null,"","","","","",0,0,null,"",""]
[null,null,null,null,"","","","","",0,0,null,"",""]
[null,null,null,null,"","","","","",0,0,null,"",""]
[null,null,null,null,"","","","","",0,0,null,"",""]
[null,null,null,null,"","","","","",0,0,null,"",""]
[null,null,null,null,"","","","","",0,0,null,"",""]
[null,null,null,null,"","","","","",0,0,null,"",""]
[null,null,null,null,"","","","","",0,0,null,"",""]
[null,null,null,null,"","","","","",0,0,null,"",""]
[null,null,null,null,"","","","","",0,0,null,"",""]
[null,null,null,null,"","","","","",0,0,null,"",""]
[null,null,null,null,"","","","","",0,0,null,"",""]
[null,null,null,null,"","","","","",0,0,null,"",""]
[null,null,null,null,"","","","","",0,0,null,"",""]
[null,null,null,null,"","","","","",0,0,null,"",""]
[null,null,null,null,"","","","","",0,0,null,"",""]
[null,null,null,null,"","","","","",0,0,null,"",""]
[null,null,null,null,"","","","","",0,0,null,"",""]
[null,null,null,null,"","","","","",0,0,null,"",""]
[null,null,null,null,{"$f":"IF(C407=\"\",\"\",C407)","v":""},"",{"$f":"IF(B407=\"\",\"\",IF(F407=\"\",\"\",2*F407))","v":""},"",{"$f":"IF(B407=\"\",\"\",IF(H407=\"\",\"\",IF(F407=\"\",\"\",H407*$C$1260*60+G407)))","v":""},0,0,null,{"$f":"IF(B407=\"\",\"\",MATCH(B407,stage1))","v":""},{"$f":"IF(B407=\"\",\"\",MATCH(B407,stage2))","v":""}]
[null,null,null,null,"","","",{"$f":"IF(D408=\"\",\"\",D408)","v":""},"",{"$f":"IF(I408<=0,0,IF(I408=\"\",J407,((H408-H407)/(I408-I407))))","v":0},{"$f":"IF(I408<=0,0,IF(I408=\"\",K407,((B408-B407)/(I408-I407))))","v":0},null,"",""]
[null,null,null,null,"",{"$f":"IF(OR(B409=\"\",E409=\"\"),\"\",(B409-B408)/3*(E408+E409+(E408*E409)^0.5)+F408)","v":""},"","","",0,0,null,"",""]
[null,null,null,null,"","","","","",0,0,null,"",""]
[null,null,null,null,"","","","","",0,0,null,"",""]
[null,null,null,null,"","","","","",0,0,null,"",""]
[null,null,null,null,"","","","","",0,0,null,"",""]
[null,null,null,null,"","","","","",0,0,null,"",""]
[null,null,null,null,"","","","","",0,0,null,"",""]
[null,null,null,null,"","","","","",0,0,null,"",""]
[null,null,null,null,"","","","","",0,0,null,"",""]
[null,null,null,null,"","","","","",0,0,null,"",""]
[null,null,null,null,"","","","","",0,0,null,"",""]
[null,null,null,null,"","","","","",0,0,null,"",""]
[null,null,null,null,"","","","","",0,0,null,"",""]
[null,null,null,null,"","","","","",0,0,null,"",""]
[null,null,null,null,"","","","","",0,0,null,"",""]
[null,null,null,null,"","","","","",0,0,null,"",""]
[null,null,null,null,"","","","","",0,0,null,"",""]
[null,null,null,null,"","","","","",0,0,null,"",""]
[null,null,null,null,"","","","","",0,0,null,"",""]
[null,null,null,null,"","","","","",0,0,null,"",""]
[null,null,null,null,"","","","","",0,0,null,"",""]
[null,null,null,null,"","","","","",0,0,null,"",""]
[null,null,null,null,"","","","","",0,0,null,"",""]
[null,null,null,null,"","","","","",0,0,null,"",""]
[null,null,null,null,"","","","","",0,0,null,"",""]
[null,null,null,null,"","","","","",0,0,null,"",""]
[null,null,null,null,"","","","","",0,0,null,"",""]
[null,null,null,null,"","","","","",0,0,null,"",""]
[null,null,null,null,"","","","","",0,0,null,"",""]
[null,null,null,null,"","","","","",0,0,null,"",""]
[null,null,null,null,"","","","","",0,0,null,"",""]
[null,null,null,null,"","","","","",0,0,null,"",""]
[null,null,null,null,"","","","","",0,0,null,"",""]
[null,null,null,null,"","","","","",0,0,null,"",""]
[null,null,null,null,"","","","","",0,0,null,"",""]
[null,null,null,null,"","","","","",0,0,null,"",""]
[null,null,null,null,"","","","","",0,0,null,"",""]
[null,null,null,null,"","","","","",0,0,null,"",""]
[null,null,null,null,"","","","","",0,0,null,"",""]
[null,null,null,null,"","","","","",0,0,null,"",""]
[null,null,null,null,"","","","","",0,0,null,"",""]
[null,null,null,null,"","","","","",0,0,null,"",""]
[null,null,null,null,"","","","","",0,0,null,"",""]
[null,null,null,null,"","","","","",0,0,null,"",""]
[null,null,null,null,"","","","","",0,0,null,"",""]
[null,null,null,null,"","","","","",0,0,null,"",""]
[null,null,null,null,"","","","","",0,0,null,"",""]
[null,null,null,null,"","","","","",0,0,null,"",""]
[null,null,null,null,"","","","","",0,0,null,"",""]
[null,null,null,null,"","","","","",0,0,null,"",""]
[null,null,null,null,"","","","","",0,0,null,"",""]
[null,null,null,null,"","","","","",0,0,null,"",""]
[null,null,null,null,"","","","","",0,0,null,"",""]
[null,null,null,null,"","","","","",0,0,null,"",""]
[null,null,null,null,"","","","","",0,0,null,"",""]
[null,null,null,null,"","","","","",0,0,null,"",""]
[null,null,null,null,"","","","","",0,0,null,"",""]
[null,null,null,null,"","","","","",0,0,null,"",""]
[null,null,null,null,"","","","","",0,0,null,"",""]
[null,null,null,null,"","","","","",0,0,null,"",""]
[null,null,null,null,"","","","","",0,0,null,"",""]
[null,null,null,null,"","","","","",0,0,null,"",""]
[null,null,null,null,{"$f":"IF(C471=\"\",\"\",C471)","v":""},"",{"$f":"IF(B471=\"\",\"\",IF(F471=\"\",\"\",2*F471))","v":""},"",{"$f":"IF(B471=\"\",\"\",IF(H471=\"\",\"\",IF(F471=\"\",\"\",H471*$C$1260*60+G471)))","v":""},0,0,null,{"$f":"IF(B471=\"\",\"\",MATCH(B471,stage1))","v":""},{"$f":"IF(B471=\"\",\"\",MATCH(B471,stage2))","v":""}]
[null,null,null,null,"","","",{"$f":"IF(D472=\"\",\"\",D472)","v":""},"",{"$f":"IF(I472<=0,0,IF(I472=\"\",J471,((H472-H471)/(I472-I471))))","v":0},{"$f":"IF(I472<=0,0,IF(I472=\"\",K471,((B472-B471)/(I472-I471))))","v":0},null,"",""]
[null,null,null,null,"",{"$f":"IF(OR(B473=\"\",E473=\"\"),\"\",(B473-B472)/3*(E472+E473+(E472*E473)^0.5)+F472)","v":""},"","","",0,0,null,"",""]
[null,null,null,null,"","","","","",0,0,null,"",""]
[null,null,null,null,"","","","","",0,0,null,"",""]
[null,null,null,null,"","","","","",0,0,null,"",""]
[null,null,null,null,"","","","","",0,0,null,"",""]
[null,null,null,null,"","","","","",0,0,null,"",""]
[null,null,null,null,"","","","","",0,0,null,"",""]
[null,null,null,null,"","","","","",0,0,null,"",""]
[null,null,null,null,"","","","","",0,0,null,"",""]
[null,null,null,null,"","","","","",0,0,null,"",""]
[null,null,null,null,"","","","","",0,0,null,"",""]
[null,null,null,null,"","","","","",0,0,null,"",""]
[null,null,null,null,"","","","","",0,0,null,"",""]
[null,null,null,null,"","","","","",0,0,null,"",""]
[null,null,null,null,"","","","","",0,0,null,"",""]
[null,null,null,null,"","","","","",0,0,null,"",""]
[null,null,null,null,"","","","","",0,0,null,"",""]
[null,null,null,null,"","","","","",0,0,null,"",""]
[null,null,null,null,"","","","","",0,0,null,"",""]
[null,null,null,null,"","","","","",0,0,null,"",""]
[null,null,null,null,"","","","","",0,0,null,"",""]
[null,null,null,null,"","","","","",0,0,null,"",""]
[null,null,null,null,"","","","","",0,0,null,"",""]
[null,null,null,null,"","","","","",0,0,null,"",""]
[null,null,null,null,"","","","","",0,0,null,"",""]
[null,null,null,null,"","","","","",0,0,null,"",""]
[null,null,null,null,"","","","","",0,0,null,"",""]
[null,null,null,null,"","","","","",0,0,null,"",""]
[null,null,null,null,"","","","","",0,0,null,"",""]
[null,null,null,null,"","","","","",0,0,null,"",""]
[null,null,null,null,"","","","","",0,0,null,"",""]
[null,null,null,null,"","","","","",0,0,null,"",""]
[null,null,null,null,"","","","","",0,0,null,"",""]
[null,null,null,null,"","","","","",0,0,null,"",""]
[null,null,null,null,"","","","","",0,0,null,"",""]
[null,null,null,null,"","","","","",0,0,null,"",""]
[null,null,null,null,"","","",{"$f":"IF(D536=\"\",\"\",D536)","v":""},"",{"$f":"IF(I536<=0,0,IF(I536=\"\",J535,((H536-H535)/(I536-I535))))","v":0},{"$f":"IF(I536<=0,0,IF(I536=\"\",K535,((B536-B535)/(I536-I535))))","v":0},null,"",""]
[null,null,null,null,"","","","","",0,0,null,"",""]
[null,null,null,null,"","","","","",0,0,null,"",""]
[null,null,null,null,"","","","","",0,0,null,"",""]
[null,null,null,null,"","","","","",0,0,null,"",""]
[null,null,null,null,"","","","","",0,0,null,"",""]
[null,null,null,null,"","","","","",0,0,null,"",""]
[null,null,null,null,"","","","","",0,0,null,"",""]
[null,null,null,null,"","","","","",0,0,null,"",""]
[null,null,null,null,"","","","","",0,0,null,"",""]
[null,null,null,null,"","","","","",0,0,null,"",""]
[null,null,null,null,"","","","","",0,0,null,"",""]
[null,null,null,null,"","","","","",0,0,null,"",""]
[null,null,null,null,"","","","","",0,0,null,"",""]
[null,null,null,null,{"$f":"IF(C599=\"\",\"\",C599)","v":""},"",{"$f":"IF(B599=\"\",\"\",IF(F599=\"\",\"\",2*F599))","v":""},"",{"$f":"IF(B599=\"\",\"\",IF(H599=\"\",\"\",IF(F599=\"\",\"\",H599*$C$1260*60+G599)))","v":""},0,0,null,{"$f":"IF(B599=\"\",\"\",MATCH(B599,stage1))","v":""},{"$f":"IF(B599=\"\",\"\",MATCH(B599,stage2))","v":""}]
[null,null,null,null,"","","",{"$f":"IF(D600=\"\",\"\",D600)","v":""},"",{"$f":"IF(I600<=0,0,IF(I600=\"\",J599,((H600-H599)/(I600-I599))))","v":0},{"$f":"IF(I600<=0,0,IF(I600=\"\",K599,((B600-B599)/(I600-I599))))","v":0},null,"",""]
[null,null,null,null,"","","","","",0,0,null,"",""]
[null,null,null,null,"","","","","",0,0,null,"",""]
[null,null,null,null,"","","","","",0,0,null,"",""]
[null,null,null,null,"","","","","",0,0,null,"",""]
[null,null,null,null,"","","","","",0,0,null,"",""]
[null,null,null,null,"","","","","",0,0,null,"",""]
[null,null,null,null,"","","","","",0,0,null,"",""]
[null,null,null,null,"","","","","",0,0,null,"",""]
[null,null,null,null,"","","","","",0,0,null,"",""]
[null,null,null,null,"","","","","",0,0,null,"",""]
[null,null,null,null,"","","","","",0,0,null,"",""]
[null,null,null,null,"","","","","",0,0,null,"",""]
[null,null,null,null,"","","","","",0,0,null,"",""]
[null,null,null,null,"","","","","",0,0,null,"",""]
[null,null,null,null,"","","",{"$f":"IF(D664=\"\",\"\",D664)","v":""},"",{"$f":"IF(I664<=0,0,IF(I664=\"\",J663,((H664-H663)/(I664-I663))))","v":0},{"$f":"IF(I664<=0,0,IF(I664=\"\",K663,((B664-B663)/(I664-I663))))","v":0},null,"",""]
[null,null,null,null,"","","","","",0,0,null,"",""]
[null,null,null,null,"","","","","",0,0,null,"",""]
[null,null,null,null,"","","","","",0,0,null,"",""]
[null,null,null,null,"","","","","",0,0,null,"",""]
[null,null,null,null,"","","","","",0,0,null,"",""]
[null,null,null,null,"","","","","",0,0,null,"",""]
[null,null,null,null,"","","","","",0,0,null,"",""]
[null,null,null,null,"","","","","",0,0,null,"",""]
[null,null,null,null,"","","","","",0,0,null,"",""]
[null,null,null,null,"","","","","",0,0,null,"",""]
[null,null,null,null,"","","","","",0,0,null,"",""]
[null,null,null,null,"","","","","",0,0,null,"",""]
[null,null,null,null,"","","","","",0,0,null,"",""]
[null,null,null,null,"","","","","",0,0,null,"",""]
[null,null,null,null,"","","","","",0,0,null,"",""]
[null,null,null,null,"","","","","",0,0,null,"",""]
[null,null,null,null,"","","","","",0,0,null,"",""]
[null,null,null,null,"","","","","",0,0,null,"",""]
[null,null,null,null,"","","","","",0,0,null,"",""]
[null,null,null,null,"","","","","",0,0,null,"",""]
[null,null,null,null,"","","","","",0,0,null,"",""]
[null,null,null,null,"","","","","",0,0,null,"",""]
[null,null,null,null,"","","","","",0,0,null,"",""]
[null,null,null,null,"","","","","",0,0,null,"",""]
[null,null,null,null,"","","","","",0,0,null,"",""]
[null,null,null,null,"","","","","",0,0,null,"",""]
[null,null,null,null,"","","","","",0,0,null,"",""]
[null,null,null,null,"","","","","",0,0,null,"",""]
[null,null,null,null,"","","","","",0,0,null,"",""]
[null,null,null,null,"","","","","",0,0,null,"",""]
[null,null,null,null,"","","","","",0,0,null,"",""]
[null,null,null,null,"","","","","",0,0,null,"",""]
[null,null,null,null,"","","","","",0,0,null,"",""]
[null,null,null,null,"","","","","",0,0,null,"",""]
[null,null,null,null,"","","","","",0,0,null,"",""]
[null,null,null,null,"","","","","",0,0,null,"",""]
[null,null,null,null,"","","","","",0,0,null,"",""]
[null,null,null,null,"","","","","",0,0,null,"",""]
[null,null,null,null,"","","","","",0,0,null,"",""]
[null,null,null,null,"","","","","",0,0,null,"",""]
[null,null,null,null,"","","","","",0,0,null,"",""]
[null,null,null,null,"","","","","",0,0,null,"",""]
[null,null,null,null,"","","","","",0,0,null,"",""]
[null,null,null,null,"",{"$f":"IF(OR(B857=\"\",E857=\"\"),\"\",(B857-B856)/3*(E856+E857+(E856*E857)^0.5)+F856)","v":""},"","","",0,0,null,"",""]
[null,null,null,null,"","","","","",0,0,null,"",""]
[null,null,null,null,"","","","","",0,0,null,"",""]
[null,null,null,null,"","","","","",0,0,null,"",""]
[null,null,null,null,"","","","","",0,0,null,"",""]
[null,null,null,null,"","","","","",0,0,null,"",""]
[null,null,null,null,"","","","","",0,0,null,"",""]
[null,null,null,null,"","","","","",0,0,null,"",""]
[null,null,null,null,"","","","","",0,0,null,"",""]
[null,null,null,null,"","","","","",0,0,null,"",""]
[null,null,null,null,"","","","","",0,0,null,"",""]
[null,null,null,null,"","","","","",0,0,null,"",""]
[null,null,null,null,"","","","","",0,0,null,"",""]
[null,null,null,null,"","","","","",0,0,null,"",""]
[null,null,null,null,"","","","","",0,0,null,"",""]
[null,null,null,null,"",{"$f":"IF(OR(B921=\"\",E921=\"\"),\"\",(B921-B920)/3*(E920+E921+(E920*E921)^0.5)+F920)","v":""},"","","",0,0,null,"",""]
[null,null,null,null,"","","","","",0,0,null,"",""]
[null,null,null,null,"","","","","",0,0,null,"",""]
[null,null,null,null,"","","","","",0,0,null,"",""]
[null,null,null,null,"","","","","",0,0,null,"",""]
[null,null,null,null,"","","","","",0,0,null,"",""]
[null,null,null,null,"","","","","",0,0,null,"",""]
[null,null,null,null,"","","","","",0,0,null,"",""]
[null,null,null,null,"","","","","",0,0,null,"",""]
[null,null,null,null,"","","","","",0,0,null,"",""]
[null,null,null,null,"","","","","",0,0,null,"",""]
[null,null,null,null,"","","","","",0,0,null,"",""]
[null,null,null,null,"","","","","",0,0,null,"",""]
[null,null,null,null,"","","","","",0,0,null,"",""]
[null,null,null,null,"","","","","",0,0,null,"",""]
[null,null,null,null,"","","","","",0,0,null,"",""]
[null,null,null,null,"","","","","",0,0,null,"",""]
[null,null,null,null,"","","","","",0,0,null,"",""]
[null,null,null,null,"","","","","",0,0,null,"",""]
[null,null,null,null,"","","","","",0,0,null,"",""]
[null,null,null,null,"","","","","",0,0,null,"",""]
[null,null,null,null,"","","","","",0,0,null,"",""]
[null,null,null,null,"","","","","",0,0,null,"",""]
[null,null,null,null,"","","","","",0,0,null,"",""]
[null,null,null,null,"","","","","",0,0,null,"",""]
[null,null,null,null,"","","","","",0,0,null,"",""]
[null,null,null,null,"","","","","",0,0,null,"",""]
[null,null,null,null,"","","","","",0,0,null,"",""]
[null,null,null,null,"","","","","",0,0,null,"",""]
[null,null,null,null,{"$f":"IF(C1047=\"\",\"\",C1047)","v":""},"",{"$f":"IF(B1047=\"\",\"\",IF(F1047=\"\",\"\",2*F1047))","v":""},"",{"$f":"IF(B1047=\"\",\"\",IF(H1047=\"\",\"\",IF(F1047=\"\",\"\",H1047*$C$1260*60+G1047)))","v":""},0,0,null,{"$f":"IF(B1047=\"\",\"\",MATCH(B1047,stage1))","v":""},{"$f":"IF(B1047=\"\",\"\",MATCH(B1047,stage2))","v":""}]
[null,null,null,null,"","","",{"$f":"IF(D1048=\"\",\"\",D1048)","v":""},"",{"$f":"IF(I1048<=0,0,IF(I1048=\"\",J1047,((H1048-H1047)/(I1048-I1047))))","v":0},{"$f":"IF(I1048<=0,0,IF(I1048=\"\",K1047,((B1048-B1047)/(I1048-I1047))))","v":0},null,"",""]
[null,null,null,null,"","","","","",0,0,null,"",""]
[null,null,null,null,"","","","","",0,0,null,"",""]
[null,null,null,null,"","","","","",0,0,null,"",""]
[null,null,null,null,"","","","","",0,0,null,"",""]
[null,null,null,null,"","","","","",0,0,null,"",""]
[null,null,null,null,"","","","","",0,0,null,"",""]
[null,null,null,null,"","","","","",0,0,null,"",""]
[null,null,null,null,"","","","","",0,0,null,"",""]
[null,null,null,null,"","","","","",0,0,null,"",""]
[null,null,null,null,"","","","","",0,0,null,"",""]
[null,null,null,null,"","","","","",0,0,null,"",""]
[null,null,null,null,"","","","","",0,0,null,"",""]
[null,null,null,null,"","","","","",0,0,null,"",""]
[null,null,null,null,"","","",{"$f":"IF(D1112=\"\",\"\",D1112)","v":""},"",{"$f":"IF(I1112<=0,0,IF(I1112=\"\",J1111,((H1112-H1111)/(I1112-I1111))))","v":0},{"$f":"IF(I1112<=0,0,IF(I1112=\"\",K1111,((B1112-B1111)/(I1112-I1111))))","v":0},null,"",""]
[null,null,null,null,"","","","","",0,0,null,"",""]
[null,null,null,null,"","","","","",0,0,null,"",""]
[null,null,null,null,"","","","","",0,0,null,"",""]
[null,null,null,null,"","","","","",0,0,null,"",""]
[null,null,null,null,"","","","","",0,0,null,"",""]
[null,null,null,null,"","","","","",0,0,null,"",""]
[null,null,null,null,"","","","","",0,0,null,"",""]
[null,null,null,null,"","","","","",0,0,null,"",""]
[null,null,null,null,"","","","","",0,0,null,"",""]
[null,null,null,null,"","","","","",0,0,null,"",""]
[null,null,null,null,"","","","","",0,0,null,"",""]
[null,null,null,null,"","","","","",0,0,null,"",""]
[null,null,null,null,"","","","","",0,0,null,"",""]
[null,null,null,null,"","","","","",0,0,null,"",""]
[null,null,null,null,"","","","","",0,0,null,"",""]
[null,null,null,null,"","","","","",0,0,null,"",""]
[null,null,null,null,"","","","","",0,0,null,"",""]
[null,null,null,null,"","","","","",0,0,null,"",""]
[null,null,null,null,"","","","","",0,0,null,"",""]
[null,null,null,null,"","","","","",0,0,null,"",""]
[null,null,null,null,"","","","","",0,0,null,"",""]
[null,null,null,null,"","","","","",0,0,null,"",""]
[null,null,null,null,"","","","","",0,0,null,"",""]
[null,null,null,null,"","","","","",0,0,null,"",""]
[null,null,null,null,"","","","","",0,0,null,"",""]
[null,null,null,null,"","","","","",0,0,null,"",""]
[null,null,null,null,"","","","","",0,0,null,"",""]
[null,null,null,null,"","","","","",0,0,null,"",""]
[null,null,null,null,"","","","","",0,0,null,"",""]
[null,null,null,null,"","","","","",0,0,null,"",""]
[null,null,null,null,"","","","","",0,0,null,"",""]
[null,null,null,null,"","","","","",0,0,null,"",""]
[null,null,null,null,"","","","","",0,0,null,"",""]
[null,null,null,null,"","","","","",0,0,null,"",""]
[null,"dt  (minutes)=",{"$f":"Time_Interval","v":5},"WQ","WQ","WQ","WQ","WQ","WQ","WQ","WQ","WQ","WQ","WQ","WQ","WQ","WQ","WQ","WQ","WQ","2YR","2YR","2YR","2YR","2YR","2YR","2YR","2YR","2YR","2YR","2YR","2YR","2YR","2YR","2YR","2YR","2YR","5YR","5YR","5YR","5YR","5YR","5YR","5YR","5YR","5YR","5YR","5YR","5YR","5YR","5YR","5YR","5YR","5YR","10YR","10YR","10YR","10YR","10YR","10YR","10YR","10YR","10YR","10YR","10YR","10YR","10YR","10YR","10YR","10YR","10YR","50YR","50YR","50YR","50YR","50YR","50YR","50YR","50YR","50YR","50YR","50YR","50YR","50YR","50YR","50YR","50YR","50YR","100YR","100YR","100YR","100YR","100YR","100YR","100YR","100YR","100YR","100YR","100YR","100YR","100YR","100YR","100YR","100YR","100YR"]
[null,0.33333333333333331,20,"","",0,0,0,0,0,{"$error":"#VALUE!"},0,{"$error":"#VALUE!"},{"$error":"#VALUE!"},{"$error":"#VALUE!"},{"$error":"#VALUE!"},{"$error":"#VALUE!"},{"$error":"#VALUE!"},{"$f":"IF(SUM(S$1262:S1265)>0,0,\nIF(MAX(L1266:L$2702)=MAX(L$1262:L$2702),0,\nIF(Hydrograph_Source_WQCV=\"USER\",IF(J1266>0.03*D$2703,0,$C1266/60),\nIF(J1266>0.03*J$2703,0,$C1266/60))))","v":0},{"$f":"IF(SUM(T$1262:T1265)>0,0,\nIF(MAX(L1266:L$2702)=MAX(L$1262:L$2702),0,\nIF(Hydrograph_Source_WQCV=\"USER\",IF(J1266>0.01*D$2703,0,$C1266/60),\nIF(J1266>0.01*J$2703,0,$C1266/60))))","v":0},0,0,0,0,{"$error":"#VALUE!"},{"$error":"#VALUE!"},{"$error":"#VALUE!"},{"$error":"#VALUE!"},{"$error":"#VALUE!"},{"$error":"#VALUE!"},{"$error":"#VALUE!"},{"$error":"#VALUE!"},{"$error":"#VALUE!"},{"$error":"#VALUE!"},{"$error":"#VALUE!"},{"$f":"IF(SUM(AJ$1262:AJ1265)>0,0,IF(MAX(AC1266:AC$2702)=MAX(AC$1262:AC$2702),0,IF(AA1266>0.03*U$2703,0,$C1266/60)))","v":{"$error":"#VALUE!"}},{"$f":"IF(SUM(AK$1262:AK1265)>0,0,IF(MAX(AC1266:AC$2702)=MAX(AC$1262:AC$2702),0,IF(AA1266>0.01*U$2703,0,$C1266/60)))","v":{"$error":"#VALUE!"}},0,0,0,0,{"$error":"#VALUE!"},{"$error":"#VALUE!"},{"$error":"#VALUE!"},{"$error":"#VALUE!"},{"$error":"#VALUE!"},{"$error":"#VALUE!"},{"$error":"#VALUE!"},{"$error":"#VALUE!"},{"$error":"#VALUE!"},{"$error":"#VALUE!"},{"$error":"#VALUE!"},{"$f":"IF(SUM(BA$1262:BA1265)>0,0,IF(MAX(AT1266:AT$2702)=MAX(AT$1262:AT$2702),0,IF(AR1266>0.03*AL$2703,0,$C1266/60)))","v":{"$error":"#VALUE!"}},{"$f":"IF(SUM(BB$1262:BB1265)>0,0,IF(MAX(AT1266:AT$2702)=MAX(AT$1262:AT$2702),0,IF(AR1266>0.01*AL$2703,0,$C1266/60)))","v":{"$error":"#VALUE!"}},0,0,0,0,{"$error":"#VALUE!"},{"$error":"#VALUE!"},{"$error":"#VALUE!"},{"$error":"#VALUE!"},{"$error":"#VALUE!"},{"$error":"#VALUE!"},{"$error":"#VALUE!"},{"$error":"#VALUE!"},{"$error":"#VALUE!"},{"$error":"#VALUE!"},{"$error":"#VALUE!"},{"$f":"IF(SUM(BR$1262:BR1265)>0,0,IF(MAX(BK1266:BK$2702)=MAX(BK$1262:BK$2702),0,IF(BI1266>0.03*BC$2703,0,$C1266/60)))","v":{"$error":"#VALUE!"}},{"$f":"IF(SUM(BS$1262:BS1265)>0,0,IF(MAX(BK1266:BK$2702)=MAX(BK$1262:BK$2702),0,IF(BI1266>0.01*BC$2703,0,$C1266/60)))","v":{"$error":"#VALUE!"}},0,0,0,0,{"$error":"#VALUE!"},{"$error":"#VALUE!"},{"$error":"#VALUE!"},{"$error":"#VALUE!"},{"$error":"#VALUE!"},{"$error":"#VALUE!"},{"$error":"#VALUE!"},{"$error":"#VALUE!"},{"$error":"#VALUE!"},{"$error":"#VALUE!"},{"$error":"#VALUE!"},{"$f":"IF(SUM(CI$1262:CI1265)>0,0,IF(MAX(CB1266:CB$2702)=MAX(CB$1262:CB$2702),0,IF(BZ1266>0.03*BT$2703,0,$C1266/60)))","v":{"$error":"#VALUE!"}},{"$f":"IF(SUM(CJ$1262:CJ1265)>0,0,IF(MAX(CB1266:CB$2702)=MAX(CB$1262:CB$2702),0,IF(BZ1266>0.01*BT$2703,0,$C1266/60)))","v":{"$error":"#VALUE!"}},0,0,0,0,{"$error":"#VALUE!"},{"$error":"#VALUE!"},{"$error":"#VALUE!"},{"$error":"#VALUE!"},{"$error":"#VALUE!"},{"$error":"#VALUE!"},{"$error":"#VALUE!"},{"$error":"#VALUE!"},{"$error":"#VALUE!"},{"$error":"#VALUE!"},{"$error":"#VALUE!"},{"$f":"IF(SUM(CZ$1262:CZ1265)>0,0,IF(MAX(CS1266:CS$2702)=MAX(CS$1262:CS$2702),0,IF(CQ1266>0.03*CK$2703,0,$C1266/60)))","v":{"$error":"#VALUE!"}},{"$f":"IF(SUM(DA$1262:DA1265)>0,0,IF(MAX(CS1266:CS$2702)=MAX(CS$1262:CS$2702),0,IF(CQ1266>0.01*CK$2703,0,$C1266/60)))","v":{"$error":"#VALUE!"}}]
[null,0.75,45,"","",0,0,0,0,0,{"$error":"#VALUE!"},0,{"$error":"#VALUE!"},{"$error":"#VALUE!"},{"$error":"#VALUE!"},{"$error":"#VALUE!"},{"$error":"#VALUE!"},{"$error":"#VALUE!"},{"$f":"IF(SUM(S$1262:S1270)>0,0,\nIF(MAX(L1271:L$2702)=MAX(L$1262:L$2702),0,\nIF(Hydrograph_Source_WQCV=\"USER\",IF(J1271>0.03*D$2703,0,$C1271/60),\nIF(J1271>0.03*J$2703,0,$C1271/60))))","v":0},{"$f":"IF(SUM(T$1262:T1270)>0,0,\nIF(MAX(L1271:L$2702)=MAX(L$1262:L$2702),0,\nIF(Hydrograph_Source_WQCV=\"USER\",IF(J1271>0.01*D$2703,0,$C1271/60),\nIF(J1271>0.01*J$2703,0,$C1271/60))))","v":0},0,0,0,0,{"$error":"#VALUE!"},{"$error":"#VALUE!"},{"$error":"#VALUE!"},{"$error":"#VALUE!"},{"$error":"#VALUE!"},{"$error":"#VALUE!"},{"$error":"#VALUE!"},{"$error":"#VALUE!"},{"$error":"#VALUE!"},{"$error":"#VALUE!"},{"$error":"#VALUE!"},{"$f":"IF(SUM(AJ$1262:AJ1270)>0,0,IF(MAX(AC1271:AC$2702)=MAX(AC$1262:AC$2702),0,IF(AA1271>0.03*U$2703,0,$C1271/60)))","v":{"$error":"#VALUE!"}},{"$f":"IF(SUM(AK$1262:AK1270)>0,0,IF(MAX(AC1271:AC$2702)=MAX(AC$1262:AC$2702),0,IF(AA1271>0.01*U$2703,0,$C1271/60)))","v":{"$error":"#VALUE!"}},0,0,0,0,{"$error":"#VALUE!"},{"$error":"#VALUE!"},{"$error":"#VALUE!"},{"$error":"#VALUE!"},{"$error":"#VALUE!"},{"$error":"#VALUE!"},{"$error":"#VALUE!"},{"$error":"#VALUE!"},{"$error":"#VALUE!"},{"$error":"#VALUE!"},{"$error":"#VALUE!"},{"$f":"IF(SUM(BA$1262:BA1270)>0,0,IF(MAX(AT1271:AT$2702)=MAX(AT$1262:AT$2702),0,IF(AR1271>0.03*AL$2703,0,$C1271/60)))","v":{"$error":"#VALUE!"}},{"$f":"IF(SUM(BB$1262:BB1270)>0,0,IF(MAX(AT1271:AT$2702)=MAX(AT$1262:AT$2702),0,IF(AR1271>0.01*AL$2703,0,$C1271/60)))","v":{"$error":"#VALUE!"}},0,0,0,0,{"$error":"#VALUE!"},{"$error":"#VALUE!"},{"$error":"#VALUE!"},{"$error":"#VALUE!"},{"$error":"#VALUE!"},{"$error":"#VALUE!"},{"$error":"#VALUE!"},{"$error":"#VALUE!"},{"$error":"#VALUE!"},{"$error":"#VALUE!"},{"$error":"#VALUE!"},{"$f":"IF(SUM(BR$1262:BR1270)>0,0,IF(MAX(BK1271:BK$2702)=MAX(BK$1262:BK$2702),0,IF(BI1271>0.03*BC$2703,0,$C1271/60)))","v":{"$error":"#VALUE!"}},{"$f":"IF(SUM(BS$1262:BS1270)>0,0,IF(MAX(BK1271:BK$2702)=MAX(BK$1262:BK$2702),0,IF(BI1271>0.01*BC$2703,0,$C1271/60)))","v":{"$error":"#VALUE!"}},0,0,0,0,{"$error":"#VALUE!"},{"$error":"#VALUE!"},{"$error":"#VALUE!"},{"$error":"#VALUE!"},{"$error":"#VALUE!"},{"$error":"#VALUE!"},{"$error":"#VALUE!"},{"$error":"#VALUE!"},{"$error":"#VALUE!"},{"$error":"#VALUE!"},{"$error":"#VALUE!"},{"$f":"IF(SUM(CI$1262:CI1270)>0,0,IF(MAX(CB1271:CB$2702)=MAX(CB$1262:CB$2702),0,IF(BZ1271>0.03*BT$2703,0,$C1271/60)))","v":{"$error":"#VALUE!"}},{"$f":"IF(SUM(CJ$1262:CJ1270)>0,0,IF(MAX(CB1271:CB$2702)=MAX(CB$1262:CB$2702),0,IF(BZ1271>0.01*BT$2703,0,$C1271/60)))","v":{"$error":"#VALUE!"}},0,0,0,0,{"$error":"#VALUE!"},{"$error":"#VALUE!"},{"$error":"#VALUE!"},{"$error":"#VALUE!"},{"$error":"#VALUE!"},{"$error":"#VALUE!"},{"$error":"#VALUE!"},{"$error":"#VALUE!"},{"$error":"#VALUE!"},{"$error":"#VALUE!"},{"$error":"#VALUE!"},{"$f":"IF(SUM(CZ$1262:CZ1270)>0,0,IF(MAX(CS1271:CS$2702)=MAX(CS$1262:CS$2702),0,IF(CQ1271>0.03*CK$2703,0,$C1271/60)))","v":{"$error":"#VALUE!"}},{"$f":"IF(SUM(DA$1262:DA1270)>0,0,IF(MAX(CS1271:CS$2702)=MAX(CS$1262:CS$2702),0,IF(CQ1271>0.01*CK$2703,0,$C1271/60)))","v":{"$error":"#VALUE!"}}]
[null,0.83333333333333337,50,"","",0,0,0,0,0,{"$error":"#VALUE!"},0,{"$error":"#VALUE!"},{"$error":"#VALUE!"},{"$error":"#VALUE!"},{"$error":"#VALUE!"},{"$error":"#VALUE!"},{"$error":"#VALUE!"},{"$f":"IF(SUM(S$1262:S1271)>0,0,\nIF(MAX(L1272:L$2702)=MAX(L$1262:L$2702),0,\nIF(Hydrograph_Source_WQCV=\"USER\",IF(J1272>0.03*D$2703,0,$C1272/60),\nIF(J1272>0.03*J$2703,0,$C1272/60))))","v":0},{"$f":"IF(SUM(T$1262:T1271)>0,0,\nIF(MAX(L1272:L$2702)=MAX(L$1262:L$2702),0,\nIF(Hydrograph_Source_WQCV=\"USER\",IF(J1272>0.01*D$2703,0,$C1272/60),\nIF(J1272>0.01*J$2703,0,$C1272/60))))","v":0},0,0,0,0,{"$error":"#VALUE!"},{"$error":"#VALUE!"},{"$error":"#VALUE!"},{"$error":"#VALUE!"},{"$error":"#VALUE!"},{"$error":"#VALUE!"},{"$error":"#VALUE!"},{"$error":"#VALUE!"},{"$error":"#VALUE!"},{"$error":"#VALUE!"},{"$error":"#VALUE!"},{"$f":"IF(SUM(AJ$1262:AJ1271)>0,0,IF(MAX(AC1272:AC$2702)=MAX(AC$1262:AC$2702),0,IF(AA1272>0.03*U$2703,0,$C1272/60)))","v":{"$error":"#VALUE!"}},{"$f":"IF(SUM(AK$1262:AK1271)>0,0,IF(MAX(AC1272:AC$2702)=MAX(AC$1262:AC$2702),0,IF(AA1272>0.01*U$2703,0,$C1272/60)))","v":{"$error":"#VALUE!"}},0,0,0,0,{"$error":"#VALUE!"},{"$error":"#VALUE!"},{"$error":"#VALUE!"},{"$error":"#VALUE!"},{"$error":"#VALUE!"},{"$error":"#VALUE!"},{"$error":"#VALUE!"},{"$error":"#VALUE!"},{"$error":"#VALUE!"},{"$error":"#VALUE!"},{"$error":"#VALUE!"},{"$f":"IF(SUM(BA$1262:BA1271)>0,0,IF(MAX(AT1272:AT$2702)=MAX(AT$1262:AT$2702),0,IF(AR1272>0.03*AL$2703,0,$C1272/60)))","v":{"$error":"#VALUE!"}},{"$f":"IF(SUM(BB$1262:BB1271)>0,0,IF(MAX(AT1272:AT$2702)=MAX(AT$1262:AT$2702),0,IF(AR1272>0.01*AL$2703,0,$C1272/60)))","v":{"$error":"#VALUE!"}},0,0,0,0,{"$error":"#VALUE!"},{"$error":"#VALUE!"},{"$error":"#VALUE!"},{"$error":"#VALUE!"},{"$error":"#VALUE!"},{"$error":"#VALUE!"},{"$error":"#VALUE!"},{"$error":"#VALUE!"},{"$error":"#VALUE!"},{"$error":"#VALUE!"},{"$error":"#VALUE!"},{"$f":"IF(SUM(BR$1262:BR1271)>0,0,IF(MAX(BK1272:BK$2702)=MAX(BK$1262:BK$2702),0,IF(BI1272>0.03*BC$2703,0,$C1272/60)))","v":{"$error":"#VALUE!"}},{"$f":"IF(SUM(BS$1262:BS1271)>0,0,IF(MAX(BK1272:BK$2702)=MAX(BK$1262:BK$2702),0,IF(BI1272>0.01*BC$2703,0,$C1272/60)))","v":{"$error":"#VALUE!"}},0,0,0,0,{"$error":"#VALUE!"},{"$error":"#VALUE!"},{"$error":"#VALUE!"},{"$error":"#VALUE!"},{"$error":"#VALUE!"},{"$error":"#VALUE!"},{"$error":"#VALUE!"},{"$error":"#VALUE!"},{"$error":"#VALUE!"},{"$error":"#VALUE!"},{"$error":"#VALUE!"},{"$f":"IF(SUM(CI$1262:CI1271)>0,0,IF(MAX(CB1272:CB$2702)=MAX(CB$1262:CB$2702),0,IF(BZ1272>0.03*BT$2703,0,$C1272/60)))","v":{"$error":"#VALUE!"}},{"$f":"IF(SUM(CJ$1262:CJ1271)>0,0,IF(MAX(CB1272:CB$2702)=MAX(CB$1262:CB$2702),0,IF(BZ1272>0.01*BT$2703,0,$C1272/60)))","v":{"$error":"#VALUE!"}},0,0,0,0,{"$error":"#VALUE!"},{"$error":"#VALUE!"},{"$error":"#VALUE!"},{"$error":"#VALUE!"},{"$error":"#VALUE!"},{"$error":"#VALUE!"},{"$error":"#VALUE!"},{"$error":"#VALUE!"},{"$error":"#VALUE!"},{"$error":"#VALUE!"},{"$error":"#VALUE!"},{"$f":"IF(SUM(CZ$1262:CZ1271)>0,0,IF(MAX(CS1272:CS$2702)=MAX(CS$1262:CS$2702),0,IF(CQ1272>0.03*CK$2703,0,$C1272/60)))","v":{"$error":"#VALUE!"}},{"$f":"IF(SUM(DA$1262:DA1271)>0,0,IF(MAX(CS1272:CS$2702)=MAX(CS$1262:CS$2702),0,IF(CQ1272>0.01*CK$2703,0,$C1272/60)))","v":{"$error":"#VALUE!"}}]
[null,1.5,90,"","",0,0,0,0,0,{"$error":"#VALUE!"},0,{"$error":"#VALUE!"},{"$error":"#VALUE!"},{"$error":"#VALUE!"},{"$error":"#VALUE!"},{"$error":"#VALUE!"},{"$error":"#VALUE!"},{"$f":"IF(SUM(S$1262:S1279)>0,0,\nIF(MAX(L1280:L$2702)=MAX(L$1262:L$2702),0,\nIF(Hydrograph_Source_WQCV=\"USER\",IF(J1280>0.03*D$2703,0,$C1280/60),\nIF(J1280>0.03*J$2703,0,$C1280/60))))","v":0},{"$f":"IF(SUM(T$1262:T1279)>0,0,\nIF(MAX(L1280:L$2702)=MAX(L$1262:L$2702),0,\nIF(Hydrograph_Source_WQCV=\"USER\",IF(J1280>0.01*D$2703,0,$C1280/60),\nIF(J1280>0.01*J$2703,0,$C1280/60))))","v":0},0,0,0,0,{"$error":"#VALUE!"},{"$error":"#VALUE!"},{"$error":"#VALUE!"},{"$error":"#VALUE!"},{"$error":"#VALUE!"},{"$error":"#VALUE!"},{"$error":"#VALUE!"},{"$error":"#VALUE!"},{"$error":"#VALUE!"},{"$error":"#VALUE!"},{"$error":"#VALUE!"},{"$f":"IF(SUM(AJ$1262:AJ1279)>0,0,IF(MAX(AC1280:AC$2702)=MAX(AC$1262:AC$2702),0,IF(AA1280>0.03*U$2703,0,$C1280/60)))","v":{"$error":"#VALUE!"}},{"$f":"IF(SUM(AK$1262:AK1279)>0,0,IF(MAX(AC1280:AC$2702)=MAX(AC$1262:AC$2702),0,IF(AA1280>0.01*U$2703,0,$C1280/60)))","v":{"$error":"#VALUE!"}},0,0,0,0,{"$error":"#VALUE!"},{"$error":"#VALUE!"},{"$error":"#VALUE!"},{"$error":"#VALUE!"},{"$error":"#VALUE!"},{"$error":"#VALUE!"},{"$error":"#VALUE!"},{"$error":"#VALUE!"},{"$error":"#VALUE!"},{"$error":"#VALUE!"},{"$error":"#VALUE!"},{"$f":"IF(SUM(BA$1262:BA1279)>0,0,IF(MAX(AT1280:AT$2702)=MAX(AT$1262:AT$2702),0,IF(AR1280>0.03*AL$2703,0,$C1280/60)))","v":{"$error":"#VALUE!"}},{"$f":"IF(SUM(BB$1262:BB1279)>0,0,IF(MAX(AT1280:AT$2702)=MAX(AT$1262:AT$2702),0,IF(AR1280>0.01*AL$2703,0,$C1280/60)))","v":{"$error":"#VALUE!"}},0,0,0,0,{"$error":"#VALUE!"},{"$error":"#VALUE!"},{"$error":"#VALUE!"},{"$error":"#VALUE!"},{"$error":"#VALUE!"},{"$error":"#VALUE!"},{"$error":"#VALUE!"},{"$error":"#VALUE!"},{"$error":"#VALUE!"},{"$error":"#VALUE!"},{"$error":"#VALUE!"},{"$f":"IF(SUM(BR$1262:BR1279)>0,0,IF(MAX(BK1280:BK$2702)=MAX(BK$1262:BK$2702),0,IF(BI1280>0.03*BC$2703,0,$C1280/60)))","v":{"$error":"#VALUE!"}},{"$f":"IF(SUM(BS$1262:BS1279)>0,0,IF(MAX(BK1280:BK$2702)=MAX(BK$1262:BK$2702),0,IF(BI1280>0.01*BC$2703,0,$C1280/60)))","v":{"$error":"#VALUE!"}},0,0,0,0,{"$error":"#VALUE!"},{"$error":"#VALUE!"},{"$error":"#VALUE!"},{"$error":"#VALUE!"},{"$error":"#VALUE!"},{"$error":"#VALUE!"},{"$error":"#VALUE!"},{"$error":"#VALUE!"},{"$error":"#VALUE!"},{"$error":"#VALUE!"},{"$error":"#VALUE!"},{"$f":"IF(SUM(CI$1262:CI1279)>0,0,IF(MAX(CB1280:CB$2702)=MAX(CB$1262:CB$2702),0,IF(BZ1280>0.03*BT$2703,0,$C1280/60)))","v":{"$error":"#VALUE!"}},{"$f":"IF(SUM(CJ$1262:CJ1279)>0,0,IF(MAX(CB1280:CB$2702)=MAX(CB$1262:CB$2702),0,IF(BZ1280>0.01*BT$2703,0,$C1280/60)))","v":{"$error":"#VALUE!"}},0,0,0,0,{"$error":"#VALUE!"},{"$error":"#VALUE!"},{"$error":"#VALUE!"},{"$error":"#VALUE!"},{"$error":"#VALUE!"},{"$error":"#VALUE!"},{"$error":"#VALUE!"},{"$error":"#VALUE!"},{"$error":"#VALUE!"},{"$error":"#VALUE!"},{"$error":"#VALUE!"},{"$f":"IF(SUM(CZ$1262:CZ1279)>0,0,IF(MAX(CS1280:CS$2702)=MAX(CS$1262:CS$2702),0,IF(CQ1280>0.03*CK$2703,0,$C1280/60)))","v":{"$error":"#VALUE!"}},{"$f":"IF(SUM(DA$1262:DA1279)>0,0,IF(MAX(CS1280:CS$2702)=MAX(CS$1262:CS$2702),0,IF(CQ1280>0.01*CK$2703,0,$C1280/60)))","v":{"$error":"#VALUE!"}}]
[null,1.75,105,"","",0,0,0,0,0,{"$error":"#VALUE!"},0,{"$error":"#VALUE!"},{"$error":"#VALUE!"},{"$error":"#VALUE!"},{"$error":"#VALUE!"},{"$error":"#VALUE!"},{"$error":"#VALUE!"},{"$f":"IF(SUM(S$1262:S1282)>0,0,\nIF(MAX(L1283:L$2702)=MAX(L$1262:L$2702),0,\nIF(Hydrograph_Source_WQCV=\"USER\",IF(J1283>0.03*D$2703,0,$C1283/60),\nIF(J1283>0.03*J$2703,0,$C1283/60))))","v":0},{"$f":"IF(SUM(T$1262:T1282)>0,0,\nIF(MAX(L1283:L$2702)=MAX(L$1262:L$2702),0,\nIF(Hydrograph_Source_WQCV=\"USER\",IF(J1283>0.01*D$2703,0,$C1283/60),\nIF(J1283>0.01*J$2703,0,$C1283/60))))","v":0},0,0,0,0,{"$error":"#VALUE!"},{"$error":"#VALUE!"},{"$error":"#VALUE!"},{"$error":"#VALUE!"},{"$error":"#VALUE!"},{"$error":"#VALUE!"},{"$error":"#VALUE!"},{"$error":"#VALUE!"},{"$error":"#VALUE!"},{"$error":"#VALUE!"},{"$error":"#VALUE!"},{"$f":"IF(SUM(AJ$1262:AJ1282)>0,0,IF(MAX(AC1283:AC$2702)=MAX(AC$1262:AC$2702),0,IF(AA1283>0.03*U$2703,0,$C1283/60)))","v":{"$error":"#VALUE!"}},{"$f":"IF(SUM(AK$1262:AK1282)>0,0,IF(MAX(AC1283:AC$2702)=MAX(AC$1262:AC$2702),0,IF(AA1283>0.01*U$2703,0,$C1283/60)))","v":{"$error":"#VALUE!"}},0,0,0,0,{"$error":"#VALUE!"},{"$error":"#VALUE!"},{"$error":"#VALUE!"},{"$error":"#VALUE!"},{"$error":"#VALUE!"},{"$error":"#VALUE!"},{"$error":"#VALUE!"},{"$error":"#VALUE!"},{"$error":"#VALUE!"},{"$error":"#VALUE!"},{"$error":"#VALUE!"},{"$f":"IF(SUM(BA$1262:BA1282)>0,0,IF(MAX(AT1283:AT$2702)=MAX(AT$1262:AT$2702),0,IF(AR1283>0.03*AL$2703,0,$C1283/60)))","v":{"$error":"#VALUE!"}},{"$f":"IF(SUM(BB$1262:BB1282)>0,0,IF(MAX(AT1283:AT$2702)=MAX(AT$1262:AT$2702),0,IF(AR1283>0.01*AL$2703,0,$C1283/60)))","v":{"$error":"#VALUE!"}},0,0,0,0,{"$error":"#VALUE!"},{"$error":"#VALUE!"},{"$error":"#VALUE!"},{"$error":"#VALUE!"},{"$error":"#VALUE!"},{"$error":"#VALUE!"},{"$error":"#VALUE!"},{"$error":"#VALUE!"},{"$error":"#VALUE!"},{"$error":"#VALUE!"},{"$error":"#VALUE!"},{"$f":"IF(SUM(BR$1262:BR1282)>0,0,IF(MAX(BK1283:BK$2702)=MAX(BK$1262:BK$2702),0,IF(BI1283>0.03*BC$2703,0,$C1283/60)))","v":{"$error":"#VALUE!"}},{"$f":"IF(SUM(BS$1262:BS1282)>0,0,IF(MAX(BK1283:BK$2702)=MAX(BK$1262:BK$2702),0,IF(BI1283>0.01*BC$2703,0,$C1283/60)))","v":{"$error":"#VALUE!"}},0,0,0,0,{"$error":"#VALUE!"},{"$error":"#VALUE!"},{"$error":"#VALUE!"},{"$error":"#VALUE!"},{"$error":"#VALUE!"},{"$error":"#VALUE!"},{"$error":"#VALUE!"},{"$error":"#VALUE!"},{"$error":"#VALUE!"},{"$error":"#VALUE!"},{"$error":"#VALUE!"},{"$f":"IF(SUM(CI$1262:CI1282)>0,0,IF(MAX(CB1283:CB$2702)=MAX(CB$1262:CB$2702),0,IF(BZ1283>0.03*BT$2703,0,$C1283/60)))","v":{"$error":"#VALUE!"}},{"$f":"IF(SUM(CJ$1262:CJ1282)>0,0,IF(MAX(CB1283:CB$2702)=MAX(CB$1262:CB$2702),0,IF(BZ1283>0.01*BT$2703,0,$C1283/60)))","v":{"$error":"#VALUE!"}},0,0,0,0,{"$error":"#VALUE!"},{"$error":"#VALUE!"},{"$error":"#VALUE!"},{"$error":"#VALUE!"},{"$error":"#VALUE!"},{"$error":"#VALUE!"},{"$error":"#VALUE!"},{"$error":"#VALUE!"},{"$error":"#VALUE!"},{"$error":"#VALUE!"},{"$error":"#VALUE!"},{"$f":"IF(SUM(CZ$1262:CZ1282)>0,0,IF(MAX(CS1283:CS$2702)=MAX(CS$1262:CS$2702),0,IF(CQ1283>0.03*CK$2703,0,$C1283/60)))","v":{"$error":"#VALUE!"}},{"$f":"IF(SUM(DA$1262:DA1282)>0,0,IF(MAX(CS1283:CS$2702)=MAX(CS$1262:CS$2702),0,IF(CQ1283>0.01*CK$2703,0,$C1283/60)))","v":{"$error":"#VALUE!"}}]
[null,2.1666666666666665,130,"","",0,0,0,0,0,{"$error":"#VALUE!"},0,{"$error":"#VALUE!"},{"$error":"#VALUE!"},{"$error":"#VALUE!"},{"$error":"#VALUE!"},{"$error":"#VALUE!"},{"$error":"#VALUE!"},{"$f":"IF(SUM(S$1262:S1287)>0,0,\nIF(MAX(L1288:L$2702)=MAX(L$1262:L$2702),0,\nIF(Hydrograph_Source_WQCV=\"USER\",IF(J1288>0.03*D$2703,0,$C1288/60),\nIF(J1288>0.03*J$2703,0,$C1288/60))))","v":0},{"$f":"IF(SUM(T$1262:T1287)>0,0,\nIF(MAX(L1288:L$2702)=MAX(L$1262:L$2702),0,\nIF(Hydrograph_Source_WQCV=\"USER\",IF(J1288>0.01*D$2703,0,$C1288/60),\nIF(J1288>0.01*J$2703,0,$C1288/60))))","v":0},0,0,0,0,{"$error":"#VALUE!"},{"$error":"#VALUE!"},{"$error":"#VALUE!"},{"$error":"#VALUE!"},{"$error":"#VALUE!"},{"$error":"#VALUE!"},{"$error":"#VALUE!"},{"$error":"#VALUE!"},{"$error":"#VALUE!"},{"$error":"#VALUE!"},{"$error":"#VALUE!"},{"$f":"IF(SUM(AJ$1262:AJ1287)>0,0,IF(MAX(AC1288:AC$2702)=MAX(AC$1262:AC$2702),0,IF(AA1288>0.03*U$2703,0,$C1288/60)))","v":{"$error":"#VALUE!"}},{"$f":"IF(SUM(AK$1262:AK1287)>0,0,IF(MAX(AC1288:AC$2702)=MAX(AC$1262:AC$2702),0,IF(AA1288>0.01*U$2703,0,$C1288/60)))","v":{"$error":"#VALUE!"}},0,0,0,0,{"$error":"#VALUE!"},{"$error":"#VALUE!"},{"$error":"#VALUE!"},{"$error":"#VALUE!"},{"$error":"#VALUE!"},{"$error":"#VALUE!"},{"$error":"#VALUE!"},{"$error":"#VALUE!"},{"$error":"#VALUE!"},{"$error":"#VALUE!"},{"$error":"#VALUE!"},{"$f":"IF(SUM(BA$1262:BA1287)>0,0,IF(MAX(AT1288:AT$2702)=MAX(AT$1262:AT$2702),0,IF(AR1288>0.03*AL$2703,0,$C1288/60)))","v":{"$error":"#VALUE!"}},{"$f":"IF(SUM(BB$1262:BB1287)>0,0,IF(MAX(AT1288:AT$2702)=MAX(AT$1262:AT$2702),0,IF(AR1288>0.01*AL$2703,0,$C1288/60)))","v":{"$error":"#VALUE!"}},0,0,0,0,{"$error":"#VALUE!"},{"$error":"#VALUE!"},{"$error":"#VALUE!"},{"$error":"#VALUE!"},{"$error":"#VALUE!"},{"$error":"#VALUE!"},{"$error":"#VALUE!"},{"$error":"#VALUE!"},{"$error":"#VALUE!"},{"$error":"#VALUE!"},{"$error":"#VALUE!"},{"$f":"IF(SUM(BR$1262:BR1287)>0,0,IF(MAX(BK1288:BK$2702)=MAX(BK$1262:BK$2702),0,IF(BI1288>0.03*BC$2703,0,$C1288/60)))","v":{"$error":"#VALUE!"}},{"$f":"IF(SUM(BS$1262:BS1287)>0,0,IF(MAX(BK1288:BK$2702)=MAX(BK$1262:BK$2702),0,IF(BI1288>0.01*BC$2703,0,$C1288/60)))","v":{"$error":"#VALUE!"}},0,0,0,0,{"$error":"#VALUE!"},{"$error":"#VALUE!"},{"$error":"#VALUE!"},{"$error":"#VALUE!"},{"$error":"#VALUE!"},{"$error":"#VALUE!"},{"$error":"#VALUE!"},{"$error":"#VALUE!"},{"$error":"#VALUE!"},{"$error":"#VALUE!"},{"$error":"#VALUE!"},{"$f":"IF(SUM(CI$1262:CI1287)>0,0,IF(MAX(CB1288:CB$2702)=MAX(CB$1262:CB$2702),0,IF(BZ1288>0.03*BT$2703,0,$C1288/60)))","v":{"$error":"#VALUE!"}},{"$f":"IF(SUM(CJ$1262:CJ1287)>0,0,IF(MAX(CB1288:CB$2702)=MAX(CB$1262:CB$2702),0,IF(BZ1288>0.01*BT$2703,0,$C1288/60)))","v":{"$error":"#VALUE!"}},0,0,0,0,{"$error":"#VALUE!"},{"$error":"#VALUE!"},{"$error":"#VALUE!"},{"$error":"#VALUE!"},{"$error":"#VALUE!"},{"$error":"#VALUE!"},{"$error":"#VALUE!"},{"$error":"#VALUE!"},{"$error":"#VALUE!"},{"$error":"#VALUE!"},{"$error":"#VALUE!"},{"$f":"IF(SUM(CZ$1262:CZ1287)>0,0,IF(MAX(CS1288:CS$2702)=MAX(CS$1262:CS$2702),0,IF(CQ1288>0.03*CK$2703,0,$C1288/60)))","v":{"$error":"#VALUE!"}},{"$f":"IF(SUM(DA$1262:DA1287)>0,0,IF(MAX(CS1288:CS$2702)=MAX(CS$1262:CS$2702),0,IF(CQ1288>0.01*CK$2703,0,$C1288/60)))","v":{"$error":"#VALUE!"}}]
[null,2.25,135,"","",0,0,0,0,0,{"$error":"#VALUE!"},0,{"$error":"#VALUE!"},{"$error":"#VALUE!"},{"$error":"#VALUE!"},{"$error":"#VALUE!"},{"$error":"#VALUE!"},{"$error":"#VALUE!"},{"$f":"IF(SUM(S$1262:S1288)>0,0,\nIF(MAX(L1289:L$2702)=MAX(L$1262:L$2702),0,\nIF(Hydrograph_Source_WQCV=\"USER\",IF(J1289>0.03*D$2703,0,$C1289/60),\nIF(J1289>0.03*J$2703,0,$C1289/60))))","v":0},{"$f":"IF(SUM(T$1262:T1288)>0,0,\nIF(MAX(L1289:L$2702)=MAX(L$1262:L$2702),0,\nIF(Hydrograph_Source_WQCV=\"USER\",IF(J1289>0.01*D$2703,0,$C1289/60),\nIF(J1289>0.01*J$2703,0,$C1289/60))))","v":0},0,0,0,0,{"$error":"#VALUE!"},{"$error":"#VALUE!"},{"$error":"#VALUE!"},{"$error":"#VALUE!"},{"$error":"#VALUE!"},{"$error":"#VALUE!"},{"$error":"#VALUE!"},{"$error":"#VALUE!"},{"$error":"#VALUE!"},{"$error":"#VALUE!"},{"$error":"#VALUE!"},{"$f":"IF(SUM(AJ$1262:AJ1288)>0,0,IF(MAX(AC1289:AC$2702)=MAX(AC$1262:AC$2702),0,IF(AA1289>0.03*U$2703,0,$C1289/60)))","v":{"$error":"#VALUE!"}},{"$f":"IF(SUM(AK$1262:AK1288)>0,0,IF(MAX(AC1289:AC$2702)=MAX(AC$1262:AC$2702),0,IF(AA1289>0.01*U$2703,0,$C1289/60)))","v":{"$error":"#VALUE!"}},0,0,0,0,{"$error":"#VALUE!"},{"$error":"#VALUE!"},{"$error":"#VALUE!"},{"$error":"#VALUE!"},{"$error":"#VALUE!"},{"$error":"#VALUE!"},{"$error":"#VALUE!"},{"$error":"#VALUE!"},{"$error":"#VALUE!"},{"$error":"#VALUE!"},{"$error":"#VALUE!"},{"$f":"IF(SUM(BA$1262:BA1288)>0,0,IF(MAX(AT1289:AT$2702)=MAX(AT$1262:AT$2702),0,IF(AR1289>0.03*AL$2703,0,$C1289/60)))","v":{"$error":"#VALUE!"}},{"$f":"IF(SUM(BB$1262:BB1288)>0,0,IF(MAX(AT1289:AT$2702)=MAX(AT$1262:AT$2702),0,IF(AR1289>0.01*AL$2703,0,$C1289/60)))","v":{"$error":"#VALUE!"}},0,0,0,0,{"$error":"#VALUE!"},{"$error":"#VALUE!"},{"$error":"#VALUE!"},{"$error":"#VALUE!"},{"$error":"#VALUE!"},{"$error":"#VALUE!"},{"$error":"#VALUE!"},{"$error":"#VALUE!"},{"$error":"#VALUE!"},{"$error":"#VALUE!"},{"$error":"#VALUE!"},{"$f":"IF(SUM(BR$1262:BR1288)>0,0,IF(MAX(BK1289:BK$2702)=MAX(BK$1262:BK$2702),0,IF(BI1289>0.03*BC$2703,0,$C1289/60)))","v":{"$error":"#VALUE!"}},{"$f":"IF(SUM(BS$1262:BS1288)>0,0,IF(MAX(BK1289:BK$2702)=MAX(BK$1262:BK$2702),0,IF(BI1289>0.01*BC$2703,0,$C1289/60)))","v":{"$error":"#VALUE!"}},0,0,0,0,{"$error":"#VALUE!"},{"$error":"#VALUE!"},{"$error":"#VALUE!"},{"$error":"#VALUE!"},{"$error":"#VALUE!"},{"$error":"#VALUE!"},{"$error":"#VALUE!"},{"$error":"#VALUE!"},{"$error":"#VALUE!"},{"$error":"#VALUE!"},{"$error":"#VALUE!"},{"$f":"IF(SUM(CI$1262:CI1288)>0,0,IF(MAX(CB1289:CB$2702)=MAX(CB$1262:CB$2702),0,IF(BZ1289>0.03*BT$2703,0,$C1289/60)))","v":{"$error":"#VALUE!"}},{"$f":"IF(SUM(CJ$1262:CJ1288)>0,0,IF(MAX(CB1289:CB$2702)=MAX(CB$1262:CB$2702),0,IF(BZ1289>0.01*BT$2703,0,$C1289/60)))","v":{"$error":"#VALUE!"}},0,0,0,0,{"$error":"#VALUE!"},{"$error":"#VALUE!"},{"$error":"#VALUE!"},{"$error":"#VALUE!"},{"$error":"#VALUE!"},{"$error":"#VALUE!"},{"$error":"#VALUE!"},{"$error":"#VALUE!"},{"$error":"#VALUE!"},{"$error":"#VALUE!"},{"$error":"#VALUE!"},{"$f":"IF(SUM(CZ$1262:CZ1288)>0,0,IF(MAX(CS1289:CS$2702)=MAX(CS$1262:CS$2702),0,IF(CQ1289>0.03*CK$2703,0,$C1289/60)))","v":{"$error":"#VALUE!"}},{"$f":"IF(SUM(DA$1262:DA1288)>0,0,IF(MAX(CS1289:CS$2702)=MAX(CS$1262:CS$2702),0,IF(CQ1289>0.01*CK$2703,0,$C1289/60)))","v":{"$error":"#VALUE!"}}]
[null,2.75,165,"","",0,0,0,0,0,{"$error":"#VALUE!"},0,{"$error":"#VALUE!"},{"$error":"#VALUE!"},{"$error":"#VALUE!"},{"$error":"#VALUE!"},{"$error":"#VALUE!"},{"$error":"#VALUE!"},{"$f":"IF(SUM(S$1262:S1294)>0,0,\nIF(MAX(L1295:L$2702)=MAX(L$1262:L$2702),0,\nIF(Hydrograph_Source_WQCV=\"USER\",IF(J1295>0.03*D$2703,0,$C1295/60),\nIF(J1295>0.03*J$2703,0,$C1295/60))))","v":0},{"$f":"IF(SUM(T$1262:T1294)>0,0,\nIF(MAX(L1295:L$2702)=MAX(L$1262:L$2702),0,\nIF(Hydrograph_Source_WQCV=\"USER\",IF(J1295>0.01*D$2703,0,$C1295/60),\nIF(J1295>0.01*J$2703,0,$C1295/60))))","v":0},0,0,0,0,{"$error":"#VALUE!"},{"$error":"#VALUE!"},{"$error":"#VALUE!"},{"$error":"#VALUE!"},{"$error":"#VALUE!"},{"$error":"#VALUE!"},{"$error":"#VALUE!"},{"$error":"#VALUE!"},{"$error":"#VALUE!"},{"$error":"#VALUE!"},{"$error":"#VALUE!"},{"$f":"IF(SUM(AJ$1262:AJ1294)>0,0,IF(MAX(AC1295:AC$2702)=MAX(AC$1262:AC$2702),0,IF(AA1295>0.03*U$2703,0,$C1295/60)))","v":{"$error":"#VALUE!"}},{"$f":"IF(SUM(AK$1262:AK1294)>0,0,IF(MAX(AC1295:AC$2702)=MAX(AC$1262:AC$2702),0,IF(AA1295>0.01*U$2703,0,$C1295/60)))","v":{"$error":"#VALUE!"}},0,0,0,0,{"$error":"#VALUE!"},{"$error":"#VALUE!"},{"$error":"#VALUE!"},{"$error":"#VALUE!"},{"$error":"#VALUE!"},{"$error":"#VALUE!"},{"$error":"#VALUE!"},{"$error":"#VALUE!"},{"$error":"#VALUE!"},{"$error":"#VALUE!"},{"$error":"#VALUE!"},{"$f":"IF(SUM(BA$1262:BA1294)>0,0,IF(MAX(AT1295:AT$2702)=MAX(AT$1262:AT$2702),0,IF(AR1295>0.03*AL$2703,0,$C1295/60)))","v":{"$error":"#VALUE!"}},{"$f":"IF(SUM(BB$1262:BB1294)>0,0,IF(MAX(AT1295:AT$2702)=MAX(AT$1262:AT$2702),0,IF(AR1295>0.01*AL$2703,0,$C1295/60)))","v":{"$error":"#VALUE!"}},0,0,0,0,{"$error":"#VALUE!"},{"$error":"#VALUE!"},{"$error":"#VALUE!"},{"$error":"#VALUE!"},{"$error":"#VALUE!"},{"$error":"#VALUE!"},{"$error":"#VALUE!"},{"$error":"#VALUE!"},{"$error":"#VALUE!"},{"$error":"#VALUE!"},{"$error":"#VALUE!"},{"$f":"IF(SUM(BR$1262:BR1294)>0,0,IF(MAX(BK1295:BK$2702)=MAX(BK$1262:BK$2702),0,IF(BI1295>0.03*BC$2703,0,$C1295/60)))","v":{"$error":"#VALUE!"}},{"$f":"IF(SUM(BS$1262:BS1294)>0,0,IF(MAX(BK1295:BK$2702)=MAX(BK$1262:BK$2702),0,IF(BI1295>0.01*BC$2703,0,$C1295/60)))","v":{"$error":"#VALUE!"}},0,0,0,0,{"$error":"#VALUE!"},{"$error":"#VALUE!"},{"$error":"#VALUE!"},{"$error":"#VALUE!"},{"$error":"#VALUE!"},{"$error":"#VALUE!"},{"$error":"#VALUE!"},{"$error":"#VALUE!"},{"$error":"#VALUE!"},{"$error":"#VALUE!"},{"$error":"#VALUE!"},{"$f":"IF(SUM(CI$1262:CI1294)>0,0,IF(MAX(CB1295:CB$2702)=MAX(CB$1262:CB$2702),0,IF(BZ1295>0.03*BT$2703,0,$C1295/60)))","v":{"$error":"#VALUE!"}},{"$f":"IF(SUM(CJ$1262:CJ1294)>0,0,IF(MAX(CB1295:CB$2702)=MAX(CB$1262:CB$2702),0,IF(BZ1295>0.01*BT$2703,0,$C1295/60)))","v":{"$error":"#VALUE!"}},0,0,0,0,{"$error":"#VALUE!"},{"$error":"#VALUE!"},{"$error":"#VALUE!"},{"$error":"#VALUE!"},{"$error":"#VALUE!"},{"$error":"#VALUE!"},{"$error":"#VALUE!"},{"$error":"#VALUE!"},{"$error":"#VALUE!"},{"$error":"#VALUE!"},{"$error":"#VALUE!"},{"$f":"IF(SUM(CZ$1262:CZ1294)>0,0,IF(MAX(CS1295:CS$2702)=MAX(CS$1262:CS$2702),0,IF(CQ1295>0.03*CK$2703,0,$C1295/60)))","v":{"$error":"#VALUE!"}},{"$f":"IF(SUM(DA$1262:DA1294)>0,0,IF(MAX(CS1295:CS$2702)=MAX(CS$1262:CS$2702),0,IF(CQ1295>0.01*CK$2703,0,$C1295/60)))","v":{"$error":"#VALUE!"}}]
[null,3.1666666666666665,190,"","",0,0,0,0,0,{"$error":"#VALUE!"},0,{"$error":"#VALUE!"},{"$error":"#VALUE!"},{"$error":"#VALUE!"},{"$error":"#VALUE!"},{"$error":"#VALUE!"},{"$error":"#VALUE!"},{"$f":"IF(SUM(S$1262:S1299)>0,0,\nIF(MAX(L1300:L$2702)=MAX(L$1262:L$2702),0,\nIF(Hydrograph_Source_WQCV=\"USER\",IF(J1300>0.03*D$2703,0,$C1300/60),\nIF(J1300>0.03*J$2703,0,$C1300/60))))","v":0},{"$f":"IF(SUM(T$1262:T1299)>0,0,\nIF(MAX(L1300:L$2702)=MAX(L$1262:L$2702),0,\nIF(Hydrograph_Source_WQCV=\"USER\",IF(J1300>0.01*D$2703,0,$C1300/60),\nIF(J1300>0.01*J$2703,0,$C1300/60))))","v":0},0,0,0,0,{"$error":"#VALUE!"},{"$error":"#VALUE!"},{"$error":"#VALUE!"},{"$error":"#VALUE!"},{"$error":"#VALUE!"},{"$error":"#VALUE!"},{"$error":"#VALUE!"},{"$error":"#VALUE!"},{"$error":"#VALUE!"},{"$error":"#VALUE!"},{"$error":"#VALUE!"},{"$f":"IF(SUM(AJ$1262:AJ1299)>0,0,IF(MAX(AC1300:AC$2702)=MAX(AC$1262:AC$2702),0,IF(AA1300>0.03*U$2703,0,$C1300/60)))","v":{"$error":"#VALUE!"}},{"$f":"IF(SUM(AK$1262:AK1299)>0,0,IF(MAX(AC1300:AC$2702)=MAX(AC$1262:AC$2702),0,IF(AA1300>0.01*U$2703,0,$C1300/60)))","v":{"$error":"#VALUE!"}},0,0,0,0,{"$error":"#VALUE!"},{"$error":"#VALUE!"},{"$error":"#VALUE!"},{"$error":"#VALUE!"},{"$error":"#VALUE!"},{"$error":"#VALUE!"},{"$error":"#VALUE!"},{"$error":"#VALUE!"},{"$error":"#VALUE!"},{"$error":"#VALUE!"},{"$error":"#VALUE!"},{"$f":"IF(SUM(BA$1262:BA1299)>0,0,IF(MAX(AT1300:AT$2702)=MAX(AT$1262:AT$2702),0,IF(AR1300>0.03*AL$2703,0,$C1300/60)))","v":{"$error":"#VALUE!"}},{"$f":"IF(SUM(BB$1262:BB1299)>0,0,IF(MAX(AT1300:AT$2702)=MAX(AT$1262:AT$2702),0,IF(AR1300>0.01*AL$2703,0,$C1300/60)))","v":{"$error":"#VALUE!"}},0,0,0,0,{"$error":"#VALUE!"},{"$error":"#VALUE!"},{"$error":"#VALUE!"},{"$error":"#VALUE!"},{"$error":"#VALUE!"},{"$error":"#VALUE!"},{"$error":"#VALUE!"},{"$error":"#VALUE!"},{"$error":"#VALUE!"},{"$error":"#VALUE!"},{"$error":"#VALUE!"},{"$f":"IF(SUM(BR$1262:BR1299)>0,0,IF(MAX(BK1300:BK$2702)=MAX(BK$1262:BK$2702),0,IF(BI1300>0.03*BC$2703,0,$C1300/60)))","v":{"$error":"#VALUE!"}},{"$f":"IF(SUM(BS$1262:BS1299)>0,0,IF(MAX(BK1300:BK$2702)=MAX(BK$1262:BK$2702),0,IF(BI1300>0.01*BC$2703,0,$C1300/60)))","v":{"$error":"#VALUE!"}},0,0,0,0,{"$error":"#VALUE!"},{"$error":"#VALUE!"},{"$error":"#VALUE!"},{"$error":"#VALUE!"},{"$error":"#VALUE!"},{"$error":"#VALUE!"},{"$error":"#VALUE!"},{"$error":"#VALUE!"},{"$error":"#VALUE!"},{"$error":"#VALUE!"},{"$error":"#VALUE!"},{"$f":"IF(SUM(CI$1262:CI1299)>0,0,IF(MAX(CB1300:CB$2702)=MAX(CB$1262:CB$2702),0,IF(BZ1300>0.03*BT$2703,0,$C1300/60)))","v":{"$error":"#VALUE!"}},{"$f":"IF(SUM(CJ$1262:CJ1299)>0,0,IF(MAX(CB1300:CB$2702)=MAX(CB$1262:CB$2702),0,IF(BZ1300>0.01*BT$2703,0,$C1300/60)))","v":{"$error":"#VALUE!"}},0,0,0,0,{"$error":"#VALUE!"},{"$error":"#VALUE!"},{"$error":"#VALUE!"},{"$error":"#VALUE!"},{"$error":"#VALUE!"},{"$error":"#VALUE!"},{"$error":"#VALUE!"},{"$error":"#VALUE!"},{"$error":"#VALUE!"},{"$error":"#VALUE!"},{"$error":"#VALUE!"},{"$f":"IF(SUM(CZ$1262:CZ1299)>0,0,IF(MAX(CS1300:CS$2702)=MAX(CS$1262:CS$2702),0,IF(CQ1300>0.03*CK$2703,0,$C1300/60)))","v":{"$error":"#VALUE!"}},{"$f":"IF(SUM(DA$1262:DA1299)>0,0,IF(MAX(CS1300:CS$2702)=MAX(CS$1262:CS$2702),0,IF(CQ1300>0.01*CK$2703,0,$C1300/60)))","v":{"$error":"#VALUE!"}}]
[null,3.5833333333333335,215,"","",0,0,0,0,0,{"$error":"#VALUE!"},0,{"$error":"#VALUE!"},{"$error":"#VALUE!"},{"$error":"#VALUE!"},{"$error":"#VALUE!"},{"$error":"#VALUE!"},{"$error":"#VALUE!"},{"$f":"IF(SUM(S$1262:S1304)>0,0,\nIF(MAX(L1305:L$2702)=MAX(L$1262:L$2702),0,\nIF(Hydrograph_Source_WQCV=\"USER\",IF(J1305>0.03*D$2703,0,$C1305/60),\nIF(J1305>0.03*J$2703,0,$C1305/60))))","v":0},{"$f":"IF(SUM(T$1262:T1304)>0,0,\nIF(MAX(L1305:L$2702)=MAX(L$1262:L$2702),0,\nIF(Hydrograph_Source_WQCV=\"USER\",IF(J1305>0.01*D$2703,0,$C1305/60),\nIF(J1305>0.01*J$2703,0,$C1305/60))))","v":0},0,0,0,0,{"$error":"#VALUE!"},{"$error":"#VALUE!"},{"$error":"#VALUE!"},{"$error":"#VALUE!"},{"$error":"#VALUE!"},{"$error":"#VALUE!"},{"$error":"#VALUE!"},{"$error":"#VALUE!"},{"$error":"#VALUE!"},{"$error":"#VALUE!"},{"$error":"#VALUE!"},{"$f":"IF(SUM(AJ$1262:AJ1304)>0,0,IF(MAX(AC1305:AC$2702)=MAX(AC$1262:AC$2702),0,IF(AA1305>0.03*U$2703,0,$C1305/60)))","v":{"$error":"#VALUE!"}},{"$f":"IF(SUM(AK$1262:AK1304)>0,0,IF(MAX(AC1305:AC$2702)=MAX(AC$1262:AC$2702),0,IF(AA1305>0.01*U$2703,0,$C1305/60)))","v":{"$error":"#VALUE!"}},0,0,0,0,{"$error":"#VALUE!"},{"$error":"#VALUE!"},{"$error":"#VALUE!"},{"$error":"#VALUE!"},{"$error":"#VALUE!"},{"$error":"#VALUE!"},{"$error":"#VALUE!"},{"$error":"#VALUE!"},{"$error":"#VALUE!"},{"$error":"#VALUE!"},{"$error":"#VALUE!"},{"$f":"IF(SUM(BA$1262:BA1304)>0,0,IF(MAX(AT1305:AT$2702)=MAX(AT$1262:AT$2702),0,IF(AR1305>0.03*AL$2703,0,$C1305/60)))","v":{"$error":"#VALUE!"}},{"$f":"IF(SUM(BB$1262:BB1304)>0,0,IF(MAX(AT1305:AT$2702)=MAX(AT$1262:AT$2702),0,IF(AR1305>0.01*AL$2703,0,$C1305/60)))","v":{"$error":"#VALUE!"}},0,0,0,0,{"$error":"#VALUE!"},{"$error":"#VALUE!"},{"$error":"#VALUE!"},{"$error":"#VALUE!"},{"$error":"#VALUE!"},{"$error":"#VALUE!"},{"$error":"#VALUE!"},{"$error":"#VALUE!"},{"$error":"#VALUE!"},{"$error":"#VALUE!"},{"$error":"#VALUE!"},{"$f":"IF(SUM(BR$1262:BR1304)>0,0,IF(MAX(BK1305:BK$2702)=MAX(BK$1262:BK$2702),0,IF(BI1305>0.03*BC$2703,0,$C1305/60)))","v":{"$error":"#VALUE!"}},{"$f":"IF(SUM(BS$1262:BS1304)>0,0,IF(MAX(BK1305:BK$2702)=MAX(BK$1262:BK$2702),0,IF(BI1305>0.01*BC$2703,0,$C1305/60)))","v":{"$error":"#VALUE!"}},0,0,0,0,{"$error":"#VALUE!"},{"$error":"#VALUE!"},{"$error":"#VALUE!"},{"$error":"#VALUE!"},{"$error":"#VALUE!"},{"$error":"#VALUE!"},{"$error":"#VALUE!"},{"$error":"#VALUE!"},{"$error":"#VALUE!"},{"$error":"#VALUE!"},{"$error":"#VALUE!"},{"$f":"IF(SUM(CI$1262:CI1304)>0,0,IF(MAX(CB1305:CB$2702)=MAX(CB$1262:CB$2702),0,IF(BZ1305>0.03*BT$2703,0,$C1305/60)))","v":{"$error":"#VALUE!"}},{"$f":"IF(SUM(CJ$1262:CJ1304)>0,0,IF(MAX(CB1305:CB$2702)=MAX(CB$1262:CB$2702),0,IF(BZ1305>0.01*BT$2703,0,$C1305/60)))","v":{"$error":"#VALUE!"}},0,0,0,0,{"$error":"#VALUE!"},{"$error":"#VALUE!"},{"$error":"#VALUE!"},{"$error":"#VALUE!"},{"$error":"#VALUE!"},{"$error":"#VALUE!"},{"$error":"#VALUE!"},{"$error":"#VALUE!"},{"$error":"#VALUE!"},{"$error":"#VALUE!"},{"$error":"#VALUE!"},{"$f":"IF(SUM(CZ$1262:CZ1304)>0,0,IF(MAX(CS1305:CS$2702)=MAX(CS$1262:CS$2702),0,IF(CQ1305>0.03*CK$2703,0,$C1305/60)))","v":{"$error":"#VALUE!"}},{"$f":"IF(SUM(DA$1262:DA1304)>0,0,IF(MAX(CS1305:CS$2702)=MAX(CS$1262:CS$2702),0,IF(CQ1305>0.01*CK$2703,0,$C1305/60)))","v":{"$error":"#VALUE!"}}]
[null,3.8333333333333335,230,"","",0,0,0,0,0,{"$error":"#VALUE!"},0,{"$error":"#VALUE!"},{"$error":"#VALUE!"},{"$error":"#VALUE!"},{"$error":"#VALUE!"},{"$error":"#VALUE!"},{"$error":"#VALUE!"},{"$f":"IF(SUM(S$1262:S1307)>0,0,\nIF(MAX(L1308:L$2702)=MAX(L$1262:L$2702),0,\nIF(Hydrograph_Source_WQCV=\"USER\",IF(J1308>0.03*D$2703,0,$C1308/60),\nIF(J1308>0.03*J$2703,0,$C1308/60))))","v":0},{"$f":"IF(SUM(T$1262:T1307)>0,0,\nIF(MAX(L1308:L$2702)=MAX(L$1262:L$2702),0,\nIF(Hydrograph_Source_WQCV=\"USER\",IF(J1308>0.01*D$2703,0,$C1308/60),\nIF(J1308>0.01*J$2703,0,$C1308/60))))","v":0},0,0,0,0,{"$error":"#VALUE!"},{"$error":"#VALUE!"},{"$error":"#VALUE!"},{"$error":"#VALUE!"},{"$error":"#VALUE!"},{"$error":"#VALUE!"},{"$error":"#VALUE!"},{"$error":"#VALUE!"},{"$error":"#VALUE!"},{"$error":"#VALUE!"},{"$error":"#VALUE!"},{"$f":"IF(SUM(AJ$1262:AJ1307)>0,0,IF(MAX(AC1308:AC$2702)=MAX(AC$1262:AC$2702),0,IF(AA1308>0.03*U$2703,0,$C1308/60)))","v":{"$error":"#VALUE!"}},{"$f":"IF(SUM(AK$1262:AK1307)>0,0,IF(MAX(AC1308:AC$2702)=MAX(AC$1262:AC$2702),0,IF(AA1308>0.01*U$2703,0,$C1308/60)))","v":{"$error":"#VALUE!"}},0,0,0,0,{"$error":"#VALUE!"},{"$error":"#VALUE!"},{"$error":"#VALUE!"},{"$error":"#VALUE!"},{"$error":"#VALUE!"},{"$error":"#VALUE!"},{"$error":"#VALUE!"},{"$error":"#VALUE!"},{"$error":"#VALUE!"},{"$error":"#VALUE!"},{"$error":"#VALUE!"},{"$f":"IF(SUM(BA$1262:BA1307)>0,0,IF(MAX(AT1308:AT$2702)=MAX(AT$1262:AT$2702),0,IF(AR1308>0.03*AL$2703,0,$C1308/60)))","v":{"$error":"#VALUE!"}},{"$f":"IF(SUM(BB$1262:BB1307)>0,0,IF(MAX(AT1308:AT$2702)=MAX(AT$1262:AT$2702),0,IF(AR1308>0.01*AL$2703,0,$C1308/60)))","v":{"$error":"#VALUE!"}},0,0,0,0,{"$error":"#VALUE!"},{"$error":"#VALUE!"},{"$error":"#VALUE!"},{"$error":"#VALUE!"},{"$error":"#VALUE!"},{"$error":"#VALUE!"},{"$error":"#VALUE!"},{"$error":"#VALUE!"},{"$error":"#VALUE!"},{"$error":"#VALUE!"},{"$error":"#VALUE!"},{"$f":"IF(SUM(BR$1262:BR1307)>0,0,IF(MAX(BK1308:BK$2702)=MAX(BK$1262:BK$2702),0,IF(BI1308>0.03*BC$2703,0,$C1308/60)))","v":{"$error":"#VALUE!"}},{"$f":"IF(SUM(BS$1262:BS1307)>0,0,IF(MAX(BK1308:BK$2702)=MAX(BK$1262:BK$2702),0,IF(BI1308>0.01*BC$2703,0,$C1308/60)))","v":{"$error":"#VALUE!"}},0,0,0,0,{"$error":"#VALUE!"},{"$error":"#VALUE!"},{"$error":"#VALUE!"},{"$error":"#VALUE!"},{"$error":"#VALUE!"},{"$error":"#VALUE!"},{"$error":"#VALUE!"},{"$error":"#VALUE!"},{"$error":"#VALUE!"},{"$error":"#VALUE!"},{"$error":"#VALUE!"},{"$f":"IF(SUM(CI$1262:CI1307)>0,0,IF(MAX(CB1308:CB$2702)=MAX(CB$1262:CB$2702),0,IF(BZ1308>0.03*BT$2703,0,$C1308/60)))","v":{"$error":"#VALUE!"}},{"$f":"IF(SUM(CJ$1262:CJ1307)>0,0,IF(MAX(CB1308:CB$2702)=MAX(CB$1262:CB$2702),0,IF(BZ1308>0.01*BT$2703,0,$C1308/60)))","v":{"$error":"#VALUE!"}},0,0,0,0,{"$error":"#VALUE!"},{"$error":"#VALUE!"},{"$error":"#VALUE!"},{"$error":"#VALUE!"},{"$error":"#VALUE!"},{"$error":"#VALUE!"},{"$error":"#VALUE!"},{"$error":"#VALUE!"},{"$error":"#VALUE!"},{"$error":"#VALUE!"},{"$error":"#VALUE!"},{"$f":"IF(SUM(CZ$1262:CZ1307)>0,0,IF(MAX(CS1308:CS$2702)=MAX(CS$1262:CS$2702),0,IF(CQ1308>0.03*CK$2703,0,$C1308/60)))","v":{"$error":"#VALUE!"}},{"$f":"IF(SUM(DA$1262:DA1307)>0,0,IF(MAX(CS1308:CS$2702)=MAX(CS$1262:CS$2702),0,IF(CQ1308>0.01*CK$2703,0,$C1308/60)))","v":{"$error":"#VALUE!"}}]
[null,4.166666666666667,250,"","",0,0,0,0,0,{"$error":"#VALUE!"},0,{"$error":"#VALUE!"},{"$error":"#VALUE!"},{"$error":"#VALUE!"},{"$error":"#VALUE!"},{"$error":"#VALUE!"},{"$error":"#VALUE!"},{"$f":"IF(SUM(S$1262:S1311)>0,0,\nIF(MAX(L1312:L$2702)=MAX(L$1262:L$2702),0,\nIF(Hydrograph_Source_WQCV=\"USER\",IF(J1312>0.03*D$2703,0,$C1312/60),\nIF(J1312>0.03*J$2703,0,$C1312/60))))","v":0},{"$f":"IF(SUM(T$1262:T1311)>0,0,\nIF(MAX(L1312:L$2702)=MAX(L$1262:L$2702),0,\nIF(Hydrograph_Source_WQCV=\"USER\",IF(J1312>0.01*D$2703,0,$C1312/60),\nIF(J1312>0.01*J$2703,0,$C1312/60))))","v":0},0,0,0,0,{"$error":"#VALUE!"},{"$error":"#VALUE!"},{"$error":"#VALUE!"},{"$error":"#VALUE!"},{"$error":"#VALUE!"},{"$error":"#VALUE!"},{"$error":"#VALUE!"},{"$error":"#VALUE!"},{"$error":"#VALUE!"},{"$error":"#VALUE!"},{"$error":"#VALUE!"},{"$f":"IF(SUM(AJ$1262:AJ1311)>0,0,IF(MAX(AC1312:AC$2702)=MAX(AC$1262:AC$2702),0,IF(AA1312>0.03*U$2703,0,$C1312/60)))","v":{"$error":"#VALUE!"}},{"$f":"IF(SUM(AK$1262:AK1311)>0,0,IF(MAX(AC1312:AC$2702)=MAX(AC$1262:AC$2702),0,IF(AA1312>0.01*U$2703,0,$C1312/60)))","v":{"$error":"#VALUE!"}},0,0,0,0,{"$error":"#VALUE!"},{"$error":"#VALUE!"},{"$error":"#VALUE!"},{"$error":"#VALUE!"},{"$error":"#VALUE!"},{"$error":"#VALUE!"},{"$error":"#VALUE!"},{"$error":"#VALUE!"},{"$error":"#VALUE!"},{"$error":"#VALUE!"},{"$error":"#VALUE!"},{"$f":"IF(SUM(BA$1262:BA1311)>0,0,IF(MAX(AT1312:AT$2702)=MAX(AT$1262:AT$2702),0,IF(AR1312>0.03*AL$2703,0,$C1312/60)))","v":{"$error":"#VALUE!"}},{"$f":"IF(SUM(BB$1262:BB1311)>0,0,IF(MAX(AT1312:AT$2702)=MAX(AT$1262:AT$2702),0,IF(AR1312>0.01*AL$2703,0,$C1312/60)))","v":{"$error":"#VALUE!"}},0,0,0,0,{"$error":"#VALUE!"},{"$error":"#VALUE!"},{"$error":"#VALUE!"},{"$error":"#VALUE!"},{"$error":"#VALUE!"},{"$error":"#VALUE!"},{"$error":"#VALUE!"},{"$error":"#VALUE!"},{"$error":"#VALUE!"},{"$error":"#VALUE!"},{"$error":"#VALUE!"},{"$f":"IF(SUM(BR$1262:BR1311)>0,0,IF(MAX(BK1312:BK$2702)=MAX(BK$1262:BK$2702),0,IF(BI1312>0.03*BC$2703,0,$C1312/60)))","v":{"$error":"#VALUE!"}},{"$f":"IF(SUM(BS$1262:BS1311)>0,0,IF(MAX(BK1312:BK$2702)=MAX(BK$1262:BK$2702),0,IF(BI1312>0.01*BC$2703,0,$C1312/60)))","v":{"$error":"#VALUE!"}},0,0,0,0,{"$error":"#VALUE!"},{"$error":"#VALUE!"},{"$error":"#VALUE!"},{"$error":"#VALUE!"},{"$error":"#VALUE!"},{"$error":"#VALUE!"},{"$error":"#VALUE!"},{"$error":"#VALUE!"},{"$error":"#VALUE!"},{"$error":"#VALUE!"},{"$error":"#VALUE!"},{"$f":"IF(SUM(CI$1262:CI1311)>0,0,IF(MAX(CB1312:CB$2702)=MAX(CB$1262:CB$2702),0,IF(BZ1312>0.03*BT$2703,0,$C1312/60)))","v":{"$error":"#VALUE!"}},{"$f":"IF(SUM(CJ$1262:CJ1311)>0,0,IF(MAX(CB1312:CB$2702)=MAX(CB$1262:CB$2702),0,IF(BZ1312>0.01*BT$2703,0,$C1312/60)))","v":{"$error":"#VALUE!"}},0,0,0,0,{"$error":"#VALUE!"},{"$error":"#VALUE!"},{"$error":"#VALUE!"},{"$error":"#VALUE!"},{"$error":"#VALUE!"},{"$error":"#VALUE!"},{"$error":"#VALUE!"},{"$error":"#VALUE!"},{"$error":"#VALUE!"},{"$error":"#VALUE!"},{"$error":"#VALUE!"},{"$f":"IF(SUM(CZ$1262:CZ1311)>0,0,IF(MAX(CS1312:CS$2702)=MAX(CS$1262:CS$2702),0,IF(CQ1312>0.03*CK$2703,0,$C1312/60)))","v":{"$error":"#VALUE!"}},{"$f":"IF(SUM(DA$1262:DA1311)>0,0,IF(MAX(CS1312:CS$2702)=MAX(CS$1262:CS$2702),0,IF(CQ1312>0.01*CK$2703,0,$C1312/60)))","v":{"$error":"#VALUE!"}}]
[null,4.583333333333333,275,"","",0,0,0,0,0,{"$error":"#VALUE!"},0,{"$error":"#VALUE!"},{"$error":"#VALUE!"},{"$error":"#VALUE!"},{"$error":"#VALUE!"},{"$error":"#VALUE!"},{"$error":"#VALUE!"},{"$f":"IF(SUM(S$1262:S1316)>0,0,\nIF(MAX(L1317:L$2702)=MAX(L$1262:L$2702),0,\nIF(Hydrograph_Source_WQCV=\"USER\",IF(J1317>0.03*D$2703,0,$C1317/60),\nIF(J1317>0.03*J$2703,0,$C1317/60))))","v":0},{"$f":"IF(SUM(T$1262:T1316)>0,0,\nIF(MAX(L1317:L$2702)=MAX(L$1262:L$2702),0,\nIF(Hydrograph_Source_WQCV=\"USER\",IF(J1317>0.01*D$2703,0,$C1317/60),\nIF(J1317>0.01*J$2703,0,$C1317/60))))","v":0},0,0,0,0,{"$error":"#VALUE!"},{"$error":"#VALUE!"},{"$error":"#VALUE!"},{"$error":"#VALUE!"},{"$error":"#VALUE!"},{"$error":"#VALUE!"},{"$error":"#VALUE!"},{"$error":"#VALUE!"},{"$error":"#VALUE!"},{"$error":"#VALUE!"},{"$error":"#VALUE!"},{"$f":"IF(SUM(AJ$1262:AJ1316)>0,0,IF(MAX(AC1317:AC$2702)=MAX(AC$1262:AC$2702),0,IF(AA1317>0.03*U$2703,0,$C1317/60)))","v":{"$error":"#VALUE!"}},{"$f":"IF(SUM(AK$1262:AK1316)>0,0,IF(MAX(AC1317:AC$2702)=MAX(AC$1262:AC$2702),0,IF(AA1317>0.01*U$2703,0,$C1317/60)))","v":{"$error":"#VALUE!"}},0,0,0,0,{"$error":"#VALUE!"},{"$error":"#VALUE!"},{"$error":"#VALUE!"},{"$error":"#VALUE!"},{"$error":"#VALUE!"},{"$error":"#VALUE!"},{"$error":"#VALUE!"},{"$error":"#VALUE!"},{"$error":"#VALUE!"},{"$error":"#VALUE!"},{"$error":"#VALUE!"},{"$f":"IF(SUM(BA$1262:BA1316)>0,0,IF(MAX(AT1317:AT$2702)=MAX(AT$1262:AT$2702),0,IF(AR1317>0.03*AL$2703,0,$C1317/60)))","v":{"$error":"#VALUE!"}},{"$f":"IF(SUM(BB$1262:BB1316)>0,0,IF(MAX(AT1317:AT$2702)=MAX(AT$1262:AT$2702),0,IF(AR1317>0.01*AL$2703,0,$C1317/60)))","v":{"$error":"#VALUE!"}},0,0,0,0,{"$error":"#VALUE!"},{"$error":"#VALUE!"},{"$error":"#VALUE!"},{"$error":"#VALUE!"},{"$error":"#VALUE!"},{"$error":"#VALUE!"},{"$error":"#VALUE!"},{"$error":"#VALUE!"},{"$error":"#VALUE!"},{"$error":"#VALUE!"},{"$error":"#VALUE!"},{"$f":"IF(SUM(BR$1262:BR1316)>0,0,IF(MAX(BK1317:BK$2702)=MAX(BK$1262:BK$2702),0,IF(BI1317>0.03*BC$2703,0,$C1317/60)))","v":{"$error":"#VALUE!"}},{"$f":"IF(SUM(BS$1262:BS1316)>0,0,IF(MAX(BK1317:BK$2702)=MAX(BK$1262:BK$2702),0,IF(BI1317>0.01*BC$2703,0,$C1317/60)))","v":{"$error":"#VALUE!"}},0,0,0,0,{"$error":"#VALUE!"},{"$error":"#VALUE!"},{"$error":"#VALUE!"},{"$error":"#VALUE!"},{"$error":"#VALUE!"},{"$error":"#VALUE!"},{"$error":"#VALUE!"},{"$error":"#VALUE!"},{"$error":"#VALUE!"},{"$error":"#VALUE!"},{"$error":"#VALUE!"},{"$f":"IF(SUM(CI$1262:CI1316)>0,0,IF(MAX(CB1317:CB$2702)=MAX(CB$1262:CB$2702),0,IF(BZ1317>0.03*BT$2703,0,$C1317/60)))","v":{"$error":"#VALUE!"}},{"$f":"IF(SUM(CJ$1262:CJ1316)>0,0,IF(MAX(CB1317:CB$2702)=MAX(CB$1262:CB$2702),0,IF(BZ1317>0.01*BT$2703,0,$C1317/60)))","v":{"$error":"#VALUE!"}},0,0,0,0,{"$error":"#VALUE!"},{"$error":"#VALUE!"},{"$error":"#VALUE!"},{"$error":"#VALUE!"},{"$error":"#VALUE!"},{"$error":"#VALUE!"},{"$error":"#VALUE!"},{"$error":"#VALUE!"},{"$error":"#VALUE!"},{"$error":"#VALUE!"},{"$error":"#VALUE!"},{"$f":"IF(SUM(CZ$1262:CZ1316)>0,0,IF(MAX(CS1317:CS$2702)=MAX(CS$1262:CS$2702),0,IF(CQ1317>0.03*CK$2703,0,$C1317/60)))","v":{"$error":"#VALUE!"}},{"$f":"IF(SUM(DA$1262:DA1316)>0,0,IF(MAX(CS1317:CS$2702)=MAX(CS$1262:CS$2702),0,IF(CQ1317>0.01*CK$2703,0,$C1317/60)))","v":{"$error":"#VALUE!"}}]
[null,5,300,"","",0,0,0,0,0,{"$error":"#VALUE!"},0,{"$error":"#VALUE!"},{"$error":"#VALUE!"},{"$error":"#VALUE!"},{"$error":"#VALUE!"},{"$error":"#VALUE!"},{"$error":"#VALUE!"},{"$f":"IF(SUM(S$1262:S1321)>0,0,\nIF(MAX(L1322:L$2702)=MAX(L$1262:L$2702),0,\nIF(Hydrograph_Source_WQCV=\"USER\",IF(J1322>0.03*D$2703,0,$C1322/60),\nIF(J1322>0.03*J$2703,0,$C1322/60))))","v":0},{"$f":"IF(SUM(T$1262:T1321)>0,0,\nIF(MAX(L1322:L$2702)=MAX(L$1262:L$2702),0,\nIF(Hydrograph_Source_WQCV=\"USER\",IF(J1322>0.01*D$2703,0,$C1322/60),\nIF(J1322>0.01*J$2703,0,$C1322/60))))","v":0},0,0,0,0,{"$error":"#VALUE!"},{"$error":"#VALUE!"},{"$error":"#VALUE!"},{"$error":"#VALUE!"},{"$error":"#VALUE!"},{"$error":"#VALUE!"},{"$error":"#VALUE!"},{"$error":"#VALUE!"},{"$error":"#VALUE!"},{"$error":"#VALUE!"},{"$error":"#VALUE!"},{"$f":"IF(SUM(AJ$1262:AJ1321)>0,0,IF(MAX(AC1322:AC$2702)=MAX(AC$1262:AC$2702),0,IF(AA1322>0.03*U$2703,0,$C1322/60)))","v":{"$error":"#VALUE!"}},{"$f":"IF(SUM(AK$1262:AK1321)>0,0,IF(MAX(AC1322:AC$2702)=MAX(AC$1262:AC$2702),0,IF(AA1322>0.01*U$2703,0,$C1322/60)))","v":{"$error":"#VALUE!"}},0,0,0,0,{"$error":"#VALUE!"},{"$error":"#VALUE!"},{"$error":"#VALUE!"},{"$error":"#VALUE!"},{"$error":"#VALUE!"},{"$error":"#VALUE!"},{"$error":"#VALUE!"},{"$error":"#VALUE!"},{"$error":"#VALUE!"},{"$error":"#VALUE!"},{"$error":"#VALUE!"},{"$f":"IF(SUM(BA$1262:BA1321)>0,0,IF(MAX(AT1322:AT$2702)=MAX(AT$1262:AT$2702),0,IF(AR1322>0.03*AL$2703,0,$C1322/60)))","v":{"$error":"#VALUE!"}},{"$f":"IF(SUM(BB$1262:BB1321)>0,0,IF(MAX(AT1322:AT$2702)=MAX(AT$1262:AT$2702),0,IF(AR1322>0.01*AL$2703,0,$C1322/60)))","v":{"$error":"#VALUE!"}},0,0,0,0,{"$error":"#VALUE!"},{"$error":"#VALUE!"},{"$error":"#VALUE!"},{"$error":"#VALUE!"},{"$error":"#VALUE!"},{"$error":"#VALUE!"},{"$error":"#VALUE!"},{"$error":"#VALUE!"},{"$error":"#VALUE!"},{"$error":"#VALUE!"},{"$error":"#VALUE!"},{"$f":"IF(SUM(BR$1262:BR1321)>0,0,IF(MAX(BK1322:BK$2702)=MAX(BK$1262:BK$2702),0,IF(BI1322>0.03*BC$2703,0,$C1322/60)))","v":{"$error":"#VALUE!"}},{"$f":"IF(SUM(BS$1262:BS1321)>0,0,IF(MAX(BK1322:BK$2702)=MAX(BK$1262:BK$2702),0,IF(BI1322>0.01*BC$2703,0,$C1322/60)))","v":{"$error":"#VALUE!"}},0,0,0,0,{"$error":"#VALUE!"},{"$error":"#VALUE!"},{"$error":"#VALUE!"},{"$error":"#VALUE!"},{"$error":"#VALUE!"},{"$error":"#VALUE!"},{"$error":"#VALUE!"},{"$error":"#VALUE!"},{"$error":"#VALUE!"},{"$error":"#VALUE!"},{"$error":"#VALUE!"},{"$f":"IF(SUM(CI$1262:CI1321)>0,0,IF(MAX(CB1322:CB$2702)=MAX(CB$1262:CB$2702),0,IF(BZ1322>0.03*BT$2703,0,$C1322/60)))","v":{"$error":"#VALUE!"}},{"$f":"IF(SUM(CJ$1262:CJ1321)>0,0,IF(MAX(CB1322:CB$2702)=MAX(CB$1262:CB$2702),0,IF(BZ1322>0.01*BT$2703,0,$C1322/60)))","v":{"$error":"#VALUE!"}},0,0,0,0,{"$error":"#VALUE!"},{"$error":"#VALUE!"},{"$error":"#VALUE!"},{"$error":"#VALUE!"},{"$error":"#VALUE!"},{"$error":"#VALUE!"},{"$error":"#VALUE!"},{"$error":"#VALUE!"},{"$error":"#VALUE!"},{"$error":"#VALUE!"},{"$error":"#VALUE!"},{"$f":"IF(SUM(CZ$1262:CZ1321)>0,0,IF(MAX(CS1322:CS$2702)=MAX(CS$1262:CS$2702),0,IF(CQ1322>0.03*CK$2703,0,$C1322/60)))","v":{"$error":"#VALUE!"}},{"$f":"IF(SUM(DA$1262:DA1321)>0,0,IF(MAX(CS1322:CS$2702)=MAX(CS$1262:CS$2702),0,IF(CQ1322>0.01*CK$2703,0,$C1322/60)))","v":{"$error":"#VALUE!"}}]
[null,5.166666666666667,310,"","",0,0,0,0,0,{"$error":"#VALUE!"},0,{"$error":"#VALUE!"},{"$error":"#VALUE!"},{"$error":"#VALUE!"},{"$error":"#VALUE!"},{"$error":"#VALUE!"},{"$error":"#VALUE!"},{"$f":"IF(SUM(S$1262:S1323)>0,0,\nIF(MAX(L1324:L$2702)=MAX(L$1262:L$2702),0,\nIF(Hydrograph_Source_WQCV=\"USER\",IF(J1324>0.03*D$2703,0,$C1324/60),\nIF(J1324>0.03*J$2703,0,$C1324/60))))","v":0},{"$f":"IF(SUM(T$1262:T1323)>0,0,\nIF(MAX(L1324:L$2702)=MAX(L$1262:L$2702),0,\nIF(Hydrograph_Source_WQCV=\"USER\",IF(J1324>0.01*D$2703,0,$C1324/60),\nIF(J1324>0.01*J$2703,0,$C1324/60))))","v":0},0,0,0,0,{"$error":"#VALUE!"},{"$error":"#VALUE!"},{"$error":"#VALUE!"},{"$error":"#VALUE!"},{"$error":"#VALUE!"},{"$error":"#VALUE!"},{"$error":"#VALUE!"},{"$error":"#VALUE!"},{"$error":"#VALUE!"},{"$error":"#VALUE!"},{"$error":"#VALUE!"},{"$f":"IF(SUM(AJ$1262:AJ1323)>0,0,IF(MAX(AC1324:AC$2702)=MAX(AC$1262:AC$2702),0,IF(AA1324>0.03*U$2703,0,$C1324/60)))","v":{"$error":"#VALUE!"}},{"$f":"IF(SUM(AK$1262:AK1323)>0,0,IF(MAX(AC1324:AC$2702)=MAX(AC$1262:AC$2702),0,IF(AA1324>0.01*U$2703,0,$C1324/60)))","v":{"$error":"#VALUE!"}},0,0,0,0,{"$error":"#VALUE!"},{"$error":"#VALUE!"},{"$error":"#VALUE!"},{"$error":"#VALUE!"},{"$error":"#VALUE!"},{"$error":"#VALUE!"},{"$error":"#VALUE!"},{"$error":"#VALUE!"},{"$error":"#VALUE!"},{"$error":"#VALUE!"},{"$error":"#VALUE!"},{"$f":"IF(SUM(BA$1262:BA1323)>0,0,IF(MAX(AT1324:AT$2702)=MAX(AT$1262:AT$2702),0,IF(AR1324>0.03*AL$2703,0,$C1324/60)))","v":{"$error":"#VALUE!"}},{"$f":"IF(SUM(BB$1262:BB1323)>0,0,IF(MAX(AT1324:AT$2702)=MAX(AT$1262:AT$2702),0,IF(AR1324>0.01*AL$2703,0,$C1324/60)))","v":{"$error":"#VALUE!"}},0,0,0,0,{"$error":"#VALUE!"},{"$error":"#VALUE!"},{"$error":"#VALUE!"},{"$error":"#VALUE!"},{"$error":"#VALUE!"},{"$error":"#VALUE!"},{"$error":"#VALUE!"},{"$error":"#VALUE!"},{"$error":"#VALUE!"},{"$error":"#VALUE!"},{"$error":"#VALUE!"},{"$f":"IF(SUM(BR$1262:BR1323)>0,0,IF(MAX(BK1324:BK$2702)=MAX(BK$1262:BK$2702),0,IF(BI1324>0.03*BC$2703,0,$C1324/60)))","v":{"$error":"#VALUE!"}},{"$f":"IF(SUM(BS$1262:BS1323)>0,0,IF(MAX(BK1324:BK$2702)=MAX(BK$1262:BK$2702),0,IF(BI1324>0.01*BC$2703,0,$C1324/60)))","v":{"$error":"#VALUE!"}},0,0,0,0,{"$error":"#VALUE!"},{"$error":"#VALUE!"},{"$error":"#VALUE!"},{"$error":"#VALUE!"},{"$error":"#VALUE!"},{"$error":"#VALUE!"},{"$error":"#VALUE!"},{"$error":"#VALUE!"},{"$error":"#VALUE!"},{"$error":"#VALUE!"},{"$error":"#VALUE!"},{"$f":"IF(SUM(CI$1262:CI1323)>0,0,IF(MAX(CB1324:CB$2702)=MAX(CB$1262:CB$2702),0,IF(BZ1324>0.03*BT$2703,0,$C1324/60)))","v":{"$error":"#VALUE!"}},{"$f":"IF(SUM(CJ$1262:CJ1323)>0,0,IF(MAX(CB1324:CB$2702)=MAX(CB$1262:CB$2702),0,IF(BZ1324>0.01*BT$2703,0,$C1324/60)))","v":{"$error":"#VALUE!"}},0,0,0,0,{"$error":"#VALUE!"},{"$error":"#VALUE!"},{"$error":"#VALUE!"},{"$error":"#VALUE!"},{"$error":"#VALUE!"},{"$error":"#VALUE!"},{"$error":"#VALUE!"},{"$error":"#VALUE!"},{"$error":"#VALUE!"},{"$error":"#VALUE!"},{"$error":"#VALUE!"},{"$f":"IF(SUM(CZ$1262:CZ1323)>0,0,IF(MAX(CS1324:CS$2702)=MAX(CS$1262:CS$2702),0,IF(CQ1324>0.03*CK$2703,0,$C1324/60)))","v":{"$error":"#VALUE!"}},{"$f":"IF(SUM(DA$1262:DA1323)>0,0,IF(MAX(CS1324:CS$2702)=MAX(CS$1262:CS$2702),0,IF(CQ1324>0.01*CK$2703,0,$C1324/60)))","v":{"$error":"#VALUE!"}}]
[null,5.583333333333333,335,"","",0,0,0,0,0,{"$error":"#VALUE!"},0,{"$error":"#VALUE!"},{"$error":"#VALUE!"},{"$error":"#VALUE!"},{"$error":"#VALUE!"},{"$error":"#VALUE!"},{"$error":"#VALUE!"},{"$f":"IF(SUM(S$1262:S1328)>0,0,\nIF(MAX(L1329:L$2702)=MAX(L$1262:L$2702),0,\nIF(Hydrograph_Source_WQCV=\"USER\",IF(J1329>0.03*D$2703,0,$C1329/60),\nIF(J1329>0.03*J$2703,0,$C1329/60))))","v":0},{"$f":"IF(SUM(T$1262:T1328)>0,0,\nIF(MAX(L1329:L$2702)=MAX(L$1262:L$2702),0,\nIF(Hydrograph_Source_WQCV=\"USER\",IF(J1329>0.01*D$2703,0,$C1329/60),\nIF(J1329>0.01*J$2703,0,$C1329/60))))","v":0},0,0,0,0,{"$error":"#VALUE!"},{"$error":"#VALUE!"},{"$error":"#VALUE!"},{"$error":"#VALUE!"},{"$error":"#VALUE!"},{"$error":"#VALUE!"},{"$error":"#VALUE!"},{"$error":"#VALUE!"},{"$error":"#VALUE!"},{"$error":"#VALUE!"},{"$error":"#VALUE!"},{"$f":"IF(SUM(AJ$1262:AJ1328)>0,0,IF(MAX(AC1329:AC$2702)=MAX(AC$1262:AC$2702),0,IF(AA1329>0.03*U$2703,0,$C1329/60)))","v":{"$error":"#VALUE!"}},{"$f":"IF(SUM(AK$1262:AK1328)>0,0,IF(MAX(AC1329:AC$2702)=MAX(AC$1262:AC$2702),0,IF(AA1329>0.01*U$2703,0,$C1329/60)))","v":{"$error":"#VALUE!"}},0,0,0,0,{"$error":"#VALUE!"},{"$error":"#VALUE!"},{"$error":"#VALUE!"},{"$error":"#VALUE!"},{"$error":"#VALUE!"},{"$error":"#VALUE!"},{"$error":"#VALUE!"},{"$error":"#VALUE!"},{"$error":"#VALUE!"},{"$error":"#VALUE!"},{"$error":"#VALUE!"},{"$f":"IF(SUM(BA$1262:BA1328)>0,0,IF(MAX(AT1329:AT$2702)=MAX(AT$1262:AT$2702),0,IF(AR1329>0.03*AL$2703,0,$C1329/60)))","v":{"$error":"#VALUE!"}},{"$f":"IF(SUM(BB$1262:BB1328)>0,0,IF(MAX(AT1329:AT$2702)=MAX(AT$1262:AT$2702),0,IF(AR1329>0.01*AL$2703,0,$C1329/60)))","v":{"$error":"#VALUE!"}},0,0,0,0,{"$error":"#VALUE!"},{"$error":"#VALUE!"},{"$error":"#VALUE!"},{"$error":"#VALUE!"},{"$error":"#VALUE!"},{"$error":"#VALUE!"},{"$error":"#VALUE!"},{"$error":"#VALUE!"},{"$error":"#VALUE!"},{"$error":"#VALUE!"},{"$error":"#VALUE!"},{"$f":"IF(SUM(BR$1262:BR1328)>0,0,IF(MAX(BK1329:BK$2702)=MAX(BK$1262:BK$2702),0,IF(BI1329>0.03*BC$2703,0,$C1329/60)))","v":{"$error":"#VALUE!"}},{"$f":"IF(SUM(BS$1262:BS1328)>0,0,IF(MAX(BK1329:BK$2702)=MAX(BK$1262:BK$2702),0,IF(BI1329>0.01*BC$2703,0,$C1329/60)))","v":{"$error":"#VALUE!"}},0,0,0,0,{"$error":"#VALUE!"},{"$error":"#VALUE!"},{"$error":"#VALUE!"},{"$error":"#VALUE!"},{"$error":"#VALUE!"},{"$error":"#VALUE!"},{"$error":"#VALUE!"},{"$error":"#VALUE!"},{"$error":"#VALUE!"},{"$error":"#VALUE!"},{"$error":"#VALUE!"},{"$f":"IF(SUM(CI$1262:CI1328)>0,0,IF(MAX(CB1329:CB$2702)=MAX(CB$1262:CB$2702),0,IF(BZ1329>0.03*BT$2703,0,$C1329/60)))","v":{"$error":"#VALUE!"}},{"$f":"IF(SUM(CJ$1262:CJ1328)>0,0,IF(MAX(CB1329:CB$2702)=MAX(CB$1262:CB$2702),0,IF(BZ1329>0.01*BT$2703,0,$C1329/60)))","v":{"$error":"#VALUE!"}},0,0,0,0,{"$error":"#VALUE!"},{"$error":"#VALUE!"},{"$error":"#VALUE!"},{"$error":"#VALUE!"},{"$error":"#VALUE!"},{"$error":"#VALUE!"},{"$error":"#VALUE!"},{"$error":"#VALUE!"},{"$error":"#VALUE!"},{"$error":"#VALUE!"},{"$error":"#VALUE!"},{"$f":"IF(SUM(CZ$1262:CZ1328)>0,0,IF(MAX(CS1329:CS$2702)=MAX(CS$1262:CS$2702),0,IF(CQ1329>0.03*CK$2703,0,$C1329/60)))","v":{"$error":"#VALUE!"}},{"$f":"IF(SUM(DA$1262:DA1328)>0,0,IF(MAX(CS1329:CS$2702)=MAX(CS$1262:CS$2702),0,IF(CQ1329>0.01*CK$2703,0,$C1329/60)))","v":{"$error":"#VALUE!"}}]
[null,6.166666666666667,370,0,0,0,0,0,0,0,0,0,{"$error":"#N/A"},{"$error":"#N/A"},{"$error":"#N/A"},{"$error":"#N/A"},{"$error":"#N/A"},{"$error":"#N/A"},{"$f":"IF(SUM(S$1262:S1335)>0,0,\nIF(MAX(L1336:L$2702)=MAX(L$1262:L$2702),0,\nIF(Hydrograph_Source_WQCV=\"USER\",IF(J1336>0.03*D$2703,0,$C1336/60),\nIF(J1336>0.03*J$2703,0,$C1336/60))))","v":0},{"$f":"IF(SUM(T$1262:T1335)>0,0,\nIF(MAX(L1336:L$2702)=MAX(L$1262:L$2702),0,\nIF(Hydrograph_Source_WQCV=\"USER\",IF(J1336>0.01*D$2703,0,$C1336/60),\nIF(J1336>0.01*J$2703,0,$C1336/60))))","v":0},0,0,0,0,{"$error":"#VALUE!"},{"$error":"#VALUE!"},{"$error":"#VALUE!"},{"$error":"#VALUE!"},{"$error":"#VALUE!"},{"$error":"#VALUE!"},{"$error":"#VALUE!"},{"$error":"#VALUE!"},{"$error":"#VALUE!"},{"$error":"#VALUE!"},{"$error":"#VALUE!"},{"$f":"IF(SUM(AJ$1262:AJ1335)>0,0,IF(MAX(AC1336:AC$2702)=MAX(AC$1262:AC$2702),0,IF(AA1336>0.03*U$2703,0,$C1336/60)))","v":{"$error":"#VALUE!"}},{"$f":"IF(SUM(AK$1262:AK1335)>0,0,IF(MAX(AC1336:AC$2702)=MAX(AC$1262:AC$2702),0,IF(AA1336>0.01*U$2703,0,$C1336/60)))","v":{"$error":"#VALUE!"}},0,0,0,0,{"$error":"#VALUE!"},{"$error":"#VALUE!"},{"$error":"#VALUE!"},{"$error":"#VALUE!"},{"$error":"#VALUE!"},{"$error":"#VALUE!"},{"$error":"#VALUE!"},{"$error":"#VALUE!"},{"$error":"#VALUE!"},{"$error":"#VALUE!"},{"$error":"#VALUE!"},{"$f":"IF(SUM(BA$1262:BA1335)>0,0,IF(MAX(AT1336:AT$2702)=MAX(AT$1262:AT$2702),0,IF(AR1336>0.03*AL$2703,0,$C1336/60)))","v":{"$error":"#VALUE!"}},{"$f":"IF(SUM(BB$1262:BB1335)>0,0,IF(MAX(AT1336:AT$2702)=MAX(AT$1262:AT$2702),0,IF(AR1336>0.01*AL$2703,0,$C1336/60)))","v":{"$error":"#VALUE!"}},0,0,0,0,{"$error":"#VALUE!"},{"$error":"#VALUE!"},{"$error":"#VALUE!"},{"$error":"#VALUE!"},{"$error":"#VALUE!"},{"$error":"#VALUE!"},{"$error":"#VALUE!"},{"$error":"#VALUE!"},{"$error":"#VALUE!"},{"$error":"#VALUE!"},{"$error":"#VALUE!"},{"$f":"IF(SUM(BR$1262:BR1335)>0,0,IF(MAX(BK1336:BK$2702)=MAX(BK$1262:BK$2702),0,IF(BI1336>0.03*BC$2703,0,$C1336/60)))","v":{"$error":"#VALUE!"}},{"$f":"IF(SUM(BS$1262:BS1335)>0,0,IF(MAX(BK1336:BK$2702)=MAX(BK$1262:BK$2702),0,IF(BI1336>0.01*BC$2703,0,$C1336/60)))","v":{"$error":"#VALUE!"}},0,0,0,0,{"$error":"#VALUE!"},{"$error":"#VALUE!"},{"$error":"#VALUE!"},{"$error":"#VALUE!"},{"$error":"#VALUE!"},{"$error":"#VALUE!"},{"$error":"#VALUE!"},{"$error":"#VALUE!"},{"$error":"#VALUE!"},{"$error":"#VALUE!"},{"$error":"#VALUE!"},{"$f":"IF(SUM(CI$1262:CI1335)>0,0,IF(MAX(CB1336:CB$2702)=MAX(CB$1262:CB$2702),0,IF(BZ1336>0.03*BT$2703,0,$C1336/60)))","v":{"$error":"#VALUE!"}},{"$f":"IF(SUM(CJ$1262:CJ1335)>0,0,IF(MAX(CB1336:CB$2702)=MAX(CB$1262:CB$2702),0,IF(BZ1336>0.01*BT$2703,0,$C1336/60)))","v":{"$error":"#VALUE!"}},0,0,0,0,{"$error":"#VALUE!"},{"$error":"#VALUE!"},{"$error":"#VALUE!"},{"$error":"#VALUE!"},{"$error":"#VALUE!"},{"$error":"#VALUE!"},{"$error":"#VALUE!"},{"$error":"#VALUE!"},{"$error":"#VALUE!"},{"$error":"#VALUE!"},{"$error":"#VALUE!"},{"$f":"IF(SUM(CZ$1262:CZ1335)>0,0,IF(MAX(CS1336:CS$2702)=MAX(CS$1262:CS$2702),0,IF(CQ1336>0.03*CK$2703,0,$C1336/60)))","v":{"$error":"#VALUE!"}},{"$f":"IF(SUM(DA$1262:DA1335)>0,0,IF(MAX(CS1336:CS$2702)=MAX(CS$1262:CS$2702),0,IF(CQ1336>0.01*CK$2703,0,$C1336/60)))","v":{"$error":"#VALUE!"}}]
[null,6.5,390,0,0,0,0,0,0,0,0,0,{"$error":"#N/A"},{"$error":"#N/A"},{"$error":"#N/A"},{"$error":"#N/A"},{"$error":"#N/A"},{"$error":"#N/A"},{"$f":"IF(SUM(S$1262:S1339)>0,0,\nIF(MAX(L1340:L$2702)=MAX(L$1262:L$2702),0,\nIF(Hydrograph_Source_WQCV=\"USER\",IF(J1340>0.03*D$2703,0,$C1340/60),\nIF(J1340>0.03*J$2703,0,$C1340/60))))","v":0},{"$f":"IF(SUM(T$1262:T1339)>0,0,\nIF(MAX(L1340:L$2702)=MAX(L$1262:L$2702),0,\nIF(Hydrograph_Source_WQCV=\"USER\",IF(J1340>0.01*D$2703,0,$C1340/60),\nIF(J1340>0.01*J$2703,0,$C1340/60))))","v":0},0,0,0,0,{"$error":"#VALUE!"},{"$error":"#VALUE!"},{"$error":"#VALUE!"},{"$error":"#VALUE!"},{"$error":"#VALUE!"},{"$error":"#VALUE!"},{"$error":"#VALUE!"},{"$error":"#VALUE!"},{"$error":"#VALUE!"},{"$error":"#VALUE!"},{"$error":"#VALUE!"},{"$f":"IF(SUM(AJ$1262:AJ1339)>0,0,IF(MAX(AC1340:AC$2702)=MAX(AC$1262:AC$2702),0,IF(AA1340>0.03*U$2703,0,$C1340/60)))","v":{"$error":"#VALUE!"}},{"$f":"IF(SUM(AK$1262:AK1339)>0,0,IF(MAX(AC1340:AC$2702)=MAX(AC$1262:AC$2702),0,IF(AA1340>0.01*U$2703,0,$C1340/60)))","v":{"$error":"#VALUE!"}},0,0,0,0,{"$error":"#VALUE!"},{"$error":"#VALUE!"},{"$error":"#VALUE!"},{"$error":"#VALUE!"},{"$error":"#VALUE!"},{"$error":"#VALUE!"},{"$error":"#VALUE!"},{"$error":"#VALUE!"},{"$error":"#VALUE!"},{"$error":"#VALUE!"},{"$error":"#VALUE!"},{"$f":"IF(SUM(BA$1262:BA1339)>0,0,IF(MAX(AT1340:AT$2702)=MAX(AT$1262:AT$2702),0,IF(AR1340>0.03*AL$2703,0,$C1340/60)))","v":{"$error":"#VALUE!"}},{"$f":"IF(SUM(BB$1262:BB1339)>0,0,IF(MAX(AT1340:AT$2702)=MAX(AT$1262:AT$2702),0,IF(AR1340>0.01*AL$2703,0,$C1340/60)))","v":{"$error":"#VALUE!"}},0,0,0,0,{"$error":"#VALUE!"},{"$error":"#VALUE!"},{"$error":"#VALUE!"},{"$error":"#VALUE!"},{"$error":"#VALUE!"},{"$error":"#VALUE!"},{"$error":"#VALUE!"},{"$error":"#VALUE!"},{"$error":"#VALUE!"},{"$error":"#VALUE!"},{"$error":"#VALUE!"},{"$f":"IF(SUM(BR$1262:BR1339)>0,0,IF(MAX(BK1340:BK$2702)=MAX(BK$1262:BK$2702),0,IF(BI1340>0.03*BC$2703,0,$C1340/60)))","v":{"$error":"#VALUE!"}},{"$f":"IF(SUM(BS$1262:BS1339)>0,0,IF(MAX(BK1340:BK$2702)=MAX(BK$1262:BK$2702),0,IF(BI1340>0.01*BC$2703,0,$C1340/60)))","v":{"$error":"#VALUE!"}},0,0,0,0,{"$error":"#VALUE!"},{"$error":"#VALUE!"},{"$error":"#VALUE!"},{"$error":"#VALUE!"},{"$error":"#VALUE!"},{"$error":"#VALUE!"},{"$error":"#VALUE!"},{"$error":"#VALUE!"},{"$error":"#VALUE!"},{"$error":"#VALUE!"},{"$error":"#VALUE!"},{"$f":"IF(SUM(CI$1262:CI1339)>0,0,IF(MAX(CB1340:CB$2702)=MAX(CB$1262:CB$2702),0,IF(BZ1340>0.03*BT$2703,0,$C1340/60)))","v":{"$error":"#VALUE!"}},{"$f":"IF(SUM(CJ$1262:CJ1339)>0,0,IF(MAX(CB1340:CB$2702)=MAX(CB$1262:CB$2702),0,IF(BZ1340>0.01*BT$2703,0,$C1340/60)))","v":{"$error":"#VALUE!"}},0,0,0,0,{"$error":"#VALUE!"},{"$error":"#VALUE!"},{"$error":"#VALUE!"},{"$error":"#VALUE!"},{"$error":"#VALUE!"},{"$error":"#VALUE!"},{"$error":"#VALUE!"},{"$error":"#VALUE!"},{"$error":"#VALUE!"},{"$error":"#VALUE!"},{"$error":"#VALUE!"},{"$f":"IF(SUM(CZ$1262:CZ1339)>0,0,IF(MAX(CS1340:CS$2702)=MAX(CS$1262:CS$2702),0,IF(CQ1340>0.03*CK$2703,0,$C1340/60)))","v":{"$error":"#VALUE!"}},{"$f":"IF(SUM(DA$1262:DA1339)>0,0,IF(MAX(CS1340:CS$2702)=MAX(CS$1262:CS$2702),0,IF(CQ1340>0.01*CK$2703,0,$C1340/60)))","v":{"$error":"#VALUE!"}}]
[null,6.583333333333333,395,0,0,0,0,0,0,0,0,0,{"$error":"#N/A"},{"$error":"#N/A"},{"$error":"#N/A"},{"$error":"#N/A"},{"$error":"#N/A"},{"$error":"#N/A"},{"$f":"IF(SUM(S$1262:S1340)>0,0,\nIF(MAX(L1341:L$2702)=MAX(L$1262:L$2702),0,\nIF(Hydrograph_Source_WQCV=\"USER\",IF(J1341>0.03*D$2703,0,$C1341/60),\nIF(J1341>0.03*J$2703,0,$C1341/60))))","v":0},{"$f":"IF(SUM(T$1262:T1340)>0,0,\nIF(MAX(L1341:L$2702)=MAX(L$1262:L$2702),0,\nIF(Hydrograph_Source_WQCV=\"USER\",IF(J1341>0.01*D$2703,0,$C1341/60),\nIF(J1341>0.01*J$2703,0,$C1341/60))))","v":0},0,0,0,0,{"$error":"#VALUE!"},{"$error":"#VALUE!"},{"$error":"#VALUE!"},{"$error":"#VALUE!"},{"$error":"#VALUE!"},{"$error":"#VALUE!"},{"$error":"#VALUE!"},{"$error":"#VALUE!"},{"$error":"#VALUE!"},{"$error":"#VALUE!"},{"$error":"#VALUE!"},{"$f":"IF(SUM(AJ$1262:AJ1340)>0,0,IF(MAX(AC1341:AC$2702)=MAX(AC$1262:AC$2702),0,IF(AA1341>0.03*U$2703,0,$C1341/60)))","v":{"$error":"#VALUE!"}},{"$f":"IF(SUM(AK$1262:AK1340)>0,0,IF(MAX(AC1341:AC$2702)=MAX(AC$1262:AC$2702),0,IF(AA1341>0.01*U$2703,0,$C1341/60)))","v":{"$error":"#VALUE!"}},0,0,0,0,{"$error":"#VALUE!"},{"$error":"#VALUE!"},{"$error":"#VALUE!"},{"$error":"#VALUE!"},{"$error":"#VALUE!"},{"$error":"#VALUE!"},{"$error":"#VALUE!"},{"$error":"#VALUE!"},{"$error":"#VALUE!"},{"$error":"#VALUE!"},{"$error":"#VALUE!"},{"$f":"IF(SUM(BA$1262:BA1340)>0,0,IF(MAX(AT1341:AT$2702)=MAX(AT$1262:AT$2702),0,IF(AR1341>0.03*AL$2703,0,$C1341/60)))","v":{"$error":"#VALUE!"}},{"$f":"IF(SUM(BB$1262:BB1340)>0,0,IF(MAX(AT1341:AT$2702)=MAX(AT$1262:AT$2702),0,IF(AR1341>0.01*AL$2703,0,$C1341/60)))","v":{"$error":"#VALUE!"}},0,0,0,0,{"$error":"#VALUE!"},{"$error":"#VALUE!"},{"$error":"#VALUE!"},{"$error":"#VALUE!"},{"$error":"#VALUE!"},{"$error":"#VALUE!"},{"$error":"#VALUE!"},{"$error":"#VALUE!"},{"$error":"#VALUE!"},{"$error":"#VALUE!"},{"$error":"#VALUE!"},{"$f":"IF(SUM(BR$1262:BR1340)>0,0,IF(MAX(BK1341:BK$2702)=MAX(BK$1262:BK$2702),0,IF(BI1341>0.03*BC$2703,0,$C1341/60)))","v":{"$error":"#VALUE!"}},{"$f":"IF(SUM(BS$1262:BS1340)>0,0,IF(MAX(BK1341:BK$2702)=MAX(BK$1262:BK$2702),0,IF(BI1341>0.01*BC$2703,0,$C1341/60)))","v":{"$error":"#VALUE!"}},0,0,0,0,{"$error":"#VALUE!"},{"$error":"#VALUE!"},{"$error":"#VALUE!"},{"$error":"#VALUE!"},{"$error":"#VALUE!"},{"$error":"#VALUE!"},{"$error":"#VALUE!"},{"$error":"#VALUE!"},{"$error":"#VALUE!"},{"$error":"#VALUE!"},{"$error":"#VALUE!"},{"$f":"IF(SUM(CI$1262:CI1340)>0,0,IF(MAX(CB1341:CB$2702)=MAX(CB$1262:CB$2702),0,IF(BZ1341>0.03*BT$2703,0,$C1341/60)))","v":{"$error":"#VALUE!"}},{"$f":"IF(SUM(CJ$1262:CJ1340)>0,0,IF(MAX(CB1341:CB$2702)=MAX(CB$1262:CB$2702),0,IF(BZ1341>0.01*BT$2703,0,$C1341/60)))","v":{"$error":"#VALUE!"}},0,0,0,0,{"$error":"#VALUE!"},{"$error":"#VALUE!"},{"$error":"#VALUE!"},{"$error":"#VALUE!"},{"$error":"#VALUE!"},{"$error":"#VALUE!"},{"$error":"#VALUE!"},{"$error":"#VALUE!"},{"$error":"#VALUE!"},{"$error":"#VALUE!"},{"$error":"#VALUE!"},{"$f":"IF(SUM(CZ$1262:CZ1340)>0,0,IF(MAX(CS1341:CS$2702)=MAX(CS$1262:CS$2702),0,IF(CQ1341>0.03*CK$2703,0,$C1341/60)))","v":{"$error":"#VALUE!"}},{"$f":"IF(SUM(DA$1262:DA1340)>0,0,IF(MAX(CS1341:CS$2702)=MAX(CS$1262:CS$2702),0,IF(CQ1341>0.01*CK$2703,0,$C1341/60)))","v":{"$error":"#VALUE!"}}]
[null,6.916666666666667,415,0,0,0,0,0,0,0,0,0,{"$error":"#N/A"},{"$error":"#N/A"},{"$error":"#N/A"},{"$error":"#N/A"},{"$error":"#N/A"},{"$error":"#N/A"},{"$f":"IF(SUM(S$1262:S1344)>0,0,\nIF(MAX(L1345:L$2702)=MAX(L$1262:L$2702),0,\nIF(Hydrograph_Source_WQCV=\"USER\",IF(J1345>0.03*D$2703,0,$C1345/60),\nIF(J1345>0.03*J$2703,0,$C1345/60))))","v":0},{"$f":"IF(SUM(T$1262:T1344)>0,0,\nIF(MAX(L1345:L$2702)=MAX(L$1262:L$2702),0,\nIF(Hydrograph_Source_WQCV=\"USER\",IF(J1345>0.01*D$2703,0,$C1345/60),\nIF(J1345>0.01*J$2703,0,$C1345/60))))","v":0},0,0,0,0,{"$error":"#VALUE!"},{"$error":"#VALUE!"},{"$error":"#VALUE!"},{"$error":"#VALUE!"},{"$error":"#VALUE!"},{"$error":"#VALUE!"},{"$error":"#VALUE!"},{"$error":"#VALUE!"},{"$error":"#VALUE!"},{"$error":"#VALUE!"},{"$error":"#VALUE!"},{"$f":"IF(SUM(AJ$1262:AJ1344)>0,0,IF(MAX(AC1345:AC$2702)=MAX(AC$1262:AC$2702),0,IF(AA1345>0.03*U$2703,0,$C1345/60)))","v":{"$error":"#VALUE!"}},{"$f":"IF(SUM(AK$1262:AK1344)>0,0,IF(MAX(AC1345:AC$2702)=MAX(AC$1262:AC$2702),0,IF(AA1345>0.01*U$2703,0,$C1345/60)))","v":{"$error":"#VALUE!"}},0,0,0,0,{"$error":"#VALUE!"},{"$error":"#VALUE!"},{"$error":"#VALUE!"},{"$error":"#VALUE!"},{"$error":"#VALUE!"},{"$error":"#VALUE!"},{"$error":"#VALUE!"},{"$error":"#VALUE!"},{"$error":"#VALUE!"},{"$error":"#VALUE!"},{"$error":"#VALUE!"},{"$f":"IF(SUM(BA$1262:BA1344)>0,0,IF(MAX(AT1345:AT$2702)=MAX(AT$1262:AT$2702),0,IF(AR1345>0.03*AL$2703,0,$C1345/60)))","v":{"$error":"#VALUE!"}},{"$f":"IF(SUM(BB$1262:BB1344)>0,0,IF(MAX(AT1345:AT$2702)=MAX(AT$1262:AT$2702),0,IF(AR1345>0.01*AL$2703,0,$C1345/60)))","v":{"$error":"#VALUE!"}},0,0,0,0,{"$error":"#VALUE!"},{"$error":"#VALUE!"},{"$error":"#VALUE!"},{"$error":"#VALUE!"},{"$error":"#VALUE!"},{"$error":"#VALUE!"},{"$error":"#VALUE!"},{"$error":"#VALUE!"},{"$error":"#VALUE!"},{"$error":"#VALUE!"},{"$error":"#VALUE!"},{"$f":"IF(SUM(BR$1262:BR1344)>0,0,IF(MAX(BK1345:BK$2702)=MAX(BK$1262:BK$2702),0,IF(BI1345>0.03*BC$2703,0,$C1345/60)))","v":{"$error":"#VALUE!"}},{"$f":"IF(SUM(BS$1262:BS1344)>0,0,IF(MAX(BK1345:BK$2702)=MAX(BK$1262:BK$2702),0,IF(BI1345>0.01*BC$2703,0,$C1345/60)))","v":{"$error":"#VALUE!"}},0,0,0,0,{"$error":"#VALUE!"},{"$error":"#VALUE!"},{"$error":"#VALUE!"},{"$error":"#VALUE!"},{"$error":"#VALUE!"},{"$error":"#VALUE!"},{"$error":"#VALUE!"},{"$error":"#VALUE!"},{"$error":"#VALUE!"},{"$error":"#VALUE!"},{"$error":"#VALUE!"},{"$f":"IF(SUM(CI$1262:CI1344)>0,0,IF(MAX(CB1345:CB$2702)=MAX(CB$1262:CB$2702),0,IF(BZ1345>0.03*BT$2703,0,$C1345/60)))","v":{"$error":"#VALUE!"}},{"$f":"IF(SUM(CJ$1262:CJ1344)>0,0,IF(MAX(CB1345:CB$2702)=MAX(CB$1262:CB$2702),0,IF(BZ1345>0.01*BT$2703,0,$C1345/60)))","v":{"$error":"#VALUE!"}},0,0,0,0,{"$error":"#VALUE!"},{"$error":"#VALUE!"},{"$error":"#VALUE!"},{"$error":"#VALUE!"},{"$error":"#VALUE!"},{"$error":"#VALUE!"},{"$error":"#VALUE!"},{"$error":"#VALUE!"},{"$error":"#VALUE!"},{"$error":"#VALUE!"},{"$error":"#VALUE!"},{"$f":"IF(SUM(CZ$1262:CZ1344)>0,0,IF(MAX(CS1345:CS$2702)=MAX(CS$1262:CS$2702),0,IF(CQ1345>0.03*CK$2703,0,$C1345/60)))","v":{"$error":"#VALUE!"}},{"$f":"IF(SUM(DA$1262:DA1344)>0,0,IF(MAX(CS1345:CS$2702)=MAX(CS$1262:CS$2702),0,IF(CQ1345>0.01*CK$2703,0,$C1345/60)))","v":{"$error":"#VALUE!"}}]
[null,7.5,450,0,0,0,0,0,0,0,0,0,{"$error":"#N/A"},{"$error":"#N/A"},{"$error":"#N/A"},{"$error":"#N/A"},{"$error":"#N/A"},{"$error":"#N/A"},{"$f":"IF(SUM(S$1262:S1351)>0,0,\nIF(MAX(L1352:L$2702)=MAX(L$1262:L$2702),0,\nIF(Hydrograph_Source_WQCV=\"USER\",IF(J1352>0.03*D$2703,0,$C1352/60),\nIF(J1352>0.03*J$2703,0,$C1352/60))))","v":0},{"$f":"IF(SUM(T$1262:T1351)>0,0,\nIF(MAX(L1352:L$2702)=MAX(L$1262:L$2702),0,\nIF(Hydrograph_Source_WQCV=\"USER\",IF(J1352>0.01*D$2703,0,$C1352/60),\nIF(J1352>0.01*J$2703,0,$C1352/60))))","v":0},0,0,0,0,{"$error":"#VALUE!"},{"$error":"#VALUE!"},{"$error":"#VALUE!"},{"$error":"#VALUE!"},{"$error":"#VALUE!"},{"$error":"#VALUE!"},{"$error":"#VALUE!"},{"$error":"#VALUE!"},{"$error":"#VALUE!"},{"$error":"#VALUE!"},{"$error":"#VALUE!"},{"$f":"IF(SUM(AJ$1262:AJ1351)>0,0,IF(MAX(AC1352:AC$2702)=MAX(AC$1262:AC$2702),0,IF(AA1352>0.03*U$2703,0,$C1352/60)))","v":{"$error":"#VALUE!"}},{"$f":"IF(SUM(AK$1262:AK1351)>0,0,IF(MAX(AC1352:AC$2702)=MAX(AC$1262:AC$2702),0,IF(AA1352>0.01*U$2703,0,$C1352/60)))","v":{"$error":"#VALUE!"}},0,0,0,0,{"$error":"#VALUE!"},{"$error":"#VALUE!"},{"$error":"#VALUE!"},{"$error":"#VALUE!"},{"$error":"#VALUE!"},{"$error":"#VALUE!"},{"$error":"#VALUE!"},{"$error":"#VALUE!"},{"$error":"#VALUE!"},{"$error":"#VALUE!"},{"$error":"#VALUE!"},{"$f":"IF(SUM(BA$1262:BA1351)>0,0,IF(MAX(AT1352:AT$2702)=MAX(AT$1262:AT$2702),0,IF(AR1352>0.03*AL$2703,0,$C1352/60)))","v":{"$error":"#VALUE!"}},{"$f":"IF(SUM(BB$1262:BB1351)>0,0,IF(MAX(AT1352:AT$2702)=MAX(AT$1262:AT$2702),0,IF(AR1352>0.01*AL$2703,0,$C1352/60)))","v":{"$error":"#VALUE!"}},0,0,0,0,{"$error":"#VALUE!"},{"$error":"#VALUE!"},{"$error":"#VALUE!"},{"$error":"#VALUE!"},{"$error":"#VALUE!"},{"$error":"#VALUE!"},{"$error":"#VALUE!"},{"$error":"#VALUE!"},{"$error":"#VALUE!"},{"$error":"#VALUE!"},{"$error":"#VALUE!"},{"$f":"IF(SUM(BR$1262:BR1351)>0,0,IF(MAX(BK1352:BK$2702)=MAX(BK$1262:BK$2702),0,IF(BI1352>0.03*BC$2703,0,$C1352/60)))","v":{"$error":"#VALUE!"}},{"$f":"IF(SUM(BS$1262:BS1351)>0,0,IF(MAX(BK1352:BK$2702)=MAX(BK$1262:BK$2702),0,IF(BI1352>0.01*BC$2703,0,$C1352/60)))","v":{"$error":"#VALUE!"}},0,0,0,0,{"$error":"#VALUE!"},{"$error":"#VALUE!"},{"$error":"#VALUE!"},{"$error":"#VALUE!"},{"$error":"#VALUE!"},{"$error":"#VALUE!"},{"$error":"#VALUE!"},{"$error":"#VALUE!"},{"$error":"#VALUE!"},{"$error":"#VALUE!"},{"$error":"#VALUE!"},{"$f":"IF(SUM(CI$1262:CI1351)>0,0,IF(MAX(CB1352:CB$2702)=MAX(CB$1262:CB$2702),0,IF(BZ1352>0.03*BT$2703,0,$C1352/60)))","v":{"$error":"#VALUE!"}},{"$f":"IF(SUM(CJ$1262:CJ1351)>0,0,IF(MAX(CB1352:CB$2702)=MAX(CB$1262:CB$2702),0,IF(BZ1352>0.01*BT$2703,0,$C1352/60)))","v":{"$error":"#VALUE!"}},0,0,0,0,{"$error":"#VALUE!"},{"$error":"#VALUE!"},{"$error":"#VALUE!"},{"$error":"#VALUE!"},{"$error":"#VALUE!"},{"$error":"#VALUE!"},{"$error":"#VALUE!"},{"$error":"#VALUE!"},{"$error":"#VALUE!"},{"$error":"#VALUE!"},{"$error":"#VALUE!"},{"$f":"IF(SUM(CZ$1262:CZ1351)>0,0,IF(MAX(CS1352:CS$2702)=MAX(CS$1262:CS$2702),0,IF(CQ1352>0.03*CK$2703,0,$C1352/60)))","v":{"$error":"#VALUE!"}},{"$f":"IF(SUM(DA$1262:DA1351)>0,0,IF(MAX(CS1352:CS$2702)=MAX(CS$1262:CS$2702),0,IF(CQ1352>0.01*CK$2703,0,$C1352/60)))","v":{"$error":"#VALUE!"}}]
[null,7.916666666666667,475,0,0,0,0,0,0,0,0,0,{"$error":"#N/A"},{"$error":"#N/A"},{"$error":"#N/A"},{"$error":"#N/A"},{"$error":"#N/A"},{"$error":"#N/A"},{"$f":"IF(SUM(S$1262:S1356)>0,0,\nIF(MAX(L1357:L$2702)=MAX(L$1262:L$2702),0,\nIF(Hydrograph_Source_WQCV=\"USER\",IF(J1357>0.03*D$2703,0,$C1357/60),\nIF(J1357>0.03*J$2703,0,$C1357/60))))","v":0},{"$f":"IF(SUM(T$1262:T1356)>0,0,\nIF(MAX(L1357:L$2702)=MAX(L$1262:L$2702),0,\nIF(Hydrograph_Source_WQCV=\"USER\",IF(J1357>0.01*D$2703,0,$C1357/60),\nIF(J1357>0.01*J$2703,0,$C1357/60))))","v":0},0,0,0,0,{"$error":"#VALUE!"},{"$error":"#VALUE!"},{"$error":"#VALUE!"},{"$error":"#VALUE!"},{"$error":"#VALUE!"},{"$error":"#VALUE!"},{"$error":"#VALUE!"},{"$error":"#VALUE!"},{"$error":"#VALUE!"},{"$error":"#VALUE!"},{"$error":"#VALUE!"},{"$f":"IF(SUM(AJ$1262:AJ1356)>0,0,IF(MAX(AC1357:AC$2702)=MAX(AC$1262:AC$2702),0,IF(AA1357>0.03*U$2703,0,$C1357/60)))","v":{"$error":"#VALUE!"}},{"$f":"IF(SUM(AK$1262:AK1356)>0,0,IF(MAX(AC1357:AC$2702)=MAX(AC$1262:AC$2702),0,IF(AA1357>0.01*U$2703,0,$C1357/60)))","v":{"$error":"#VALUE!"}},0,0,0,0,{"$error":"#VALUE!"},{"$error":"#VALUE!"},{"$error":"#VALUE!"},{"$error":"#VALUE!"},{"$error":"#VALUE!"},{"$error":"#VALUE!"},{"$error":"#VALUE!"},{"$error":"#VALUE!"},{"$error":"#VALUE!"},{"$error":"#VALUE!"},{"$error":"#VALUE!"},{"$f":"IF(SUM(BA$1262:BA1356)>0,0,IF(MAX(AT1357:AT$2702)=MAX(AT$1262:AT$2702),0,IF(AR1357>0.03*AL$2703,0,$C1357/60)))","v":{"$error":"#VALUE!"}},{"$f":"IF(SUM(BB$1262:BB1356)>0,0,IF(MAX(AT1357:AT$2702)=MAX(AT$1262:AT$2702),0,IF(AR1357>0.01*AL$2703,0,$C1357/60)))","v":{"$error":"#VALUE!"}},0,0,0,0,{"$error":"#VALUE!"},{"$error":"#VALUE!"},{"$error":"#VALUE!"},{"$error":"#VALUE!"},{"$error":"#VALUE!"},{"$error":"#VALUE!"},{"$error":"#VALUE!"},{"$error":"#VALUE!"},{"$error":"#VALUE!"},{"$error":"#VALUE!"},{"$error":"#VALUE!"},{"$f":"IF(SUM(BR$1262:BR1356)>0,0,IF(MAX(BK1357:BK$2702)=MAX(BK$1262:BK$2702),0,IF(BI1357>0.03*BC$2703,0,$C1357/60)))","v":{"$error":"#VALUE!"}},{"$f":"IF(SUM(BS$1262:BS1356)>0,0,IF(MAX(BK1357:BK$2702)=MAX(BK$1262:BK$2702),0,IF(BI1357>0.01*BC$2703,0,$C1357/60)))","v":{"$error":"#VALUE!"}},0,0,0,0,{"$error":"#VALUE!"},{"$error":"#VALUE!"},{"$error":"#VALUE!"},{"$error":"#VALUE!"},{"$error":"#VALUE!"},{"$error":"#VALUE!"},{"$error":"#VALUE!"},{"$error":"#VALUE!"},{"$error":"#VALUE!"},{"$error":"#VALUE!"},{"$error":"#VALUE!"},{"$f":"IF(SUM(CI$1262:CI1356)>0,0,IF(MAX(CB1357:CB$2702)=MAX(CB$1262:CB$2702),0,IF(BZ1357>0.03*BT$2703,0,$C1357/60)))","v":{"$error":"#VALUE!"}},{"$f":"IF(SUM(CJ$1262:CJ1356)>0,0,IF(MAX(CB1357:CB$2702)=MAX(CB$1262:CB$2702),0,IF(BZ1357>0.01*BT$2703,0,$C1357/60)))","v":{"$error":"#VALUE!"}},0,0,0,0,{"$error":"#VALUE!"},{"$error":"#VALUE!"},{"$error":"#VALUE!"},{"$error":"#VALUE!"},{"$error":"#VALUE!"},{"$error":"#VALUE!"},{"$error":"#VALUE!"},{"$error":"#VALUE!"},{"$error":"#VALUE!"},{"$error":"#VALUE!"},{"$error":"#VALUE!"},{"$f":"IF(SUM(CZ$1262:CZ1356)>0,0,IF(MAX(CS1357:CS$2702)=MAX(CS$1262:CS$2702),0,IF(CQ1357>0.03*CK$2703,0,$C1357/60)))","v":{"$error":"#VALUE!"}},{"$f":"IF(SUM(DA$1262:DA1356)>0,0,IF(MAX(CS1357:CS$2702)=MAX(CS$1262:CS$2702),0,IF(CQ1357>0.01*CK$2703,0,$C1357/60)))","v":{"$error":"#VALUE!"}}]
[null,8.1666666666666661,490,0,0,0,0,0,0,0,0,0,{"$error":"#N/A"},{"$error":"#N/A"},{"$error":"#N/A"},{"$error":"#N/A"},{"$error":"#N/A"},{"$error":"#N/A"},{"$f":"IF(SUM(S$1262:S1359)>0,0,\nIF(MAX(L1360:L$2702)=MAX(L$1262:L$2702),0,\nIF(Hydrograph_Source_WQCV=\"USER\",IF(J1360>0.03*D$2703,0,$C1360/60),\nIF(J1360>0.03*J$2703,0,$C1360/60))))","v":0},{"$f":"IF(SUM(T$1262:T1359)>0,0,\nIF(MAX(L1360:L$2702)=MAX(L$1262:L$2702),0,\nIF(Hydrograph_Source_WQCV=\"USER\",IF(J1360>0.01*D$2703,0,$C1360/60),\nIF(J1360>0.01*J$2703,0,$C1360/60))))","v":0},0,0,0,0,{"$error":"#VALUE!"},{"$error":"#VALUE!"},{"$error":"#VALUE!"},{"$error":"#VALUE!"},{"$error":"#VALUE!"},{"$error":"#VALUE!"},{"$error":"#VALUE!"},{"$error":"#VALUE!"},{"$error":"#VALUE!"},{"$error":"#VALUE!"},{"$error":"#VALUE!"},{"$f":"IF(SUM(AJ$1262:AJ1359)>0,0,IF(MAX(AC1360:AC$2702)=MAX(AC$1262:AC$2702),0,IF(AA1360>0.03*U$2703,0,$C1360/60)))","v":{"$error":"#VALUE!"}},{"$f":"IF(SUM(AK$1262:AK1359)>0,0,IF(MAX(AC1360:AC$2702)=MAX(AC$1262:AC$2702),0,IF(AA1360>0.01*U$2703,0,$C1360/60)))","v":{"$error":"#VALUE!"}},0,0,0,0,{"$error":"#VALUE!"},{"$error":"#VALUE!"},{"$error":"#VALUE!"},{"$error":"#VALUE!"},{"$error":"#VALUE!"},{"$error":"#VALUE!"},{"$error":"#VALUE!"},{"$error":"#VALUE!"},{"$error":"#VALUE!"},{"$error":"#VALUE!"},{"$error":"#VALUE!"},{"$f":"IF(SUM(BA$1262:BA1359)>0,0,IF(MAX(AT1360:AT$2702)=MAX(AT$1262:AT$2702),0,IF(AR1360>0.03*AL$2703,0,$C1360/60)))","v":{"$error":"#VALUE!"}},{"$f":"IF(SUM(BB$1262:BB1359)>0,0,IF(MAX(AT1360:AT$2702)=MAX(AT$1262:AT$2702),0,IF(AR1360>0.01*AL$2703,0,$C1360/60)))","v":{"$error":"#VALUE!"}},0,0,0,0,{"$error":"#VALUE!"},{"$error":"#VALUE!"},{"$error":"#VALUE!"},{"$error":"#VALUE!"},{"$error":"#VALUE!"},{"$error":"#VALUE!"},{"$error":"#VALUE!"},{"$error":"#VALUE!"},{"$error":"#VALUE!"},{"$error":"#VALUE!"},{"$error":"#VALUE!"},{"$f":"IF(SUM(BR$1262:BR1359)>0,0,IF(MAX(BK1360:BK$2702)=MAX(BK$1262:BK$2702),0,IF(BI1360>0.03*BC$2703,0,$C1360/60)))","v":{"$error":"#VALUE!"}},{"$f":"IF(SUM(BS$1262:BS1359)>0,0,IF(MAX(BK1360:BK$2702)=MAX(BK$1262:BK$2702),0,IF(BI1360>0.01*BC$2703,0,$C1360/60)))","v":{"$error":"#VALUE!"}},0,0,0,0,{"$error":"#VALUE!"},{"$error":"#VALUE!"},{"$error":"#VALUE!"},{"$error":"#VALUE!"},{"$error":"#VALUE!"},{"$error":"#VALUE!"},{"$error":"#VALUE!"},{"$error":"#VALUE!"},{"$error":"#VALUE!"},{"$error":"#VALUE!"},{"$error":"#VALUE!"},{"$f":"IF(SUM(CI$1262:CI1359)>0,0,IF(MAX(CB1360:CB$2702)=MAX(CB$1262:CB$2702),0,IF(BZ1360>0.03*BT$2703,0,$C1360/60)))","v":{"$error":"#VALUE!"}},{"$f":"IF(SUM(CJ$1262:CJ1359)>0,0,IF(MAX(CB1360:CB$2702)=MAX(CB$1262:CB$2702),0,IF(BZ1360>0.01*BT$2703,0,$C1360/60)))","v":{"$error":"#VALUE!"}},0,0,0,0,{"$error":"#VALUE!"},{"$error":"#VALUE!"},{"$error":"#VALUE!"},{"$error":"#VALUE!"},{"$error":"#VALUE!"},{"$error":"#VALUE!"},{"$error":"#VALUE!"},{"$error":"#VALUE!"},{"$error":"#VALUE!"},{"$error":"#VALUE!"},{"$error":"#VALUE!"},{"$f":"IF(SUM(CZ$1262:CZ1359)>0,0,IF(MAX(CS1360:CS$2702)=MAX(CS$1262:CS$2702),0,IF(CQ1360>0.03*CK$2703,0,$C1360/60)))","v":{"$error":"#VALUE!"}},{"$f":"IF(SUM(DA$1262:DA1359)>0,0,IF(MAX(CS1360:CS$2702)=MAX(CS$1262:CS$2702),0,IF(CQ1360>0.01*CK$2703,0,$C1360/60)))","v":{"$error":"#VALUE!"}}]
[null,8.5,510,0,0,0,0,0,0,0,0,0,{"$error":"#N/A"},{"$error":"#N/A"},{"$error":"#N/A"},{"$error":"#N/A"},{"$error":"#N/A"},{"$error":"#N/A"},{"$f":"IF(SUM(S$1262:S1363)>0,0,\nIF(MAX(L1364:L$2702)=MAX(L$1262:L$2702),0,\nIF(Hydrograph_Source_WQCV=\"USER\",IF(J1364>0.03*D$2703,0,$C1364/60),\nIF(J1364>0.03*J$2703,0,$C1364/60))))","v":0},{"$f":"IF(SUM(T$1262:T1363)>0,0,\nIF(MAX(L1364:L$2702)=MAX(L$1262:L$2702),0,\nIF(Hydrograph_Source_WQCV=\"USER\",IF(J1364>0.01*D$2703,0,$C1364/60),\nIF(J1364>0.01*J$2703,0,$C1364/60))))","v":0},0,0,0,0,{"$error":"#VALUE!"},{"$error":"#VALUE!"},{"$error":"#VALUE!"},{"$error":"#VALUE!"},{"$error":"#VALUE!"},{"$error":"#VALUE!"},{"$error":"#VALUE!"},{"$error":"#VALUE!"},{"$error":"#VALUE!"},{"$error":"#VALUE!"},{"$error":"#VALUE!"},{"$f":"IF(SUM(AJ$1262:AJ1363)>0,0,IF(MAX(AC1364:AC$2702)=MAX(AC$1262:AC$2702),0,IF(AA1364>0.03*U$2703,0,$C1364/60)))","v":{"$error":"#VALUE!"}},{"$f":"IF(SUM(AK$1262:AK1363)>0,0,IF(MAX(AC1364:AC$2702)=MAX(AC$1262:AC$2702),0,IF(AA1364>0.01*U$2703,0,$C1364/60)))","v":{"$error":"#VALUE!"}},0,0,0,0,{"$error":"#VALUE!"},{"$error":"#VALUE!"},{"$error":"#VALUE!"},{"$error":"#VALUE!"},{"$error":"#VALUE!"},{"$error":"#VALUE!"},{"$error":"#VALUE!"},{"$error":"#VALUE!"},{"$error":"#VALUE!"},{"$error":"#VALUE!"},{"$error":"#VALUE!"},{"$f":"IF(SUM(BA$1262:BA1363)>0,0,IF(MAX(AT1364:AT$2702)=MAX(AT$1262:AT$2702),0,IF(AR1364>0.03*AL$2703,0,$C1364/60)))","v":{"$error":"#VALUE!"}},{"$f":"IF(SUM(BB$1262:BB1363)>0,0,IF(MAX(AT1364:AT$2702)=MAX(AT$1262:AT$2702),0,IF(AR1364>0.01*AL$2703,0,$C1364/60)))","v":{"$error":"#VALUE!"}},0,0,0,0,{"$error":"#VALUE!"},{"$error":"#VALUE!"},{"$error":"#VALUE!"},{"$error":"#VALUE!"},{"$error":"#VALUE!"},{"$error":"#VALUE!"},{"$error":"#VALUE!"},{"$error":"#VALUE!"},{"$error":"#VALUE!"},{"$error":"#VALUE!"},{"$error":"#VALUE!"},{"$f":"IF(SUM(BR$1262:BR1363)>0,0,IF(MAX(BK1364:BK$2702)=MAX(BK$1262:BK$2702),0,IF(BI1364>0.03*BC$2703,0,$C1364/60)))","v":{"$error":"#VALUE!"}},{"$f":"IF(SUM(BS$1262:BS1363)>0,0,IF(MAX(BK1364:BK$2702)=MAX(BK$1262:BK$2702),0,IF(BI1364>0.01*BC$2703,0,$C1364/60)))","v":{"$error":"#VALUE!"}},0,0,0,0,{"$error":"#VALUE!"},{"$error":"#VALUE!"},{"$error":"#VALUE!"},{"$error":"#VALUE!"},{"$error":"#VALUE!"},{"$error":"#VALUE!"},{"$error":"#VALUE!"},{"$error":"#VALUE!"},{"$error":"#VALUE!"},{"$error":"#VALUE!"},{"$error":"#VALUE!"},{"$f":"IF(SUM(CI$1262:CI1363)>0,0,IF(MAX(CB1364:CB$2702)=MAX(CB$1262:CB$2702),0,IF(BZ1364>0.03*BT$2703,0,$C1364/60)))","v":{"$error":"#VALUE!"}},{"$f":"IF(SUM(CJ$1262:CJ1363)>0,0,IF(MAX(CB1364:CB$2702)=MAX(CB$1262:CB$2702),0,IF(BZ1364>0.01*BT$2703,0,$C1364/60)))","v":{"$error":"#VALUE!"}},0,0,0,0,{"$error":"#VALUE!"},{"$error":"#VALUE!"},{"$error":"#VALUE!"},{"$error":"#VALUE!"},{"$error":"#VALUE!"},{"$error":"#VALUE!"},{"$error":"#VALUE!"},{"$error":"#VALUE!"},{"$error":"#VALUE!"},{"$error":"#VALUE!"},{"$error":"#VALUE!"},{"$f":"IF(SUM(CZ$1262:CZ1363)>0,0,IF(MAX(CS1364:CS$2702)=MAX(CS$1262:CS$2702),0,IF(CQ1364>0.03*CK$2703,0,$C1364/60)))","v":{"$error":"#VALUE!"}},{"$f":"IF(SUM(DA$1262:DA1363)>0,0,IF(MAX(CS1364:CS$2702)=MAX(CS$1262:CS$2702),0,IF(CQ1364>0.01*CK$2703,0,$C1364/60)))","v":{"$error":"#VALUE!"}}]
[null,8.9166666666666661,535,0,0,0,0,0,0,0,0,0,{"$error":"#N/A"},{"$error":"#N/A"},{"$error":"#N/A"},{"$error":"#N/A"},{"$error":"#N/A"},{"$error":"#N/A"},{"$f":"IF(SUM(S$1262:S1368)>0,0,\nIF(MAX(L1369:L$2702)=MAX(L$1262:L$2702),0,\nIF(Hydrograph_Source_WQCV=\"USER\",IF(J1369>0.03*D$2703,0,$C1369/60),\nIF(J1369>0.03*J$2703,0,$C1369/60))))","v":0},{"$f":"IF(SUM(T$1262:T1368)>0,0,\nIF(MAX(L1369:L$2702)=MAX(L$1262:L$2702),0,\nIF(Hydrograph_Source_WQCV=\"USER\",IF(J1369>0.01*D$2703,0,$C1369/60),\nIF(J1369>0.01*J$2703,0,$C1369/60))))","v":0},0,0,0,0,{"$error":"#VALUE!"},{"$error":"#VALUE!"},{"$error":"#VALUE!"},{"$error":"#VALUE!"},{"$error":"#VALUE!"},{"$error":"#VALUE!"},{"$error":"#VALUE!"},{"$error":"#VALUE!"},{"$error":"#VALUE!"},{"$error":"#VALUE!"},{"$error":"#VALUE!"},{"$f":"IF(SUM(AJ$1262:AJ1368)>0,0,IF(MAX(AC1369:AC$2702)=MAX(AC$1262:AC$2702),0,IF(AA1369>0.03*U$2703,0,$C1369/60)))","v":{"$error":"#VALUE!"}},{"$f":"IF(SUM(AK$1262:AK1368)>0,0,IF(MAX(AC1369:AC$2702)=MAX(AC$1262:AC$2702),0,IF(AA1369>0.01*U$2703,0,$C1369/60)))","v":{"$error":"#VALUE!"}},0,0,0,0,{"$error":"#VALUE!"},{"$error":"#VALUE!"},{"$error":"#VALUE!"},{"$error":"#VALUE!"},{"$error":"#VALUE!"},{"$error":"#VALUE!"},{"$error":"#VALUE!"},{"$error":"#VALUE!"},{"$error":"#VALUE!"},{"$error":"#VALUE!"},{"$error":"#VALUE!"},{"$f":"IF(SUM(BA$1262:BA1368)>0,0,IF(MAX(AT1369:AT$2702)=MAX(AT$1262:AT$2702),0,IF(AR1369>0.03*AL$2703,0,$C1369/60)))","v":{"$error":"#VALUE!"}},{"$f":"IF(SUM(BB$1262:BB1368)>0,0,IF(MAX(AT1369:AT$2702)=MAX(AT$1262:AT$2702),0,IF(AR1369>0.01*AL$2703,0,$C1369/60)))","v":{"$error":"#VALUE!"}},0,0,0,0,{"$error":"#VALUE!"},{"$error":"#VALUE!"},{"$error":"#VALUE!"},{"$error":"#VALUE!"},{"$error":"#VALUE!"},{"$error":"#VALUE!"},{"$error":"#VALUE!"},{"$error":"#VALUE!"},{"$error":"#VALUE!"},{"$error":"#VALUE!"},{"$error":"#VALUE!"},{"$f":"IF(SUM(BR$1262:BR1368)>0,0,IF(MAX(BK1369:BK$2702)=MAX(BK$1262:BK$2702),0,IF(BI1369>0.03*BC$2703,0,$C1369/60)))","v":{"$error":"#VALUE!"}},{"$f":"IF(SUM(BS$1262:BS1368)>0,0,IF(MAX(BK1369:BK$2702)=MAX(BK$1262:BK$2702),0,IF(BI1369>0.01*BC$2703,0,$C1369/60)))","v":{"$error":"#VALUE!"}},0,0,0,0,{"$error":"#VALUE!"},{"$error":"#VALUE!"},{"$error":"#VALUE!"},{"$error":"#VALUE!"},{"$error":"#VALUE!"},{"$error":"#VALUE!"},{"$error":"#VALUE!"},{"$error":"#VALUE!"},{"$error":"#VALUE!"},{"$error":"#VALUE!"},{"$error":"#VALUE!"},{"$f":"IF(SUM(CI$1262:CI1368)>0,0,IF(MAX(CB1369:CB$2702)=MAX(CB$1262:CB$2702),0,IF(BZ1369>0.03*BT$2703,0,$C1369/60)))","v":{"$error":"#VALUE!"}},{"$f":"IF(SUM(CJ$1262:CJ1368)>0,0,IF(MAX(CB1369:CB$2702)=MAX(CB$1262:CB$2702),0,IF(BZ1369>0.01*BT$2703,0,$C1369/60)))","v":{"$error":"#VALUE!"}},0,0,0,0,{"$error":"#VALUE!"},{"$error":"#VALUE!"},{"$error":"#VALUE!"},{"$error":"#VALUE!"},{"$error":"#VALUE!"},{"$error":"#VALUE!"},{"$error":"#VALUE!"},{"$error":"#VALUE!"},{"$error":"#VALUE!"},{"$error":"#VALUE!"},{"$error":"#VALUE!"},{"$f":"IF(SUM(CZ$1262:CZ1368)>0,0,IF(MAX(CS1369:CS$2702)=MAX(CS$1262:CS$2702),0,IF(CQ1369>0.03*CK$2703,0,$C1369/60)))","v":{"$error":"#VALUE!"}},{"$f":"IF(SUM(DA$1262:DA1368)>0,0,IF(MAX(CS1369:CS$2702)=MAX(CS$1262:CS$2702),0,IF(CQ1369>0.01*CK$2703,0,$C1369/60)))","v":{"$error":"#VALUE!"}}]
[null,9.3333333333333339,560,0,0,0,0,0,0,0,0,0,{"$error":"#N/A"},{"$error":"#N/A"},{"$error":"#N/A"},{"$error":"#N/A"},{"$error":"#N/A"},{"$error":"#N/A"},{"$f":"IF(SUM(S$1262:S1373)>0,0,\nIF(MAX(L1374:L$2702)=MAX(L$1262:L$2702),0,\nIF(Hydrograph_Source_WQCV=\"USER\",IF(J1374>0.03*D$2703,0,$C1374/60),\nIF(J1374>0.03*J$2703,0,$C1374/60))))","v":0},{"$f":"IF(SUM(T$1262:T1373)>0,0,\nIF(MAX(L1374:L$2702)=MAX(L$1262:L$2702),0,\nIF(Hydrograph_Source_WQCV=\"USER\",IF(J1374>0.01*D$2703,0,$C1374/60),\nIF(J1374>0.01*J$2703,0,$C1374/60))))","v":0},0,0,0,0,{"$error":"#VALUE!"},{"$error":"#VALUE!"},{"$error":"#VALUE!"},{"$error":"#VALUE!"},{"$error":"#VALUE!"},{"$error":"#VALUE!"},{"$error":"#VALUE!"},{"$error":"#VALUE!"},{"$error":"#VALUE!"},{"$error":"#VALUE!"},{"$error":"#VALUE!"},{"$f":"IF(SUM(AJ$1262:AJ1373)>0,0,IF(MAX(AC1374:AC$2702)=MAX(AC$1262:AC$2702),0,IF(AA1374>0.03*U$2703,0,$C1374/60)))","v":{"$error":"#VALUE!"}},{"$f":"IF(SUM(AK$1262:AK1373)>0,0,IF(MAX(AC1374:AC$2702)=MAX(AC$1262:AC$2702),0,IF(AA1374>0.01*U$2703,0,$C1374/60)))","v":{"$error":"#VALUE!"}},0,0,0,0,{"$error":"#VALUE!"},{"$error":"#VALUE!"},{"$error":"#VALUE!"},{"$error":"#VALUE!"},{"$error":"#VALUE!"},{"$error":"#VALUE!"},{"$error":"#VALUE!"},{"$error":"#VALUE!"},{"$error":"#VALUE!"},{"$error":"#VALUE!"},{"$error":"#VALUE!"},{"$f":"IF(SUM(BA$1262:BA1373)>0,0,IF(MAX(AT1374:AT$2702)=MAX(AT$1262:AT$2702),0,IF(AR1374>0.03*AL$2703,0,$C1374/60)))","v":{"$error":"#VALUE!"}},{"$f":"IF(SUM(BB$1262:BB1373)>0,0,IF(MAX(AT1374:AT$2702)=MAX(AT$1262:AT$2702),0,IF(AR1374>0.01*AL$2703,0,$C1374/60)))","v":{"$error":"#VALUE!"}},0,0,0,0,{"$error":"#VALUE!"},{"$error":"#VALUE!"},{"$error":"#VALUE!"},{"$error":"#VALUE!"},{"$error":"#VALUE!"},{"$error":"#VALUE!"},{"$error":"#VALUE!"},{"$error":"#VALUE!"},{"$error":"#VALUE!"},{"$error":"#VALUE!"},{"$error":"#VALUE!"},{"$f":"IF(SUM(BR$1262:BR1373)>0,0,IF(MAX(BK1374:BK$2702)=MAX(BK$1262:BK$2702),0,IF(BI1374>0.03*BC$2703,0,$C1374/60)))","v":{"$error":"#VALUE!"}},{"$f":"IF(SUM(BS$1262:BS1373)>0,0,IF(MAX(BK1374:BK$2702)=MAX(BK$1262:BK$2702),0,IF(BI1374>0.01*BC$2703,0,$C1374/60)))","v":{"$error":"#VALUE!"}},0,0,0,0,{"$error":"#VALUE!"},{"$error":"#VALUE!"},{"$error":"#VALUE!"},{"$error":"#VALUE!"},{"$error":"#VALUE!"},{"$error":"#VALUE!"},{"$error":"#VALUE!"},{"$error":"#VALUE!"},{"$error":"#VALUE!"},{"$error":"#VALUE!"},{"$error":"#VALUE!"},{"$f":"IF(SUM(CI$1262:CI1373)>0,0,IF(MAX(CB1374:CB$2702)=MAX(CB$1262:CB$2702),0,IF(BZ1374>0.03*BT$2703,0,$C1374/60)))","v":{"$error":"#VALUE!"}},{"$f":"IF(SUM(CJ$1262:CJ1373)>0,0,IF(MAX(CB1374:CB$2702)=MAX(CB$1262:CB$2702),0,IF(BZ1374>0.01*BT$2703,0,$C1374/60)))","v":{"$error":"#VALUE!"}},0,0,0,0,{"$error":"#VALUE!"},{"$error":"#VALUE!"},{"$error":"#VALUE!"},{"$error":"#VALUE!"},{"$error":"#VALUE!"},{"$error":"#VALUE!"},{"$error":"#VALUE!"},{"$error":"#VALUE!"},{"$error":"#VALUE!"},{"$error":"#VALUE!"},{"$error":"#VALUE!"},{"$f":"IF(SUM(CZ$1262:CZ1373)>0,0,IF(MAX(CS1374:CS$2702)=MAX(CS$1262:CS$2702),0,IF(CQ1374>0.03*CK$2703,0,$C1374/60)))","v":{"$error":"#VALUE!"}},{"$f":"IF(SUM(DA$1262:DA1373)>0,0,IF(MAX(CS1374:CS$2702)=MAX(CS$1262:CS$2702),0,IF(CQ1374>0.01*CK$2703,0,$C1374/60)))","v":{"$error":"#VALUE!"}}]
[null,9.6666666666666661,580,0,0,0,0,0,0,0,0,0,{"$error":"#N/A"},{"$error":"#N/A"},{"$error":"#N/A"},{"$error":"#N/A"},{"$error":"#N/A"},{"$error":"#N/A"},{"$f":"IF(SUM(S$1262:S1377)>0,0,\nIF(MAX(L1378:L$2702)=MAX(L$1262:L$2702),0,\nIF(Hydrograph_Source_WQCV=\"USER\",IF(J1378>0.03*D$2703,0,$C1378/60),\nIF(J1378>0.03*J$2703,0,$C1378/60))))","v":0},{"$f":"IF(SUM(T$1262:T1377)>0,0,\nIF(MAX(L1378:L$2702)=MAX(L$1262:L$2702),0,\nIF(Hydrograph_Source_WQCV=\"USER\",IF(J1378>0.01*D$2703,0,$C1378/60),\nIF(J1378>0.01*J$2703,0,$C1378/60))))","v":0},0,0,0,0,{"$error":"#VALUE!"},{"$error":"#VALUE!"},{"$error":"#VALUE!"},{"$error":"#VALUE!"},{"$error":"#VALUE!"},{"$error":"#VALUE!"},{"$error":"#VALUE!"},{"$error":"#VALUE!"},{"$error":"#VALUE!"},{"$error":"#VALUE!"},{"$error":"#VALUE!"},{"$f":"IF(SUM(AJ$1262:AJ1377)>0,0,IF(MAX(AC1378:AC$2702)=MAX(AC$1262:AC$2702),0,IF(AA1378>0.03*U$2703,0,$C1378/60)))","v":{"$error":"#VALUE!"}},{"$f":"IF(SUM(AK$1262:AK1377)>0,0,IF(MAX(AC1378:AC$2702)=MAX(AC$1262:AC$2702),0,IF(AA1378>0.01*U$2703,0,$C1378/60)))","v":{"$error":"#VALUE!"}},0,0,0,0,{"$error":"#VALUE!"},{"$error":"#VALUE!"},{"$error":"#VALUE!"},{"$error":"#VALUE!"},{"$error":"#VALUE!"},{"$error":"#VALUE!"},{"$error":"#VALUE!"},{"$error":"#VALUE!"},{"$error":"#VALUE!"},{"$error":"#VALUE!"},{"$error":"#VALUE!"},{"$f":"IF(SUM(BA$1262:BA1377)>0,0,IF(MAX(AT1378:AT$2702)=MAX(AT$1262:AT$2702),0,IF(AR1378>0.03*AL$2703,0,$C1378/60)))","v":{"$error":"#VALUE!"}},{"$f":"IF(SUM(BB$1262:BB1377)>0,0,IF(MAX(AT1378:AT$2702)=MAX(AT$1262:AT$2702),0,IF(AR1378>0.01*AL$2703,0,$C1378/60)))","v":{"$error":"#VALUE!"}},0,0,0,0,{"$error":"#VALUE!"},{"$error":"#VALUE!"},{"$error":"#VALUE!"},{"$error":"#VALUE!"},{"$error":"#VALUE!"},{"$error":"#VALUE!"},{"$error":"#VALUE!"},{"$error":"#VALUE!"},{"$error":"#VALUE!"},{"$error":"#VALUE!"},{"$error":"#VALUE!"},{"$f":"IF(SUM(BR$1262:BR1377)>0,0,IF(MAX(BK1378:BK$2702)=MAX(BK$1262:BK$2702),0,IF(BI1378>0.03*BC$2703,0,$C1378/60)))","v":{"$error":"#VALUE!"}},{"$f":"IF(SUM(BS$1262:BS1377)>0,0,IF(MAX(BK1378:BK$2702)=MAX(BK$1262:BK$2702),0,IF(BI1378>0.01*BC$2703,0,$C1378/60)))","v":{"$error":"#VALUE!"}},0,0,0,0,{"$error":"#VALUE!"},{"$error":"#VALUE!"},{"$error":"#VALUE!"},{"$error":"#VALUE!"},{"$error":"#VALUE!"},{"$error":"#VALUE!"},{"$error":"#VALUE!"},{"$error":"#VALUE!"},{"$error":"#VALUE!"},{"$error":"#VALUE!"},{"$error":"#VALUE!"},{"$f":"IF(SUM(CI$1262:CI1377)>0,0,IF(MAX(CB1378:CB$2702)=MAX(CB$1262:CB$2702),0,IF(BZ1378>0.03*BT$2703,0,$C1378/60)))","v":{"$error":"#VALUE!"}},{"$f":"IF(SUM(CJ$1262:CJ1377)>0,0,IF(MAX(CB1378:CB$2702)=MAX(CB$1262:CB$2702),0,IF(BZ1378>0.01*BT$2703,0,$C1378/60)))","v":{"$error":"#VALUE!"}},0,0,0,0,{"$error":"#VALUE!"},{"$error":"#VALUE!"},{"$error":"#VALUE!"},{"$error":"#VALUE!"},{"$error":"#VALUE!"},{"$error":"#VALUE!"},{"$error":"#VALUE!"},{"$error":"#VALUE!"},{"$error":"#VALUE!"},{"$error":"#VALUE!"},{"$error":"#VALUE!"},{"$f":"IF(SUM(CZ$1262:CZ1377)>0,0,IF(MAX(CS1378:CS$2702)=MAX(CS$1262:CS$2702),0,IF(CQ1378>0.03*CK$2703,0,$C1378/60)))","v":{"$error":"#VALUE!"}},{"$f":"IF(SUM(DA$1262:DA1377)>0,0,IF(MAX(CS1378:CS$2702)=MAX(CS$1262:CS$2702),0,IF(CQ1378>0.01*CK$2703,0,$C1378/60)))","v":{"$error":"#VALUE!"}}]
[null,9.9166666666666661,595,0,0,0,0,0,0,0,0,0,{"$error":"#N/A"},{"$error":"#N/A"},{"$error":"#N/A"},{"$error":"#N/A"},{"$error":"#N/A"},{"$error":"#N/A"},{"$f":"IF(SUM(S$1262:S1380)>0,0,\nIF(MAX(L1381:L$2702)=MAX(L$1262:L$2702),0,\nIF(Hydrograph_Source_WQCV=\"USER\",IF(J1381>0.03*D$2703,0,$C1381/60),\nIF(J1381>0.03*J$2703,0,$C1381/60))))","v":0},{"$f":"IF(SUM(T$1262:T1380)>0,0,\nIF(MAX(L1381:L$2702)=MAX(L$1262:L$2702),0,\nIF(Hydrograph_Source_WQCV=\"USER\",IF(J1381>0.01*D$2703,0,$C1381/60),\nIF(J1381>0.01*J$2703,0,$C1381/60))))","v":0},0,0,0,0,{"$error":"#VALUE!"},{"$error":"#VALUE!"},{"$error":"#VALUE!"},{"$error":"#VALUE!"},{"$error":"#VALUE!"},{"$error":"#VALUE!"},{"$error":"#VALUE!"},{"$error":"#VALUE!"},{"$error":"#VALUE!"},{"$error":"#VALUE!"},{"$error":"#VALUE!"},{"$f":"IF(SUM(AJ$1262:AJ1380)>0,0,IF(MAX(AC1381:AC$2702)=MAX(AC$1262:AC$2702),0,IF(AA1381>0.03*U$2703,0,$C1381/60)))","v":{"$error":"#VALUE!"}},{"$f":"IF(SUM(AK$1262:AK1380)>0,0,IF(MAX(AC1381:AC$2702)=MAX(AC$1262:AC$2702),0,IF(AA1381>0.01*U$2703,0,$C1381/60)))","v":{"$error":"#VALUE!"}},0,0,0,0,{"$error":"#VALUE!"},{"$error":"#VALUE!"},{"$error":"#VALUE!"},{"$error":"#VALUE!"},{"$error":"#VALUE!"},{"$error":"#VALUE!"},{"$error":"#VALUE!"},{"$error":"#VALUE!"},{"$error":"#VALUE!"},{"$error":"#VALUE!"},{"$error":"#VALUE!"},{"$f":"IF(SUM(BA$1262:BA1380)>0,0,IF(MAX(AT1381:AT$2702)=MAX(AT$1262:AT$2702),0,IF(AR1381>0.03*AL$2703,0,$C1381/60)))","v":{"$error":"#VALUE!"}},{"$f":"IF(SUM(BB$1262:BB1380)>0,0,IF(MAX(AT1381:AT$2702)=MAX(AT$1262:AT$2702),0,IF(AR1381>0.01*AL$2703,0,$C1381/60)))","v":{"$error":"#VALUE!"}},0,0,0,0,{"$error":"#VALUE!"},{"$error":"#VALUE!"},{"$error":"#VALUE!"},{"$error":"#VALUE!"},{"$error":"#VALUE!"},{"$error":"#VALUE!"},{"$error":"#VALUE!"},{"$error":"#VALUE!"},{"$error":"#VALUE!"},{"$error":"#VALUE!"},{"$error":"#VALUE!"},{"$f":"IF(SUM(BR$1262:BR1380)>0,0,IF(MAX(BK1381:BK$2702)=MAX(BK$1262:BK$2702),0,IF(BI1381>0.03*BC$2703,0,$C1381/60)))","v":{"$error":"#VALUE!"}},{"$f":"IF(SUM(BS$1262:BS1380)>0,0,IF(MAX(BK1381:BK$2702)=MAX(BK$1262:BK$2702),0,IF(BI1381>0.01*BC$2703,0,$C1381/60)))","v":{"$error":"#VALUE!"}},0,0,0,0,{"$error":"#VALUE!"},{"$error":"#VALUE!"},{"$error":"#VALUE!"},{"$error":"#VALUE!"},{"$error":"#VALUE!"},{"$error":"#VALUE!"},{"$error":"#VALUE!"},{"$error":"#VALUE!"},{"$error":"#VALUE!"},{"$error":"#VALUE!"},{"$error":"#VALUE!"},{"$f":"IF(SUM(CI$1262:CI1380)>0,0,IF(MAX(CB1381:CB$2702)=MAX(CB$1262:CB$2702),0,IF(BZ1381>0.03*BT$2703,0,$C1381/60)))","v":{"$error":"#VALUE!"}},{"$f":"IF(SUM(CJ$1262:CJ1380)>0,0,IF(MAX(CB1381:CB$2702)=MAX(CB$1262:CB$2702),0,IF(BZ1381>0.01*BT$2703,0,$C1381/60)))","v":{"$error":"#VALUE!"}},0,0,0,0,{"$error":"#VALUE!"},{"$error":"#VALUE!"},{"$error":"#VALUE!"},{"$error":"#VALUE!"},{"$error":"#VALUE!"},{"$error":"#VALUE!"},{"$error":"#VALUE!"},{"$error":"#VALUE!"},{"$error":"#VALUE!"},{"$error":"#VALUE!"},{"$error":"#VALUE!"},{"$f":"IF(SUM(CZ$1262:CZ1380)>0,0,IF(MAX(CS1381:CS$2702)=MAX(CS$1262:CS$2702),0,IF(CQ1381>0.03*CK$2703,0,$C1381/60)))","v":{"$error":"#VALUE!"}},{"$f":"IF(SUM(DA$1262:DA1380)>0,0,IF(MAX(CS1381:CS$2702)=MAX(CS$1262:CS$2702),0,IF(CQ1381>0.01*CK$2703,0,$C1381/60)))","v":{"$error":"#VALUE!"}}]
[null,10.333333333333334,620,0,0,0,0,0,0,0,0,0,{"$error":"#N/A"},{"$error":"#N/A"},{"$error":"#N/A"},{"$error":"#N/A"},{"$error":"#N/A"},{"$error":"#N/A"},{"$f":"IF(SUM(S$1262:S1385)>0,0,\nIF(MAX(L1386:L$2702)=MAX(L$1262:L$2702),0,\nIF(Hydrograph_Source_WQCV=\"USER\",IF(J1386>0.03*D$2703,0,$C1386/60),\nIF(J1386>0.03*J$2703,0,$C1386/60))))","v":0},{"$f":"IF(SUM(T$1262:T1385)>0,0,\nIF(MAX(L1386:L$2702)=MAX(L$1262:L$2702),0,\nIF(Hydrograph_Source_WQCV=\"USER\",IF(J1386>0.01*D$2703,0,$C1386/60),\nIF(J1386>0.01*J$2703,0,$C1386/60))))","v":0},0,0,0,0,{"$error":"#VALUE!"},{"$error":"#VALUE!"},{"$error":"#VALUE!"},{"$error":"#VALUE!"},{"$error":"#VALUE!"},{"$error":"#VALUE!"},{"$error":"#VALUE!"},{"$error":"#VALUE!"},{"$error":"#VALUE!"},{"$error":"#VALUE!"},{"$error":"#VALUE!"},{"$f":"IF(SUM(AJ$1262:AJ1385)>0,0,IF(MAX(AC1386:AC$2702)=MAX(AC$1262:AC$2702),0,IF(AA1386>0.03*U$2703,0,$C1386/60)))","v":{"$error":"#VALUE!"}},{"$f":"IF(SUM(AK$1262:AK1385)>0,0,IF(MAX(AC1386:AC$2702)=MAX(AC$1262:AC$2702),0,IF(AA1386>0.01*U$2703,0,$C1386/60)))","v":{"$error":"#VALUE!"}},0,0,0,0,{"$error":"#VALUE!"},{"$error":"#VALUE!"},{"$error":"#VALUE!"},{"$error":"#VALUE!"},{"$error":"#VALUE!"},{"$error":"#VALUE!"},{"$error":"#VALUE!"},{"$error":"#VALUE!"},{"$error":"#VALUE!"},{"$error":"#VALUE!"},{"$error":"#VALUE!"},{"$f":"IF(SUM(BA$1262:BA1385)>0,0,IF(MAX(AT1386:AT$2702)=MAX(AT$1262:AT$2702),0,IF(AR1386>0.03*AL$2703,0,$C1386/60)))","v":{"$error":"#VALUE!"}},{"$f":"IF(SUM(BB$1262:BB1385)>0,0,IF(MAX(AT1386:AT$2702)=MAX(AT$1262:AT$2702),0,IF(AR1386>0.01*AL$2703,0,$C1386/60)))","v":{"$error":"#VALUE!"}},0,0,0,0,{"$error":"#VALUE!"},{"$error":"#VALUE!"},{"$error":"#VALUE!"},{"$error":"#VALUE!"},{"$error":"#VALUE!"},{"$error":"#VALUE!"},{"$error":"#VALUE!"},{"$error":"#VALUE!"},{"$error":"#VALUE!"},{"$error":"#VALUE!"},{"$error":"#VALUE!"},{"$f":"IF(SUM(BR$1262:BR1385)>0,0,IF(MAX(BK1386:BK$2702)=MAX(BK$1262:BK$2702),0,IF(BI1386>0.03*BC$2703,0,$C1386/60)))","v":{"$error":"#VALUE!"}},{"$f":"IF(SUM(BS$1262:BS1385)>0,0,IF(MAX(BK1386:BK$2702)=MAX(BK$1262:BK$2702),0,IF(BI1386>0.01*BC$2703,0,$C1386/60)))","v":{"$error":"#VALUE!"}},0,0,0,0,{"$error":"#VALUE!"},{"$error":"#VALUE!"},{"$error":"#VALUE!"},{"$error":"#VALUE!"},{"$error":"#VALUE!"},{"$error":"#VALUE!"},{"$error":"#VALUE!"},{"$error":"#VALUE!"},{"$error":"#VALUE!"},{"$error":"#VALUE!"},{"$error":"#VALUE!"},{"$f":"IF(SUM(CI$1262:CI1385)>0,0,IF(MAX(CB1386:CB$2702)=MAX(CB$1262:CB$2702),0,IF(BZ1386>0.03*BT$2703,0,$C1386/60)))","v":{"$error":"#VALUE!"}},{"$f":"IF(SUM(CJ$1262:CJ1385)>0,0,IF(MAX(CB1386:CB$2702)=MAX(CB$1262:CB$2702),0,IF(BZ1386>0.01*BT$2703,0,$C1386/60)))","v":{"$error":"#VALUE!"}},0,0,0,0,{"$error":"#VALUE!"},{"$error":"#VALUE!"},{"$error":"#VALUE!"},{"$error":"#VALUE!"},{"$error":"#VALUE!"},{"$error":"#VALUE!"},{"$error":"#VALUE!"},{"$error":"#VALUE!"},{"$error":"#VALUE!"},{"$error":"#VALUE!"},{"$error":"#VALUE!"},{"$f":"IF(SUM(CZ$1262:CZ1385)>0,0,IF(MAX(CS1386:CS$2702)=MAX(CS$1262:CS$2702),0,IF(CQ1386>0.03*CK$2703,0,$C1386/60)))","v":{"$error":"#VALUE!"}},{"$f":"IF(SUM(DA$1262:DA1385)>0,0,IF(MAX(CS1386:CS$2702)=MAX(CS$1262:CS$2702),0,IF(CQ1386>0.01*CK$2703,0,$C1386/60)))","v":{"$error":"#VALUE!"}}]
[null,10.833333333333334,650,0,0,0,0,0,0,0,0,0,{"$error":"#N/A"},{"$error":"#N/A"},{"$error":"#N/A"},{"$error":"#N/A"},{"$error":"#N/A"},{"$error":"#N/A"},{"$f":"IF(SUM(S$1262:S1391)>0,0,\nIF(MAX(L1392:L$2702)=MAX(L$1262:L$2702),0,\nIF(Hydrograph_Source_WQCV=\"USER\",IF(J1392>0.03*D$2703,0,$C1392/60),\nIF(J1392>0.03*J$2703,0,$C1392/60))))","v":0},{"$f":"IF(SUM(T$1262:T1391)>0,0,\nIF(MAX(L1392:L$2702)=MAX(L$1262:L$2702),0,\nIF(Hydrograph_Source_WQCV=\"USER\",IF(J1392>0.01*D$2703,0,$C1392/60),\nIF(J1392>0.01*J$2703,0,$C1392/60))))","v":0},0,0,0,0,{"$error":"#VALUE!"},{"$error":"#VALUE!"},{"$error":"#VALUE!"},{"$error":"#VALUE!"},{"$error":"#VALUE!"},{"$error":"#VALUE!"},{"$error":"#VALUE!"},{"$error":"#VALUE!"},{"$error":"#VALUE!"},{"$error":"#VALUE!"},{"$error":"#VALUE!"},{"$f":"IF(SUM(AJ$1262:AJ1391)>0,0,IF(MAX(AC1392:AC$2702)=MAX(AC$1262:AC$2702),0,IF(AA1392>0.03*U$2703,0,$C1392/60)))","v":{"$error":"#VALUE!"}},{"$f":"IF(SUM(AK$1262:AK1391)>0,0,IF(MAX(AC1392:AC$2702)=MAX(AC$1262:AC$2702),0,IF(AA1392>0.01*U$2703,0,$C1392/60)))","v":{"$error":"#VALUE!"}},0,0,0,0,{"$error":"#VALUE!"},{"$error":"#VALUE!"},{"$error":"#VALUE!"},{"$error":"#VALUE!"},{"$error":"#VALUE!"},{"$error":"#VALUE!"},{"$error":"#VALUE!"},{"$error":"#VALUE!"},{"$error":"#VALUE!"},{"$error":"#VALUE!"},{"$error":"#VALUE!"},{"$f":"IF(SUM(BA$1262:BA1391)>0,0,IF(MAX(AT1392:AT$2702)=MAX(AT$1262:AT$2702),0,IF(AR1392>0.03*AL$2703,0,$C1392/60)))","v":{"$error":"#VALUE!"}},{"$f":"IF(SUM(BB$1262:BB1391)>0,0,IF(MAX(AT1392:AT$2702)=MAX(AT$1262:AT$2702),0,IF(AR1392>0.01*AL$2703,0,$C1392/60)))","v":{"$error":"#VALUE!"}},0,0,0,0,{"$error":"#VALUE!"},{"$error":"#VALUE!"},{"$error":"#VALUE!"},{"$error":"#VALUE!"},{"$error":"#VALUE!"},{"$error":"#VALUE!"},{"$error":"#VALUE!"},{"$error":"#VALUE!"},{"$error":"#VALUE!"},{"$error":"#VALUE!"},{"$error":"#VALUE!"},{"$f":"IF(SUM(BR$1262:BR1391)>0,0,IF(MAX(BK1392:BK$2702)=MAX(BK$1262:BK$2702),0,IF(BI1392>0.03*BC$2703,0,$C1392/60)))","v":{"$error":"#VALUE!"}},{"$f":"IF(SUM(BS$1262:BS1391)>0,0,IF(MAX(BK1392:BK$2702)=MAX(BK$1262:BK$2702),0,IF(BI1392>0.01*BC$2703,0,$C1392/60)))","v":{"$error":"#VALUE!"}},0,0,0,0,{"$error":"#VALUE!"},{"$error":"#VALUE!"},{"$error":"#VALUE!"},{"$error":"#VALUE!"},{"$error":"#VALUE!"},{"$error":"#VALUE!"},{"$error":"#VALUE!"},{"$error":"#VALUE!"},{"$error":"#VALUE!"},{"$error":"#VALUE!"},{"$error":"#VALUE!"},{"$f":"IF(SUM(CI$1262:CI1391)>0,0,IF(MAX(CB1392:CB$2702)=MAX(CB$1262:CB$2702),0,IF(BZ1392>0.03*BT$2703,0,$C1392/60)))","v":{"$error":"#VALUE!"}},{"$f":"IF(SUM(CJ$1262:CJ1391)>0,0,IF(MAX(CB1392:CB$2702)=MAX(CB$1262:CB$2702),0,IF(BZ1392>0.01*BT$2703,0,$C1392/60)))","v":{"$error":"#VALUE!"}},0,0,0,0,{"$error":"#VALUE!"},{"$error":"#VALUE!"},{"$error":"#VALUE!"},{"$error":"#VALUE!"},{"$f":"IF(CK$1263=\"\",0,ROUND((CY1392*CR1392+CX1392-CY1392*CW1392),7))","v":{"$error":"#VALUE!"}},{"$error":"#VALUE!"},{"$error":"#VALUE!"},{"$error":"#VALUE!"},{"$error":"#VALUE!"},{"$error":"#VALUE!"},{"$error":"#VALUE!"},{"$f":"IF(SUM(CZ$1262:CZ1391)>0,0,IF(MAX(CS1392:CS$2702)=MAX(CS$1262:CS$2702),0,IF(CQ1392>0.03*CK$2703,0,$C1392/60)))","v":{"$error":"#VALUE!"}},{"$f":"IF(SUM(DA$1262:DA1391)>0,0,IF(MAX(CS1392:CS$2702)=MAX(CS$1262:CS$2702),0,IF(CQ1392>0.01*CK$2703,0,$C1392/60)))","v":{"$error":"#VALUE!"}}]
[null,10.916666666666666,655,0,0,0,0,0,0,0,0,0,{"$error":"#N/A"},{"$error":"#N/A"},{"$error":"#N/A"},{"$error":"#N/A"},{"$error":"#N/A"},{"$error":"#N/A"},{"$f":"IF(SUM(S$1262:S1392)>0,0,\nIF(MAX(L1393:L$2702)=MAX(L$1262:L$2702),0,\nIF(Hydrograph_Source_WQCV=\"USER\",IF(J1393>0.03*D$2703,0,$C1393/60),\nIF(J1393>0.03*J$2703,0,$C1393/60))))","v":0},{"$f":"IF(SUM(T$1262:T1392)>0,0,\nIF(MAX(L1393:L$2702)=MAX(L$1262:L$2702),0,\nIF(Hydrograph_Source_WQCV=\"USER\",IF(J1393>0.01*D$2703,0,$C1393/60),\nIF(J1393>0.01*J$2703,0,$C1393/60))))","v":0},0,0,0,0,{"$error":"#VALUE!"},{"$error":"#VALUE!"},{"$error":"#VALUE!"},{"$error":"#VALUE!"},{"$error":"#VALUE!"},{"$error":"#VALUE!"},{"$error":"#VALUE!"},{"$error":"#VALUE!"},{"$error":"#VALUE!"},{"$error":"#VALUE!"},{"$error":"#VALUE!"},{"$f":"IF(SUM(AJ$1262:AJ1392)>0,0,IF(MAX(AC1393:AC$2702)=MAX(AC$1262:AC$2702),0,IF(AA1393>0.03*U$2703,0,$C1393/60)))","v":{"$error":"#VALUE!"}},{"$f":"IF(SUM(AK$1262:AK1392)>0,0,IF(MAX(AC1393:AC$2702)=MAX(AC$1262:AC$2702),0,IF(AA1393>0.01*U$2703,0,$C1393/60)))","v":{"$error":"#VALUE!"}},0,0,0,0,{"$error":"#VALUE!"},{"$error":"#VALUE!"},{"$error":"#VALUE!"},{"$error":"#VALUE!"},{"$error":"#VALUE!"},{"$error":"#VALUE!"},{"$error":"#VALUE!"},{"$error":"#VALUE!"},{"$error":"#VALUE!"},{"$error":"#VALUE!"},{"$error":"#VALUE!"},{"$f":"IF(SUM(BA$1262:BA1392)>0,0,IF(MAX(AT1393:AT$2702)=MAX(AT$1262:AT$2702),0,IF(AR1393>0.03*AL$2703,0,$C1393/60)))","v":{"$error":"#VALUE!"}},{"$f":"IF(SUM(BB$1262:BB1392)>0,0,IF(MAX(AT1393:AT$2702)=MAX(AT$1262:AT$2702),0,IF(AR1393>0.01*AL$2703,0,$C1393/60)))","v":{"$error":"#VALUE!"}},0,0,0,0,{"$error":"#VALUE!"},{"$error":"#VALUE!"},{"$error":"#VALUE!"},{"$error":"#VALUE!"},{"$error":"#VALUE!"},{"$error":"#VALUE!"},{"$error":"#VALUE!"},{"$error":"#VALUE!"},{"$error":"#VALUE!"},{"$error":"#VALUE!"},{"$error":"#VALUE!"},{"$f":"IF(SUM(BR$1262:BR1392)>0,0,IF(MAX(BK1393:BK$2702)=MAX(BK$1262:BK$2702),0,IF(BI1393>0.03*BC$2703,0,$C1393/60)))","v":{"$error":"#VALUE!"}},{"$f":"IF(SUM(BS$1262:BS1392)>0,0,IF(MAX(BK1393:BK$2702)=MAX(BK$1262:BK$2702),0,IF(BI1393>0.01*BC$2703,0,$C1393/60)))","v":{"$error":"#VALUE!"}},0,0,0,0,{"$error":"#VALUE!"},{"$error":"#VALUE!"},{"$error":"#VALUE!"},{"$error":"#VALUE!"},{"$error":"#VALUE!"},{"$error":"#VALUE!"},{"$error":"#VALUE!"},{"$error":"#VALUE!"},{"$error":"#VALUE!"},{"$error":"#VALUE!"},{"$error":"#VALUE!"},{"$f":"IF(SUM(CI$1262:CI1392)>0,0,IF(MAX(CB1393:CB$2702)=MAX(CB$1262:CB$2702),0,IF(BZ1393>0.03*BT$2703,0,$C1393/60)))","v":{"$error":"#VALUE!"}},{"$f":"IF(SUM(CJ$1262:CJ1392)>0,0,IF(MAX(CB1393:CB$2702)=MAX(CB$1262:CB$2702),0,IF(BZ1393>0.01*BT$2703,0,$C1393/60)))","v":{"$error":"#VALUE!"}},0,0,0,0,{"$error":"#VALUE!"},{"$error":"#VALUE!"},{"$error":"#VALUE!"},{"$error":"#VALUE!"},{"$error":"#VALUE!"},{"$error":"#VALUE!"},{"$error":"#VALUE!"},{"$error":"#VALUE!"},{"$error":"#VALUE!"},{"$error":"#VALUE!"},{"$error":"#VALUE!"},{"$f":"IF(SUM(CZ$1262:CZ1392)>0,0,IF(MAX(CS1393:CS$2702)=MAX(CS$1262:CS$2702),0,IF(CQ1393>0.03*CK$2703,0,$C1393/60)))","v":{"$error":"#VALUE!"}},{"$f":"IF(SUM(DA$1262:DA1392)>0,0,IF(MAX(CS1393:CS$2702)=MAX(CS$1262:CS$2702),0,IF(CQ1393>0.01*CK$2703,0,$C1393/60)))","v":{"$error":"#VALUE!"}}]
[null,11.333333333333334,680,0,0,0,0,0,0,0,0,0,{"$error":"#N/A"},{"$error":"#N/A"},{"$error":"#N/A"},{"$error":"#N/A"},{"$error":"#N/A"},{"$error":"#N/A"},{"$f":"IF(SUM(S$1262:S1397)>0,0,\nIF(MAX(L1398:L$2702)=MAX(L$1262:L$2702),0,\nIF(Hydrograph_Source_WQCV=\"USER\",IF(J1398>0.03*D$2703,0,$C1398/60),\nIF(J1398>0.03*J$2703,0,$C1398/60))))","v":0},{"$f":"IF(SUM(T$1262:T1397)>0,0,\nIF(MAX(L1398:L$2702)=MAX(L$1262:L$2702),0,\nIF(Hydrograph_Source_WQCV=\"USER\",IF(J1398>0.01*D$2703,0,$C1398/60),\nIF(J1398>0.01*J$2703,0,$C1398/60))))","v":0},0,0,0,0,{"$error":"#VALUE!"},{"$error":"#VALUE!"},{"$error":"#VALUE!"},{"$error":"#VALUE!"},{"$error":"#VALUE!"},{"$error":"#VALUE!"},{"$error":"#VALUE!"},{"$error":"#VALUE!"},{"$error":"#VALUE!"},{"$error":"#VALUE!"},{"$error":"#VALUE!"},{"$f":"IF(SUM(AJ$1262:AJ1397)>0,0,IF(MAX(AC1398:AC$2702)=MAX(AC$1262:AC$2702),0,IF(AA1398>0.03*U$2703,0,$C1398/60)))","v":{"$error":"#VALUE!"}},{"$f":"IF(SUM(AK$1262:AK1397)>0,0,IF(MAX(AC1398:AC$2702)=MAX(AC$1262:AC$2702),0,IF(AA1398>0.01*U$2703,0,$C1398/60)))","v":{"$error":"#VALUE!"}},0,0,0,0,{"$error":"#VALUE!"},{"$error":"#VALUE!"},{"$error":"#VALUE!"},{"$error":"#VALUE!"},{"$error":"#VALUE!"},{"$error":"#VALUE!"},{"$error":"#VALUE!"},{"$error":"#VALUE!"},{"$error":"#VALUE!"},{"$error":"#VALUE!"},{"$error":"#VALUE!"},{"$f":"IF(SUM(BA$1262:BA1397)>0,0,IF(MAX(AT1398:AT$2702)=MAX(AT$1262:AT$2702),0,IF(AR1398>0.03*AL$2703,0,$C1398/60)))","v":{"$error":"#VALUE!"}},{"$f":"IF(SUM(BB$1262:BB1397)>0,0,IF(MAX(AT1398:AT$2702)=MAX(AT$1262:AT$2702),0,IF(AR1398>0.01*AL$2703,0,$C1398/60)))","v":{"$error":"#VALUE!"}},0,0,0,0,{"$error":"#VALUE!"},{"$error":"#VALUE!"},{"$error":"#VALUE!"},{"$error":"#VALUE!"},{"$error":"#VALUE!"},{"$error":"#VALUE!"},{"$error":"#VALUE!"},{"$error":"#VALUE!"},{"$error":"#VALUE!"},{"$error":"#VALUE!"},{"$error":"#VALUE!"},{"$f":"IF(SUM(BR$1262:BR1397)>0,0,IF(MAX(BK1398:BK$2702)=MAX(BK$1262:BK$2702),0,IF(BI1398>0.03*BC$2703,0,$C1398/60)))","v":{"$error":"#VALUE!"}},{"$f":"IF(SUM(BS$1262:BS1397)>0,0,IF(MAX(BK1398:BK$2702)=MAX(BK$1262:BK$2702),0,IF(BI1398>0.01*BC$2703,0,$C1398/60)))","v":{"$error":"#VALUE!"}},0,0,0,0,{"$error":"#VALUE!"},{"$error":"#VALUE!"},{"$error":"#VALUE!"},{"$error":"#VALUE!"},{"$error":"#VALUE!"},{"$error":"#VALUE!"},{"$error":"#VALUE!"},{"$error":"#VALUE!"},{"$error":"#VALUE!"},{"$error":"#VALUE!"},{"$error":"#VALUE!"},{"$f":"IF(SUM(CI$1262:CI1397)>0,0,IF(MAX(CB1398:CB$2702)=MAX(CB$1262:CB$2702),0,IF(BZ1398>0.03*BT$2703,0,$C1398/60)))","v":{"$error":"#VALUE!"}},{"$f":"IF(SUM(CJ$1262:CJ1397)>0,0,IF(MAX(CB1398:CB$2702)=MAX(CB$1262:CB$2702),0,IF(BZ1398>0.01*BT$2703,0,$C1398/60)))","v":{"$error":"#VALUE!"}},0,0,0,0,{"$error":"#VALUE!"},{"$error":"#VALUE!"},{"$error":"#VALUE!"},{"$error":"#VALUE!"},{"$error":"#VALUE!"},{"$error":"#VALUE!"},{"$error":"#VALUE!"},{"$error":"#VALUE!"},{"$error":"#VALUE!"},{"$error":"#VALUE!"},{"$error":"#VALUE!"},{"$f":"IF(SUM(CZ$1262:CZ1397)>0,0,IF(MAX(CS1398:CS$2702)=MAX(CS$1262:CS$2702),0,IF(CQ1398>0.03*CK$2703,0,$C1398/60)))","v":{"$error":"#VALUE!"}},{"$f":"IF(SUM(DA$1262:DA1397)>0,0,IF(MAX(CS1398:CS$2702)=MAX(CS$1262:CS$2702),0,IF(CQ1398>0.01*CK$2703,0,$C1398/60)))","v":{"$error":"#VALUE!"}}]
[null,11.583333333333334,695,0,0,0,0,0,0,0,0,0,{"$error":"#N/A"},{"$error":"#N/A"},{"$error":"#N/A"},{"$error":"#N/A"},{"$error":"#N/A"},{"$error":"#N/A"},{"$f":"IF(SUM(S$1262:S1400)>0,0,\nIF(MAX(L1401:L$2702)=MAX(L$1262:L$2702),0,\nIF(Hydrograph_Source_WQCV=\"USER\",IF(J1401>0.03*D$2703,0,$C1401/60),\nIF(J1401>0.03*J$2703,0,$C1401/60))))","v":0},{"$f":"IF(SUM(T$1262:T1400)>0,0,\nIF(MAX(L1401:L$2702)=MAX(L$1262:L$2702),0,\nIF(Hydrograph_Source_WQCV=\"USER\",IF(J1401>0.01*D$2703,0,$C1401/60),\nIF(J1401>0.01*J$2703,0,$C1401/60))))","v":0},0,0,0,0,{"$error":"#VALUE!"},{"$error":"#VALUE!"},{"$error":"#VALUE!"},{"$error":"#VALUE!"},{"$error":"#VALUE!"},{"$error":"#VALUE!"},{"$error":"#VALUE!"},{"$error":"#VALUE!"},{"$error":"#VALUE!"},{"$error":"#VALUE!"},{"$error":"#VALUE!"},{"$f":"IF(SUM(AJ$1262:AJ1400)>0,0,IF(MAX(AC1401:AC$2702)=MAX(AC$1262:AC$2702),0,IF(AA1401>0.03*U$2703,0,$C1401/60)))","v":{"$error":"#VALUE!"}},{"$f":"IF(SUM(AK$1262:AK1400)>0,0,IF(MAX(AC1401:AC$2702)=MAX(AC$1262:AC$2702),0,IF(AA1401>0.01*U$2703,0,$C1401/60)))","v":{"$error":"#VALUE!"}},0,0,0,0,{"$error":"#VALUE!"},{"$error":"#VALUE!"},{"$error":"#VALUE!"},{"$error":"#VALUE!"},{"$error":"#VALUE!"},{"$error":"#VALUE!"},{"$error":"#VALUE!"},{"$error":"#VALUE!"},{"$error":"#VALUE!"},{"$error":"#VALUE!"},{"$error":"#VALUE!"},{"$f":"IF(SUM(BA$1262:BA1400)>0,0,IF(MAX(AT1401:AT$2702)=MAX(AT$1262:AT$2702),0,IF(AR1401>0.03*AL$2703,0,$C1401/60)))","v":{"$error":"#VALUE!"}},{"$f":"IF(SUM(BB$1262:BB1400)>0,0,IF(MAX(AT1401:AT$2702)=MAX(AT$1262:AT$2702),0,IF(AR1401>0.01*AL$2703,0,$C1401/60)))","v":{"$error":"#VALUE!"}},0,0,0,0,{"$error":"#VALUE!"},{"$error":"#VALUE!"},{"$error":"#VALUE!"},{"$error":"#VALUE!"},{"$error":"#VALUE!"},{"$error":"#VALUE!"},{"$error":"#VALUE!"},{"$error":"#VALUE!"},{"$error":"#VALUE!"},{"$error":"#VALUE!"},{"$error":"#VALUE!"},{"$f":"IF(SUM(BR$1262:BR1400)>0,0,IF(MAX(BK1401:BK$2702)=MAX(BK$1262:BK$2702),0,IF(BI1401>0.03*BC$2703,0,$C1401/60)))","v":{"$error":"#VALUE!"}},{"$f":"IF(SUM(BS$1262:BS1400)>0,0,IF(MAX(BK1401:BK$2702)=MAX(BK$1262:BK$2702),0,IF(BI1401>0.01*BC$2703,0,$C1401/60)))","v":{"$error":"#VALUE!"}},0,0,0,0,{"$error":"#VALUE!"},{"$error":"#VALUE!"},{"$error":"#VALUE!"},{"$error":"#VALUE!"},{"$error":"#VALUE!"},{"$error":"#VALUE!"},{"$error":"#VALUE!"},{"$error":"#VALUE!"},{"$error":"#VALUE!"},{"$error":"#VALUE!"},{"$error":"#VALUE!"},{"$f":"IF(SUM(CI$1262:CI1400)>0,0,IF(MAX(CB1401:CB$2702)=MAX(CB$1262:CB$2702),0,IF(BZ1401>0.03*BT$2703,0,$C1401/60)))","v":{"$error":"#VALUE!"}},{"$f":"IF(SUM(CJ$1262:CJ1400)>0,0,IF(MAX(CB1401:CB$2702)=MAX(CB$1262:CB$2702),0,IF(BZ1401>0.01*BT$2703,0,$C1401/60)))","v":{"$error":"#VALUE!"}},0,0,0,0,{"$error":"#VALUE!"},{"$error":"#VALUE!"},{"$error":"#VALUE!"},{"$error":"#VALUE!"},{"$error":"#VALUE!"},{"$error":"#VALUE!"},{"$error":"#VALUE!"},{"$error":"#VALUE!"},{"$error":"#VALUE!"},{"$error":"#VALUE!"},{"$error":"#VALUE!"},{"$f":"IF(SUM(CZ$1262:CZ1400)>0,0,IF(MAX(CS1401:CS$2702)=MAX(CS$1262:CS$2702),0,IF(CQ1401>0.03*CK$2703,0,$C1401/60)))","v":{"$error":"#VALUE!"}},{"$f":"IF(SUM(DA$1262:DA1400)>0,0,IF(MAX(CS1401:CS$2702)=MAX(CS$1262:CS$2702),0,IF(CQ1401>0.01*CK$2703,0,$C1401/60)))","v":{"$error":"#VALUE!"}}]
[null,12.25,735,0,0,0,0,0,0,0,0,0,{"$error":"#N/A"},{"$error":"#N/A"},{"$error":"#N/A"},{"$error":"#N/A"},{"$error":"#N/A"},{"$error":"#N/A"},{"$f":"IF(SUM(S$1262:S1408)>0,0,\nIF(MAX(L1409:L$2702)=MAX(L$1262:L$2702),0,\nIF(Hydrograph_Source_WQCV=\"USER\",IF(J1409>0.03*D$2703,0,$C1409/60),\nIF(J1409>0.03*J$2703,0,$C1409/60))))","v":0},{"$f":"IF(SUM(T$1262:T1408)>0,0,\nIF(MAX(L1409:L$2702)=MAX(L$1262:L$2702),0,\nIF(Hydrograph_Source_WQCV=\"USER\",IF(J1409>0.01*D$2703,0,$C1409/60),\nIF(J1409>0.01*J$2703,0,$C1409/60))))","v":0},0,0,0,0,{"$error":"#VALUE!"},{"$error":"#VALUE!"},{"$error":"#VALUE!"},{"$error":"#VALUE!"},{"$error":"#VALUE!"},{"$error":"#VALUE!"},{"$error":"#VALUE!"},{"$error":"#VALUE!"},{"$error":"#VALUE!"},{"$error":"#VALUE!"},{"$error":"#VALUE!"},{"$f":"IF(SUM(AJ$1262:AJ1408)>0,0,IF(MAX(AC1409:AC$2702)=MAX(AC$1262:AC$2702),0,IF(AA1409>0.03*U$2703,0,$C1409/60)))","v":{"$error":"#VALUE!"}},{"$f":"IF(SUM(AK$1262:AK1408)>0,0,IF(MAX(AC1409:AC$2702)=MAX(AC$1262:AC$2702),0,IF(AA1409>0.01*U$2703,0,$C1409/60)))","v":{"$error":"#VALUE!"}},0,0,0,0,{"$error":"#VALUE!"},{"$error":"#VALUE!"},{"$error":"#VALUE!"},{"$error":"#VALUE!"},{"$error":"#VALUE!"},{"$error":"#VALUE!"},{"$error":"#VALUE!"},{"$error":"#VALUE!"},{"$error":"#VALUE!"},{"$error":"#VALUE!"},{"$error":"#VALUE!"},{"$f":"IF(SUM(BA$1262:BA1408)>0,0,IF(MAX(AT1409:AT$2702)=MAX(AT$1262:AT$2702),0,IF(AR1409>0.03*AL$2703,0,$C1409/60)))","v":{"$error":"#VALUE!"}},{"$f":"IF(SUM(BB$1262:BB1408)>0,0,IF(MAX(AT1409:AT$2702)=MAX(AT$1262:AT$2702),0,IF(AR1409>0.01*AL$2703,0,$C1409/60)))","v":{"$error":"#VALUE!"}},0,0,0,0,{"$error":"#VALUE!"},{"$error":"#VALUE!"},{"$error":"#VALUE!"},{"$error":"#VALUE!"},{"$error":"#VALUE!"},{"$error":"#VALUE!"},{"$error":"#VALUE!"},{"$error":"#VALUE!"},{"$error":"#VALUE!"},{"$error":"#VALUE!"},{"$error":"#VALUE!"},{"$f":"IF(SUM(BR$1262:BR1408)>0,0,IF(MAX(BK1409:BK$2702)=MAX(BK$1262:BK$2702),0,IF(BI1409>0.03*BC$2703,0,$C1409/60)))","v":{"$error":"#VALUE!"}},{"$f":"IF(SUM(BS$1262:BS1408)>0,0,IF(MAX(BK1409:BK$2702)=MAX(BK$1262:BK$2702),0,IF(BI1409>0.01*BC$2703,0,$C1409/60)))","v":{"$error":"#VALUE!"}},0,0,0,0,{"$error":"#VALUE!"},{"$error":"#VALUE!"},{"$error":"#VALUE!"},{"$error":"#VALUE!"},{"$error":"#VALUE!"},{"$error":"#VALUE!"},{"$error":"#VALUE!"},{"$error":"#VALUE!"},{"$error":"#VALUE!"},{"$error":"#VALUE!"},{"$error":"#VALUE!"},{"$f":"IF(SUM(CI$1262:CI1408)>0,0,IF(MAX(CB1409:CB$2702)=MAX(CB$1262:CB$2702),0,IF(BZ1409>0.03*BT$2703,0,$C1409/60)))","v":{"$error":"#VALUE!"}},{"$f":"IF(SUM(CJ$1262:CJ1408)>0,0,IF(MAX(CB1409:CB$2702)=MAX(CB$1262:CB$2702),0,IF(BZ1409>0.01*BT$2703,0,$C1409/60)))","v":{"$error":"#VALUE!"}},0,0,0,0,{"$error":"#VALUE!"},{"$error":"#VALUE!"},{"$error":"#VALUE!"},{"$error":"#VALUE!"},{"$error":"#VALUE!"},{"$error":"#VALUE!"},{"$error":"#VALUE!"},{"$error":"#VALUE!"},{"$error":"#VALUE!"},{"$error":"#VALUE!"},{"$error":"#VALUE!"},{"$f":"IF(SUM(CZ$1262:CZ1408)>0,0,IF(MAX(CS1409:CS$2702)=MAX(CS$1262:CS$2702),0,IF(CQ1409>0.03*CK$2703,0,$C1409/60)))","v":{"$error":"#VALUE!"}},{"$f":"IF(SUM(DA$1262:DA1408)>0,0,IF(MAX(CS1409:CS$2702)=MAX(CS$1262:CS$2702),0,IF(CQ1409>0.01*CK$2703,0,$C1409/60)))","v":{"$error":"#VALUE!"}}]
[null,12.333333333333334,740,0,0,0,0,0,0,0,0,0,{"$error":"#N/A"},{"$error":"#N/A"},{"$error":"#N/A"},{"$error":"#N/A"},{"$error":"#N/A"},{"$error":"#N/A"},{"$f":"IF(SUM(S$1262:S1409)>0,0,\nIF(MAX(L1410:L$2702)=MAX(L$1262:L$2702),0,\nIF(Hydrograph_Source_WQCV=\"USER\",IF(J1410>0.03*D$2703,0,$C1410/60),\nIF(J1410>0.03*J$2703,0,$C1410/60))))","v":0},{"$f":"IF(SUM(T$1262:T1409)>0,0,\nIF(MAX(L1410:L$2702)=MAX(L$1262:L$2702),0,\nIF(Hydrograph_Source_WQCV=\"USER\",IF(J1410>0.01*D$2703,0,$C1410/60),\nIF(J1410>0.01*J$2703,0,$C1410/60))))","v":0},0,0,0,0,{"$error":"#VALUE!"},{"$error":"#VALUE!"},{"$error":"#VALUE!"},{"$error":"#VALUE!"},{"$error":"#VALUE!"},{"$error":"#VALUE!"},{"$error":"#VALUE!"},{"$error":"#VALUE!"},{"$error":"#VALUE!"},{"$error":"#VALUE!"},{"$error":"#VALUE!"},{"$f":"IF(SUM(AJ$1262:AJ1409)>0,0,IF(MAX(AC1410:AC$2702)=MAX(AC$1262:AC$2702),0,IF(AA1410>0.03*U$2703,0,$C1410/60)))","v":{"$error":"#VALUE!"}},{"$f":"IF(SUM(AK$1262:AK1409)>0,0,IF(MAX(AC1410:AC$2702)=MAX(AC$1262:AC$2702),0,IF(AA1410>0.01*U$2703,0,$C1410/60)))","v":{"$error":"#VALUE!"}},0,0,0,0,{"$error":"#VALUE!"},{"$error":"#VALUE!"},{"$error":"#VALUE!"},{"$error":"#VALUE!"},{"$error":"#VALUE!"},{"$error":"#VALUE!"},{"$error":"#VALUE!"},{"$error":"#VALUE!"},{"$error":"#VALUE!"},{"$error":"#VALUE!"},{"$error":"#VALUE!"},{"$f":"IF(SUM(BA$1262:BA1409)>0,0,IF(MAX(AT1410:AT$2702)=MAX(AT$1262:AT$2702),0,IF(AR1410>0.03*AL$2703,0,$C1410/60)))","v":{"$error":"#VALUE!"}},{"$f":"IF(SUM(BB$1262:BB1409)>0,0,IF(MAX(AT1410:AT$2702)=MAX(AT$1262:AT$2702),0,IF(AR1410>0.01*AL$2703,0,$C1410/60)))","v":{"$error":"#VALUE!"}},0,0,0,0,{"$error":"#VALUE!"},{"$error":"#VALUE!"},{"$error":"#VALUE!"},{"$error":"#VALUE!"},{"$error":"#VALUE!"},{"$error":"#VALUE!"},{"$error":"#VALUE!"},{"$error":"#VALUE!"},{"$error":"#VALUE!"},{"$error":"#VALUE!"},{"$error":"#VALUE!"},{"$f":"IF(SUM(BR$1262:BR1409)>0,0,IF(MAX(BK1410:BK$2702)=MAX(BK$1262:BK$2702),0,IF(BI1410>0.03*BC$2703,0,$C1410/60)))","v":{"$error":"#VALUE!"}},{"$f":"IF(SUM(BS$1262:BS1409)>0,0,IF(MAX(BK1410:BK$2702)=MAX(BK$1262:BK$2702),0,IF(BI1410>0.01*BC$2703,0,$C1410/60)))","v":{"$error":"#VALUE!"}},0,0,0,0,{"$error":"#VALUE!"},{"$error":"#VALUE!"},{"$error":"#VALUE!"},{"$error":"#VALUE!"},{"$error":"#VALUE!"},{"$error":"#VALUE!"},{"$error":"#VALUE!"},{"$error":"#VALUE!"},{"$error":"#VALUE!"},{"$error":"#VALUE!"},{"$error":"#VALUE!"},{"$f":"IF(SUM(CI$1262:CI1409)>0,0,IF(MAX(CB1410:CB$2702)=MAX(CB$1262:CB$2702),0,IF(BZ1410>0.03*BT$2703,0,$C1410/60)))","v":{"$error":"#VALUE!"}},{"$f":"IF(SUM(CJ$1262:CJ1409)>0,0,IF(MAX(CB1410:CB$2702)=MAX(CB$1262:CB$2702),0,IF(BZ1410>0.01*BT$2703,0,$C1410/60)))","v":{"$error":"#VALUE!"}},0,0,0,0,{"$error":"#VALUE!"},{"$error":"#VALUE!"},{"$error":"#VALUE!"},{"$error":"#VALUE!"},{"$error":"#VALUE!"},{"$error":"#VALUE!"},{"$error":"#VALUE!"},{"$error":"#VALUE!"},{"$error":"#VALUE!"},{"$error":"#VALUE!"},{"$error":"#VALUE!"},{"$f":"IF(SUM(CZ$1262:CZ1409)>0,0,IF(MAX(CS1410:CS$2702)=MAX(CS$1262:CS$2702),0,IF(CQ1410>0.03*CK$2703,0,$C1410/60)))","v":{"$error":"#VALUE!"}},{"$f":"IF(SUM(DA$1262:DA1409)>0,0,IF(MAX(CS1410:CS$2702)=MAX(CS$1262:CS$2702),0,IF(CQ1410>0.01*CK$2703,0,$C1410/60)))","v":{"$error":"#VALUE!"}}]
[null,12.75,765,0,0,0,0,0,0,0,0,0,{"$error":"#N/A"},{"$error":"#N/A"},{"$error":"#N/A"},{"$error":"#N/A"},{"$error":"#N/A"},{"$error":"#N/A"},{"$f":"IF(SUM(S$1262:S1414)>0,0,\nIF(MAX(L1415:L$2702)=MAX(L$1262:L$2702),0,\nIF(Hydrograph_Source_WQCV=\"USER\",IF(J1415>0.03*D$2703,0,$C1415/60),\nIF(J1415>0.03*J$2703,0,$C1415/60))))","v":0},{"$f":"IF(SUM(T$1262:T1414)>0,0,\nIF(MAX(L1415:L$2702)=MAX(L$1262:L$2702),0,\nIF(Hydrograph_Source_WQCV=\"USER\",IF(J1415>0.01*D$2703,0,$C1415/60),\nIF(J1415>0.01*J$2703,0,$C1415/60))))","v":0},0,0,0,0,{"$error":"#VALUE!"},{"$error":"#VALUE!"},{"$error":"#VALUE!"},{"$error":"#VALUE!"},{"$error":"#VALUE!"},{"$error":"#VALUE!"},{"$error":"#VALUE!"},{"$error":"#VALUE!"},{"$error":"#VALUE!"},{"$error":"#VALUE!"},{"$error":"#VALUE!"},{"$f":"IF(SUM(AJ$1262:AJ1414)>0,0,IF(MAX(AC1415:AC$2702)=MAX(AC$1262:AC$2702),0,IF(AA1415>0.03*U$2703,0,$C1415/60)))","v":{"$error":"#VALUE!"}},{"$f":"IF(SUM(AK$1262:AK1414)>0,0,IF(MAX(AC1415:AC$2702)=MAX(AC$1262:AC$2702),0,IF(AA1415>0.01*U$2703,0,$C1415/60)))","v":{"$error":"#VALUE!"}},0,0,0,0,{"$error":"#VALUE!"},{"$error":"#VALUE!"},{"$error":"#VALUE!"},{"$error":"#VALUE!"},{"$error":"#VALUE!"},{"$error":"#VALUE!"},{"$error":"#VALUE!"},{"$error":"#VALUE!"},{"$error":"#VALUE!"},{"$error":"#VALUE!"},{"$error":"#VALUE!"},{"$f":"IF(SUM(BA$1262:BA1414)>0,0,IF(MAX(AT1415:AT$2702)=MAX(AT$1262:AT$2702),0,IF(AR1415>0.03*AL$2703,0,$C1415/60)))","v":{"$error":"#VALUE!"}},{"$f":"IF(SUM(BB$1262:BB1414)>0,0,IF(MAX(AT1415:AT$2702)=MAX(AT$1262:AT$2702),0,IF(AR1415>0.01*AL$2703,0,$C1415/60)))","v":{"$error":"#VALUE!"}},0,0,0,0,{"$error":"#VALUE!"},{"$error":"#VALUE!"},{"$error":"#VALUE!"},{"$error":"#VALUE!"},{"$error":"#VALUE!"},{"$error":"#VALUE!"},{"$error":"#VALUE!"},{"$error":"#VALUE!"},{"$error":"#VALUE!"},{"$error":"#VALUE!"},{"$error":"#VALUE!"},{"$f":"IF(SUM(BR$1262:BR1414)>0,0,IF(MAX(BK1415:BK$2702)=MAX(BK$1262:BK$2702),0,IF(BI1415>0.03*BC$2703,0,$C1415/60)))","v":{"$error":"#VALUE!"}},{"$f":"IF(SUM(BS$1262:BS1414)>0,0,IF(MAX(BK1415:BK$2702)=MAX(BK$1262:BK$2702),0,IF(BI1415>0.01*BC$2703,0,$C1415/60)))","v":{"$error":"#VALUE!"}},0,0,0,0,{"$error":"#VALUE!"},{"$error":"#VALUE!"},{"$error":"#VALUE!"},{"$error":"#VALUE!"},{"$error":"#VALUE!"},{"$error":"#VALUE!"},{"$error":"#VALUE!"},{"$error":"#VALUE!"},{"$error":"#VALUE!"},{"$error":"#VALUE!"},{"$error":"#VALUE!"},{"$f":"IF(SUM(CI$1262:CI1414)>0,0,IF(MAX(CB1415:CB$2702)=MAX(CB$1262:CB$2702),0,IF(BZ1415>0.03*BT$2703,0,$C1415/60)))","v":{"$error":"#VALUE!"}},{"$f":"IF(SUM(CJ$1262:CJ1414)>0,0,IF(MAX(CB1415:CB$2702)=MAX(CB$1262:CB$2702),0,IF(BZ1415>0.01*BT$2703,0,$C1415/60)))","v":{"$error":"#VALUE!"}},0,0,0,0,{"$error":"#VALUE!"},{"$error":"#VALUE!"},{"$error":"#VALUE!"},{"$error":"#VALUE!"},{"$error":"#VALUE!"},{"$error":"#VALUE!"},{"$error":"#VALUE!"},{"$error":"#VALUE!"},{"$error":"#VALUE!"},{"$error":"#VALUE!"},{"$error":"#VALUE!"},{"$f":"IF(SUM(CZ$1262:CZ1414)>0,0,IF(MAX(CS1415:CS$2702)=MAX(CS$1262:CS$2702),0,IF(CQ1415>0.03*CK$2703,0,$C1415/60)))","v":{"$error":"#VALUE!"}},{"$f":"IF(SUM(DA$1262:DA1414)>0,0,IF(MAX(CS1415:CS$2702)=MAX(CS$1262:CS$2702),0,IF(CQ1415>0.01*CK$2703,0,$C1415/60)))","v":{"$error":"#VALUE!"}}]
[null,13.25,795,0,0,0,0,0,0,0,0,0,{"$error":"#N/A"},{"$error":"#N/A"},{"$error":"#N/A"},{"$error":"#N/A"},{"$error":"#N/A"},{"$error":"#N/A"},{"$f":"IF(SUM(S$1262:S1420)>0,0,\nIF(MAX(L1421:L$2702)=MAX(L$1262:L$2702),0,\nIF(Hydrograph_Source_WQCV=\"USER\",IF(J1421>0.03*D$2703,0,$C1421/60),\nIF(J1421>0.03*J$2703,0,$C1421/60))))","v":0},{"$f":"IF(SUM(T$1262:T1420)>0,0,\nIF(MAX(L1421:L$2702)=MAX(L$1262:L$2702),0,\nIF(Hydrograph_Source_WQCV=\"USER\",IF(J1421>0.01*D$2703,0,$C1421/60),\nIF(J1421>0.01*J$2703,0,$C1421/60))))","v":0},0,0,0,0,{"$error":"#VALUE!"},{"$error":"#VALUE!"},{"$error":"#VALUE!"},{"$error":"#VALUE!"},{"$error":"#VALUE!"},{"$error":"#VALUE!"},{"$error":"#VALUE!"},{"$error":"#VALUE!"},{"$error":"#VALUE!"},{"$error":"#VALUE!"},{"$error":"#VALUE!"},{"$f":"IF(SUM(AJ$1262:AJ1420)>0,0,IF(MAX(AC1421:AC$2702)=MAX(AC$1262:AC$2702),0,IF(AA1421>0.03*U$2703,0,$C1421/60)))","v":{"$error":"#VALUE!"}},{"$f":"IF(SUM(AK$1262:AK1420)>0,0,IF(MAX(AC1421:AC$2702)=MAX(AC$1262:AC$2702),0,IF(AA1421>0.01*U$2703,0,$C1421/60)))","v":{"$error":"#VALUE!"}},0,0,0,0,{"$error":"#VALUE!"},{"$error":"#VALUE!"},{"$error":"#VALUE!"},{"$error":"#VALUE!"},{"$error":"#VALUE!"},{"$error":"#VALUE!"},{"$error":"#VALUE!"},{"$error":"#VALUE!"},{"$error":"#VALUE!"},{"$error":"#VALUE!"},{"$error":"#VALUE!"},{"$f":"IF(SUM(BA$1262:BA1420)>0,0,IF(MAX(AT1421:AT$2702)=MAX(AT$1262:AT$2702),0,IF(AR1421>0.03*AL$2703,0,$C1421/60)))","v":{"$error":"#VALUE!"}},{"$f":"IF(SUM(BB$1262:BB1420)>0,0,IF(MAX(AT1421:AT$2702)=MAX(AT$1262:AT$2702),0,IF(AR1421>0.01*AL$2703,0,$C1421/60)))","v":{"$error":"#VALUE!"}},0,0,0,0,{"$error":"#VALUE!"},{"$error":"#VALUE!"},{"$error":"#VALUE!"},{"$error":"#VALUE!"},{"$error":"#VALUE!"},{"$error":"#VALUE!"},{"$error":"#VALUE!"},{"$error":"#VALUE!"},{"$error":"#VALUE!"},{"$error":"#VALUE!"},{"$error":"#VALUE!"},{"$f":"IF(SUM(BR$1262:BR1420)>0,0,IF(MAX(BK1421:BK$2702)=MAX(BK$1262:BK$2702),0,IF(BI1421>0.03*BC$2703,0,$C1421/60)))","v":{"$error":"#VALUE!"}},{"$f":"IF(SUM(BS$1262:BS1420)>0,0,IF(MAX(BK1421:BK$2702)=MAX(BK$1262:BK$2702),0,IF(BI1421>0.01*BC$2703,0,$C1421/60)))","v":{"$error":"#VALUE!"}},0,0,0,0,{"$error":"#VALUE!"},{"$error":"#VALUE!"},{"$error":"#VALUE!"},{"$error":"#VALUE!"},{"$error":"#VALUE!"},{"$error":"#VALUE!"},{"$error":"#VALUE!"},{"$error":"#VALUE!"},{"$error":"#VALUE!"},{"$error":"#VALUE!"},{"$error":"#VALUE!"},{"$f":"IF(SUM(CI$1262:CI1420)>0,0,IF(MAX(CB1421:CB$2702)=MAX(CB$1262:CB$2702),0,IF(BZ1421>0.03*BT$2703,0,$C1421/60)))","v":{"$error":"#VALUE!"}},{"$f":"IF(SUM(CJ$1262:CJ1420)>0,0,IF(MAX(CB1421:CB$2702)=MAX(CB$1262:CB$2702),0,IF(BZ1421>0.01*BT$2703,0,$C1421/60)))","v":{"$error":"#VALUE!"}},0,0,0,0,{"$error":"#VALUE!"},{"$error":"#VALUE!"},{"$error":"#VALUE!"},{"$error":"#VALUE!"},{"$error":"#VALUE!"},{"$error":"#VALUE!"},{"$error":"#VALUE!"},{"$error":"#VALUE!"},{"$error":"#VALUE!"},{"$error":"#VALUE!"},{"$error":"#VALUE!"},{"$f":"IF(SUM(CZ$1262:CZ1420)>0,0,IF(MAX(CS1421:CS$2702)=MAX(CS$1262:CS$2702),0,IF(CQ1421>0.03*CK$2703,0,$C1421/60)))","v":{"$error":"#VALUE!"}},{"$f":"IF(SUM(DA$1262:DA1420)>0,0,IF(MAX(CS1421:CS$2702)=MAX(CS$1262:CS$2702),0,IF(CQ1421>0.01*CK$2703,0,$C1421/60)))","v":{"$error":"#VALUE!"}}]
[null,13.666666666666666,820,0,0,0,0,0,0,0,0,0,{"$error":"#N/A"},{"$error":"#N/A"},{"$error":"#N/A"},{"$error":"#N/A"},{"$error":"#N/A"},{"$error":"#N/A"},{"$f":"IF(SUM(S$1262:S1425)>0,0,\nIF(MAX(L1426:L$2702)=MAX(L$1262:L$2702),0,\nIF(Hydrograph_Source_WQCV=\"USER\",IF(J1426>0.03*D$2703,0,$C1426/60),\nIF(J1426>0.03*J$2703,0,$C1426/60))))","v":0},{"$f":"IF(SUM(T$1262:T1425)>0,0,\nIF(MAX(L1426:L$2702)=MAX(L$1262:L$2702),0,\nIF(Hydrograph_Source_WQCV=\"USER\",IF(J1426>0.01*D$2703,0,$C1426/60),\nIF(J1426>0.01*J$2703,0,$C1426/60))))","v":0},0,0,0,0,{"$error":"#VALUE!"},{"$error":"#VALUE!"},{"$error":"#VALUE!"},{"$error":"#VALUE!"},{"$error":"#VALUE!"},{"$error":"#VALUE!"},{"$error":"#VALUE!"},{"$error":"#VALUE!"},{"$error":"#VALUE!"},{"$error":"#VALUE!"},{"$error":"#VALUE!"},{"$f":"IF(SUM(AJ$1262:AJ1425)>0,0,IF(MAX(AC1426:AC$2702)=MAX(AC$1262:AC$2702),0,IF(AA1426>0.03*U$2703,0,$C1426/60)))","v":{"$error":"#VALUE!"}},{"$f":"IF(SUM(AK$1262:AK1425)>0,0,IF(MAX(AC1426:AC$2702)=MAX(AC$1262:AC$2702),0,IF(AA1426>0.01*U$2703,0,$C1426/60)))","v":{"$error":"#VALUE!"}},0,0,0,0,{"$error":"#VALUE!"},{"$error":"#VALUE!"},{"$error":"#VALUE!"},{"$error":"#VALUE!"},{"$error":"#VALUE!"},{"$error":"#VALUE!"},{"$error":"#VALUE!"},{"$error":"#VALUE!"},{"$error":"#VALUE!"},{"$error":"#VALUE!"},{"$error":"#VALUE!"},{"$f":"IF(SUM(BA$1262:BA1425)>0,0,IF(MAX(AT1426:AT$2702)=MAX(AT$1262:AT$2702),0,IF(AR1426>0.03*AL$2703,0,$C1426/60)))","v":{"$error":"#VALUE!"}},{"$f":"IF(SUM(BB$1262:BB1425)>0,0,IF(MAX(AT1426:AT$2702)=MAX(AT$1262:AT$2702),0,IF(AR1426>0.01*AL$2703,0,$C1426/60)))","v":{"$error":"#VALUE!"}},0,0,0,0,{"$error":"#VALUE!"},{"$error":"#VALUE!"},{"$error":"#VALUE!"},{"$error":"#VALUE!"},{"$error":"#VALUE!"},{"$error":"#VALUE!"},{"$error":"#VALUE!"},{"$error":"#VALUE!"},{"$error":"#VALUE!"},{"$error":"#VALUE!"},{"$error":"#VALUE!"},{"$f":"IF(SUM(BR$1262:BR1425)>0,0,IF(MAX(BK1426:BK$2702)=MAX(BK$1262:BK$2702),0,IF(BI1426>0.03*BC$2703,0,$C1426/60)))","v":{"$error":"#VALUE!"}},{"$f":"IF(SUM(BS$1262:BS1425)>0,0,IF(MAX(BK1426:BK$2702)=MAX(BK$1262:BK$2702),0,IF(BI1426>0.01*BC$2703,0,$C1426/60)))","v":{"$error":"#VALUE!"}},0,0,0,0,{"$error":"#VALUE!"},{"$error":"#VALUE!"},{"$error":"#VALUE!"},{"$error":"#VALUE!"},{"$error":"#VALUE!"},{"$error":"#VALUE!"},{"$error":"#VALUE!"},{"$error":"#VALUE!"},{"$error":"#VALUE!"},{"$error":"#VALUE!"},{"$error":"#VALUE!"},{"$f":"IF(SUM(CI$1262:CI1425)>0,0,IF(MAX(CB1426:CB$2702)=MAX(CB$1262:CB$2702),0,IF(BZ1426>0.03*BT$2703,0,$C1426/60)))","v":{"$error":"#VALUE!"}},{"$f":"IF(SUM(CJ$1262:CJ1425)>0,0,IF(MAX(CB1426:CB$2702)=MAX(CB$1262:CB$2702),0,IF(BZ1426>0.01*BT$2703,0,$C1426/60)))","v":{"$error":"#VALUE!"}},0,0,0,0,{"$error":"#VALUE!"},{"$error":"#VALUE!"},{"$error":"#VALUE!"},{"$error":"#VALUE!"},{"$error":"#VALUE!"},{"$error":"#VALUE!"},{"$error":"#VALUE!"},{"$error":"#VALUE!"},{"$error":"#VALUE!"},{"$error":"#VALUE!"},{"$error":"#VALUE!"},{"$f":"IF(SUM(CZ$1262:CZ1425)>0,0,IF(MAX(CS1426:CS$2702)=MAX(CS$1262:CS$2702),0,IF(CQ1426>0.03*CK$2703,0,$C1426/60)))","v":{"$error":"#VALUE!"}},{"$f":"IF(SUM(DA$1262:DA1425)>0,0,IF(MAX(CS1426:CS$2702)=MAX(CS$1262:CS$2702),0,IF(CQ1426>0.01*CK$2703,0,$C1426/60)))","v":{"$error":"#VALUE!"}}]
[null,13.75,825,0,0,0,0,0,0,0,0,0,{"$error":"#N/A"},{"$error":"#N/A"},{"$error":"#N/A"},{"$error":"#N/A"},{"$error":"#N/A"},{"$error":"#N/A"},{"$f":"IF(SUM(S$1262:S1426)>0,0,\nIF(MAX(L1427:L$2702)=MAX(L$1262:L$2702),0,\nIF(Hydrograph_Source_WQCV=\"USER\",IF(J1427>0.03*D$2703,0,$C1427/60),\nIF(J1427>0.03*J$2703,0,$C1427/60))))","v":0},{"$f":"IF(SUM(T$1262:T1426)>0,0,\nIF(MAX(L1427:L$2702)=MAX(L$1262:L$2702),0,\nIF(Hydrograph_Source_WQCV=\"USER\",IF(J1427>0.01*D$2703,0,$C1427/60),\nIF(J1427>0.01*J$2703,0,$C1427/60))))","v":0},0,0,0,0,{"$error":"#VALUE!"},{"$error":"#VALUE!"},{"$error":"#VALUE!"},{"$error":"#VALUE!"},{"$error":"#VALUE!"},{"$error":"#VALUE!"},{"$error":"#VALUE!"},{"$error":"#VALUE!"},{"$error":"#VALUE!"},{"$error":"#VALUE!"},{"$error":"#VALUE!"},{"$f":"IF(SUM(AJ$1262:AJ1426)>0,0,IF(MAX(AC1427:AC$2702)=MAX(AC$1262:AC$2702),0,IF(AA1427>0.03*U$2703,0,$C1427/60)))","v":{"$error":"#VALUE!"}},{"$f":"IF(SUM(AK$1262:AK1426)>0,0,IF(MAX(AC1427:AC$2702)=MAX(AC$1262:AC$2702),0,IF(AA1427>0.01*U$2703,0,$C1427/60)))","v":{"$error":"#VALUE!"}},0,0,0,0,{"$error":"#VALUE!"},{"$error":"#VALUE!"},{"$error":"#VALUE!"},{"$error":"#VALUE!"},{"$error":"#VALUE!"},{"$error":"#VALUE!"},{"$error":"#VALUE!"},{"$error":"#VALUE!"},{"$error":"#VALUE!"},{"$error":"#VALUE!"},{"$error":"#VALUE!"},{"$f":"IF(SUM(BA$1262:BA1426)>0,0,IF(MAX(AT1427:AT$2702)=MAX(AT$1262:AT$2702),0,IF(AR1427>0.03*AL$2703,0,$C1427/60)))","v":{"$error":"#VALUE!"}},{"$f":"IF(SUM(BB$1262:BB1426)>0,0,IF(MAX(AT1427:AT$2702)=MAX(AT$1262:AT$2702),0,IF(AR1427>0.01*AL$2703,0,$C1427/60)))","v":{"$error":"#VALUE!"}},0,0,0,0,{"$error":"#VALUE!"},{"$error":"#VALUE!"},{"$error":"#VALUE!"},{"$error":"#VALUE!"},{"$error":"#VALUE!"},{"$error":"#VALUE!"},{"$error":"#VALUE!"},{"$error":"#VALUE!"},{"$error":"#VALUE!"},{"$error":"#VALUE!"},{"$error":"#VALUE!"},{"$f":"IF(SUM(BR$1262:BR1426)>0,0,IF(MAX(BK1427:BK$2702)=MAX(BK$1262:BK$2702),0,IF(BI1427>0.03*BC$2703,0,$C1427/60)))","v":{"$error":"#VALUE!"}},{"$f":"IF(SUM(BS$1262:BS1426)>0,0,IF(MAX(BK1427:BK$2702)=MAX(BK$1262:BK$2702),0,IF(BI1427>0.01*BC$2703,0,$C1427/60)))","v":{"$error":"#VALUE!"}},0,0,0,0,{"$error":"#VALUE!"},{"$error":"#VALUE!"},{"$error":"#VALUE!"},{"$error":"#VALUE!"},{"$error":"#VALUE!"},{"$error":"#VALUE!"},{"$error":"#VALUE!"},{"$error":"#VALUE!"},{"$error":"#VALUE!"},{"$error":"#VALUE!"},{"$error":"#VALUE!"},{"$f":"IF(SUM(CI$1262:CI1426)>0,0,IF(MAX(CB1427:CB$2702)=MAX(CB$1262:CB$2702),0,IF(BZ1427>0.03*BT$2703,0,$C1427/60)))","v":{"$error":"#VALUE!"}},{"$f":"IF(SUM(CJ$1262:CJ1426)>0,0,IF(MAX(CB1427:CB$2702)=MAX(CB$1262:CB$2702),0,IF(BZ1427>0.01*BT$2703,0,$C1427/60)))","v":{"$error":"#VALUE!"}},0,0,0,0,{"$error":"#VALUE!"},{"$error":"#VALUE!"},{"$error":"#VALUE!"},{"$error":"#VALUE!"},{"$error":"#VALUE!"},{"$error":"#VALUE!"},{"$error":"#VALUE!"},{"$error":"#VALUE!"},{"$error":"#VALUE!"},{"$error":"#VALUE!"},{"$error":"#VALUE!"},{"$f":"IF(SUM(CZ$1262:CZ1426)>0,0,IF(MAX(CS1427:CS$2702)=MAX(CS$1262:CS$2702),0,IF(CQ1427>0.03*CK$2703,0,$C1427/60)))","v":{"$error":"#VALUE!"}},{"$f":"IF(SUM(DA$1262:DA1426)>0,0,IF(MAX(CS1427:CS$2702)=MAX(CS$1262:CS$2702),0,IF(CQ1427>0.01*CK$2703,0,$C1427/60)))","v":{"$error":"#VALUE!"}}]
[null,14.333333333333334,860,0,0,0,0,0,0,0,0,0,{"$error":"#N/A"},{"$error":"#N/A"},{"$error":"#N/A"},{"$error":"#N/A"},{"$error":"#N/A"},{"$error":"#N/A"},{"$f":"IF(SUM(S$1262:S1433)>0,0,\nIF(MAX(L1434:L$2702)=MAX(L$1262:L$2702),0,\nIF(Hydrograph_Source_WQCV=\"USER\",IF(J1434>0.03*D$2703,0,$C1434/60),\nIF(J1434>0.03*J$2703,0,$C1434/60))))","v":0},{"$f":"IF(SUM(T$1262:T1433)>0,0,\nIF(MAX(L1434:L$2702)=MAX(L$1262:L$2702),0,\nIF(Hydrograph_Source_WQCV=\"USER\",IF(J1434>0.01*D$2703,0,$C1434/60),\nIF(J1434>0.01*J$2703,0,$C1434/60))))","v":0},0,0,0,0,{"$error":"#VALUE!"},{"$error":"#VALUE!"},{"$error":"#VALUE!"},{"$error":"#VALUE!"},{"$error":"#VALUE!"},{"$error":"#VALUE!"},{"$error":"#VALUE!"},{"$error":"#VALUE!"},{"$error":"#VALUE!"},{"$error":"#VALUE!"},{"$error":"#VALUE!"},{"$f":"IF(SUM(AJ$1262:AJ1433)>0,0,IF(MAX(AC1434:AC$2702)=MAX(AC$1262:AC$2702),0,IF(AA1434>0.03*U$2703,0,$C1434/60)))","v":{"$error":"#VALUE!"}},{"$f":"IF(SUM(AK$1262:AK1433)>0,0,IF(MAX(AC1434:AC$2702)=MAX(AC$1262:AC$2702),0,IF(AA1434>0.01*U$2703,0,$C1434/60)))","v":{"$error":"#VALUE!"}},0,0,0,0,{"$error":"#VALUE!"},{"$error":"#VALUE!"},{"$error":"#VALUE!"},{"$error":"#VALUE!"},{"$error":"#VALUE!"},{"$error":"#VALUE!"},{"$error":"#VALUE!"},{"$error":"#VALUE!"},{"$error":"#VALUE!"},{"$error":"#VALUE!"},{"$error":"#VALUE!"},{"$f":"IF(SUM(BA$1262:BA1433)>0,0,IF(MAX(AT1434:AT$2702)=MAX(AT$1262:AT$2702),0,IF(AR1434>0.03*AL$2703,0,$C1434/60)))","v":{"$error":"#VALUE!"}},{"$f":"IF(SUM(BB$1262:BB1433)>0,0,IF(MAX(AT1434:AT$2702)=MAX(AT$1262:AT$2702),0,IF(AR1434>0.01*AL$2703,0,$C1434/60)))","v":{"$error":"#VALUE!"}},0,0,0,0,{"$error":"#VALUE!"},{"$error":"#VALUE!"},{"$error":"#VALUE!"},{"$error":"#VALUE!"},{"$error":"#VALUE!"},{"$error":"#VALUE!"},{"$error":"#VALUE!"},{"$error":"#VALUE!"},{"$error":"#VALUE!"},{"$error":"#VALUE!"},{"$error":"#VALUE!"},{"$f":"IF(SUM(BR$1262:BR1433)>0,0,IF(MAX(BK1434:BK$2702)=MAX(BK$1262:BK$2702),0,IF(BI1434>0.03*BC$2703,0,$C1434/60)))","v":{"$error":"#VALUE!"}},{"$f":"IF(SUM(BS$1262:BS1433)>0,0,IF(MAX(BK1434:BK$2702)=MAX(BK$1262:BK$2702),0,IF(BI1434>0.01*BC$2703,0,$C1434/60)))","v":{"$error":"#VALUE!"}},0,0,0,0,{"$error":"#VALUE!"},{"$error":"#VALUE!"},{"$error":"#VALUE!"},{"$error":"#VALUE!"},{"$error":"#VALUE!"},{"$error":"#VALUE!"},{"$error":"#VALUE!"},{"$error":"#VALUE!"},{"$error":"#VALUE!"},{"$error":"#VALUE!"},{"$error":"#VALUE!"},{"$f":"IF(SUM(CI$1262:CI1433)>0,0,IF(MAX(CB1434:CB$2702)=MAX(CB$1262:CB$2702),0,IF(BZ1434>0.03*BT$2703,0,$C1434/60)))","v":{"$error":"#VALUE!"}},{"$f":"IF(SUM(CJ$1262:CJ1433)>0,0,IF(MAX(CB1434:CB$2702)=MAX(CB$1262:CB$2702),0,IF(BZ1434>0.01*BT$2703,0,$C1434/60)))","v":{"$error":"#VALUE!"}},0,0,0,0,{"$error":"#VALUE!"},{"$error":"#VALUE!"},{"$error":"#VALUE!"},{"$error":"#VALUE!"},{"$error":"#VALUE!"},{"$error":"#VALUE!"},{"$error":"#VALUE!"},{"$error":"#VALUE!"},{"$error":"#VALUE!"},{"$error":"#VALUE!"},{"$error":"#VALUE!"},{"$f":"IF(SUM(CZ$1262:CZ1433)>0,0,IF(MAX(CS1434:CS$2702)=MAX(CS$1262:CS$2702),0,IF(CQ1434>0.03*CK$2703,0,$C1434/60)))","v":{"$error":"#VALUE!"}},{"$f":"IF(SUM(DA$1262:DA1433)>0,0,IF(MAX(CS1434:CS$2702)=MAX(CS$1262:CS$2702),0,IF(CQ1434>0.01*CK$2703,0,$C1434/60)))","v":{"$error":"#VALUE!"}}]
[null,14.666666666666666,880,0,0,0,0,0,0,0,0,0,{"$error":"#N/A"},{"$error":"#N/A"},{"$error":"#N/A"},{"$error":"#N/A"},{"$error":"#N/A"},{"$error":"#N/A"},{"$f":"IF(SUM(S$1262:S1437)>0,0,\nIF(MAX(L1438:L$2702)=MAX(L$1262:L$2702),0,\nIF(Hydrograph_Source_WQCV=\"USER\",IF(J1438>0.03*D$2703,0,$C1438/60),\nIF(J1438>0.03*J$2703,0,$C1438/60))))","v":0},{"$f":"IF(SUM(T$1262:T1437)>0,0,\nIF(MAX(L1438:L$2702)=MAX(L$1262:L$2702),0,\nIF(Hydrograph_Source_WQCV=\"USER\",IF(J1438>0.01*D$2703,0,$C1438/60),\nIF(J1438>0.01*J$2703,0,$C1438/60))))","v":0},0,0,0,0,{"$error":"#VALUE!"},{"$error":"#VALUE!"},{"$error":"#VALUE!"},{"$error":"#VALUE!"},{"$error":"#VALUE!"},{"$error":"#VALUE!"},{"$error":"#VALUE!"},{"$error":"#VALUE!"},{"$error":"#VALUE!"},{"$error":"#VALUE!"},{"$error":"#VALUE!"},{"$f":"IF(SUM(AJ$1262:AJ1437)>0,0,IF(MAX(AC1438:AC$2702)=MAX(AC$1262:AC$2702),0,IF(AA1438>0.03*U$2703,0,$C1438/60)))","v":{"$error":"#VALUE!"}},{"$f":"IF(SUM(AK$1262:AK1437)>0,0,IF(MAX(AC1438:AC$2702)=MAX(AC$1262:AC$2702),0,IF(AA1438>0.01*U$2703,0,$C1438/60)))","v":{"$error":"#VALUE!"}},0,0,0,0,{"$error":"#VALUE!"},{"$error":"#VALUE!"},{"$error":"#VALUE!"},{"$error":"#VALUE!"},{"$error":"#VALUE!"},{"$error":"#VALUE!"},{"$error":"#VALUE!"},{"$error":"#VALUE!"},{"$error":"#VALUE!"},{"$error":"#VALUE!"},{"$error":"#VALUE!"},{"$f":"IF(SUM(BA$1262:BA1437)>0,0,IF(MAX(AT1438:AT$2702)=MAX(AT$1262:AT$2702),0,IF(AR1438>0.03*AL$2703,0,$C1438/60)))","v":{"$error":"#VALUE!"}},{"$f":"IF(SUM(BB$1262:BB1437)>0,0,IF(MAX(AT1438:AT$2702)=MAX(AT$1262:AT$2702),0,IF(AR1438>0.01*AL$2703,0,$C1438/60)))","v":{"$error":"#VALUE!"}},0,0,0,0,{"$error":"#VALUE!"},{"$error":"#VALUE!"},{"$error":"#VALUE!"},{"$error":"#VALUE!"},{"$error":"#VALUE!"},{"$error":"#VALUE!"},{"$error":"#VALUE!"},{"$error":"#VALUE!"},{"$error":"#VALUE!"},{"$error":"#VALUE!"},{"$error":"#VALUE!"},{"$f":"IF(SUM(BR$1262:BR1437)>0,0,IF(MAX(BK1438:BK$2702)=MAX(BK$1262:BK$2702),0,IF(BI1438>0.03*BC$2703,0,$C1438/60)))","v":{"$error":"#VALUE!"}},{"$f":"IF(SUM(BS$1262:BS1437)>0,0,IF(MAX(BK1438:BK$2702)=MAX(BK$1262:BK$2702),0,IF(BI1438>0.01*BC$2703,0,$C1438/60)))","v":{"$error":"#VALUE!"}},0,0,0,0,{"$error":"#VALUE!"},{"$error":"#VALUE!"},{"$error":"#VALUE!"},{"$error":"#VALUE!"},{"$error":"#VALUE!"},{"$error":"#VALUE!"},{"$error":"#VALUE!"},{"$error":"#VALUE!"},{"$error":"#VALUE!"},{"$error":"#VALUE!"},{"$error":"#VALUE!"},{"$f":"IF(SUM(CI$1262:CI1437)>0,0,IF(MAX(CB1438:CB$2702)=MAX(CB$1262:CB$2702),0,IF(BZ1438>0.03*BT$2703,0,$C1438/60)))","v":{"$error":"#VALUE!"}},{"$f":"IF(SUM(CJ$1262:CJ1437)>0,0,IF(MAX(CB1438:CB$2702)=MAX(CB$1262:CB$2702),0,IF(BZ1438>0.01*BT$2703,0,$C1438/60)))","v":{"$error":"#VALUE!"}},0,0,0,0,{"$error":"#VALUE!"},{"$error":"#VALUE!"},{"$error":"#VALUE!"},{"$error":"#VALUE!"},{"$error":"#VALUE!"},{"$error":"#VALUE!"},{"$error":"#VALUE!"},{"$error":"#VALUE!"},{"$error":"#VALUE!"},{"$error":"#VALUE!"},{"$error":"#VALUE!"},{"$f":"IF(SUM(CZ$1262:CZ1437)>0,0,IF(MAX(CS1438:CS$2702)=MAX(CS$1262:CS$2702),0,IF(CQ1438>0.03*CK$2703,0,$C1438/60)))","v":{"$error":"#VALUE!"}},{"$f":"IF(SUM(DA$1262:DA1437)>0,0,IF(MAX(CS1438:CS$2702)=MAX(CS$1262:CS$2702),0,IF(CQ1438>0.01*CK$2703,0,$C1438/60)))","v":{"$error":"#VALUE!"}}]
[null,15.083333333333334,905,0,0,0,0,0,0,0,0,0,{"$error":"#N/A"},{"$error":"#N/A"},{"$error":"#N/A"},{"$error":"#N/A"},{"$error":"#N/A"},{"$error":"#N/A"},{"$f":"IF(SUM(S$1262:S1442)>0,0,\nIF(MAX(L1443:L$2702)=MAX(L$1262:L$2702),0,\nIF(Hydrograph_Source_WQCV=\"USER\",IF(J1443>0.03*D$2703,0,$C1443/60),\nIF(J1443>0.03*J$2703,0,$C1443/60))))","v":0},{"$f":"IF(SUM(T$1262:T1442)>0,0,\nIF(MAX(L1443:L$2702)=MAX(L$1262:L$2702),0,\nIF(Hydrograph_Source_WQCV=\"USER\",IF(J1443>0.01*D$2703,0,$C1443/60),\nIF(J1443>0.01*J$2703,0,$C1443/60))))","v":0},0,0,0,0,{"$error":"#VALUE!"},{"$error":"#VALUE!"},{"$error":"#VALUE!"},{"$error":"#VALUE!"},{"$error":"#VALUE!"},{"$error":"#VALUE!"},{"$error":"#VALUE!"},{"$error":"#VALUE!"},{"$error":"#VALUE!"},{"$error":"#VALUE!"},{"$error":"#VALUE!"},{"$f":"IF(SUM(AJ$1262:AJ1442)>0,0,IF(MAX(AC1443:AC$2702)=MAX(AC$1262:AC$2702),0,IF(AA1443>0.03*U$2703,0,$C1443/60)))","v":{"$error":"#VALUE!"}},{"$f":"IF(SUM(AK$1262:AK1442)>0,0,IF(MAX(AC1443:AC$2702)=MAX(AC$1262:AC$2702),0,IF(AA1443>0.01*U$2703,0,$C1443/60)))","v":{"$error":"#VALUE!"}},0,0,0,0,{"$error":"#VALUE!"},{"$error":"#VALUE!"},{"$error":"#VALUE!"},{"$error":"#VALUE!"},{"$error":"#VALUE!"},{"$error":"#VALUE!"},{"$error":"#VALUE!"},{"$error":"#VALUE!"},{"$error":"#VALUE!"},{"$error":"#VALUE!"},{"$error":"#VALUE!"},{"$f":"IF(SUM(BA$1262:BA1442)>0,0,IF(MAX(AT1443:AT$2702)=MAX(AT$1262:AT$2702),0,IF(AR1443>0.03*AL$2703,0,$C1443/60)))","v":{"$error":"#VALUE!"}},{"$f":"IF(SUM(BB$1262:BB1442)>0,0,IF(MAX(AT1443:AT$2702)=MAX(AT$1262:AT$2702),0,IF(AR1443>0.01*AL$2703,0,$C1443/60)))","v":{"$error":"#VALUE!"}},0,0,0,0,{"$error":"#VALUE!"},{"$error":"#VALUE!"},{"$error":"#VALUE!"},{"$error":"#VALUE!"},{"$error":"#VALUE!"},{"$error":"#VALUE!"},{"$error":"#VALUE!"},{"$error":"#VALUE!"},{"$error":"#VALUE!"},{"$error":"#VALUE!"},{"$error":"#VALUE!"},{"$f":"IF(SUM(BR$1262:BR1442)>0,0,IF(MAX(BK1443:BK$2702)=MAX(BK$1262:BK$2702),0,IF(BI1443>0.03*BC$2703,0,$C1443/60)))","v":{"$error":"#VALUE!"}},{"$f":"IF(SUM(BS$1262:BS1442)>0,0,IF(MAX(BK1443:BK$2702)=MAX(BK$1262:BK$2702),0,IF(BI1443>0.01*BC$2703,0,$C1443/60)))","v":{"$error":"#VALUE!"}},0,0,0,0,{"$error":"#VALUE!"},{"$error":"#VALUE!"},{"$error":"#VALUE!"},{"$error":"#VALUE!"},{"$error":"#VALUE!"},{"$error":"#VALUE!"},{"$error":"#VALUE!"},{"$error":"#VALUE!"},{"$error":"#VALUE!"},{"$error":"#VALUE!"},{"$error":"#VALUE!"},{"$f":"IF(SUM(CI$1262:CI1442)>0,0,IF(MAX(CB1443:CB$2702)=MAX(CB$1262:CB$2702),0,IF(BZ1443>0.03*BT$2703,0,$C1443/60)))","v":{"$error":"#VALUE!"}},{"$f":"IF(SUM(CJ$1262:CJ1442)>0,0,IF(MAX(CB1443:CB$2702)=MAX(CB$1262:CB$2702),0,IF(BZ1443>0.01*BT$2703,0,$C1443/60)))","v":{"$error":"#VALUE!"}},0,0,0,0,{"$error":"#VALUE!"},{"$error":"#VALUE!"},{"$error":"#VALUE!"},{"$error":"#VALUE!"},{"$error":"#VALUE!"},{"$error":"#VALUE!"},{"$error":"#VALUE!"},{"$error":"#VALUE!"},{"$error":"#VALUE!"},{"$error":"#VALUE!"},{"$error":"#VALUE!"},{"$f":"IF(SUM(CZ$1262:CZ1442)>0,0,IF(MAX(CS1443:CS$2702)=MAX(CS$1262:CS$2702),0,IF(CQ1443>0.03*CK$2703,0,$C1443/60)))","v":{"$error":"#VALUE!"}},{"$f":"IF(SUM(DA$1262:DA1442)>0,0,IF(MAX(CS1443:CS$2702)=MAX(CS$1262:CS$2702),0,IF(CQ1443>0.01*CK$2703,0,$C1443/60)))","v":{"$error":"#VALUE!"}}]
[null,15.5,930,0,0,0,0,0,0,0,0,0,{"$error":"#N/A"},{"$error":"#N/A"},{"$error":"#N/A"},{"$error":"#N/A"},{"$error":"#N/A"},{"$error":"#N/A"},{"$f":"IF(SUM(S$1262:S1447)>0,0,\nIF(MAX(L1448:L$2702)=MAX(L$1262:L$2702),0,\nIF(Hydrograph_Source_WQCV=\"USER\",IF(J1448>0.03*D$2703,0,$C1448/60),\nIF(J1448>0.03*J$2703,0,$C1448/60))))","v":0},{"$f":"IF(SUM(T$1262:T1447)>0,0,\nIF(MAX(L1448:L$2702)=MAX(L$1262:L$2702),0,\nIF(Hydrograph_Source_WQCV=\"USER\",IF(J1448>0.01*D$2703,0,$C1448/60),\nIF(J1448>0.01*J$2703,0,$C1448/60))))","v":0},0,0,0,0,{"$error":"#VALUE!"},{"$error":"#VALUE!"},{"$error":"#VALUE!"},{"$error":"#VALUE!"},{"$error":"#VALUE!"},{"$error":"#VALUE!"},{"$error":"#VALUE!"},{"$error":"#VALUE!"},{"$error":"#VALUE!"},{"$error":"#VALUE!"},{"$error":"#VALUE!"},{"$f":"IF(SUM(AJ$1262:AJ1447)>0,0,IF(MAX(AC1448:AC$2702)=MAX(AC$1262:AC$2702),0,IF(AA1448>0.03*U$2703,0,$C1448/60)))","v":{"$error":"#VALUE!"}},{"$f":"IF(SUM(AK$1262:AK1447)>0,0,IF(MAX(AC1448:AC$2702)=MAX(AC$1262:AC$2702),0,IF(AA1448>0.01*U$2703,0,$C1448/60)))","v":{"$error":"#VALUE!"}},0,0,0,0,{"$error":"#VALUE!"},{"$error":"#VALUE!"},{"$error":"#VALUE!"},{"$error":"#VALUE!"},{"$error":"#VALUE!"},{"$error":"#VALUE!"},{"$error":"#VALUE!"},{"$error":"#VALUE!"},{"$error":"#VALUE!"},{"$error":"#VALUE!"},{"$error":"#VALUE!"},{"$f":"IF(SUM(BA$1262:BA1447)>0,0,IF(MAX(AT1448:AT$2702)=MAX(AT$1262:AT$2702),0,IF(AR1448>0.03*AL$2703,0,$C1448/60)))","v":{"$error":"#VALUE!"}},{"$f":"IF(SUM(BB$1262:BB1447)>0,0,IF(MAX(AT1448:AT$2702)=MAX(AT$1262:AT$2702),0,IF(AR1448>0.01*AL$2703,0,$C1448/60)))","v":{"$error":"#VALUE!"}},0,0,0,0,{"$error":"#VALUE!"},{"$error":"#VALUE!"},{"$error":"#VALUE!"},{"$error":"#VALUE!"},{"$error":"#VALUE!"},{"$error":"#VALUE!"},{"$error":"#VALUE!"},{"$error":"#VALUE!"},{"$error":"#VALUE!"},{"$error":"#VALUE!"},{"$error":"#VALUE!"},{"$f":"IF(SUM(BR$1262:BR1447)>0,0,IF(MAX(BK1448:BK$2702)=MAX(BK$1262:BK$2702),0,IF(BI1448>0.03*BC$2703,0,$C1448/60)))","v":{"$error":"#VALUE!"}},{"$f":"IF(SUM(BS$1262:BS1447)>0,0,IF(MAX(BK1448:BK$2702)=MAX(BK$1262:BK$2702),0,IF(BI1448>0.01*BC$2703,0,$C1448/60)))","v":{"$error":"#VALUE!"}},0,0,0,0,{"$error":"#VALUE!"},{"$error":"#VALUE!"},{"$error":"#VALUE!"},{"$error":"#VALUE!"},{"$error":"#VALUE!"},{"$error":"#VALUE!"},{"$error":"#VALUE!"},{"$error":"#VALUE!"},{"$error":"#VALUE!"},{"$error":"#VALUE!"},{"$error":"#VALUE!"},{"$f":"IF(SUM(CI$1262:CI1447)>0,0,IF(MAX(CB1448:CB$2702)=MAX(CB$1262:CB$2702),0,IF(BZ1448>0.03*BT$2703,0,$C1448/60)))","v":{"$error":"#VALUE!"}},{"$f":"IF(SUM(CJ$1262:CJ1447)>0,0,IF(MAX(CB1448:CB$2702)=MAX(CB$1262:CB$2702),0,IF(BZ1448>0.01*BT$2703,0,$C1448/60)))","v":{"$error":"#VALUE!"}},0,0,0,0,{"$error":"#VALUE!"},{"$error":"#VALUE!"},{"$error":"#VALUE!"},{"$error":"#VALUE!"},{"$error":"#VALUE!"},{"$error":"#VALUE!"},{"$error":"#VALUE!"},{"$error":"#VALUE!"},{"$error":"#VALUE!"},{"$error":"#VALUE!"},{"$error":"#VALUE!"},{"$f":"IF(SUM(CZ$1262:CZ1447)>0,0,IF(MAX(CS1448:CS$2702)=MAX(CS$1262:CS$2702),0,IF(CQ1448>0.03*CK$2703,0,$C1448/60)))","v":{"$error":"#VALUE!"}},{"$f":"IF(SUM(DA$1262:DA1447)>0,0,IF(MAX(CS1448:CS$2702)=MAX(CS$1262:CS$2702),0,IF(CQ1448>0.01*CK$2703,0,$C1448/60)))","v":{"$error":"#VALUE!"}}]
[null,15.666666666666666,940,0,0,0,0,0,0,0,0,0,{"$error":"#N/A"},{"$error":"#N/A"},{"$error":"#N/A"},{"$error":"#N/A"},{"$error":"#N/A"},{"$error":"#N/A"},{"$f":"IF(SUM(S$1262:S1449)>0,0,\nIF(MAX(L1450:L$2702)=MAX(L$1262:L$2702),0,\nIF(Hydrograph_Source_WQCV=\"USER\",IF(J1450>0.03*D$2703,0,$C1450/60),\nIF(J1450>0.03*J$2703,0,$C1450/60))))","v":0},{"$f":"IF(SUM(T$1262:T1449)>0,0,\nIF(MAX(L1450:L$2702)=MAX(L$1262:L$2702),0,\nIF(Hydrograph_Source_WQCV=\"USER\",IF(J1450>0.01*D$2703,0,$C1450/60),\nIF(J1450>0.01*J$2703,0,$C1450/60))))","v":0},0,0,0,0,{"$error":"#VALUE!"},{"$error":"#VALUE!"},{"$error":"#VALUE!"},{"$error":"#VALUE!"},{"$error":"#VALUE!"},{"$error":"#VALUE!"},{"$error":"#VALUE!"},{"$error":"#VALUE!"},{"$error":"#VALUE!"},{"$error":"#VALUE!"},{"$error":"#VALUE!"},{"$f":"IF(SUM(AJ$1262:AJ1449)>0,0,IF(MAX(AC1450:AC$2702)=MAX(AC$1262:AC$2702),0,IF(AA1450>0.03*U$2703,0,$C1450/60)))","v":{"$error":"#VALUE!"}},{"$f":"IF(SUM(AK$1262:AK1449)>0,0,IF(MAX(AC1450:AC$2702)=MAX(AC$1262:AC$2702),0,IF(AA1450>0.01*U$2703,0,$C1450/60)))","v":{"$error":"#VALUE!"}},0,0,0,0,{"$error":"#VALUE!"},{"$error":"#VALUE!"},{"$error":"#VALUE!"},{"$error":"#VALUE!"},{"$error":"#VALUE!"},{"$error":"#VALUE!"},{"$error":"#VALUE!"},{"$error":"#VALUE!"},{"$error":"#VALUE!"},{"$error":"#VALUE!"},{"$error":"#VALUE!"},{"$f":"IF(SUM(BA$1262:BA1449)>0,0,IF(MAX(AT1450:AT$2702)=MAX(AT$1262:AT$2702),0,IF(AR1450>0.03*AL$2703,0,$C1450/60)))","v":{"$error":"#VALUE!"}},{"$f":"IF(SUM(BB$1262:BB1449)>0,0,IF(MAX(AT1450:AT$2702)=MAX(AT$1262:AT$2702),0,IF(AR1450>0.01*AL$2703,0,$C1450/60)))","v":{"$error":"#VALUE!"}},0,0,0,0,{"$error":"#VALUE!"},{"$error":"#VALUE!"},{"$error":"#VALUE!"},{"$error":"#VALUE!"},{"$error":"#VALUE!"},{"$error":"#VALUE!"},{"$error":"#VALUE!"},{"$error":"#VALUE!"},{"$error":"#VALUE!"},{"$error":"#VALUE!"},{"$error":"#VALUE!"},{"$f":"IF(SUM(BR$1262:BR1449)>0,0,IF(MAX(BK1450:BK$2702)=MAX(BK$1262:BK$2702),0,IF(BI1450>0.03*BC$2703,0,$C1450/60)))","v":{"$error":"#VALUE!"}},{"$f":"IF(SUM(BS$1262:BS1449)>0,0,IF(MAX(BK1450:BK$2702)=MAX(BK$1262:BK$2702),0,IF(BI1450>0.01*BC$2703,0,$C1450/60)))","v":{"$error":"#VALUE!"}},0,0,0,0,{"$error":"#VALUE!"},{"$error":"#VALUE!"},{"$error":"#VALUE!"},{"$error":"#VALUE!"},{"$error":"#VALUE!"},{"$error":"#VALUE!"},{"$error":"#VALUE!"},{"$error":"#VALUE!"},{"$error":"#VALUE!"},{"$error":"#VALUE!"},{"$error":"#VALUE!"},{"$f":"IF(SUM(CI$1262:CI1449)>0,0,IF(MAX(CB1450:CB$2702)=MAX(CB$1262:CB$2702),0,IF(BZ1450>0.03*BT$2703,0,$C1450/60)))","v":{"$error":"#VALUE!"}},{"$f":"IF(SUM(CJ$1262:CJ1449)>0,0,IF(MAX(CB1450:CB$2702)=MAX(CB$1262:CB$2702),0,IF(BZ1450>0.01*BT$2703,0,$C1450/60)))","v":{"$error":"#VALUE!"}},0,0,0,0,{"$error":"#VALUE!"},{"$error":"#VALUE!"},{"$error":"#VALUE!"},{"$error":"#VALUE!"},{"$error":"#VALUE!"},{"$error":"#VALUE!"},{"$error":"#VALUE!"},{"$error":"#VALUE!"},{"$error":"#VALUE!"},{"$error":"#VALUE!"},{"$error":"#VALUE!"},{"$f":"IF(SUM(CZ$1262:CZ1449)>0,0,IF(MAX(CS1450:CS$2702)=MAX(CS$1262:CS$2702),0,IF(CQ1450>0.03*CK$2703,0,$C1450/60)))","v":{"$error":"#VALUE!"}},{"$f":"IF(SUM(DA$1262:DA1449)>0,0,IF(MAX(CS1450:CS$2702)=MAX(CS$1262:CS$2702),0,IF(CQ1450>0.01*CK$2703,0,$C1450/60)))","v":{"$error":"#VALUE!"}}]
[null,16.083333333333332,{"$f":"C1454+$C$1260","v":965},0,0,{"$f":"G1454","v":0},0,{"$f":"I1454","v":0},0,0,0,{"$f":"IF($D$1263=\"\",0,ROUND((R1455*K1455+Q1455-R1455*P1455),7))","v":0},{"$error":"#N/A"},{"$error":"#N/A"},{"$error":"#N/A"},{"$error":"#N/A"},{"$error":"#N/A"},{"$error":"#N/A"},{"$f":"IF(SUM(S$1262:S1454)>0,0,\nIF(MAX(L1455:L$2702)=MAX(L$1262:L$2702),0,\nIF(Hydrograph_Source_WQCV=\"USER\",IF(J1455>0.03*D$2703,0,$C1455/60),\nIF(J1455>0.03*J$2703,0,$C1455/60))))","v":0},{"$f":"IF(SUM(T$1262:T1454)>0,0,\nIF(MAX(L1455:L$2702)=MAX(L$1262:L$2702),0,\nIF(Hydrograph_Source_WQCV=\"USER\",IF(J1455>0.01*D$2703,0,$C1455/60),\nIF(J1455>0.01*J$2703,0,$C1455/60))))","v":0},0,0,{"$f":"X1454","v":0},0,{"$f":"Z1454","v":{"$error":"#VALUE!"}},{"$error":"#VALUE!"},{"$error":"#VALUE!"},{"$error":"#VALUE!"},{"$f":"IF($U$1263=\"\",0,ROUND((AI1455*AB1455+AH1455-AI1455*AG1455),7))","v":{"$error":"#VALUE!"}},{"$error":"#VALUE!"},{"$error":"#VALUE!"},{"$error":"#VALUE!"},{"$error":"#VALUE!"},{"$error":"#VALUE!"},{"$error":"#VALUE!"},{"$f":"IF(SUM(AJ$1262:AJ1454)>0,0,IF(MAX(AC1455:AC$2702)=MAX(AC$1262:AC$2702),0,IF(AA1455>0.03*U$2703,0,$C1455/60)))","v":{"$error":"#VALUE!"}},{"$f":"IF(SUM(AK$1262:AK1454)>0,0,IF(MAX(AC1455:AC$2702)=MAX(AC$1262:AC$2702),0,IF(AA1455>0.01*U$2703,0,$C1455/60)))","v":{"$error":"#VALUE!"}},0,0,{"$f":"AO1454","v":0},0,{"$f":"AQ1454","v":{"$error":"#VALUE!"}},{"$error":"#VALUE!"},{"$error":"#VALUE!"},{"$error":"#VALUE!"},{"$f":"IF($AL$1263=\"\",0,ROUND((AZ1455*AS1455+AY1455-AZ1455*AX1455),7))","v":{"$error":"#VALUE!"}},{"$error":"#VALUE!"},{"$error":"#VALUE!"},{"$error":"#VALUE!"},{"$error":"#VALUE!"},{"$error":"#VALUE!"},{"$error":"#VALUE!"},{"$f":"IF(SUM(BA$1262:BA1454)>0,0,IF(MAX(AT1455:AT$2702)=MAX(AT$1262:AT$2702),0,IF(AR1455>0.03*AL$2703,0,$C1455/60)))","v":{"$error":"#VALUE!"}},{"$f":"IF(SUM(BB$1262:BB1454)>0,0,IF(MAX(AT1455:AT$2702)=MAX(AT$1262:AT$2702),0,IF(AR1455>0.01*AL$2703,0,$C1455/60)))","v":{"$error":"#VALUE!"}},0,0,{"$f":"BF1454","v":0},0,{"$f":"BH1454","v":{"$error":"#VALUE!"}},{"$error":"#VALUE!"},{"$error":"#VALUE!"},{"$error":"#VALUE!"},{"$f":"IF($BC$1263=\"\",0,ROUND((BQ1455*BJ1455+BP1455-BQ1455*BO1455),7))","v":{"$error":"#VALUE!"}},{"$error":"#VALUE!"},{"$error":"#VALUE!"},{"$error":"#VALUE!"},{"$error":"#VALUE!"},{"$error":"#VALUE!"},{"$error":"#VALUE!"},{"$f":"IF(SUM(BR$1262:BR1454)>0,0,IF(MAX(BK1455:BK$2702)=MAX(BK$1262:BK$2702),0,IF(BI1455>0.03*BC$2703,0,$C1455/60)))","v":{"$error":"#VALUE!"}},{"$f":"IF(SUM(BS$1262:BS1454)>0,0,IF(MAX(BK1455:BK$2702)=MAX(BK$1262:BK$2702),0,IF(BI1455>0.01*BC$2703,0,$C1455/60)))","v":{"$error":"#VALUE!"}},0,0,{"$f":"BW1454","v":0},0,{"$f":"BY1454","v":{"$error":"#VALUE!"}},{"$error":"#VALUE!"},{"$error":"#VALUE!"},{"$error":"#VALUE!"},{"$f":"IF($BT$1263=\"\",0,ROUND((CH1455*CA1455+CG1455-CH1455*CF1455),7))","v":{"$error":"#VALUE!"}},{"$error":"#VALUE!"},{"$error":"#VALUE!"},{"$error":"#VALUE!"},{"$error":"#VALUE!"},{"$error":"#VALUE!"},{"$error":"#VALUE!"},{"$f":"IF(SUM(CI$1262:CI1454)>0,0,IF(MAX(CB1455:CB$2702)=MAX(CB$1262:CB$2702),0,IF(BZ1455>0.03*BT$2703,0,$C1455/60)))","v":{"$error":"#VALUE!"}},{"$f":"IF(SUM(CJ$1262:CJ1454)>0,0,IF(MAX(CB1455:CB$2702)=MAX(CB$1262:CB$2702),0,IF(BZ1455>0.01*BT$2703,0,$C1455/60)))","v":{"$error":"#VALUE!"}},0,0,{"$f":"CN1454","v":0},0,{"$f":"CP1454","v":{"$error":"#VALUE!"}},{"$error":"#VALUE!"},{"$error":"#VALUE!"},{"$error":"#VALUE!"},{"$error":"#VALUE!"},{"$error":"#VALUE!"},{"$error":"#VALUE!"},{"$error":"#VALUE!"},{"$error":"#VALUE!"},{"$error":"#VALUE!"},{"$error":"#VALUE!"},{"$f":"IF(SUM(CZ$1262:CZ1454)>0,0,IF(MAX(CS1455:CS$2702)=MAX(CS$1262:CS$2702),0,IF(CQ1455>0.03*CK$2703,0,$C1455/60)))","v":{"$error":"#VALUE!"}},{"$f":"IF(SUM(DA$1262:DA1454)>0,0,IF(MAX(CS1455:CS$2702)=MAX(CS$1262:CS$2702),0,IF(CQ1455>0.01*CK$2703,0,$C1455/60)))","v":{"$error":"#VALUE!"}}]
[null,16.25,975,0,0,0,0,0,0,0,0,0,{"$error":"#N/A"},{"$error":"#N/A"},{"$error":"#N/A"},{"$error":"#N/A"},{"$error":"#N/A"},{"$error":"#N/A"},{"$f":"IF(SUM(S$1262:S1456)>0,0,\nIF(MAX(L1457:L$2702)=MAX(L$1262:L$2702),0,\nIF(Hydrograph_Source_WQCV=\"USER\",IF(J1457>0.03*D$2703,0,$C1457/60),\nIF(J1457>0.03*J$2703,0,$C1457/60))))","v":0},{"$f":"IF(SUM(T$1262:T1456)>0,0,\nIF(MAX(L1457:L$2702)=MAX(L$1262:L$2702),0,\nIF(Hydrograph_Source_WQCV=\"USER\",IF(J1457>0.01*D$2703,0,$C1457/60),\nIF(J1457>0.01*J$2703,0,$C1457/60))))","v":0},0,0,0,0,{"$error":"#VALUE!"},{"$error":"#VALUE!"},{"$error":"#VALUE!"},{"$error":"#VALUE!"},{"$error":"#VALUE!"},{"$error":"#VALUE!"},{"$error":"#VALUE!"},{"$error":"#VALUE!"},{"$error":"#VALUE!"},{"$error":"#VALUE!"},{"$error":"#VALUE!"},{"$f":"IF(SUM(AJ$1262:AJ1456)>0,0,IF(MAX(AC1457:AC$2702)=MAX(AC$1262:AC$2702),0,IF(AA1457>0.03*U$2703,0,$C1457/60)))","v":{"$error":"#VALUE!"}},{"$f":"IF(SUM(AK$1262:AK1456)>0,0,IF(MAX(AC1457:AC$2702)=MAX(AC$1262:AC$2702),0,IF(AA1457>0.01*U$2703,0,$C1457/60)))","v":{"$error":"#VALUE!"}},0,0,0,0,{"$error":"#VALUE!"},{"$error":"#VALUE!"},{"$error":"#VALUE!"},{"$error":"#VALUE!"},{"$error":"#VALUE!"},{"$error":"#VALUE!"},{"$error":"#VALUE!"},{"$error":"#VALUE!"},{"$error":"#VALUE!"},{"$error":"#VALUE!"},{"$error":"#VALUE!"},{"$f":"IF(SUM(BA$1262:BA1456)>0,0,IF(MAX(AT1457:AT$2702)=MAX(AT$1262:AT$2702),0,IF(AR1457>0.03*AL$2703,0,$C1457/60)))","v":{"$error":"#VALUE!"}},{"$f":"IF(SUM(BB$1262:BB1456)>0,0,IF(MAX(AT1457:AT$2702)=MAX(AT$1262:AT$2702),0,IF(AR1457>0.01*AL$2703,0,$C1457/60)))","v":{"$error":"#VALUE!"}},0,0,0,0,{"$error":"#VALUE!"},{"$error":"#VALUE!"},{"$error":"#VALUE!"},{"$error":"#VALUE!"},{"$error":"#VALUE!"},{"$error":"#VALUE!"},{"$error":"#VALUE!"},{"$error":"#VALUE!"},{"$error":"#VALUE!"},{"$error":"#VALUE!"},{"$error":"#VALUE!"},{"$f":"IF(SUM(BR$1262:BR1456)>0,0,IF(MAX(BK1457:BK$2702)=MAX(BK$1262:BK$2702),0,IF(BI1457>0.03*BC$2703,0,$C1457/60)))","v":{"$error":"#VALUE!"}},{"$f":"IF(SUM(BS$1262:BS1456)>0,0,IF(MAX(BK1457:BK$2702)=MAX(BK$1262:BK$2702),0,IF(BI1457>0.01*BC$2703,0,$C1457/60)))","v":{"$error":"#VALUE!"}},0,0,0,0,{"$error":"#VALUE!"},{"$error":"#VALUE!"},{"$error":"#VALUE!"},{"$error":"#VALUE!"},{"$error":"#VALUE!"},{"$error":"#VALUE!"},{"$error":"#VALUE!"},{"$error":"#VALUE!"},{"$error":"#VALUE!"},{"$error":"#VALUE!"},{"$error":"#VALUE!"},{"$f":"IF(SUM(CI$1262:CI1456)>0,0,IF(MAX(CB1457:CB$2702)=MAX(CB$1262:CB$2702),0,IF(BZ1457>0.03*BT$2703,0,$C1457/60)))","v":{"$error":"#VALUE!"}},{"$f":"IF(SUM(CJ$1262:CJ1456)>0,0,IF(MAX(CB1457:CB$2702)=MAX(CB$1262:CB$2702),0,IF(BZ1457>0.01*BT$2703,0,$C1457/60)))","v":{"$error":"#VALUE!"}},0,0,0,0,{"$error":"#VALUE!"},{"$error":"#VALUE!"},{"$error":"#VALUE!"},{"$error":"#VALUE!"},{"$error":"#VALUE!"},{"$error":"#VALUE!"},{"$error":"#VALUE!"},{"$error":"#VALUE!"},{"$error":"#VALUE!"},{"$error":"#VALUE!"},{"$error":"#VALUE!"},{"$f":"IF(SUM(CZ$1262:CZ1456)>0,0,IF(MAX(CS1457:CS$2702)=MAX(CS$1262:CS$2702),0,IF(CQ1457>0.03*CK$2703,0,$C1457/60)))","v":{"$error":"#VALUE!"}},{"$f":"IF(SUM(DA$1262:DA1456)>0,0,IF(MAX(CS1457:CS$2702)=MAX(CS$1262:CS$2702),0,IF(CQ1457>0.01*CK$2703,0,$C1457/60)))","v":{"$error":"#VALUE!"}}]
[null,16.666666666666668,1000,0,0,0,0,0,0,0,0,0,{"$error":"#N/A"},{"$error":"#N/A"},{"$error":"#N/A"},{"$error":"#N/A"},{"$error":"#N/A"},{"$error":"#N/A"},{"$f":"IF(SUM(S$1262:S1461)>0,0,\nIF(MAX(L1462:L$2702)=MAX(L$1262:L$2702),0,\nIF(Hydrograph_Source_WQCV=\"USER\",IF(J1462>0.03*D$2703,0,$C1462/60),\nIF(J1462>0.03*J$2703,0,$C1462/60))))","v":0},{"$f":"IF(SUM(T$1262:T1461)>0,0,\nIF(MAX(L1462:L$2702)=MAX(L$1262:L$2702),0,\nIF(Hydrograph_Source_WQCV=\"USER\",IF(J1462>0.01*D$2703,0,$C1462/60),\nIF(J1462>0.01*J$2703,0,$C1462/60))))","v":0},0,0,0,0,{"$error":"#VALUE!"},{"$error":"#VALUE!"},{"$error":"#VALUE!"},{"$error":"#VALUE!"},{"$error":"#VALUE!"},{"$error":"#VALUE!"},{"$error":"#VALUE!"},{"$error":"#VALUE!"},{"$error":"#VALUE!"},{"$error":"#VALUE!"},{"$error":"#VALUE!"},{"$f":"IF(SUM(AJ$1262:AJ1461)>0,0,IF(MAX(AC1462:AC$2702)=MAX(AC$1262:AC$2702),0,IF(AA1462>0.03*U$2703,0,$C1462/60)))","v":{"$error":"#VALUE!"}},{"$f":"IF(SUM(AK$1262:AK1461)>0,0,IF(MAX(AC1462:AC$2702)=MAX(AC$1262:AC$2702),0,IF(AA1462>0.01*U$2703,0,$C1462/60)))","v":{"$error":"#VALUE!"}},0,0,0,0,{"$error":"#VALUE!"},{"$error":"#VALUE!"},{"$error":"#VALUE!"},{"$error":"#VALUE!"},{"$error":"#VALUE!"},{"$error":"#VALUE!"},{"$error":"#VALUE!"},{"$error":"#VALUE!"},{"$error":"#VALUE!"},{"$error":"#VALUE!"},{"$error":"#VALUE!"},{"$f":"IF(SUM(BA$1262:BA1461)>0,0,IF(MAX(AT1462:AT$2702)=MAX(AT$1262:AT$2702),0,IF(AR1462>0.03*AL$2703,0,$C1462/60)))","v":{"$error":"#VALUE!"}},{"$f":"IF(SUM(BB$1262:BB1461)>0,0,IF(MAX(AT1462:AT$2702)=MAX(AT$1262:AT$2702),0,IF(AR1462>0.01*AL$2703,0,$C1462/60)))","v":{"$error":"#VALUE!"}},0,0,0,0,{"$error":"#VALUE!"},{"$error":"#VALUE!"},{"$error":"#VALUE!"},{"$error":"#VALUE!"},{"$error":"#VALUE!"},{"$error":"#VALUE!"},{"$error":"#VALUE!"},{"$error":"#VALUE!"},{"$error":"#VALUE!"},{"$error":"#VALUE!"},{"$error":"#VALUE!"},{"$f":"IF(SUM(BR$1262:BR1461)>0,0,IF(MAX(BK1462:BK$2702)=MAX(BK$1262:BK$2702),0,IF(BI1462>0.03*BC$2703,0,$C1462/60)))","v":{"$error":"#VALUE!"}},{"$f":"IF(SUM(BS$1262:BS1461)>0,0,IF(MAX(BK1462:BK$2702)=MAX(BK$1262:BK$2702),0,IF(BI1462>0.01*BC$2703,0,$C1462/60)))","v":{"$error":"#VALUE!"}},0,0,0,0,{"$error":"#VALUE!"},{"$error":"#VALUE!"},{"$error":"#VALUE!"},{"$error":"#VALUE!"},{"$error":"#VALUE!"},{"$error":"#VALUE!"},{"$error":"#VALUE!"},{"$error":"#VALUE!"},{"$error":"#VALUE!"},{"$error":"#VALUE!"},{"$error":"#VALUE!"},{"$f":"IF(SUM(CI$1262:CI1461)>0,0,IF(MAX(CB1462:CB$2702)=MAX(CB$1262:CB$2702),0,IF(BZ1462>0.03*BT$2703,0,$C1462/60)))","v":{"$error":"#VALUE!"}},{"$f":"IF(SUM(CJ$1262:CJ1461)>0,0,IF(MAX(CB1462:CB$2702)=MAX(CB$1262:CB$2702),0,IF(BZ1462>0.01*BT$2703,0,$C1462/60)))","v":{"$error":"#VALUE!"}},0,0,0,0,{"$error":"#VALUE!"},{"$error":"#VALUE!"},{"$error":"#VALUE!"},{"$error":"#VALUE!"},{"$error":"#VALUE!"},{"$error":"#VALUE!"},{"$error":"#VALUE!"},{"$error":"#VALUE!"},{"$error":"#VALUE!"},{"$error":"#VALUE!"},{"$error":"#VALUE!"},{"$f":"IF(SUM(CZ$1262:CZ1461)>0,0,IF(MAX(CS1462:CS$2702)=MAX(CS$1262:CS$2702),0,IF(CQ1462>0.03*CK$2703,0,$C1462/60)))","v":{"$error":"#VALUE!"}},{"$f":"IF(SUM(DA$1262:DA1461)>0,0,IF(MAX(CS1462:CS$2702)=MAX(CS$1262:CS$2702),0,IF(CQ1462>0.01*CK$2703,0,$C1462/60)))","v":{"$error":"#VALUE!"}}]
[null,17.083333333333332,1025,0,0,0,0,0,0,0,0,0,{"$error":"#N/A"},{"$error":"#N/A"},{"$error":"#N/A"},{"$error":"#N/A"},{"$error":"#N/A"},{"$error":"#N/A"},{"$f":"IF(SUM(S$1262:S1466)>0,0,\nIF(MAX(L1467:L$2702)=MAX(L$1262:L$2702),0,\nIF(Hydrograph_Source_WQCV=\"USER\",IF(J1467>0.03*D$2703,0,$C1467/60),\nIF(J1467>0.03*J$2703,0,$C1467/60))))","v":0},{"$f":"IF(SUM(T$1262:T1466)>0,0,\nIF(MAX(L1467:L$2702)=MAX(L$1262:L$2702),0,\nIF(Hydrograph_Source_WQCV=\"USER\",IF(J1467>0.01*D$2703,0,$C1467/60),\nIF(J1467>0.01*J$2703,0,$C1467/60))))","v":0},0,0,0,0,{"$error":"#VALUE!"},{"$error":"#VALUE!"},{"$error":"#VALUE!"},{"$error":"#VALUE!"},{"$error":"#VALUE!"},{"$error":"#VALUE!"},{"$error":"#VALUE!"},{"$error":"#VALUE!"},{"$error":"#VALUE!"},{"$error":"#VALUE!"},{"$error":"#VALUE!"},{"$f":"IF(SUM(AJ$1262:AJ1466)>0,0,IF(MAX(AC1467:AC$2702)=MAX(AC$1262:AC$2702),0,IF(AA1467>0.03*U$2703,0,$C1467/60)))","v":{"$error":"#VALUE!"}},{"$f":"IF(SUM(AK$1262:AK1466)>0,0,IF(MAX(AC1467:AC$2702)=MAX(AC$1262:AC$2702),0,IF(AA1467>0.01*U$2703,0,$C1467/60)))","v":{"$error":"#VALUE!"}},0,0,0,0,{"$error":"#VALUE!"},{"$error":"#VALUE!"},{"$error":"#VALUE!"},{"$error":"#VALUE!"},{"$error":"#VALUE!"},{"$error":"#VALUE!"},{"$error":"#VALUE!"},{"$error":"#VALUE!"},{"$error":"#VALUE!"},{"$error":"#VALUE!"},{"$error":"#VALUE!"},{"$f":"IF(SUM(BA$1262:BA1466)>0,0,IF(MAX(AT1467:AT$2702)=MAX(AT$1262:AT$2702),0,IF(AR1467>0.03*AL$2703,0,$C1467/60)))","v":{"$error":"#VALUE!"}},{"$f":"IF(SUM(BB$1262:BB1466)>0,0,IF(MAX(AT1467:AT$2702)=MAX(AT$1262:AT$2702),0,IF(AR1467>0.01*AL$2703,0,$C1467/60)))","v":{"$error":"#VALUE!"}},0,0,0,0,{"$error":"#VALUE!"},{"$error":"#VALUE!"},{"$error":"#VALUE!"},{"$error":"#VALUE!"},{"$error":"#VALUE!"},{"$error":"#VALUE!"},{"$error":"#VALUE!"},{"$error":"#VALUE!"},{"$error":"#VALUE!"},{"$error":"#VALUE!"},{"$error":"#VALUE!"},{"$f":"IF(SUM(BR$1262:BR1466)>0,0,IF(MAX(BK1467:BK$2702)=MAX(BK$1262:BK$2702),0,IF(BI1467>0.03*BC$2703,0,$C1467/60)))","v":{"$error":"#VALUE!"}},{"$f":"IF(SUM(BS$1262:BS1466)>0,0,IF(MAX(BK1467:BK$2702)=MAX(BK$1262:BK$2702),0,IF(BI1467>0.01*BC$2703,0,$C1467/60)))","v":{"$error":"#VALUE!"}},0,0,0,0,{"$error":"#VALUE!"},{"$error":"#VALUE!"},{"$error":"#VALUE!"},{"$error":"#VALUE!"},{"$error":"#VALUE!"},{"$error":"#VALUE!"},{"$error":"#VALUE!"},{"$error":"#VALUE!"},{"$error":"#VALUE!"},{"$error":"#VALUE!"},{"$error":"#VALUE!"},{"$f":"IF(SUM(CI$1262:CI1466)>0,0,IF(MAX(CB1467:CB$2702)=MAX(CB$1262:CB$2702),0,IF(BZ1467>0.03*BT$2703,0,$C1467/60)))","v":{"$error":"#VALUE!"}},{"$f":"IF(SUM(CJ$1262:CJ1466)>0,0,IF(MAX(CB1467:CB$2702)=MAX(CB$1262:CB$2702),0,IF(BZ1467>0.01*BT$2703,0,$C1467/60)))","v":{"$error":"#VALUE!"}},0,0,0,0,{"$error":"#VALUE!"},{"$error":"#VALUE!"},{"$error":"#VALUE!"},{"$error":"#VALUE!"},{"$error":"#VALUE!"},{"$error":"#VALUE!"},{"$error":"#VALUE!"},{"$error":"#VALUE!"},{"$error":"#VALUE!"},{"$error":"#VALUE!"},{"$error":"#VALUE!"},{"$f":"IF(SUM(CZ$1262:CZ1466)>0,0,IF(MAX(CS1467:CS$2702)=MAX(CS$1262:CS$2702),0,IF(CQ1467>0.03*CK$2703,0,$C1467/60)))","v":{"$error":"#VALUE!"}},{"$f":"IF(SUM(DA$1262:DA1466)>0,0,IF(MAX(CS1467:CS$2702)=MAX(CS$1262:CS$2702),0,IF(CQ1467>0.01*CK$2703,0,$C1467/60)))","v":{"$error":"#VALUE!"}}]
[null,17.416666666666668,1045,0,0,0,0,0,0,0,0,0,{"$error":"#N/A"},{"$error":"#N/A"},{"$error":"#N/A"},{"$error":"#N/A"},{"$error":"#N/A"},{"$error":"#N/A"},{"$f":"IF(SUM(S$1262:S1470)>0,0,\nIF(MAX(L1471:L$2702)=MAX(L$1262:L$2702),0,\nIF(Hydrograph_Source_WQCV=\"USER\",IF(J1471>0.03*D$2703,0,$C1471/60),\nIF(J1471>0.03*J$2703,0,$C1471/60))))","v":0},{"$f":"IF(SUM(T$1262:T1470)>0,0,\nIF(MAX(L1471:L$2702)=MAX(L$1262:L$2702),0,\nIF(Hydrograph_Source_WQCV=\"USER\",IF(J1471>0.01*D$2703,0,$C1471/60),\nIF(J1471>0.01*J$2703,0,$C1471/60))))","v":0},0,0,0,0,{"$error":"#VALUE!"},{"$error":"#VALUE!"},{"$error":"#VALUE!"},{"$error":"#VALUE!"},{"$error":"#VALUE!"},{"$error":"#VALUE!"},{"$error":"#VALUE!"},{"$error":"#VALUE!"},{"$error":"#VALUE!"},{"$error":"#VALUE!"},{"$error":"#VALUE!"},{"$f":"IF(SUM(AJ$1262:AJ1470)>0,0,IF(MAX(AC1471:AC$2702)=MAX(AC$1262:AC$2702),0,IF(AA1471>0.03*U$2703,0,$C1471/60)))","v":{"$error":"#VALUE!"}},{"$f":"IF(SUM(AK$1262:AK1470)>0,0,IF(MAX(AC1471:AC$2702)=MAX(AC$1262:AC$2702),0,IF(AA1471>0.01*U$2703,0,$C1471/60)))","v":{"$error":"#VALUE!"}},0,0,0,0,{"$error":"#VALUE!"},{"$error":"#VALUE!"},{"$error":"#VALUE!"},{"$error":"#VALUE!"},{"$error":"#VALUE!"},{"$error":"#VALUE!"},{"$error":"#VALUE!"},{"$error":"#VALUE!"},{"$error":"#VALUE!"},{"$error":"#VALUE!"},{"$error":"#VALUE!"},{"$f":"IF(SUM(BA$1262:BA1470)>0,0,IF(MAX(AT1471:AT$2702)=MAX(AT$1262:AT$2702),0,IF(AR1471>0.03*AL$2703,0,$C1471/60)))","v":{"$error":"#VALUE!"}},{"$f":"IF(SUM(BB$1262:BB1470)>0,0,IF(MAX(AT1471:AT$2702)=MAX(AT$1262:AT$2702),0,IF(AR1471>0.01*AL$2703,0,$C1471/60)))","v":{"$error":"#VALUE!"}},0,0,0,0,{"$error":"#VALUE!"},{"$error":"#VALUE!"},{"$error":"#VALUE!"},{"$error":"#VALUE!"},{"$error":"#VALUE!"},{"$error":"#VALUE!"},{"$error":"#VALUE!"},{"$error":"#VALUE!"},{"$error":"#VALUE!"},{"$error":"#VALUE!"},{"$error":"#VALUE!"},{"$f":"IF(SUM(BR$1262:BR1470)>0,0,IF(MAX(BK1471:BK$2702)=MAX(BK$1262:BK$2702),0,IF(BI1471>0.03*BC$2703,0,$C1471/60)))","v":{"$error":"#VALUE!"}},{"$f":"IF(SUM(BS$1262:BS1470)>0,0,IF(MAX(BK1471:BK$2702)=MAX(BK$1262:BK$2702),0,IF(BI1471>0.01*BC$2703,0,$C1471/60)))","v":{"$error":"#VALUE!"}},0,0,0,0,{"$error":"#VALUE!"},{"$error":"#VALUE!"},{"$error":"#VALUE!"},{"$error":"#VALUE!"},{"$error":"#VALUE!"},{"$error":"#VALUE!"},{"$error":"#VALUE!"},{"$error":"#VALUE!"},{"$error":"#VALUE!"},{"$error":"#VALUE!"},{"$error":"#VALUE!"},{"$f":"IF(SUM(CI$1262:CI1470)>0,0,IF(MAX(CB1471:CB$2702)=MAX(CB$1262:CB$2702),0,IF(BZ1471>0.03*BT$2703,0,$C1471/60)))","v":{"$error":"#VALUE!"}},{"$f":"IF(SUM(CJ$1262:CJ1470)>0,0,IF(MAX(CB1471:CB$2702)=MAX(CB$1262:CB$2702),0,IF(BZ1471>0.01*BT$2703,0,$C1471/60)))","v":{"$error":"#VALUE!"}},0,0,0,0,{"$error":"#VALUE!"},{"$error":"#VALUE!"},{"$error":"#VALUE!"},{"$error":"#VALUE!"},{"$error":"#VALUE!"},{"$error":"#VALUE!"},{"$error":"#VALUE!"},{"$error":"#VALUE!"},{"$error":"#VALUE!"},{"$error":"#VALUE!"},{"$error":"#VALUE!"},{"$f":"IF(SUM(CZ$1262:CZ1470)>0,0,IF(MAX(CS1471:CS$2702)=MAX(CS$1262:CS$2702),0,IF(CQ1471>0.03*CK$2703,0,$C1471/60)))","v":{"$error":"#VALUE!"}},{"$f":"IF(SUM(DA$1262:DA1470)>0,0,IF(MAX(CS1471:CS$2702)=MAX(CS$1262:CS$2702),0,IF(CQ1471>0.01*CK$2703,0,$C1471/60)))","v":{"$error":"#VALUE!"}}]
[null,18,1080,0,0,0,0,0,0,0,0,0,{"$error":"#N/A"},{"$error":"#N/A"},{"$error":"#N/A"},{"$error":"#N/A"},{"$error":"#N/A"},{"$error":"#N/A"},{"$f":"IF(SUM(S$1262:S1477)>0,0,\nIF(MAX(L1478:L$2702)=MAX(L$1262:L$2702),0,\nIF(Hydrograph_Source_WQCV=\"USER\",IF(J1478>0.03*D$2703,0,$C1478/60),\nIF(J1478>0.03*J$2703,0,$C1478/60))))","v":0},{"$f":"IF(SUM(T$1262:T1477)>0,0,\nIF(MAX(L1478:L$2702)=MAX(L$1262:L$2702),0,\nIF(Hydrograph_Source_WQCV=\"USER\",IF(J1478>0.01*D$2703,0,$C1478/60),\nIF(J1478>0.01*J$2703,0,$C1478/60))))","v":0},0,0,0,0,{"$error":"#VALUE!"},{"$error":"#VALUE!"},{"$error":"#VALUE!"},{"$error":"#VALUE!"},{"$error":"#VALUE!"},{"$error":"#VALUE!"},{"$error":"#VALUE!"},{"$error":"#VALUE!"},{"$error":"#VALUE!"},{"$error":"#VALUE!"},{"$error":"#VALUE!"},{"$f":"IF(SUM(AJ$1262:AJ1477)>0,0,IF(MAX(AC1478:AC$2702)=MAX(AC$1262:AC$2702),0,IF(AA1478>0.03*U$2703,0,$C1478/60)))","v":{"$error":"#VALUE!"}},{"$f":"IF(SUM(AK$1262:AK1477)>0,0,IF(MAX(AC1478:AC$2702)=MAX(AC$1262:AC$2702),0,IF(AA1478>0.01*U$2703,0,$C1478/60)))","v":{"$error":"#VALUE!"}},0,0,0,0,{"$error":"#VALUE!"},{"$error":"#VALUE!"},{"$error":"#VALUE!"},{"$error":"#VALUE!"},{"$error":"#VALUE!"},{"$error":"#VALUE!"},{"$error":"#VALUE!"},{"$error":"#VALUE!"},{"$error":"#VALUE!"},{"$error":"#VALUE!"},{"$error":"#VALUE!"},{"$f":"IF(SUM(BA$1262:BA1477)>0,0,IF(MAX(AT1478:AT$2702)=MAX(AT$1262:AT$2702),0,IF(AR1478>0.03*AL$2703,0,$C1478/60)))","v":{"$error":"#VALUE!"}},{"$f":"IF(SUM(BB$1262:BB1477)>0,0,IF(MAX(AT1478:AT$2702)=MAX(AT$1262:AT$2702),0,IF(AR1478>0.01*AL$2703,0,$C1478/60)))","v":{"$error":"#VALUE!"}},0,0,0,0,{"$error":"#VALUE!"},{"$error":"#VALUE!"},{"$error":"#VALUE!"},{"$error":"#VALUE!"},{"$error":"#VALUE!"},{"$error":"#VALUE!"},{"$error":"#VALUE!"},{"$error":"#VALUE!"},{"$error":"#VALUE!"},{"$error":"#VALUE!"},{"$error":"#VALUE!"},{"$f":"IF(SUM(BR$1262:BR1477)>0,0,IF(MAX(BK1478:BK$2702)=MAX(BK$1262:BK$2702),0,IF(BI1478>0.03*BC$2703,0,$C1478/60)))","v":{"$error":"#VALUE!"}},{"$f":"IF(SUM(BS$1262:BS1477)>0,0,IF(MAX(BK1478:BK$2702)=MAX(BK$1262:BK$2702),0,IF(BI1478>0.01*BC$2703,0,$C1478/60)))","v":{"$error":"#VALUE!"}},0,0,0,0,{"$error":"#VALUE!"},{"$error":"#VALUE!"},{"$error":"#VALUE!"},{"$error":"#VALUE!"},{"$error":"#VALUE!"},{"$error":"#VALUE!"},{"$error":"#VALUE!"},{"$error":"#VALUE!"},{"$error":"#VALUE!"},{"$error":"#VALUE!"},{"$error":"#VALUE!"},{"$f":"IF(SUM(CI$1262:CI1477)>0,0,IF(MAX(CB1478:CB$2702)=MAX(CB$1262:CB$2702),0,IF(BZ1478>0.03*BT$2703,0,$C1478/60)))","v":{"$error":"#VALUE!"}},{"$f":"IF(SUM(CJ$1262:CJ1477)>0,0,IF(MAX(CB1478:CB$2702)=MAX(CB$1262:CB$2702),0,IF(BZ1478>0.01*BT$2703,0,$C1478/60)))","v":{"$error":"#VALUE!"}},0,0,0,0,{"$error":"#VALUE!"},{"$error":"#VALUE!"},{"$error":"#VALUE!"},{"$error":"#VALUE!"},{"$error":"#VALUE!"},{"$error":"#VALUE!"},{"$error":"#VALUE!"},{"$error":"#VALUE!"},{"$error":"#VALUE!"},{"$error":"#VALUE!"},{"$error":"#VALUE!"},{"$f":"IF(SUM(CZ$1262:CZ1477)>0,0,IF(MAX(CS1478:CS$2702)=MAX(CS$1262:CS$2702),0,IF(CQ1478>0.03*CK$2703,0,$C1478/60)))","v":{"$error":"#VALUE!"}},{"$f":"IF(SUM(DA$1262:DA1477)>0,0,IF(MAX(CS1478:CS$2702)=MAX(CS$1262:CS$2702),0,IF(CQ1478>0.01*CK$2703,0,$C1478/60)))","v":{"$error":"#VALUE!"}}]
[null,18.083333333333332,1085,0,0,0,0,0,0,0,0,0,{"$error":"#N/A"},{"$error":"#N/A"},{"$error":"#N/A"},{"$error":"#N/A"},{"$error":"#N/A"},{"$error":"#N/A"},{"$f":"IF(SUM(S$1262:S1478)>0,0,\nIF(MAX(L1479:L$2702)=MAX(L$1262:L$2702),0,\nIF(Hydrograph_Source_WQCV=\"USER\",IF(J1479>0.03*D$2703,0,$C1479/60),\nIF(J1479>0.03*J$2703,0,$C1479/60))))","v":0},{"$f":"IF(SUM(T$1262:T1478)>0,0,\nIF(MAX(L1479:L$2702)=MAX(L$1262:L$2702),0,\nIF(Hydrograph_Source_WQCV=\"USER\",IF(J1479>0.01*D$2703,0,$C1479/60),\nIF(J1479>0.01*J$2703,0,$C1479/60))))","v":0},0,0,0,0,{"$error":"#VALUE!"},{"$error":"#VALUE!"},{"$error":"#VALUE!"},{"$error":"#VALUE!"},{"$error":"#VALUE!"},{"$error":"#VALUE!"},{"$error":"#VALUE!"},{"$error":"#VALUE!"},{"$error":"#VALUE!"},{"$error":"#VALUE!"},{"$error":"#VALUE!"},{"$f":"IF(SUM(AJ$1262:AJ1478)>0,0,IF(MAX(AC1479:AC$2702)=MAX(AC$1262:AC$2702),0,IF(AA1479>0.03*U$2703,0,$C1479/60)))","v":{"$error":"#VALUE!"}},{"$f":"IF(SUM(AK$1262:AK1478)>0,0,IF(MAX(AC1479:AC$2702)=MAX(AC$1262:AC$2702),0,IF(AA1479>0.01*U$2703,0,$C1479/60)))","v":{"$error":"#VALUE!"}},0,0,0,0,{"$error":"#VALUE!"},{"$error":"#VALUE!"},{"$error":"#VALUE!"},{"$error":"#VALUE!"},{"$error":"#VALUE!"},{"$error":"#VALUE!"},{"$error":"#VALUE!"},{"$error":"#VALUE!"},{"$error":"#VALUE!"},{"$error":"#VALUE!"},{"$error":"#VALUE!"},{"$f":"IF(SUM(BA$1262:BA1478)>0,0,IF(MAX(AT1479:AT$2702)=MAX(AT$1262:AT$2702),0,IF(AR1479>0.03*AL$2703,0,$C1479/60)))","v":{"$error":"#VALUE!"}},{"$f":"IF(SUM(BB$1262:BB1478)>0,0,IF(MAX(AT1479:AT$2702)=MAX(AT$1262:AT$2702),0,IF(AR1479>0.01*AL$2703,0,$C1479/60)))","v":{"$error":"#VALUE!"}},0,0,0,0,{"$error":"#VALUE!"},{"$error":"#VALUE!"},{"$error":"#VALUE!"},{"$error":"#VALUE!"},{"$error":"#VALUE!"},{"$error":"#VALUE!"},{"$error":"#VALUE!"},{"$error":"#VALUE!"},{"$error":"#VALUE!"},{"$error":"#VALUE!"},{"$error":"#VALUE!"},{"$f":"IF(SUM(BR$1262:BR1478)>0,0,IF(MAX(BK1479:BK$2702)=MAX(BK$1262:BK$2702),0,IF(BI1479>0.03*BC$2703,0,$C1479/60)))","v":{"$error":"#VALUE!"}},{"$f":"IF(SUM(BS$1262:BS1478)>0,0,IF(MAX(BK1479:BK$2702)=MAX(BK$1262:BK$2702),0,IF(BI1479>0.01*BC$2703,0,$C1479/60)))","v":{"$error":"#VALUE!"}},0,0,0,0,{"$error":"#VALUE!"},{"$error":"#VALUE!"},{"$error":"#VALUE!"},{"$error":"#VALUE!"},{"$error":"#VALUE!"},{"$error":"#VALUE!"},{"$error":"#VALUE!"},{"$error":"#VALUE!"},{"$error":"#VALUE!"},{"$error":"#VALUE!"},{"$error":"#VALUE!"},{"$f":"IF(SUM(CI$1262:CI1478)>0,0,IF(MAX(CB1479:CB$2702)=MAX(CB$1262:CB$2702),0,IF(BZ1479>0.03*BT$2703,0,$C1479/60)))","v":{"$error":"#VALUE!"}},{"$f":"IF(SUM(CJ$1262:CJ1478)>0,0,IF(MAX(CB1479:CB$2702)=MAX(CB$1262:CB$2702),0,IF(BZ1479>0.01*BT$2703,0,$C1479/60)))","v":{"$error":"#VALUE!"}},0,0,0,0,{"$error":"#VALUE!"},{"$error":"#VALUE!"},{"$error":"#VALUE!"},{"$error":"#VALUE!"},{"$error":"#VALUE!"},{"$error":"#VALUE!"},{"$error":"#VALUE!"},{"$error":"#VALUE!"},{"$error":"#VALUE!"},{"$error":"#VALUE!"},{"$error":"#VALUE!"},{"$f":"IF(SUM(CZ$1262:CZ1478)>0,0,IF(MAX(CS1479:CS$2702)=MAX(CS$1262:CS$2702),0,IF(CQ1479>0.03*CK$2703,0,$C1479/60)))","v":{"$error":"#VALUE!"}},{"$f":"IF(SUM(DA$1262:DA1478)>0,0,IF(MAX(CS1479:CS$2702)=MAX(CS$1262:CS$2702),0,IF(CQ1479>0.01*CK$2703,0,$C1479/60)))","v":{"$error":"#VALUE!"}}]
[null,18.5,1110,0,0,0,0,0,0,0,0,0,{"$error":"#N/A"},{"$error":"#N/A"},{"$error":"#N/A"},{"$error":"#N/A"},{"$error":"#N/A"},{"$error":"#N/A"},{"$f":"IF(SUM(S$1262:S1483)>0,0,\nIF(MAX(L1484:L$2702)=MAX(L$1262:L$2702),0,\nIF(Hydrograph_Source_WQCV=\"USER\",IF(J1484>0.03*D$2703,0,$C1484/60),\nIF(J1484>0.03*J$2703,0,$C1484/60))))","v":0},{"$f":"IF(SUM(T$1262:T1483)>0,0,\nIF(MAX(L1484:L$2702)=MAX(L$1262:L$2702),0,\nIF(Hydrograph_Source_WQCV=\"USER\",IF(J1484>0.01*D$2703,0,$C1484/60),\nIF(J1484>0.01*J$2703,0,$C1484/60))))","v":0},0,0,0,0,{"$error":"#VALUE!"},{"$error":"#VALUE!"},{"$error":"#VALUE!"},{"$error":"#VALUE!"},{"$error":"#VALUE!"},{"$error":"#VALUE!"},{"$error":"#VALUE!"},{"$error":"#VALUE!"},{"$error":"#VALUE!"},{"$error":"#VALUE!"},{"$error":"#VALUE!"},{"$f":"IF(SUM(AJ$1262:AJ1483)>0,0,IF(MAX(AC1484:AC$2702)=MAX(AC$1262:AC$2702),0,IF(AA1484>0.03*U$2703,0,$C1484/60)))","v":{"$error":"#VALUE!"}},{"$f":"IF(SUM(AK$1262:AK1483)>0,0,IF(MAX(AC1484:AC$2702)=MAX(AC$1262:AC$2702),0,IF(AA1484>0.01*U$2703,0,$C1484/60)))","v":{"$error":"#VALUE!"}},0,0,0,0,{"$error":"#VALUE!"},{"$error":"#VALUE!"},{"$error":"#VALUE!"},{"$error":"#VALUE!"},{"$error":"#VALUE!"},{"$error":"#VALUE!"},{"$error":"#VALUE!"},{"$error":"#VALUE!"},{"$error":"#VALUE!"},{"$error":"#VALUE!"},{"$error":"#VALUE!"},{"$f":"IF(SUM(BA$1262:BA1483)>0,0,IF(MAX(AT1484:AT$2702)=MAX(AT$1262:AT$2702),0,IF(AR1484>0.03*AL$2703,0,$C1484/60)))","v":{"$error":"#VALUE!"}},{"$f":"IF(SUM(BB$1262:BB1483)>0,0,IF(MAX(AT1484:AT$2702)=MAX(AT$1262:AT$2702),0,IF(AR1484>0.01*AL$2703,0,$C1484/60)))","v":{"$error":"#VALUE!"}},0,0,0,0,{"$error":"#VALUE!"},{"$error":"#VALUE!"},{"$error":"#VALUE!"},{"$error":"#VALUE!"},{"$error":"#VALUE!"},{"$error":"#VALUE!"},{"$error":"#VALUE!"},{"$error":"#VALUE!"},{"$error":"#VALUE!"},{"$error":"#VALUE!"},{"$error":"#VALUE!"},{"$f":"IF(SUM(BR$1262:BR1483)>0,0,IF(MAX(BK1484:BK$2702)=MAX(BK$1262:BK$2702),0,IF(BI1484>0.03*BC$2703,0,$C1484/60)))","v":{"$error":"#VALUE!"}},{"$f":"IF(SUM(BS$1262:BS1483)>0,0,IF(MAX(BK1484:BK$2702)=MAX(BK$1262:BK$2702),0,IF(BI1484>0.01*BC$2703,0,$C1484/60)))","v":{"$error":"#VALUE!"}},0,0,0,0,{"$error":"#VALUE!"},{"$error":"#VALUE!"},{"$error":"#VALUE!"},{"$error":"#VALUE!"},{"$error":"#VALUE!"},{"$error":"#VALUE!"},{"$error":"#VALUE!"},{"$error":"#VALUE!"},{"$error":"#VALUE!"},{"$error":"#VALUE!"},{"$error":"#VALUE!"},{"$f":"IF(SUM(CI$1262:CI1483)>0,0,IF(MAX(CB1484:CB$2702)=MAX(CB$1262:CB$2702),0,IF(BZ1484>0.03*BT$2703,0,$C1484/60)))","v":{"$error":"#VALUE!"}},{"$f":"IF(SUM(CJ$1262:CJ1483)>0,0,IF(MAX(CB1484:CB$2702)=MAX(CB$1262:CB$2702),0,IF(BZ1484>0.01*BT$2703,0,$C1484/60)))","v":{"$error":"#VALUE!"}},0,0,0,0,{"$error":"#VALUE!"},{"$error":"#VALUE!"},{"$error":"#VALUE!"},{"$error":"#VALUE!"},{"$error":"#VALUE!"},{"$error":"#VALUE!"},{"$error":"#VALUE!"},{"$error":"#VALUE!"},{"$error":"#VALUE!"},{"$error":"#VALUE!"},{"$error":"#VALUE!"},{"$f":"IF(SUM(CZ$1262:CZ1483)>0,0,IF(MAX(CS1484:CS$2702)=MAX(CS$1262:CS$2702),0,IF(CQ1484>0.03*CK$2703,0,$C1484/60)))","v":{"$error":"#VALUE!"}},{"$f":"IF(SUM(DA$1262:DA1483)>0,0,IF(MAX(CS1484:CS$2702)=MAX(CS$1262:CS$2702),0,IF(CQ1484>0.01*CK$2703,0,$C1484/60)))","v":{"$error":"#VALUE!"}}]
[null,19,1140,0,0,0,0,0,0,0,0,0,{"$error":"#N/A"},{"$error":"#N/A"},{"$error":"#N/A"},{"$error":"#N/A"},{"$error":"#N/A"},{"$error":"#N/A"},{"$f":"IF(SUM(S$1262:S1489)>0,0,\nIF(MAX(L1490:L$2702)=MAX(L$1262:L$2702),0,\nIF(Hydrograph_Source_WQCV=\"USER\",IF(J1490>0.03*D$2703,0,$C1490/60),\nIF(J1490>0.03*J$2703,0,$C1490/60))))","v":0},{"$f":"IF(SUM(T$1262:T1489)>0,0,\nIF(MAX(L1490:L$2702)=MAX(L$1262:L$2702),0,\nIF(Hydrograph_Source_WQCV=\"USER\",IF(J1490>0.01*D$2703,0,$C1490/60),\nIF(J1490>0.01*J$2703,0,$C1490/60))))","v":0},0,0,0,0,{"$error":"#VALUE!"},{"$error":"#VALUE!"},{"$error":"#VALUE!"},{"$error":"#VALUE!"},{"$error":"#VALUE!"},{"$error":"#VALUE!"},{"$error":"#VALUE!"},{"$error":"#VALUE!"},{"$error":"#VALUE!"},{"$error":"#VALUE!"},{"$error":"#VALUE!"},{"$f":"IF(SUM(AJ$1262:AJ1489)>0,0,IF(MAX(AC1490:AC$2702)=MAX(AC$1262:AC$2702),0,IF(AA1490>0.03*U$2703,0,$C1490/60)))","v":{"$error":"#VALUE!"}},{"$f":"IF(SUM(AK$1262:AK1489)>0,0,IF(MAX(AC1490:AC$2702)=MAX(AC$1262:AC$2702),0,IF(AA1490>0.01*U$2703,0,$C1490/60)))","v":{"$error":"#VALUE!"}},0,0,0,0,{"$error":"#VALUE!"},{"$error":"#VALUE!"},{"$error":"#VALUE!"},{"$error":"#VALUE!"},{"$error":"#VALUE!"},{"$error":"#VALUE!"},{"$error":"#VALUE!"},{"$error":"#VALUE!"},{"$error":"#VALUE!"},{"$error":"#VALUE!"},{"$error":"#VALUE!"},{"$f":"IF(SUM(BA$1262:BA1489)>0,0,IF(MAX(AT1490:AT$2702)=MAX(AT$1262:AT$2702),0,IF(AR1490>0.03*AL$2703,0,$C1490/60)))","v":{"$error":"#VALUE!"}},{"$f":"IF(SUM(BB$1262:BB1489)>0,0,IF(MAX(AT1490:AT$2702)=MAX(AT$1262:AT$2702),0,IF(AR1490>0.01*AL$2703,0,$C1490/60)))","v":{"$error":"#VALUE!"}},0,0,0,0,{"$error":"#VALUE!"},{"$error":"#VALUE!"},{"$error":"#VALUE!"},{"$error":"#VALUE!"},{"$error":"#VALUE!"},{"$error":"#VALUE!"},{"$error":"#VALUE!"},{"$error":"#VALUE!"},{"$error":"#VALUE!"},{"$error":"#VALUE!"},{"$error":"#VALUE!"},{"$f":"IF(SUM(BR$1262:BR1489)>0,0,IF(MAX(BK1490:BK$2702)=MAX(BK$1262:BK$2702),0,IF(BI1490>0.03*BC$2703,0,$C1490/60)))","v":{"$error":"#VALUE!"}},{"$f":"IF(SUM(BS$1262:BS1489)>0,0,IF(MAX(BK1490:BK$2702)=MAX(BK$1262:BK$2702),0,IF(BI1490>0.01*BC$2703,0,$C1490/60)))","v":{"$error":"#VALUE!"}},0,0,0,0,{"$error":"#VALUE!"},{"$error":"#VALUE!"},{"$error":"#VALUE!"},{"$error":"#VALUE!"},{"$error":"#VALUE!"},{"$error":"#VALUE!"},{"$error":"#VALUE!"},{"$error":"#VALUE!"},{"$error":"#VALUE!"},{"$error":"#VALUE!"},{"$error":"#VALUE!"},{"$f":"IF(SUM(CI$1262:CI1489)>0,0,IF(MAX(CB1490:CB$2702)=MAX(CB$1262:CB$2702),0,IF(BZ1490>0.03*BT$2703,0,$C1490/60)))","v":{"$error":"#VALUE!"}},{"$f":"IF(SUM(CJ$1262:CJ1489)>0,0,IF(MAX(CB1490:CB$2702)=MAX(CB$1262:CB$2702),0,IF(BZ1490>0.01*BT$2703,0,$C1490/60)))","v":{"$error":"#VALUE!"}},0,0,0,0,{"$error":"#VALUE!"},{"$error":"#VALUE!"},{"$error":"#VALUE!"},{"$error":"#VALUE!"},{"$error":"#VALUE!"},{"$error":"#VALUE!"},{"$error":"#VALUE!"},{"$error":"#VALUE!"},{"$error":"#VALUE!"},{"$error":"#VALUE!"},{"$error":"#VALUE!"},{"$f":"IF(SUM(CZ$1262:CZ1489)>0,0,IF(MAX(CS1490:CS$2702)=MAX(CS$1262:CS$2702),0,IF(CQ1490>0.03*CK$2703,0,$C1490/60)))","v":{"$error":"#VALUE!"}},{"$f":"IF(SUM(DA$1262:DA1489)>0,0,IF(MAX(CS1490:CS$2702)=MAX(CS$1262:CS$2702),0,IF(CQ1490>0.01*CK$2703,0,$C1490/60)))","v":{"$error":"#VALUE!"}}]
[null,19.416666666666668,1165,0,0,0,0,0,0,0,0,0,{"$error":"#N/A"},{"$error":"#N/A"},{"$error":"#N/A"},{"$error":"#N/A"},{"$error":"#N/A"},{"$error":"#N/A"},{"$f":"IF(SUM(S$1262:S1494)>0,0,\nIF(MAX(L1495:L$2702)=MAX(L$1262:L$2702),0,\nIF(Hydrograph_Source_WQCV=\"USER\",IF(J1495>0.03*D$2703,0,$C1495/60),\nIF(J1495>0.03*J$2703,0,$C1495/60))))","v":0},{"$f":"IF(SUM(T$1262:T1494)>0,0,\nIF(MAX(L1495:L$2702)=MAX(L$1262:L$2702),0,\nIF(Hydrograph_Source_WQCV=\"USER\",IF(J1495>0.01*D$2703,0,$C1495/60),\nIF(J1495>0.01*J$2703,0,$C1495/60))))","v":0},0,0,0,0,{"$error":"#VALUE!"},{"$error":"#VALUE!"},{"$error":"#VALUE!"},{"$error":"#VALUE!"},{"$error":"#VALUE!"},{"$error":"#VALUE!"},{"$error":"#VALUE!"},{"$error":"#VALUE!"},{"$error":"#VALUE!"},{"$error":"#VALUE!"},{"$error":"#VALUE!"},{"$f":"IF(SUM(AJ$1262:AJ1494)>0,0,IF(MAX(AC1495:AC$2702)=MAX(AC$1262:AC$2702),0,IF(AA1495>0.03*U$2703,0,$C1495/60)))","v":{"$error":"#VALUE!"}},{"$f":"IF(SUM(AK$1262:AK1494)>0,0,IF(MAX(AC1495:AC$2702)=MAX(AC$1262:AC$2702),0,IF(AA1495>0.01*U$2703,0,$C1495/60)))","v":{"$error":"#VALUE!"}},0,0,0,0,{"$error":"#VALUE!"},{"$error":"#VALUE!"},{"$error":"#VALUE!"},{"$error":"#VALUE!"},{"$error":"#VALUE!"},{"$error":"#VALUE!"},{"$error":"#VALUE!"},{"$error":"#VALUE!"},{"$error":"#VALUE!"},{"$error":"#VALUE!"},{"$error":"#VALUE!"},{"$f":"IF(SUM(BA$1262:BA1494)>0,0,IF(MAX(AT1495:AT$2702)=MAX(AT$1262:AT$2702),0,IF(AR1495>0.03*AL$2703,0,$C1495/60)))","v":{"$error":"#VALUE!"}},{"$f":"IF(SUM(BB$1262:BB1494)>0,0,IF(MAX(AT1495:AT$2702)=MAX(AT$1262:AT$2702),0,IF(AR1495>0.01*AL$2703,0,$C1495/60)))","v":{"$error":"#VALUE!"}},0,0,0,0,{"$error":"#VALUE!"},{"$error":"#VALUE!"},{"$error":"#VALUE!"},{"$error":"#VALUE!"},{"$error":"#VALUE!"},{"$error":"#VALUE!"},{"$error":"#VALUE!"},{"$error":"#VALUE!"},{"$error":"#VALUE!"},{"$error":"#VALUE!"},{"$error":"#VALUE!"},{"$f":"IF(SUM(BR$1262:BR1494)>0,0,IF(MAX(BK1495:BK$2702)=MAX(BK$1262:BK$2702),0,IF(BI1495>0.03*BC$2703,0,$C1495/60)))","v":{"$error":"#VALUE!"}},{"$f":"IF(SUM(BS$1262:BS1494)>0,0,IF(MAX(BK1495:BK$2702)=MAX(BK$1262:BK$2702),0,IF(BI1495>0.01*BC$2703,0,$C1495/60)))","v":{"$error":"#VALUE!"}},0,0,0,0,{"$error":"#VALUE!"},{"$error":"#VALUE!"},{"$error":"#VALUE!"},{"$error":"#VALUE!"},{"$error":"#VALUE!"},{"$error":"#VALUE!"},{"$error":"#VALUE!"},{"$error":"#VALUE!"},{"$error":"#VALUE!"},{"$error":"#VALUE!"},{"$error":"#VALUE!"},{"$f":"IF(SUM(CI$1262:CI1494)>0,0,IF(MAX(CB1495:CB$2702)=MAX(CB$1262:CB$2702),0,IF(BZ1495>0.03*BT$2703,0,$C1495/60)))","v":{"$error":"#VALUE!"}},{"$f":"IF(SUM(CJ$1262:CJ1494)>0,0,IF(MAX(CB1495:CB$2702)=MAX(CB$1262:CB$2702),0,IF(BZ1495>0.01*BT$2703,0,$C1495/60)))","v":{"$error":"#VALUE!"}},0,0,0,0,{"$error":"#VALUE!"},{"$error":"#VALUE!"},{"$error":"#VALUE!"},{"$error":"#VALUE!"},{"$error":"#VALUE!"},{"$error":"#VALUE!"},{"$error":"#VALUE!"},{"$error":"#VALUE!"},{"$error":"#VALUE!"},{"$error":"#VALUE!"},{"$error":"#VALUE!"},{"$f":"IF(SUM(CZ$1262:CZ1494)>0,0,IF(MAX(CS1495:CS$2702)=MAX(CS$1262:CS$2702),0,IF(CQ1495>0.03*CK$2703,0,$C1495/60)))","v":{"$error":"#VALUE!"}},{"$f":"IF(SUM(DA$1262:DA1494)>0,0,IF(MAX(CS1495:CS$2702)=MAX(CS$1262:CS$2702),0,IF(CQ1495>0.01*CK$2703,0,$C1495/60)))","v":{"$error":"#VALUE!"}}]
[null,19.5,1170,0,0,0,0,0,0,0,0,0,{"$error":"#N/A"},{"$error":"#N/A"},{"$error":"#N/A"},{"$error":"#N/A"},{"$error":"#N/A"},{"$error":"#N/A"},{"$f":"IF(SUM(S$1262:S1495)>0,0,\nIF(MAX(L1496:L$2702)=MAX(L$1262:L$2702),0,\nIF(Hydrograph_Source_WQCV=\"USER\",IF(J1496>0.03*D$2703,0,$C1496/60),\nIF(J1496>0.03*J$2703,0,$C1496/60))))","v":0},{"$f":"IF(SUM(T$1262:T1495)>0,0,\nIF(MAX(L1496:L$2702)=MAX(L$1262:L$2702),0,\nIF(Hydrograph_Source_WQCV=\"USER\",IF(J1496>0.01*D$2703,0,$C1496/60),\nIF(J1496>0.01*J$2703,0,$C1496/60))))","v":0},0,0,0,0,{"$error":"#VALUE!"},{"$error":"#VALUE!"},{"$error":"#VALUE!"},{"$error":"#VALUE!"},{"$error":"#VALUE!"},{"$error":"#VALUE!"},{"$error":"#VALUE!"},{"$error":"#VALUE!"},{"$error":"#VALUE!"},{"$error":"#VALUE!"},{"$error":"#VALUE!"},{"$f":"IF(SUM(AJ$1262:AJ1495)>0,0,IF(MAX(AC1496:AC$2702)=MAX(AC$1262:AC$2702),0,IF(AA1496>0.03*U$2703,0,$C1496/60)))","v":{"$error":"#VALUE!"}},{"$f":"IF(SUM(AK$1262:AK1495)>0,0,IF(MAX(AC1496:AC$2702)=MAX(AC$1262:AC$2702),0,IF(AA1496>0.01*U$2703,0,$C1496/60)))","v":{"$error":"#VALUE!"}},0,0,0,0,{"$error":"#VALUE!"},{"$error":"#VALUE!"},{"$error":"#VALUE!"},{"$error":"#VALUE!"},{"$error":"#VALUE!"},{"$error":"#VALUE!"},{"$error":"#VALUE!"},{"$error":"#VALUE!"},{"$error":"#VALUE!"},{"$error":"#VALUE!"},{"$error":"#VALUE!"},{"$f":"IF(SUM(BA$1262:BA1495)>0,0,IF(MAX(AT1496:AT$2702)=MAX(AT$1262:AT$2702),0,IF(AR1496>0.03*AL$2703,0,$C1496/60)))","v":{"$error":"#VALUE!"}},{"$f":"IF(SUM(BB$1262:BB1495)>0,0,IF(MAX(AT1496:AT$2702)=MAX(AT$1262:AT$2702),0,IF(AR1496>0.01*AL$2703,0,$C1496/60)))","v":{"$error":"#VALUE!"}},0,0,0,0,{"$error":"#VALUE!"},{"$error":"#VALUE!"},{"$error":"#VALUE!"},{"$error":"#VALUE!"},{"$error":"#VALUE!"},{"$error":"#VALUE!"},{"$error":"#VALUE!"},{"$error":"#VALUE!"},{"$error":"#VALUE!"},{"$error":"#VALUE!"},{"$error":"#VALUE!"},{"$f":"IF(SUM(BR$1262:BR1495)>0,0,IF(MAX(BK1496:BK$2702)=MAX(BK$1262:BK$2702),0,IF(BI1496>0.03*BC$2703,0,$C1496/60)))","v":{"$error":"#VALUE!"}},{"$f":"IF(SUM(BS$1262:BS1495)>0,0,IF(MAX(BK1496:BK$2702)=MAX(BK$1262:BK$2702),0,IF(BI1496>0.01*BC$2703,0,$C1496/60)))","v":{"$error":"#VALUE!"}},0,0,0,0,{"$error":"#VALUE!"},{"$error":"#VALUE!"},{"$error":"#VALUE!"},{"$error":"#VALUE!"},{"$error":"#VALUE!"},{"$error":"#VALUE!"},{"$error":"#VALUE!"},{"$error":"#VALUE!"},{"$error":"#VALUE!"},{"$error":"#VALUE!"},{"$error":"#VALUE!"},{"$f":"IF(SUM(CI$1262:CI1495)>0,0,IF(MAX(CB1496:CB$2702)=MAX(CB$1262:CB$2702),0,IF(BZ1496>0.03*BT$2703,0,$C1496/60)))","v":{"$error":"#VALUE!"}},{"$f":"IF(SUM(CJ$1262:CJ1495)>0,0,IF(MAX(CB1496:CB$2702)=MAX(CB$1262:CB$2702),0,IF(BZ1496>0.01*BT$2703,0,$C1496/60)))","v":{"$error":"#VALUE!"}},0,0,0,0,{"$error":"#VALUE!"},{"$error":"#VALUE!"},{"$error":"#VALUE!"},{"$error":"#VALUE!"},{"$error":"#VALUE!"},{"$error":"#VALUE!"},{"$error":"#VALUE!"},{"$error":"#VALUE!"},{"$error":"#VALUE!"},{"$error":"#VALUE!"},{"$error":"#VALUE!"},{"$f":"IF(SUM(CZ$1262:CZ1495)>0,0,IF(MAX(CS1496:CS$2702)=MAX(CS$1262:CS$2702),0,IF(CQ1496>0.03*CK$2703,0,$C1496/60)))","v":{"$error":"#VALUE!"}},{"$f":"IF(SUM(DA$1262:DA1495)>0,0,IF(MAX(CS1496:CS$2702)=MAX(CS$1262:CS$2702),0,IF(CQ1496>0.01*CK$2703,0,$C1496/60)))","v":{"$error":"#VALUE!"}}]
[null,20.166666666666668,1210,0,0,0,0,0,0,0,0,0,{"$error":"#N/A"},{"$error":"#N/A"},{"$error":"#N/A"},{"$error":"#N/A"},{"$error":"#N/A"},{"$error":"#N/A"},{"$f":"IF(SUM(S$1262:S1503)>0,0,\nIF(MAX(L1504:L$2702)=MAX(L$1262:L$2702),0,\nIF(Hydrograph_Source_WQCV=\"USER\",IF(J1504>0.03*D$2703,0,$C1504/60),\nIF(J1504>0.03*J$2703,0,$C1504/60))))","v":0},{"$f":"IF(SUM(T$1262:T1503)>0,0,\nIF(MAX(L1504:L$2702)=MAX(L$1262:L$2702),0,\nIF(Hydrograph_Source_WQCV=\"USER\",IF(J1504>0.01*D$2703,0,$C1504/60),\nIF(J1504>0.01*J$2703,0,$C1504/60))))","v":0},0,0,0,0,{"$error":"#VALUE!"},{"$error":"#VALUE!"},{"$error":"#VALUE!"},{"$error":"#VALUE!"},{"$error":"#VALUE!"},{"$error":"#VALUE!"},{"$error":"#VALUE!"},{"$error":"#VALUE!"},{"$error":"#VALUE!"},{"$error":"#VALUE!"},{"$error":"#VALUE!"},{"$f":"IF(SUM(AJ$1262:AJ1503)>0,0,IF(MAX(AC1504:AC$2702)=MAX(AC$1262:AC$2702),0,IF(AA1504>0.03*U$2703,0,$C1504/60)))","v":{"$error":"#VALUE!"}},{"$f":"IF(SUM(AK$1262:AK1503)>0,0,IF(MAX(AC1504:AC$2702)=MAX(AC$1262:AC$2702),0,IF(AA1504>0.01*U$2703,0,$C1504/60)))","v":{"$error":"#VALUE!"}},0,0,0,0,{"$error":"#VALUE!"},{"$error":"#VALUE!"},{"$error":"#VALUE!"},{"$error":"#VALUE!"},{"$error":"#VALUE!"},{"$error":"#VALUE!"},{"$error":"#VALUE!"},{"$error":"#VALUE!"},{"$error":"#VALUE!"},{"$error":"#VALUE!"},{"$error":"#VALUE!"},{"$f":"IF(SUM(BA$1262:BA1503)>0,0,IF(MAX(AT1504:AT$2702)=MAX(AT$1262:AT$2702),0,IF(AR1504>0.03*AL$2703,0,$C1504/60)))","v":{"$error":"#VALUE!"}},{"$f":"IF(SUM(BB$1262:BB1503)>0,0,IF(MAX(AT1504:AT$2702)=MAX(AT$1262:AT$2702),0,IF(AR1504>0.01*AL$2703,0,$C1504/60)))","v":{"$error":"#VALUE!"}},0,0,0,0,{"$error":"#VALUE!"},{"$error":"#VALUE!"},{"$error":"#VALUE!"},{"$error":"#VALUE!"},{"$error":"#VALUE!"},{"$error":"#VALUE!"},{"$error":"#VALUE!"},{"$error":"#VALUE!"},{"$error":"#VALUE!"},{"$error":"#VALUE!"},{"$error":"#VALUE!"},{"$f":"IF(SUM(BR$1262:BR1503)>0,0,IF(MAX(BK1504:BK$2702)=MAX(BK$1262:BK$2702),0,IF(BI1504>0.03*BC$2703,0,$C1504/60)))","v":{"$error":"#VALUE!"}},{"$f":"IF(SUM(BS$1262:BS1503)>0,0,IF(MAX(BK1504:BK$2702)=MAX(BK$1262:BK$2702),0,IF(BI1504>0.01*BC$2703,0,$C1504/60)))","v":{"$error":"#VALUE!"}},0,0,0,0,{"$error":"#VALUE!"},{"$error":"#VALUE!"},{"$error":"#VALUE!"},{"$error":"#VALUE!"},{"$error":"#VALUE!"},{"$error":"#VALUE!"},{"$error":"#VALUE!"},{"$error":"#VALUE!"},{"$error":"#VALUE!"},{"$error":"#VALUE!"},{"$error":"#VALUE!"},{"$f":"IF(SUM(CI$1262:CI1503)>0,0,IF(MAX(CB1504:CB$2702)=MAX(CB$1262:CB$2702),0,IF(BZ1504>0.03*BT$2703,0,$C1504/60)))","v":{"$error":"#VALUE!"}},{"$f":"IF(SUM(CJ$1262:CJ1503)>0,0,IF(MAX(CB1504:CB$2702)=MAX(CB$1262:CB$2702),0,IF(BZ1504>0.01*BT$2703,0,$C1504/60)))","v":{"$error":"#VALUE!"}},0,0,0,0,{"$error":"#VALUE!"},{"$error":"#VALUE!"},{"$error":"#VALUE!"},{"$error":"#VALUE!"},{"$error":"#VALUE!"},{"$error":"#VALUE!"},{"$error":"#VALUE!"},{"$error":"#VALUE!"},{"$error":"#VALUE!"},{"$error":"#VALUE!"},{"$error":"#VALUE!"},{"$f":"IF(SUM(CZ$1262:CZ1503)>0,0,IF(MAX(CS1504:CS$2702)=MAX(CS$1262:CS$2702),0,IF(CQ1504>0.03*CK$2703,0,$C1504/60)))","v":{"$error":"#VALUE!"}},{"$f":"IF(SUM(DA$1262:DA1503)>0,0,IF(MAX(CS1504:CS$2702)=MAX(CS$1262:CS$2702),0,IF(CQ1504>0.01*CK$2703,0,$C1504/60)))","v":{"$error":"#VALUE!"}}]
[null,20.416666666666668,1225,0,0,0,0,0,0,0,0,0,{"$error":"#N/A"},{"$error":"#N/A"},{"$error":"#N/A"},{"$error":"#N/A"},{"$error":"#N/A"},{"$error":"#N/A"},{"$f":"IF(SUM(S$1262:S1506)>0,0,\nIF(MAX(L1507:L$2702)=MAX(L$1262:L$2702),0,\nIF(Hydrograph_Source_WQCV=\"USER\",IF(J1507>0.03*D$2703,0,$C1507/60),\nIF(J1507>0.03*J$2703,0,$C1507/60))))","v":0},{"$f":"IF(SUM(T$1262:T1506)>0,0,\nIF(MAX(L1507:L$2702)=MAX(L$1262:L$2702),0,\nIF(Hydrograph_Source_WQCV=\"USER\",IF(J1507>0.01*D$2703,0,$C1507/60),\nIF(J1507>0.01*J$2703,0,$C1507/60))))","v":0},0,0,0,0,{"$error":"#VALUE!"},{"$error":"#VALUE!"},{"$error":"#VALUE!"},{"$error":"#VALUE!"},{"$error":"#VALUE!"},{"$error":"#VALUE!"},{"$error":"#VALUE!"},{"$error":"#VALUE!"},{"$error":"#VALUE!"},{"$error":"#VALUE!"},{"$error":"#VALUE!"},{"$f":"IF(SUM(AJ$1262:AJ1506)>0,0,IF(MAX(AC1507:AC$2702)=MAX(AC$1262:AC$2702),0,IF(AA1507>0.03*U$2703,0,$C1507/60)))","v":{"$error":"#VALUE!"}},{"$f":"IF(SUM(AK$1262:AK1506)>0,0,IF(MAX(AC1507:AC$2702)=MAX(AC$1262:AC$2702),0,IF(AA1507>0.01*U$2703,0,$C1507/60)))","v":{"$error":"#VALUE!"}},0,0,0,0,{"$error":"#VALUE!"},{"$error":"#VALUE!"},{"$error":"#VALUE!"},{"$error":"#VALUE!"},{"$error":"#VALUE!"},{"$error":"#VALUE!"},{"$error":"#VALUE!"},{"$error":"#VALUE!"},{"$error":"#VALUE!"},{"$error":"#VALUE!"},{"$error":"#VALUE!"},{"$f":"IF(SUM(BA$1262:BA1506)>0,0,IF(MAX(AT1507:AT$2702)=MAX(AT$1262:AT$2702),0,IF(AR1507>0.03*AL$2703,0,$C1507/60)))","v":{"$error":"#VALUE!"}},{"$f":"IF(SUM(BB$1262:BB1506)>0,0,IF(MAX(AT1507:AT$2702)=MAX(AT$1262:AT$2702),0,IF(AR1507>0.01*AL$2703,0,$C1507/60)))","v":{"$error":"#VALUE!"}},0,0,0,0,{"$error":"#VALUE!"},{"$error":"#VALUE!"},{"$error":"#VALUE!"},{"$error":"#VALUE!"},{"$error":"#VALUE!"},{"$error":"#VALUE!"},{"$error":"#VALUE!"},{"$error":"#VALUE!"},{"$error":"#VALUE!"},{"$error":"#VALUE!"},{"$error":"#VALUE!"},{"$f":"IF(SUM(BR$1262:BR1506)>0,0,IF(MAX(BK1507:BK$2702)=MAX(BK$1262:BK$2702),0,IF(BI1507>0.03*BC$2703,0,$C1507/60)))","v":{"$error":"#VALUE!"}},{"$f":"IF(SUM(BS$1262:BS1506)>0,0,IF(MAX(BK1507:BK$2702)=MAX(BK$1262:BK$2702),0,IF(BI1507>0.01*BC$2703,0,$C1507/60)))","v":{"$error":"#VALUE!"}},0,0,0,0,{"$error":"#VALUE!"},{"$error":"#VALUE!"},{"$error":"#VALUE!"},{"$error":"#VALUE!"},{"$error":"#VALUE!"},{"$error":"#VALUE!"},{"$error":"#VALUE!"},{"$error":"#VALUE!"},{"$error":"#VALUE!"},{"$error":"#VALUE!"},{"$error":"#VALUE!"},{"$f":"IF(SUM(CI$1262:CI1506)>0,0,IF(MAX(CB1507:CB$2702)=MAX(CB$1262:CB$2702),0,IF(BZ1507>0.03*BT$2703,0,$C1507/60)))","v":{"$error":"#VALUE!"}},{"$f":"IF(SUM(CJ$1262:CJ1506)>0,0,IF(MAX(CB1507:CB$2702)=MAX(CB$1262:CB$2702),0,IF(BZ1507>0.01*BT$2703,0,$C1507/60)))","v":{"$error":"#VALUE!"}},0,0,0,0,{"$error":"#VALUE!"},{"$error":"#VALUE!"},{"$error":"#VALUE!"},{"$error":"#VALUE!"},{"$error":"#VALUE!"},{"$error":"#VALUE!"},{"$error":"#VALUE!"},{"$error":"#VALUE!"},{"$error":"#VALUE!"},{"$error":"#VALUE!"},{"$error":"#VALUE!"},{"$f":"IF(SUM(CZ$1262:CZ1506)>0,0,IF(MAX(CS1507:CS$2702)=MAX(CS$1262:CS$2702),0,IF(CQ1507>0.03*CK$2703,0,$C1507/60)))","v":{"$error":"#VALUE!"}},{"$f":"IF(SUM(DA$1262:DA1506)>0,0,IF(MAX(CS1507:CS$2702)=MAX(CS$1262:CS$2702),0,IF(CQ1507>0.01*CK$2703,0,$C1507/60)))","v":{"$error":"#VALUE!"}}]
[null,20.833333333333332,1250,0,0,0,0,0,0,0,0,0,{"$error":"#N/A"},{"$error":"#N/A"},{"$error":"#N/A"},{"$error":"#N/A"},{"$error":"#N/A"},{"$error":"#N/A"},{"$f":"IF(SUM(S$1262:S1511)>0,0,\nIF(MAX(L1512:L$2702)=MAX(L$1262:L$2702),0,\nIF(Hydrograph_Source_WQCV=\"USER\",IF(J1512>0.03*D$2703,0,$C1512/60),\nIF(J1512>0.03*J$2703,0,$C1512/60))))","v":0},{"$f":"IF(SUM(T$1262:T1511)>0,0,\nIF(MAX(L1512:L$2702)=MAX(L$1262:L$2702),0,\nIF(Hydrograph_Source_WQCV=\"USER\",IF(J1512>0.01*D$2703,0,$C1512/60),\nIF(J1512>0.01*J$2703,0,$C1512/60))))","v":0},0,0,0,0,{"$error":"#VALUE!"},{"$error":"#VALUE!"},{"$error":"#VALUE!"},{"$error":"#VALUE!"},{"$error":"#VALUE!"},{"$error":"#VALUE!"},{"$error":"#VALUE!"},{"$error":"#VALUE!"},{"$error":"#VALUE!"},{"$error":"#VALUE!"},{"$error":"#VALUE!"},{"$f":"IF(SUM(AJ$1262:AJ1511)>0,0,IF(MAX(AC1512:AC$2702)=MAX(AC$1262:AC$2702),0,IF(AA1512>0.03*U$2703,0,$C1512/60)))","v":{"$error":"#VALUE!"}},{"$f":"IF(SUM(AK$1262:AK1511)>0,0,IF(MAX(AC1512:AC$2702)=MAX(AC$1262:AC$2702),0,IF(AA1512>0.01*U$2703,0,$C1512/60)))","v":{"$error":"#VALUE!"}},0,0,0,0,{"$error":"#VALUE!"},{"$error":"#VALUE!"},{"$error":"#VALUE!"},{"$error":"#VALUE!"},{"$error":"#VALUE!"},{"$error":"#VALUE!"},{"$error":"#VALUE!"},{"$error":"#VALUE!"},{"$error":"#VALUE!"},{"$error":"#VALUE!"},{"$error":"#VALUE!"},{"$f":"IF(SUM(BA$1262:BA1511)>0,0,IF(MAX(AT1512:AT$2702)=MAX(AT$1262:AT$2702),0,IF(AR1512>0.03*AL$2703,0,$C1512/60)))","v":{"$error":"#VALUE!"}},{"$f":"IF(SUM(BB$1262:BB1511)>0,0,IF(MAX(AT1512:AT$2702)=MAX(AT$1262:AT$2702),0,IF(AR1512>0.01*AL$2703,0,$C1512/60)))","v":{"$error":"#VALUE!"}},0,0,0,0,{"$error":"#VALUE!"},{"$error":"#VALUE!"},{"$error":"#VALUE!"},{"$error":"#VALUE!"},{"$error":"#VALUE!"},{"$error":"#VALUE!"},{"$error":"#VALUE!"},{"$error":"#VALUE!"},{"$error":"#VALUE!"},{"$error":"#VALUE!"},{"$error":"#VALUE!"},{"$f":"IF(SUM(BR$1262:BR1511)>0,0,IF(MAX(BK1512:BK$2702)=MAX(BK$1262:BK$2702),0,IF(BI1512>0.03*BC$2703,0,$C1512/60)))","v":{"$error":"#VALUE!"}},{"$f":"IF(SUM(BS$1262:BS1511)>0,0,IF(MAX(BK1512:BK$2702)=MAX(BK$1262:BK$2702),0,IF(BI1512>0.01*BC$2703,0,$C1512/60)))","v":{"$error":"#VALUE!"}},0,0,0,0,{"$error":"#VALUE!"},{"$error":"#VALUE!"},{"$error":"#VALUE!"},{"$error":"#VALUE!"},{"$error":"#VALUE!"},{"$error":"#VALUE!"},{"$error":"#VALUE!"},{"$error":"#VALUE!"},{"$error":"#VALUE!"},{"$error":"#VALUE!"},{"$error":"#VALUE!"},{"$f":"IF(SUM(CI$1262:CI1511)>0,0,IF(MAX(CB1512:CB$2702)=MAX(CB$1262:CB$2702),0,IF(BZ1512>0.03*BT$2703,0,$C1512/60)))","v":{"$error":"#VALUE!"}},{"$f":"IF(SUM(CJ$1262:CJ1511)>0,0,IF(MAX(CB1512:CB$2702)=MAX(CB$1262:CB$2702),0,IF(BZ1512>0.01*BT$2703,0,$C1512/60)))","v":{"$error":"#VALUE!"}},0,0,0,0,{"$error":"#VALUE!"},{"$error":"#VALUE!"},{"$error":"#VALUE!"},{"$error":"#VALUE!"},{"$error":"#VALUE!"},{"$error":"#VALUE!"},{"$error":"#VALUE!"},{"$error":"#VALUE!"},{"$error":"#VALUE!"},{"$error":"#VALUE!"},{"$error":"#VALUE!"},{"$f":"IF(SUM(CZ$1262:CZ1511)>0,0,IF(MAX(CS1512:CS$2702)=MAX(CS$1262:CS$2702),0,IF(CQ1512>0.03*CK$2703,0,$C1512/60)))","v":{"$error":"#VALUE!"}},{"$f":"IF(SUM(DA$1262:DA1511)>0,0,IF(MAX(CS1512:CS$2702)=MAX(CS$1262:CS$2702),0,IF(CQ1512>0.01*CK$2703,0,$C1512/60)))","v":{"$error":"#VALUE!"}}]
[null,20.916666666666668,1255,0,0,0,0,0,0,0,0,0,{"$error":"#N/A"},{"$error":"#N/A"},{"$error":"#N/A"},{"$error":"#N/A"},{"$error":"#N/A"},{"$error":"#N/A"},{"$f":"IF(SUM(S$1262:S1512)>0,0,\nIF(MAX(L1513:L$2702)=MAX(L$1262:L$2702),0,\nIF(Hydrograph_Source_WQCV=\"USER\",IF(J1513>0.03*D$2703,0,$C1513/60),\nIF(J1513>0.03*J$2703,0,$C1513/60))))","v":0},{"$f":"IF(SUM(T$1262:T1512)>0,0,\nIF(MAX(L1513:L$2702)=MAX(L$1262:L$2702),0,\nIF(Hydrograph_Source_WQCV=\"USER\",IF(J1513>0.01*D$2703,0,$C1513/60),\nIF(J1513>0.01*J$2703,0,$C1513/60))))","v":0},0,0,0,0,{"$error":"#VALUE!"},{"$error":"#VALUE!"},{"$error":"#VALUE!"},{"$error":"#VALUE!"},{"$error":"#VALUE!"},{"$error":"#VALUE!"},{"$error":"#VALUE!"},{"$error":"#VALUE!"},{"$error":"#VALUE!"},{"$error":"#VALUE!"},{"$error":"#VALUE!"},{"$f":"IF(SUM(AJ$1262:AJ1512)>0,0,IF(MAX(AC1513:AC$2702)=MAX(AC$1262:AC$2702),0,IF(AA1513>0.03*U$2703,0,$C1513/60)))","v":{"$error":"#VALUE!"}},{"$f":"IF(SUM(AK$1262:AK1512)>0,0,IF(MAX(AC1513:AC$2702)=MAX(AC$1262:AC$2702),0,IF(AA1513>0.01*U$2703,0,$C1513/60)))","v":{"$error":"#VALUE!"}},0,0,0,0,{"$error":"#VALUE!"},{"$error":"#VALUE!"},{"$error":"#VALUE!"},{"$error":"#VALUE!"},{"$error":"#VALUE!"},{"$error":"#VALUE!"},{"$error":"#VALUE!"},{"$error":"#VALUE!"},{"$error":"#VALUE!"},{"$error":"#VALUE!"},{"$error":"#VALUE!"},{"$f":"IF(SUM(BA$1262:BA1512)>0,0,IF(MAX(AT1513:AT$2702)=MAX(AT$1262:AT$2702),0,IF(AR1513>0.03*AL$2703,0,$C1513/60)))","v":{"$error":"#VALUE!"}},{"$f":"IF(SUM(BB$1262:BB1512)>0,0,IF(MAX(AT1513:AT$2702)=MAX(AT$1262:AT$2702),0,IF(AR1513>0.01*AL$2703,0,$C1513/60)))","v":{"$error":"#VALUE!"}},0,0,0,0,{"$error":"#VALUE!"},{"$error":"#VALUE!"},{"$error":"#VALUE!"},{"$error":"#VALUE!"},{"$error":"#VALUE!"},{"$error":"#VALUE!"},{"$error":"#VALUE!"},{"$error":"#VALUE!"},{"$error":"#VALUE!"},{"$error":"#VALUE!"},{"$error":"#VALUE!"},{"$f":"IF(SUM(BR$1262:BR1512)>0,0,IF(MAX(BK1513:BK$2702)=MAX(BK$1262:BK$2702),0,IF(BI1513>0.03*BC$2703,0,$C1513/60)))","v":{"$error":"#VALUE!"}},{"$f":"IF(SUM(BS$1262:BS1512)>0,0,IF(MAX(BK1513:BK$2702)=MAX(BK$1262:BK$2702),0,IF(BI1513>0.01*BC$2703,0,$C1513/60)))","v":{"$error":"#VALUE!"}},0,0,0,0,{"$error":"#VALUE!"},{"$error":"#VALUE!"},{"$error":"#VALUE!"},{"$error":"#VALUE!"},{"$error":"#VALUE!"},{"$error":"#VALUE!"},{"$error":"#VALUE!"},{"$error":"#VALUE!"},{"$error":"#VALUE!"},{"$error":"#VALUE!"},{"$error":"#VALUE!"},{"$f":"IF(SUM(CI$1262:CI1512)>0,0,IF(MAX(CB1513:CB$2702)=MAX(CB$1262:CB$2702),0,IF(BZ1513>0.03*BT$2703,0,$C1513/60)))","v":{"$error":"#VALUE!"}},{"$f":"IF(SUM(CJ$1262:CJ1512)>0,0,IF(MAX(CB1513:CB$2702)=MAX(CB$1262:CB$2702),0,IF(BZ1513>0.01*BT$2703,0,$C1513/60)))","v":{"$error":"#VALUE!"}},0,0,0,0,{"$error":"#VALUE!"},{"$error":"#VALUE!"},{"$error":"#VALUE!"},{"$error":"#VALUE!"},{"$error":"#VALUE!"},{"$error":"#VALUE!"},{"$error":"#VALUE!"},{"$error":"#VALUE!"},{"$error":"#VALUE!"},{"$error":"#VALUE!"},{"$error":"#VALUE!"},{"$f":"IF(SUM(CZ$1262:CZ1512)>0,0,IF(MAX(CS1513:CS$2702)=MAX(CS$1262:CS$2702),0,IF(CQ1513>0.03*CK$2703,0,$C1513/60)))","v":{"$error":"#VALUE!"}},{"$f":"IF(SUM(DA$1262:DA1512)>0,0,IF(MAX(CS1513:CS$2702)=MAX(CS$1262:CS$2702),0,IF(CQ1513>0.01*CK$2703,0,$C1513/60)))","v":{"$error":"#VALUE!"}}]
[null,21.416666666666668,{"$f":"C1518+$C$1260","v":1285},0,0,{"$f":"G1518","v":0},0,{"$f":"I1518","v":0},0,0,0,{"$f":"IF($D$1263=\"\",0,ROUND((R1519*K1519+Q1519-R1519*P1519),7))","v":0},{"$error":"#N/A"},{"$error":"#N/A"},{"$error":"#N/A"},{"$error":"#N/A"},{"$error":"#N/A"},{"$error":"#N/A"},{"$f":"IF(SUM(S$1262:S1518)>0,0,\nIF(MAX(L1519:L$2702)=MAX(L$1262:L$2702),0,\nIF(Hydrograph_Source_WQCV=\"USER\",IF(J1519>0.03*D$2703,0,$C1519/60),\nIF(J1519>0.03*J$2703,0,$C1519/60))))","v":0},{"$f":"IF(SUM(T$1262:T1518)>0,0,\nIF(MAX(L1519:L$2702)=MAX(L$1262:L$2702),0,\nIF(Hydrograph_Source_WQCV=\"USER\",IF(J1519>0.01*D$2703,0,$C1519/60),\nIF(J1519>0.01*J$2703,0,$C1519/60))))","v":0},0,0,{"$f":"X1518","v":0},0,{"$f":"Z1518","v":{"$error":"#VALUE!"}},{"$error":"#VALUE!"},{"$error":"#VALUE!"},{"$error":"#VALUE!"},{"$f":"IF($U$1263=\"\",0,ROUND((AI1519*AB1519+AH1519-AI1519*AG1519),7))","v":{"$error":"#VALUE!"}},{"$error":"#VALUE!"},{"$error":"#VALUE!"},{"$error":"#VALUE!"},{"$error":"#VALUE!"},{"$error":"#VALUE!"},{"$error":"#VALUE!"},{"$f":"IF(SUM(AJ$1262:AJ1518)>0,0,IF(MAX(AC1519:AC$2702)=MAX(AC$1262:AC$2702),0,IF(AA1519>0.03*U$2703,0,$C1519/60)))","v":{"$error":"#VALUE!"}},{"$f":"IF(SUM(AK$1262:AK1518)>0,0,IF(MAX(AC1519:AC$2702)=MAX(AC$1262:AC$2702),0,IF(AA1519>0.01*U$2703,0,$C1519/60)))","v":{"$error":"#VALUE!"}},0,0,{"$f":"AO1518","v":0},0,{"$f":"AQ1518","v":{"$error":"#VALUE!"}},{"$error":"#VALUE!"},{"$error":"#VALUE!"},{"$error":"#VALUE!"},{"$f":"IF($AL$1263=\"\",0,ROUND((AZ1519*AS1519+AY1519-AZ1519*AX1519),7))","v":{"$error":"#VALUE!"}},{"$error":"#VALUE!"},{"$error":"#VALUE!"},{"$error":"#VALUE!"},{"$error":"#VALUE!"},{"$error":"#VALUE!"},{"$error":"#VALUE!"},{"$f":"IF(SUM(BA$1262:BA1518)>0,0,IF(MAX(AT1519:AT$2702)=MAX(AT$1262:AT$2702),0,IF(AR1519>0.03*AL$2703,0,$C1519/60)))","v":{"$error":"#VALUE!"}},{"$f":"IF(SUM(BB$1262:BB1518)>0,0,IF(MAX(AT1519:AT$2702)=MAX(AT$1262:AT$2702),0,IF(AR1519>0.01*AL$2703,0,$C1519/60)))","v":{"$error":"#VALUE!"}},0,0,{"$f":"BF1518","v":0},0,{"$f":"BH1518","v":{"$error":"#VALUE!"}},{"$error":"#VALUE!"},{"$error":"#VALUE!"},{"$error":"#VALUE!"},{"$f":"IF($BC$1263=\"\",0,ROUND((BQ1519*BJ1519+BP1519-BQ1519*BO1519),7))","v":{"$error":"#VALUE!"}},{"$error":"#VALUE!"},{"$error":"#VALUE!"},{"$error":"#VALUE!"},{"$error":"#VALUE!"},{"$error":"#VALUE!"},{"$error":"#VALUE!"},{"$f":"IF(SUM(BR$1262:BR1518)>0,0,IF(MAX(BK1519:BK$2702)=MAX(BK$1262:BK$2702),0,IF(BI1519>0.03*BC$2703,0,$C1519/60)))","v":{"$error":"#VALUE!"}},{"$f":"IF(SUM(BS$1262:BS1518)>0,0,IF(MAX(BK1519:BK$2702)=MAX(BK$1262:BK$2702),0,IF(BI1519>0.01*BC$2703,0,$C1519/60)))","v":{"$error":"#VALUE!"}},0,0,{"$f":"BW1518","v":0},0,{"$f":"BY1518","v":{"$error":"#VALUE!"}},{"$error":"#VALUE!"},{"$error":"#VALUE!"},{"$error":"#VALUE!"},{"$f":"IF($BT$1263=\"\",0,ROUND((CH1519*CA1519+CG1519-CH1519*CF1519),7))","v":{"$error":"#VALUE!"}},{"$error":"#VALUE!"},{"$error":"#VALUE!"},{"$error":"#VALUE!"},{"$error":"#VALUE!"},{"$error":"#VALUE!"},{"$error":"#VALUE!"},{"$f":"IF(SUM(CI$1262:CI1518)>0,0,IF(MAX(CB1519:CB$2702)=MAX(CB$1262:CB$2702),0,IF(BZ1519>0.03*BT$2703,0,$C1519/60)))","v":{"$error":"#VALUE!"}},{"$f":"IF(SUM(CJ$1262:CJ1518)>0,0,IF(MAX(CB1519:CB$2702)=MAX(CB$1262:CB$2702),0,IF(BZ1519>0.01*BT$2703,0,$C1519/60)))","v":{"$error":"#VALUE!"}},0,0,{"$f":"CN1518","v":0},0,{"$f":"CP1518","v":{"$error":"#VALUE!"}},{"$error":"#VALUE!"},{"$error":"#VALUE!"},{"$error":"#VALUE!"},{"$error":"#VALUE!"},{"$error":"#VALUE!"},{"$error":"#VALUE!"},{"$error":"#VALUE!"},{"$error":"#VALUE!"},{"$error":"#VALUE!"},{"$error":"#VALUE!"},{"$f":"IF(SUM(CZ$1262:CZ1518)>0,0,IF(MAX(CS1519:CS$2702)=MAX(CS$1262:CS$2702),0,IF(CQ1519>0.03*CK$2703,0,$C1519/60)))","v":{"$error":"#VALUE!"}},{"$f":"IF(SUM(DA$1262:DA1518)>0,0,IF(MAX(CS1519:CS$2702)=MAX(CS$1262:CS$2702),0,IF(CQ1519>0.01*CK$2703,0,$C1519/60)))","v":{"$error":"#VALUE!"}}]
[null,21.833333333333332,1310,0,0,0,0,0,0,0,0,0,{"$error":"#N/A"},{"$error":"#N/A"},{"$error":"#N/A"},{"$error":"#N/A"},{"$error":"#N/A"},{"$error":"#N/A"},{"$f":"IF(SUM(S$1262:S1523)>0,0,\nIF(MAX(L1524:L$2702)=MAX(L$1262:L$2702),0,\nIF(Hydrograph_Source_WQCV=\"USER\",IF(J1524>0.03*D$2703,0,$C1524/60),\nIF(J1524>0.03*J$2703,0,$C1524/60))))","v":0},{"$f":"IF(SUM(T$1262:T1523)>0,0,\nIF(MAX(L1524:L$2702)=MAX(L$1262:L$2702),0,\nIF(Hydrograph_Source_WQCV=\"USER\",IF(J1524>0.01*D$2703,0,$C1524/60),\nIF(J1524>0.01*J$2703,0,$C1524/60))))","v":0},0,0,0,0,{"$error":"#VALUE!"},{"$error":"#VALUE!"},{"$error":"#VALUE!"},{"$error":"#VALUE!"},{"$error":"#VALUE!"},{"$error":"#VALUE!"},{"$error":"#VALUE!"},{"$error":"#VALUE!"},{"$error":"#VALUE!"},{"$error":"#VALUE!"},{"$error":"#VALUE!"},{"$f":"IF(SUM(AJ$1262:AJ1523)>0,0,IF(MAX(AC1524:AC$2702)=MAX(AC$1262:AC$2702),0,IF(AA1524>0.03*U$2703,0,$C1524/60)))","v":{"$error":"#VALUE!"}},{"$f":"IF(SUM(AK$1262:AK1523)>0,0,IF(MAX(AC1524:AC$2702)=MAX(AC$1262:AC$2702),0,IF(AA1524>0.01*U$2703,0,$C1524/60)))","v":{"$error":"#VALUE!"}},0,0,0,0,{"$error":"#VALUE!"},{"$error":"#VALUE!"},{"$error":"#VALUE!"},{"$error":"#VALUE!"},{"$error":"#VALUE!"},{"$error":"#VALUE!"},{"$error":"#VALUE!"},{"$error":"#VALUE!"},{"$error":"#VALUE!"},{"$error":"#VALUE!"},{"$error":"#VALUE!"},{"$f":"IF(SUM(BA$1262:BA1523)>0,0,IF(MAX(AT1524:AT$2702)=MAX(AT$1262:AT$2702),0,IF(AR1524>0.03*AL$2703,0,$C1524/60)))","v":{"$error":"#VALUE!"}},{"$f":"IF(SUM(BB$1262:BB1523)>0,0,IF(MAX(AT1524:AT$2702)=MAX(AT$1262:AT$2702),0,IF(AR1524>0.01*AL$2703,0,$C1524/60)))","v":{"$error":"#VALUE!"}},0,0,0,0,{"$error":"#VALUE!"},{"$error":"#VALUE!"},{"$error":"#VALUE!"},{"$error":"#VALUE!"},{"$error":"#VALUE!"},{"$error":"#VALUE!"},{"$error":"#VALUE!"},{"$error":"#VALUE!"},{"$error":"#VALUE!"},{"$error":"#VALUE!"},{"$error":"#VALUE!"},{"$f":"IF(SUM(BR$1262:BR1523)>0,0,IF(MAX(BK1524:BK$2702)=MAX(BK$1262:BK$2702),0,IF(BI1524>0.03*BC$2703,0,$C1524/60)))","v":{"$error":"#VALUE!"}},{"$f":"IF(SUM(BS$1262:BS1523)>0,0,IF(MAX(BK1524:BK$2702)=MAX(BK$1262:BK$2702),0,IF(BI1524>0.01*BC$2703,0,$C1524/60)))","v":{"$error":"#VALUE!"}},0,0,0,0,{"$error":"#VALUE!"},{"$error":"#VALUE!"},{"$error":"#VALUE!"},{"$error":"#VALUE!"},{"$error":"#VALUE!"},{"$error":"#VALUE!"},{"$error":"#VALUE!"},{"$error":"#VALUE!"},{"$error":"#VALUE!"},{"$error":"#VALUE!"},{"$error":"#VALUE!"},{"$f":"IF(SUM(CI$1262:CI1523)>0,0,IF(MAX(CB1524:CB$2702)=MAX(CB$1262:CB$2702),0,IF(BZ1524>0.03*BT$2703,0,$C1524/60)))","v":{"$error":"#VALUE!"}},{"$f":"IF(SUM(CJ$1262:CJ1523)>0,0,IF(MAX(CB1524:CB$2702)=MAX(CB$1262:CB$2702),0,IF(BZ1524>0.01*BT$2703,0,$C1524/60)))","v":{"$error":"#VALUE!"}},0,0,0,0,{"$error":"#VALUE!"},{"$error":"#VALUE!"},{"$error":"#VALUE!"},{"$error":"#VALUE!"},{"$error":"#VALUE!"},{"$error":"#VALUE!"},{"$error":"#VALUE!"},{"$error":"#VALUE!"},{"$error":"#VALUE!"},{"$error":"#VALUE!"},{"$error":"#VALUE!"},{"$f":"IF(SUM(CZ$1262:CZ1523)>0,0,IF(MAX(CS1524:CS$2702)=MAX(CS$1262:CS$2702),0,IF(CQ1524>0.03*CK$2703,0,$C1524/60)))","v":{"$error":"#VALUE!"}},{"$f":"IF(SUM(DA$1262:DA1523)>0,0,IF(MAX(CS1524:CS$2702)=MAX(CS$1262:CS$2702),0,IF(CQ1524>0.01*CK$2703,0,$C1524/60)))","v":{"$error":"#VALUE!"}}]
[null,22.083333333333332,1325,0,0,0,0,0,0,0,0,0,{"$error":"#N/A"},{"$error":"#N/A"},{"$error":"#N/A"},{"$error":"#N/A"},{"$error":"#N/A"},{"$error":"#N/A"},{"$f":"IF(SUM(S$1262:S1526)>0,0,\nIF(MAX(L1527:L$2702)=MAX(L$1262:L$2702),0,\nIF(Hydrograph_Source_WQCV=\"USER\",IF(J1527>0.03*D$2703,0,$C1527/60),\nIF(J1527>0.03*J$2703,0,$C1527/60))))","v":0},{"$f":"IF(SUM(T$1262:T1526)>0,0,\nIF(MAX(L1527:L$2702)=MAX(L$1262:L$2702),0,\nIF(Hydrograph_Source_WQCV=\"USER\",IF(J1527>0.01*D$2703,0,$C1527/60),\nIF(J1527>0.01*J$2703,0,$C1527/60))))","v":0},0,0,0,0,{"$error":"#VALUE!"},{"$error":"#VALUE!"},{"$error":"#VALUE!"},{"$error":"#VALUE!"},{"$error":"#VALUE!"},{"$error":"#VALUE!"},{"$error":"#VALUE!"},{"$error":"#VALUE!"},{"$error":"#VALUE!"},{"$error":"#VALUE!"},{"$error":"#VALUE!"},{"$f":"IF(SUM(AJ$1262:AJ1526)>0,0,IF(MAX(AC1527:AC$2702)=MAX(AC$1262:AC$2702),0,IF(AA1527>0.03*U$2703,0,$C1527/60)))","v":{"$error":"#VALUE!"}},{"$f":"IF(SUM(AK$1262:AK1526)>0,0,IF(MAX(AC1527:AC$2702)=MAX(AC$1262:AC$2702),0,IF(AA1527>0.01*U$2703,0,$C1527/60)))","v":{"$error":"#VALUE!"}},0,0,0,0,{"$error":"#VALUE!"},{"$error":"#VALUE!"},{"$error":"#VALUE!"},{"$error":"#VALUE!"},{"$error":"#VALUE!"},{"$error":"#VALUE!"},{"$error":"#VALUE!"},{"$error":"#VALUE!"},{"$error":"#VALUE!"},{"$error":"#VALUE!"},{"$error":"#VALUE!"},{"$f":"IF(SUM(BA$1262:BA1526)>0,0,IF(MAX(AT1527:AT$2702)=MAX(AT$1262:AT$2702),0,IF(AR1527>0.03*AL$2703,0,$C1527/60)))","v":{"$error":"#VALUE!"}},{"$f":"IF(SUM(BB$1262:BB1526)>0,0,IF(MAX(AT1527:AT$2702)=MAX(AT$1262:AT$2702),0,IF(AR1527>0.01*AL$2703,0,$C1527/60)))","v":{"$error":"#VALUE!"}},0,0,0,0,{"$error":"#VALUE!"},{"$error":"#VALUE!"},{"$error":"#VALUE!"},{"$error":"#VALUE!"},{"$error":"#VALUE!"},{"$error":"#VALUE!"},{"$error":"#VALUE!"},{"$error":"#VALUE!"},{"$error":"#VALUE!"},{"$error":"#VALUE!"},{"$error":"#VALUE!"},{"$f":"IF(SUM(BR$1262:BR1526)>0,0,IF(MAX(BK1527:BK$2702)=MAX(BK$1262:BK$2702),0,IF(BI1527>0.03*BC$2703,0,$C1527/60)))","v":{"$error":"#VALUE!"}},{"$f":"IF(SUM(BS$1262:BS1526)>0,0,IF(MAX(BK1527:BK$2702)=MAX(BK$1262:BK$2702),0,IF(BI1527>0.01*BC$2703,0,$C1527/60)))","v":{"$error":"#VALUE!"}},0,0,0,0,{"$error":"#VALUE!"},{"$error":"#VALUE!"},{"$error":"#VALUE!"},{"$error":"#VALUE!"},{"$error":"#VALUE!"},{"$error":"#VALUE!"},{"$error":"#VALUE!"},{"$error":"#VALUE!"},{"$error":"#VALUE!"},{"$error":"#VALUE!"},{"$error":"#VALUE!"},{"$f":"IF(SUM(CI$1262:CI1526)>0,0,IF(MAX(CB1527:CB$2702)=MAX(CB$1262:CB$2702),0,IF(BZ1527>0.03*BT$2703,0,$C1527/60)))","v":{"$error":"#VALUE!"}},{"$f":"IF(SUM(CJ$1262:CJ1526)>0,0,IF(MAX(CB1527:CB$2702)=MAX(CB$1262:CB$2702),0,IF(BZ1527>0.01*BT$2703,0,$C1527/60)))","v":{"$error":"#VALUE!"}},0,0,0,0,{"$error":"#VALUE!"},{"$error":"#VALUE!"},{"$error":"#VALUE!"},{"$error":"#VALUE!"},{"$error":"#VALUE!"},{"$error":"#VALUE!"},{"$error":"#VALUE!"},{"$error":"#VALUE!"},{"$error":"#VALUE!"},{"$error":"#VALUE!"},{"$error":"#VALUE!"},{"$f":"IF(SUM(CZ$1262:CZ1526)>0,0,IF(MAX(CS1527:CS$2702)=MAX(CS$1262:CS$2702),0,IF(CQ1527>0.03*CK$2703,0,$C1527/60)))","v":{"$error":"#VALUE!"}},{"$f":"IF(SUM(DA$1262:DA1526)>0,0,IF(MAX(CS1527:CS$2702)=MAX(CS$1262:CS$2702),0,IF(CQ1527>0.01*CK$2703,0,$C1527/60)))","v":{"$error":"#VALUE!"}}]
[null,22.416666666666668,1345,0,0,0,0,0,0,0,0,0,{"$error":"#N/A"},{"$error":"#N/A"},{"$error":"#N/A"},{"$error":"#N/A"},{"$error":"#N/A"},{"$error":"#N/A"},{"$f":"IF(SUM(S$1262:S1530)>0,0,\nIF(MAX(L1531:L$2702)=MAX(L$1262:L$2702),0,\nIF(Hydrograph_Source_WQCV=\"USER\",IF(J1531>0.03*D$2703,0,$C1531/60),\nIF(J1531>0.03*J$2703,0,$C1531/60))))","v":0},{"$f":"IF(SUM(T$1262:T1530)>0,0,\nIF(MAX(L1531:L$2702)=MAX(L$1262:L$2702),0,\nIF(Hydrograph_Source_WQCV=\"USER\",IF(J1531>0.01*D$2703,0,$C1531/60),\nIF(J1531>0.01*J$2703,0,$C1531/60))))","v":0},0,0,0,0,{"$error":"#VALUE!"},{"$error":"#VALUE!"},{"$error":"#VALUE!"},{"$error":"#VALUE!"},{"$error":"#VALUE!"},{"$error":"#VALUE!"},{"$error":"#VALUE!"},{"$error":"#VALUE!"},{"$error":"#VALUE!"},{"$error":"#VALUE!"},{"$error":"#VALUE!"},{"$f":"IF(SUM(AJ$1262:AJ1530)>0,0,IF(MAX(AC1531:AC$2702)=MAX(AC$1262:AC$2702),0,IF(AA1531>0.03*U$2703,0,$C1531/60)))","v":{"$error":"#VALUE!"}},{"$f":"IF(SUM(AK$1262:AK1530)>0,0,IF(MAX(AC1531:AC$2702)=MAX(AC$1262:AC$2702),0,IF(AA1531>0.01*U$2703,0,$C1531/60)))","v":{"$error":"#VALUE!"}},0,0,0,0,{"$error":"#VALUE!"},{"$error":"#VALUE!"},{"$error":"#VALUE!"},{"$error":"#VALUE!"},{"$error":"#VALUE!"},{"$error":"#VALUE!"},{"$error":"#VALUE!"},{"$error":"#VALUE!"},{"$error":"#VALUE!"},{"$error":"#VALUE!"},{"$error":"#VALUE!"},{"$f":"IF(SUM(BA$1262:BA1530)>0,0,IF(MAX(AT1531:AT$2702)=MAX(AT$1262:AT$2702),0,IF(AR1531>0.03*AL$2703,0,$C1531/60)))","v":{"$error":"#VALUE!"}},{"$f":"IF(SUM(BB$1262:BB1530)>0,0,IF(MAX(AT1531:AT$2702)=MAX(AT$1262:AT$2702),0,IF(AR1531>0.01*AL$2703,0,$C1531/60)))","v":{"$error":"#VALUE!"}},0,0,0,0,{"$error":"#VALUE!"},{"$error":"#VALUE!"},{"$error":"#VALUE!"},{"$error":"#VALUE!"},{"$error":"#VALUE!"},{"$error":"#VALUE!"},{"$error":"#VALUE!"},{"$error":"#VALUE!"},{"$error":"#VALUE!"},{"$error":"#VALUE!"},{"$error":"#VALUE!"},{"$f":"IF(SUM(BR$1262:BR1530)>0,0,IF(MAX(BK1531:BK$2702)=MAX(BK$1262:BK$2702),0,IF(BI1531>0.03*BC$2703,0,$C1531/60)))","v":{"$error":"#VALUE!"}},{"$f":"IF(SUM(BS$1262:BS1530)>0,0,IF(MAX(BK1531:BK$2702)=MAX(BK$1262:BK$2702),0,IF(BI1531>0.01*BC$2703,0,$C1531/60)))","v":{"$error":"#VALUE!"}},0,0,0,0,{"$error":"#VALUE!"},{"$error":"#VALUE!"},{"$error":"#VALUE!"},{"$error":"#VALUE!"},{"$error":"#VALUE!"},{"$error":"#VALUE!"},{"$error":"#VALUE!"},{"$error":"#VALUE!"},{"$error":"#VALUE!"},{"$error":"#VALUE!"},{"$error":"#VALUE!"},{"$f":"IF(SUM(CI$1262:CI1530)>0,0,IF(MAX(CB1531:CB$2702)=MAX(CB$1262:CB$2702),0,IF(BZ1531>0.03*BT$2703,0,$C1531/60)))","v":{"$error":"#VALUE!"}},{"$f":"IF(SUM(CJ$1262:CJ1530)>0,0,IF(MAX(CB1531:CB$2702)=MAX(CB$1262:CB$2702),0,IF(BZ1531>0.01*BT$2703,0,$C1531/60)))","v":{"$error":"#VALUE!"}},0,0,0,0,{"$error":"#VALUE!"},{"$error":"#VALUE!"},{"$error":"#VALUE!"},{"$error":"#VALUE!"},{"$error":"#VALUE!"},{"$error":"#VALUE!"},{"$error":"#VALUE!"},{"$error":"#VALUE!"},{"$error":"#VALUE!"},{"$error":"#VALUE!"},{"$error":"#VALUE!"},{"$f":"IF(SUM(CZ$1262:CZ1530)>0,0,IF(MAX(CS1531:CS$2702)=MAX(CS$1262:CS$2702),0,IF(CQ1531>0.03*CK$2703,0,$C1531/60)))","v":{"$error":"#VALUE!"}},{"$f":"IF(SUM(DA$1262:DA1530)>0,0,IF(MAX(CS1531:CS$2702)=MAX(CS$1262:CS$2702),0,IF(CQ1531>0.01*CK$2703,0,$C1531/60)))","v":{"$error":"#VALUE!"}}]
[null,22.833333333333332,1370,0,0,0,0,0,0,0,0,0,{"$error":"#N/A"},{"$error":"#N/A"},{"$error":"#N/A"},{"$error":"#N/A"},{"$error":"#N/A"},{"$error":"#N/A"},{"$f":"IF(SUM(S$1262:S1535)>0,0,\nIF(MAX(L1536:L$2702)=MAX(L$1262:L$2702),0,\nIF(Hydrograph_Source_WQCV=\"USER\",IF(J1536>0.03*D$2703,0,$C1536/60),\nIF(J1536>0.03*J$2703,0,$C1536/60))))","v":0},{"$f":"IF(SUM(T$1262:T1535)>0,0,\nIF(MAX(L1536:L$2702)=MAX(L$1262:L$2702),0,\nIF(Hydrograph_Source_WQCV=\"USER\",IF(J1536>0.01*D$2703,0,$C1536/60),\nIF(J1536>0.01*J$2703,0,$C1536/60))))","v":0},0,0,0,0,{"$error":"#VALUE!"},{"$error":"#VALUE!"},{"$error":"#VALUE!"},{"$error":"#VALUE!"},{"$error":"#VALUE!"},{"$error":"#VALUE!"},{"$error":"#VALUE!"},{"$error":"#VALUE!"},{"$error":"#VALUE!"},{"$error":"#VALUE!"},{"$error":"#VALUE!"},{"$f":"IF(SUM(AJ$1262:AJ1535)>0,0,IF(MAX(AC1536:AC$2702)=MAX(AC$1262:AC$2702),0,IF(AA1536>0.03*U$2703,0,$C1536/60)))","v":{"$error":"#VALUE!"}},{"$f":"IF(SUM(AK$1262:AK1535)>0,0,IF(MAX(AC1536:AC$2702)=MAX(AC$1262:AC$2702),0,IF(AA1536>0.01*U$2703,0,$C1536/60)))","v":{"$error":"#VALUE!"}},0,0,0,0,{"$error":"#VALUE!"},{"$error":"#VALUE!"},{"$error":"#VALUE!"},{"$error":"#VALUE!"},{"$error":"#VALUE!"},{"$error":"#VALUE!"},{"$error":"#VALUE!"},{"$error":"#VALUE!"},{"$error":"#VALUE!"},{"$error":"#VALUE!"},{"$error":"#VALUE!"},{"$f":"IF(SUM(BA$1262:BA1535)>0,0,IF(MAX(AT1536:AT$2702)=MAX(AT$1262:AT$2702),0,IF(AR1536>0.03*AL$2703,0,$C1536/60)))","v":{"$error":"#VALUE!"}},{"$f":"IF(SUM(BB$1262:BB1535)>0,0,IF(MAX(AT1536:AT$2702)=MAX(AT$1262:AT$2702),0,IF(AR1536>0.01*AL$2703,0,$C1536/60)))","v":{"$error":"#VALUE!"}},0,0,0,0,{"$error":"#VALUE!"},{"$error":"#VALUE!"},{"$error":"#VALUE!"},{"$error":"#VALUE!"},{"$error":"#VALUE!"},{"$error":"#VALUE!"},{"$error":"#VALUE!"},{"$error":"#VALUE!"},{"$error":"#VALUE!"},{"$error":"#VALUE!"},{"$error":"#VALUE!"},{"$f":"IF(SUM(BR$1262:BR1535)>0,0,IF(MAX(BK1536:BK$2702)=MAX(BK$1262:BK$2702),0,IF(BI1536>0.03*BC$2703,0,$C1536/60)))","v":{"$error":"#VALUE!"}},{"$f":"IF(SUM(BS$1262:BS1535)>0,0,IF(MAX(BK1536:BK$2702)=MAX(BK$1262:BK$2702),0,IF(BI1536>0.01*BC$2703,0,$C1536/60)))","v":{"$error":"#VALUE!"}},0,0,0,0,{"$error":"#VALUE!"},{"$error":"#VALUE!"},{"$error":"#VALUE!"},{"$error":"#VALUE!"},{"$error":"#VALUE!"},{"$error":"#VALUE!"},{"$error":"#VALUE!"},{"$error":"#VALUE!"},{"$error":"#VALUE!"},{"$error":"#VALUE!"},{"$error":"#VALUE!"},{"$f":"IF(SUM(CI$1262:CI1535)>0,0,IF(MAX(CB1536:CB$2702)=MAX(CB$1262:CB$2702),0,IF(BZ1536>0.03*BT$2703,0,$C1536/60)))","v":{"$error":"#VALUE!"}},{"$f":"IF(SUM(CJ$1262:CJ1535)>0,0,IF(MAX(CB1536:CB$2702)=MAX(CB$1262:CB$2702),0,IF(BZ1536>0.01*BT$2703,0,$C1536/60)))","v":{"$error":"#VALUE!"}},0,0,0,0,{"$error":"#VALUE!"},{"$error":"#VALUE!"},{"$error":"#VALUE!"},{"$error":"#VALUE!"},{"$error":"#VALUE!"},{"$error":"#VALUE!"},{"$error":"#VALUE!"},{"$error":"#VALUE!"},{"$error":"#VALUE!"},{"$error":"#VALUE!"},{"$error":"#VALUE!"},{"$f":"IF(SUM(CZ$1262:CZ1535)>0,0,IF(MAX(CS1536:CS$2702)=MAX(CS$1262:CS$2702),0,IF(CQ1536>0.03*CK$2703,0,$C1536/60)))","v":{"$error":"#VALUE!"}},{"$f":"IF(SUM(DA$1262:DA1535)>0,0,IF(MAX(CS1536:CS$2702)=MAX(CS$1262:CS$2702),0,IF(CQ1536>0.01*CK$2703,0,$C1536/60)))","v":{"$error":"#VALUE!"}}]
[null,23.333333333333332,1400,0,0,0,0,0,0,0,0,0,{"$error":"#N/A"},{"$error":"#N/A"},{"$error":"#N/A"},{"$error":"#N/A"},{"$error":"#N/A"},{"$error":"#N/A"},{"$f":"IF(SUM(S$1262:S1541)>0,0,\nIF(MAX(L1542:L$2702)=MAX(L$1262:L$2702),0,\nIF(Hydrograph_Source_WQCV=\"USER\",IF(J1542>0.03*D$2703,0,$C1542/60),\nIF(J1542>0.03*J$2703,0,$C1542/60))))","v":0},{"$f":"IF(SUM(T$1262:T1541)>0,0,\nIF(MAX(L1542:L$2702)=MAX(L$1262:L$2702),0,\nIF(Hydrograph_Source_WQCV=\"USER\",IF(J1542>0.01*D$2703,0,$C1542/60),\nIF(J1542>0.01*J$2703,0,$C1542/60))))","v":0},0,0,0,0,{"$error":"#VALUE!"},{"$error":"#VALUE!"},{"$error":"#VALUE!"},{"$error":"#VALUE!"},{"$error":"#VALUE!"},{"$error":"#VALUE!"},{"$error":"#VALUE!"},{"$error":"#VALUE!"},{"$error":"#VALUE!"},{"$error":"#VALUE!"},{"$error":"#VALUE!"},{"$f":"IF(SUM(AJ$1262:AJ1541)>0,0,IF(MAX(AC1542:AC$2702)=MAX(AC$1262:AC$2702),0,IF(AA1542>0.03*U$2703,0,$C1542/60)))","v":{"$error":"#VALUE!"}},{"$f":"IF(SUM(AK$1262:AK1541)>0,0,IF(MAX(AC1542:AC$2702)=MAX(AC$1262:AC$2702),0,IF(AA1542>0.01*U$2703,0,$C1542/60)))","v":{"$error":"#VALUE!"}},0,0,0,0,{"$error":"#VALUE!"},{"$error":"#VALUE!"},{"$error":"#VALUE!"},{"$error":"#VALUE!"},{"$error":"#VALUE!"},{"$error":"#VALUE!"},{"$error":"#VALUE!"},{"$error":"#VALUE!"},{"$error":"#VALUE!"},{"$error":"#VALUE!"},{"$error":"#VALUE!"},{"$f":"IF(SUM(BA$1262:BA1541)>0,0,IF(MAX(AT1542:AT$2702)=MAX(AT$1262:AT$2702),0,IF(AR1542>0.03*AL$2703,0,$C1542/60)))","v":{"$error":"#VALUE!"}},{"$f":"IF(SUM(BB$1262:BB1541)>0,0,IF(MAX(AT1542:AT$2702)=MAX(AT$1262:AT$2702),0,IF(AR1542>0.01*AL$2703,0,$C1542/60)))","v":{"$error":"#VALUE!"}},0,0,0,0,{"$error":"#VALUE!"},{"$error":"#VALUE!"},{"$error":"#VALUE!"},{"$error":"#VALUE!"},{"$error":"#VALUE!"},{"$error":"#VALUE!"},{"$error":"#VALUE!"},{"$error":"#VALUE!"},{"$error":"#VALUE!"},{"$error":"#VALUE!"},{"$error":"#VALUE!"},{"$f":"IF(SUM(BR$1262:BR1541)>0,0,IF(MAX(BK1542:BK$2702)=MAX(BK$1262:BK$2702),0,IF(BI1542>0.03*BC$2703,0,$C1542/60)))","v":{"$error":"#VALUE!"}},{"$f":"IF(SUM(BS$1262:BS1541)>0,0,IF(MAX(BK1542:BK$2702)=MAX(BK$1262:BK$2702),0,IF(BI1542>0.01*BC$2703,0,$C1542/60)))","v":{"$error":"#VALUE!"}},0,0,0,0,{"$error":"#VALUE!"},{"$error":"#VALUE!"},{"$error":"#VALUE!"},{"$error":"#VALUE!"},{"$error":"#VALUE!"},{"$error":"#VALUE!"},{"$error":"#VALUE!"},{"$error":"#VALUE!"},{"$error":"#VALUE!"},{"$error":"#VALUE!"},{"$error":"#VALUE!"},{"$f":"IF(SUM(CI$1262:CI1541)>0,0,IF(MAX(CB1542:CB$2702)=MAX(CB$1262:CB$2702),0,IF(BZ1542>0.03*BT$2703,0,$C1542/60)))","v":{"$error":"#VALUE!"}},{"$f":"IF(SUM(CJ$1262:CJ1541)>0,0,IF(MAX(CB1542:CB$2702)=MAX(CB$1262:CB$2702),0,IF(BZ1542>0.01*BT$2703,0,$C1542/60)))","v":{"$error":"#VALUE!"}},0,0,0,0,{"$error":"#VALUE!"},{"$error":"#VALUE!"},{"$error":"#VALUE!"},{"$error":"#VALUE!"},{"$error":"#VALUE!"},{"$error":"#VALUE!"},{"$error":"#VALUE!"},{"$error":"#VALUE!"},{"$error":"#VALUE!"},{"$error":"#VALUE!"},{"$error":"#VALUE!"},{"$f":"IF(SUM(CZ$1262:CZ1541)>0,0,IF(MAX(CS1542:CS$2702)=MAX(CS$1262:CS$2702),0,IF(CQ1542>0.03*CK$2703,0,$C1542/60)))","v":{"$error":"#VALUE!"}},{"$f":"IF(SUM(DA$1262:DA1541)>0,0,IF(MAX(CS1542:CS$2702)=MAX(CS$1262:CS$2702),0,IF(CQ1542>0.01*CK$2703,0,$C1542/60)))","v":{"$error":"#VALUE!"}}]
[null,23.75,1425,0,0,0,0,0,0,0,0,0,{"$error":"#N/A"},{"$error":"#N/A"},{"$error":"#N/A"},{"$error":"#N/A"},{"$error":"#N/A"},{"$error":"#N/A"},{"$f":"IF(SUM(S$1262:S1546)>0,0,\nIF(MAX(L1547:L$2702)=MAX(L$1262:L$2702),0,\nIF(Hydrograph_Source_WQCV=\"USER\",IF(J1547>0.03*D$2703,0,$C1547/60),\nIF(J1547>0.03*J$2703,0,$C1547/60))))","v":0},{"$f":"IF(SUM(T$1262:T1546)>0,0,\nIF(MAX(L1547:L$2702)=MAX(L$1262:L$2702),0,\nIF(Hydrograph_Source_WQCV=\"USER\",IF(J1547>0.01*D$2703,0,$C1547/60),\nIF(J1547>0.01*J$2703,0,$C1547/60))))","v":0},0,0,0,0,{"$error":"#VALUE!"},{"$error":"#VALUE!"},{"$error":"#VALUE!"},{"$error":"#VALUE!"},{"$error":"#VALUE!"},{"$error":"#VALUE!"},{"$error":"#VALUE!"},{"$error":"#VALUE!"},{"$error":"#VALUE!"},{"$error":"#VALUE!"},{"$error":"#VALUE!"},{"$f":"IF(SUM(AJ$1262:AJ1546)>0,0,IF(MAX(AC1547:AC$2702)=MAX(AC$1262:AC$2702),0,IF(AA1547>0.03*U$2703,0,$C1547/60)))","v":{"$error":"#VALUE!"}},{"$f":"IF(SUM(AK$1262:AK1546)>0,0,IF(MAX(AC1547:AC$2702)=MAX(AC$1262:AC$2702),0,IF(AA1547>0.01*U$2703,0,$C1547/60)))","v":{"$error":"#VALUE!"}},0,0,0,0,{"$error":"#VALUE!"},{"$error":"#VALUE!"},{"$error":"#VALUE!"},{"$error":"#VALUE!"},{"$error":"#VALUE!"},{"$error":"#VALUE!"},{"$error":"#VALUE!"},{"$error":"#VALUE!"},{"$error":"#VALUE!"},{"$error":"#VALUE!"},{"$error":"#VALUE!"},{"$f":"IF(SUM(BA$1262:BA1546)>0,0,IF(MAX(AT1547:AT$2702)=MAX(AT$1262:AT$2702),0,IF(AR1547>0.03*AL$2703,0,$C1547/60)))","v":{"$error":"#VALUE!"}},{"$f":"IF(SUM(BB$1262:BB1546)>0,0,IF(MAX(AT1547:AT$2702)=MAX(AT$1262:AT$2702),0,IF(AR1547>0.01*AL$2703,0,$C1547/60)))","v":{"$error":"#VALUE!"}},0,0,0,0,{"$error":"#VALUE!"},{"$error":"#VALUE!"},{"$error":"#VALUE!"},{"$error":"#VALUE!"},{"$error":"#VALUE!"},{"$error":"#VALUE!"},{"$error":"#VALUE!"},{"$error":"#VALUE!"},{"$error":"#VALUE!"},{"$error":"#VALUE!"},{"$error":"#VALUE!"},{"$f":"IF(SUM(BR$1262:BR1546)>0,0,IF(MAX(BK1547:BK$2702)=MAX(BK$1262:BK$2702),0,IF(BI1547>0.03*BC$2703,0,$C1547/60)))","v":{"$error":"#VALUE!"}},{"$f":"IF(SUM(BS$1262:BS1546)>0,0,IF(MAX(BK1547:BK$2702)=MAX(BK$1262:BK$2702),0,IF(BI1547>0.01*BC$2703,0,$C1547/60)))","v":{"$error":"#VALUE!"}},0,0,0,0,{"$error":"#VALUE!"},{"$error":"#VALUE!"},{"$error":"#VALUE!"},{"$error":"#VALUE!"},{"$error":"#VALUE!"},{"$error":"#VALUE!"},{"$error":"#VALUE!"},{"$error":"#VALUE!"},{"$error":"#VALUE!"},{"$error":"#VALUE!"},{"$error":"#VALUE!"},{"$f":"IF(SUM(CI$1262:CI1546)>0,0,IF(MAX(CB1547:CB$2702)=MAX(CB$1262:CB$2702),0,IF(BZ1547>0.03*BT$2703,0,$C1547/60)))","v":{"$error":"#VALUE!"}},{"$f":"IF(SUM(CJ$1262:CJ1546)>0,0,IF(MAX(CB1547:CB$2702)=MAX(CB$1262:CB$2702),0,IF(BZ1547>0.01*BT$2703,0,$C1547/60)))","v":{"$error":"#VALUE!"}},0,0,0,0,{"$error":"#VALUE!"},{"$error":"#VALUE!"},{"$error":"#VALUE!"},{"$error":"#VALUE!"},{"$error":"#VALUE!"},{"$error":"#VALUE!"},{"$error":"#VALUE!"},{"$error":"#VALUE!"},{"$error":"#VALUE!"},{"$error":"#VALUE!"},{"$error":"#VALUE!"},{"$f":"IF(SUM(CZ$1262:CZ1546)>0,0,IF(MAX(CS1547:CS$2702)=MAX(CS$1262:CS$2702),0,IF(CQ1547>0.03*CK$2703,0,$C1547/60)))","v":{"$error":"#VALUE!"}},{"$f":"IF(SUM(DA$1262:DA1546)>0,0,IF(MAX(CS1547:CS$2702)=MAX(CS$1262:CS$2702),0,IF(CQ1547>0.01*CK$2703,0,$C1547/60)))","v":{"$error":"#VALUE!"}}]
[null,23.833333333333332,1430,0,0,0,0,0,0,0,0,0,{"$error":"#N/A"},{"$error":"#N/A"},{"$error":"#N/A"},{"$error":"#N/A"},{"$error":"#N/A"},{"$error":"#N/A"},{"$f":"IF(SUM(S$1262:S1547)>0,0,\nIF(MAX(L1548:L$2702)=MAX(L$1262:L$2702),0,\nIF(Hydrograph_Source_WQCV=\"USER\",IF(J1548>0.03*D$2703,0,$C1548/60),\nIF(J1548>0.03*J$2703,0,$C1548/60))))","v":0},{"$f":"IF(SUM(T$1262:T1547)>0,0,\nIF(MAX(L1548:L$2702)=MAX(L$1262:L$2702),0,\nIF(Hydrograph_Source_WQCV=\"USER\",IF(J1548>0.01*D$2703,0,$C1548/60),\nIF(J1548>0.01*J$2703,0,$C1548/60))))","v":0},0,0,0,0,{"$error":"#VALUE!"},{"$error":"#VALUE!"},{"$error":"#VALUE!"},{"$error":"#VALUE!"},{"$error":"#VALUE!"},{"$error":"#VALUE!"},{"$error":"#VALUE!"},{"$error":"#VALUE!"},{"$error":"#VALUE!"},{"$error":"#VALUE!"},{"$error":"#VALUE!"},{"$f":"IF(SUM(AJ$1262:AJ1547)>0,0,IF(MAX(AC1548:AC$2702)=MAX(AC$1262:AC$2702),0,IF(AA1548>0.03*U$2703,0,$C1548/60)))","v":{"$error":"#VALUE!"}},{"$f":"IF(SUM(AK$1262:AK1547)>0,0,IF(MAX(AC1548:AC$2702)=MAX(AC$1262:AC$2702),0,IF(AA1548>0.01*U$2703,0,$C1548/60)))","v":{"$error":"#VALUE!"}},0,0,0,0,{"$error":"#VALUE!"},{"$error":"#VALUE!"},{"$error":"#VALUE!"},{"$error":"#VALUE!"},{"$error":"#VALUE!"},{"$error":"#VALUE!"},{"$error":"#VALUE!"},{"$error":"#VALUE!"},{"$error":"#VALUE!"},{"$error":"#VALUE!"},{"$error":"#VALUE!"},{"$f":"IF(SUM(BA$1262:BA1547)>0,0,IF(MAX(AT1548:AT$2702)=MAX(AT$1262:AT$2702),0,IF(AR1548>0.03*AL$2703,0,$C1548/60)))","v":{"$error":"#VALUE!"}},{"$f":"IF(SUM(BB$1262:BB1547)>0,0,IF(MAX(AT1548:AT$2702)=MAX(AT$1262:AT$2702),0,IF(AR1548>0.01*AL$2703,0,$C1548/60)))","v":{"$error":"#VALUE!"}},0,0,0,0,{"$error":"#VALUE!"},{"$error":"#VALUE!"},{"$error":"#VALUE!"},{"$error":"#VALUE!"},{"$error":"#VALUE!"},{"$error":"#VALUE!"},{"$error":"#VALUE!"},{"$error":"#VALUE!"},{"$error":"#VALUE!"},{"$error":"#VALUE!"},{"$error":"#VALUE!"},{"$f":"IF(SUM(BR$1262:BR1547)>0,0,IF(MAX(BK1548:BK$2702)=MAX(BK$1262:BK$2702),0,IF(BI1548>0.03*BC$2703,0,$C1548/60)))","v":{"$error":"#VALUE!"}},{"$f":"IF(SUM(BS$1262:BS1547)>0,0,IF(MAX(BK1548:BK$2702)=MAX(BK$1262:BK$2702),0,IF(BI1548>0.01*BC$2703,0,$C1548/60)))","v":{"$error":"#VALUE!"}},0,0,0,0,{"$error":"#VALUE!"},{"$error":"#VALUE!"},{"$error":"#VALUE!"},{"$error":"#VALUE!"},{"$error":"#VALUE!"},{"$error":"#VALUE!"},{"$error":"#VALUE!"},{"$error":"#VALUE!"},{"$error":"#VALUE!"},{"$error":"#VALUE!"},{"$error":"#VALUE!"},{"$f":"IF(SUM(CI$1262:CI1547)>0,0,IF(MAX(CB1548:CB$2702)=MAX(CB$1262:CB$2702),0,IF(BZ1548>0.03*BT$2703,0,$C1548/60)))","v":{"$error":"#VALUE!"}},{"$f":"IF(SUM(CJ$1262:CJ1547)>0,0,IF(MAX(CB1548:CB$2702)=MAX(CB$1262:CB$2702),0,IF(BZ1548>0.01*BT$2703,0,$C1548/60)))","v":{"$error":"#VALUE!"}},0,0,0,0,{"$error":"#VALUE!"},{"$error":"#VALUE!"},{"$error":"#VALUE!"},{"$error":"#VALUE!"},{"$error":"#VALUE!"},{"$error":"#VALUE!"},{"$error":"#VALUE!"},{"$error":"#VALUE!"},{"$error":"#VALUE!"},{"$error":"#VALUE!"},{"$error":"#VALUE!"},{"$f":"IF(SUM(CZ$1262:CZ1547)>0,0,IF(MAX(CS1548:CS$2702)=MAX(CS$1262:CS$2702),0,IF(CQ1548>0.03*CK$2703,0,$C1548/60)))","v":{"$error":"#VALUE!"}},{"$f":"IF(SUM(DA$1262:DA1547)>0,0,IF(MAX(CS1548:CS$2702)=MAX(CS$1262:CS$2702),0,IF(CQ1548>0.01*CK$2703,0,$C1548/60)))","v":{"$error":"#VALUE!"}}]
[null,24.25,1455,0,0,0,0,0,0,0,0,0,{"$error":"#N/A"},{"$error":"#N/A"},{"$error":"#N/A"},{"$error":"#N/A"},{"$error":"#N/A"},{"$error":"#N/A"},{"$f":"IF(SUM(S$1262:S1552)>0,0,\nIF(MAX(L1553:L$2702)=MAX(L$1262:L$2702),0,\nIF(Hydrograph_Source_WQCV=\"USER\",IF(J1553>0.03*D$2703,0,$C1553/60),\nIF(J1553>0.03*J$2703,0,$C1553/60))))","v":0},{"$f":"IF(SUM(T$1262:T1552)>0,0,\nIF(MAX(L1553:L$2702)=MAX(L$1262:L$2702),0,\nIF(Hydrograph_Source_WQCV=\"USER\",IF(J1553>0.01*D$2703,0,$C1553/60),\nIF(J1553>0.01*J$2703,0,$C1553/60))))","v":0},0,0,0,0,{"$error":"#VALUE!"},{"$error":"#VALUE!"},{"$error":"#VALUE!"},{"$error":"#VALUE!"},{"$error":"#VALUE!"},{"$error":"#VALUE!"},{"$error":"#VALUE!"},{"$error":"#VALUE!"},{"$error":"#VALUE!"},{"$error":"#VALUE!"},{"$error":"#VALUE!"},{"$f":"IF(SUM(AJ$1262:AJ1552)>0,0,IF(MAX(AC1553:AC$2702)=MAX(AC$1262:AC$2702),0,IF(AA1553>0.03*U$2703,0,$C1553/60)))","v":{"$error":"#VALUE!"}},{"$f":"IF(SUM(AK$1262:AK1552)>0,0,IF(MAX(AC1553:AC$2702)=MAX(AC$1262:AC$2702),0,IF(AA1553>0.01*U$2703,0,$C1553/60)))","v":{"$error":"#VALUE!"}},0,0,0,0,{"$error":"#VALUE!"},{"$error":"#VALUE!"},{"$error":"#VALUE!"},{"$error":"#VALUE!"},{"$error":"#VALUE!"},{"$error":"#VALUE!"},{"$error":"#VALUE!"},{"$error":"#VALUE!"},{"$error":"#VALUE!"},{"$error":"#VALUE!"},{"$error":"#VALUE!"},{"$f":"IF(SUM(BA$1262:BA1552)>0,0,IF(MAX(AT1553:AT$2702)=MAX(AT$1262:AT$2702),0,IF(AR1553>0.03*AL$2703,0,$C1553/60)))","v":{"$error":"#VALUE!"}},{"$f":"IF(SUM(BB$1262:BB1552)>0,0,IF(MAX(AT1553:AT$2702)=MAX(AT$1262:AT$2702),0,IF(AR1553>0.01*AL$2703,0,$C1553/60)))","v":{"$error":"#VALUE!"}},0,0,0,0,{"$error":"#VALUE!"},{"$error":"#VALUE!"},{"$error":"#VALUE!"},{"$error":"#VALUE!"},{"$error":"#VALUE!"},{"$error":"#VALUE!"},{"$error":"#VALUE!"},{"$error":"#VALUE!"},{"$error":"#VALUE!"},{"$error":"#VALUE!"},{"$error":"#VALUE!"},{"$f":"IF(SUM(BR$1262:BR1552)>0,0,IF(MAX(BK1553:BK$2702)=MAX(BK$1262:BK$2702),0,IF(BI1553>0.03*BC$2703,0,$C1553/60)))","v":{"$error":"#VALUE!"}},{"$f":"IF(SUM(BS$1262:BS1552)>0,0,IF(MAX(BK1553:BK$2702)=MAX(BK$1262:BK$2702),0,IF(BI1553>0.01*BC$2703,0,$C1553/60)))","v":{"$error":"#VALUE!"}},0,0,0,0,{"$error":"#VALUE!"},{"$error":"#VALUE!"},{"$error":"#VALUE!"},{"$error":"#VALUE!"},{"$error":"#VALUE!"},{"$error":"#VALUE!"},{"$error":"#VALUE!"},{"$error":"#VALUE!"},{"$error":"#VALUE!"},{"$error":"#VALUE!"},{"$error":"#VALUE!"},{"$f":"IF(SUM(CI$1262:CI1552)>0,0,IF(MAX(CB1553:CB$2702)=MAX(CB$1262:CB$2702),0,IF(BZ1553>0.03*BT$2703,0,$C1553/60)))","v":{"$error":"#VALUE!"}},{"$f":"IF(SUM(CJ$1262:CJ1552)>0,0,IF(MAX(CB1553:CB$2702)=MAX(CB$1262:CB$2702),0,IF(BZ1553>0.01*BT$2703,0,$C1553/60)))","v":{"$error":"#VALUE!"}},0,0,0,0,{"$error":"#VALUE!"},{"$error":"#VALUE!"},{"$error":"#VALUE!"},{"$error":"#VALUE!"},{"$error":"#VALUE!"},{"$error":"#VALUE!"},{"$error":"#VALUE!"},{"$error":"#VALUE!"},{"$error":"#VALUE!"},{"$error":"#VALUE!"},{"$error":"#VALUE!"},{"$f":"IF(SUM(CZ$1262:CZ1552)>0,0,IF(MAX(CS1553:CS$2702)=MAX(CS$1262:CS$2702),0,IF(CQ1553>0.03*CK$2703,0,$C1553/60)))","v":{"$error":"#VALUE!"}},{"$f":"IF(SUM(DA$1262:DA1552)>0,0,IF(MAX(CS1553:CS$2702)=MAX(CS$1262:CS$2702),0,IF(CQ1553>0.01*CK$2703,0,$C1553/60)))","v":{"$error":"#VALUE!"}}]
[null,24.833333333333332,1490,0,0,0,0,0,0,0,0,0,{"$error":"#N/A"},{"$error":"#N/A"},{"$error":"#N/A"},{"$error":"#N/A"},{"$error":"#N/A"},{"$error":"#N/A"},{"$f":"IF(SUM(S$1262:S1559)>0,0,\nIF(MAX(L1560:L$2702)=MAX(L$1262:L$2702),0,\nIF(Hydrograph_Source_WQCV=\"USER\",IF(J1560>0.03*D$2703,0,$C1560/60),\nIF(J1560>0.03*J$2703,0,$C1560/60))))","v":0},{"$f":"IF(SUM(T$1262:T1559)>0,0,\nIF(MAX(L1560:L$2702)=MAX(L$1262:L$2702),0,\nIF(Hydrograph_Source_WQCV=\"USER\",IF(J1560>0.01*D$2703,0,$C1560/60),\nIF(J1560>0.01*J$2703,0,$C1560/60))))","v":0},0,0,0,0,{"$error":"#VALUE!"},{"$error":"#VALUE!"},{"$error":"#VALUE!"},{"$error":"#VALUE!"},{"$error":"#VALUE!"},{"$error":"#VALUE!"},{"$error":"#VALUE!"},{"$error":"#VALUE!"},{"$error":"#VALUE!"},{"$error":"#VALUE!"},{"$error":"#VALUE!"},{"$f":"IF(SUM(AJ$1262:AJ1559)>0,0,IF(MAX(AC1560:AC$2702)=MAX(AC$1262:AC$2702),0,IF(AA1560>0.03*U$2703,0,$C1560/60)))","v":{"$error":"#VALUE!"}},{"$f":"IF(SUM(AK$1262:AK1559)>0,0,IF(MAX(AC1560:AC$2702)=MAX(AC$1262:AC$2702),0,IF(AA1560>0.01*U$2703,0,$C1560/60)))","v":{"$error":"#VALUE!"}},0,0,0,0,{"$error":"#VALUE!"},{"$error":"#VALUE!"},{"$error":"#VALUE!"},{"$error":"#VALUE!"},{"$error":"#VALUE!"},{"$error":"#VALUE!"},{"$error":"#VALUE!"},{"$error":"#VALUE!"},{"$error":"#VALUE!"},{"$error":"#VALUE!"},{"$error":"#VALUE!"},{"$f":"IF(SUM(BA$1262:BA1559)>0,0,IF(MAX(AT1560:AT$2702)=MAX(AT$1262:AT$2702),0,IF(AR1560>0.03*AL$2703,0,$C1560/60)))","v":{"$error":"#VALUE!"}},{"$f":"IF(SUM(BB$1262:BB1559)>0,0,IF(MAX(AT1560:AT$2702)=MAX(AT$1262:AT$2702),0,IF(AR1560>0.01*AL$2703,0,$C1560/60)))","v":{"$error":"#VALUE!"}},0,0,0,0,{"$error":"#VALUE!"},{"$error":"#VALUE!"},{"$error":"#VALUE!"},{"$error":"#VALUE!"},{"$error":"#VALUE!"},{"$error":"#VALUE!"},{"$error":"#VALUE!"},{"$error":"#VALUE!"},{"$error":"#VALUE!"},{"$error":"#VALUE!"},{"$error":"#VALUE!"},{"$f":"IF(SUM(BR$1262:BR1559)>0,0,IF(MAX(BK1560:BK$2702)=MAX(BK$1262:BK$2702),0,IF(BI1560>0.03*BC$2703,0,$C1560/60)))","v":{"$error":"#VALUE!"}},{"$f":"IF(SUM(BS$1262:BS1559)>0,0,IF(MAX(BK1560:BK$2702)=MAX(BK$1262:BK$2702),0,IF(BI1560>0.01*BC$2703,0,$C1560/60)))","v":{"$error":"#VALUE!"}},0,0,0,0,{"$error":"#VALUE!"},{"$error":"#VALUE!"},{"$error":"#VALUE!"},{"$error":"#VALUE!"},{"$error":"#VALUE!"},{"$error":"#VALUE!"},{"$error":"#VALUE!"},{"$error":"#VALUE!"},{"$error":"#VALUE!"},{"$error":"#VALUE!"},{"$error":"#VALUE!"},{"$f":"IF(SUM(CI$1262:CI1559)>0,0,IF(MAX(CB1560:CB$2702)=MAX(CB$1262:CB$2702),0,IF(BZ1560>0.03*BT$2703,0,$C1560/60)))","v":{"$error":"#VALUE!"}},{"$f":"IF(SUM(CJ$1262:CJ1559)>0,0,IF(MAX(CB1560:CB$2702)=MAX(CB$1262:CB$2702),0,IF(BZ1560>0.01*BT$2703,0,$C1560/60)))","v":{"$error":"#VALUE!"}},0,0,0,0,{"$error":"#VALUE!"},{"$error":"#VALUE!"},{"$error":"#VALUE!"},{"$error":"#VALUE!"},{"$error":"#VALUE!"},{"$error":"#VALUE!"},{"$error":"#VALUE!"},{"$error":"#VALUE!"},{"$error":"#VALUE!"},{"$error":"#VALUE!"},{"$error":"#VALUE!"},{"$f":"IF(SUM(CZ$1262:CZ1559)>0,0,IF(MAX(CS1560:CS$2702)=MAX(CS$1262:CS$2702),0,IF(CQ1560>0.03*CK$2703,0,$C1560/60)))","v":{"$error":"#VALUE!"}},{"$f":"IF(SUM(DA$1262:DA1559)>0,0,IF(MAX(CS1560:CS$2702)=MAX(CS$1262:CS$2702),0,IF(CQ1560>0.01*CK$2703,0,$C1560/60)))","v":{"$error":"#VALUE!"}}]
[null,25.166666666666668,1510,0,0,0,0,0,0,0,0,0,{"$error":"#N/A"},{"$error":"#N/A"},{"$error":"#N/A"},{"$error":"#N/A"},{"$error":"#N/A"},{"$error":"#N/A"},{"$f":"IF(SUM(S$1262:S1563)>0,0,\nIF(MAX(L1564:L$2702)=MAX(L$1262:L$2702),0,\nIF(Hydrograph_Source_WQCV=\"USER\",IF(J1564>0.03*D$2703,0,$C1564/60),\nIF(J1564>0.03*J$2703,0,$C1564/60))))","v":0},{"$f":"IF(SUM(T$1262:T1563)>0,0,\nIF(MAX(L1564:L$2702)=MAX(L$1262:L$2702),0,\nIF(Hydrograph_Source_WQCV=\"USER\",IF(J1564>0.01*D$2703,0,$C1564/60),\nIF(J1564>0.01*J$2703,0,$C1564/60))))","v":0},0,0,0,0,{"$error":"#VALUE!"},{"$error":"#VALUE!"},{"$error":"#VALUE!"},{"$error":"#VALUE!"},{"$error":"#VALUE!"},{"$error":"#VALUE!"},{"$error":"#VALUE!"},{"$error":"#VALUE!"},{"$error":"#VALUE!"},{"$error":"#VALUE!"},{"$error":"#VALUE!"},{"$f":"IF(SUM(AJ$1262:AJ1563)>0,0,IF(MAX(AC1564:AC$2702)=MAX(AC$1262:AC$2702),0,IF(AA1564>0.03*U$2703,0,$C1564/60)))","v":{"$error":"#VALUE!"}},{"$f":"IF(SUM(AK$1262:AK1563)>0,0,IF(MAX(AC1564:AC$2702)=MAX(AC$1262:AC$2702),0,IF(AA1564>0.01*U$2703,0,$C1564/60)))","v":{"$error":"#VALUE!"}},0,0,0,0,{"$error":"#VALUE!"},{"$error":"#VALUE!"},{"$error":"#VALUE!"},{"$error":"#VALUE!"},{"$error":"#VALUE!"},{"$error":"#VALUE!"},{"$error":"#VALUE!"},{"$error":"#VALUE!"},{"$error":"#VALUE!"},{"$error":"#VALUE!"},{"$error":"#VALUE!"},{"$f":"IF(SUM(BA$1262:BA1563)>0,0,IF(MAX(AT1564:AT$2702)=MAX(AT$1262:AT$2702),0,IF(AR1564>0.03*AL$2703,0,$C1564/60)))","v":{"$error":"#VALUE!"}},{"$f":"IF(SUM(BB$1262:BB1563)>0,0,IF(MAX(AT1564:AT$2702)=MAX(AT$1262:AT$2702),0,IF(AR1564>0.01*AL$2703,0,$C1564/60)))","v":{"$error":"#VALUE!"}},0,0,0,0,{"$error":"#VALUE!"},{"$error":"#VALUE!"},{"$error":"#VALUE!"},{"$error":"#VALUE!"},{"$error":"#VALUE!"},{"$error":"#VALUE!"},{"$error":"#VALUE!"},{"$error":"#VALUE!"},{"$error":"#VALUE!"},{"$error":"#VALUE!"},{"$error":"#VALUE!"},{"$f":"IF(SUM(BR$1262:BR1563)>0,0,IF(MAX(BK1564:BK$2702)=MAX(BK$1262:BK$2702),0,IF(BI1564>0.03*BC$2703,0,$C1564/60)))","v":{"$error":"#VALUE!"}},{"$f":"IF(SUM(BS$1262:BS1563)>0,0,IF(MAX(BK1564:BK$2702)=MAX(BK$1262:BK$2702),0,IF(BI1564>0.01*BC$2703,0,$C1564/60)))","v":{"$error":"#VALUE!"}},0,0,0,0,{"$error":"#VALUE!"},{"$error":"#VALUE!"},{"$error":"#VALUE!"},{"$error":"#VALUE!"},{"$error":"#VALUE!"},{"$error":"#VALUE!"},{"$error":"#VALUE!"},{"$error":"#VALUE!"},{"$error":"#VALUE!"},{"$error":"#VALUE!"},{"$error":"#VALUE!"},{"$f":"IF(SUM(CI$1262:CI1563)>0,0,IF(MAX(CB1564:CB$2702)=MAX(CB$1262:CB$2702),0,IF(BZ1564>0.03*BT$2703,0,$C1564/60)))","v":{"$error":"#VALUE!"}},{"$f":"IF(SUM(CJ$1262:CJ1563)>0,0,IF(MAX(CB1564:CB$2702)=MAX(CB$1262:CB$2702),0,IF(BZ1564>0.01*BT$2703,0,$C1564/60)))","v":{"$error":"#VALUE!"}},0,0,0,0,{"$error":"#VALUE!"},{"$error":"#VALUE!"},{"$error":"#VALUE!"},{"$error":"#VALUE!"},{"$error":"#VALUE!"},{"$error":"#VALUE!"},{"$error":"#VALUE!"},{"$error":"#VALUE!"},{"$error":"#VALUE!"},{"$error":"#VALUE!"},{"$error":"#VALUE!"},{"$f":"IF(SUM(CZ$1262:CZ1563)>0,0,IF(MAX(CS1564:CS$2702)=MAX(CS$1262:CS$2702),0,IF(CQ1564>0.03*CK$2703,0,$C1564/60)))","v":{"$error":"#VALUE!"}},{"$f":"IF(SUM(DA$1262:DA1563)>0,0,IF(MAX(CS1564:CS$2702)=MAX(CS$1262:CS$2702),0,IF(CQ1564>0.01*CK$2703,0,$C1564/60)))","v":{"$error":"#VALUE!"}}]
[null,25.25,1515,0,0,0,0,0,0,0,0,0,{"$error":"#N/A"},{"$error":"#N/A"},{"$error":"#N/A"},{"$error":"#N/A"},{"$error":"#N/A"},{"$error":"#N/A"},{"$f":"IF(SUM(S$1262:S1564)>0,0,\nIF(MAX(L1565:L$2702)=MAX(L$1262:L$2702),0,\nIF(Hydrograph_Source_WQCV=\"USER\",IF(J1565>0.03*D$2703,0,$C1565/60),\nIF(J1565>0.03*J$2703,0,$C1565/60))))","v":0},{"$f":"IF(SUM(T$1262:T1564)>0,0,\nIF(MAX(L1565:L$2702)=MAX(L$1262:L$2702),0,\nIF(Hydrograph_Source_WQCV=\"USER\",IF(J1565>0.01*D$2703,0,$C1565/60),\nIF(J1565>0.01*J$2703,0,$C1565/60))))","v":0},0,0,0,0,{"$error":"#VALUE!"},{"$error":"#VALUE!"},{"$error":"#VALUE!"},{"$error":"#VALUE!"},{"$error":"#VALUE!"},{"$error":"#VALUE!"},{"$error":"#VALUE!"},{"$error":"#VALUE!"},{"$error":"#VALUE!"},{"$error":"#VALUE!"},{"$error":"#VALUE!"},{"$f":"IF(SUM(AJ$1262:AJ1564)>0,0,IF(MAX(AC1565:AC$2702)=MAX(AC$1262:AC$2702),0,IF(AA1565>0.03*U$2703,0,$C1565/60)))","v":{"$error":"#VALUE!"}},{"$f":"IF(SUM(AK$1262:AK1564)>0,0,IF(MAX(AC1565:AC$2702)=MAX(AC$1262:AC$2702),0,IF(AA1565>0.01*U$2703,0,$C1565/60)))","v":{"$error":"#VALUE!"}},0,0,0,0,{"$error":"#VALUE!"},{"$error":"#VALUE!"},{"$error":"#VALUE!"},{"$error":"#VALUE!"},{"$error":"#VALUE!"},{"$error":"#VALUE!"},{"$error":"#VALUE!"},{"$error":"#VALUE!"},{"$error":"#VALUE!"},{"$error":"#VALUE!"},{"$error":"#VALUE!"},{"$f":"IF(SUM(BA$1262:BA1564)>0,0,IF(MAX(AT1565:AT$2702)=MAX(AT$1262:AT$2702),0,IF(AR1565>0.03*AL$2703,0,$C1565/60)))","v":{"$error":"#VALUE!"}},{"$f":"IF(SUM(BB$1262:BB1564)>0,0,IF(MAX(AT1565:AT$2702)=MAX(AT$1262:AT$2702),0,IF(AR1565>0.01*AL$2703,0,$C1565/60)))","v":{"$error":"#VALUE!"}},0,0,0,0,{"$error":"#VALUE!"},{"$error":"#VALUE!"},{"$error":"#VALUE!"},{"$error":"#VALUE!"},{"$error":"#VALUE!"},{"$error":"#VALUE!"},{"$error":"#VALUE!"},{"$error":"#VALUE!"},{"$error":"#VALUE!"},{"$error":"#VALUE!"},{"$error":"#VALUE!"},{"$f":"IF(SUM(BR$1262:BR1564)>0,0,IF(MAX(BK1565:BK$2702)=MAX(BK$1262:BK$2702),0,IF(BI1565>0.03*BC$2703,0,$C1565/60)))","v":{"$error":"#VALUE!"}},{"$f":"IF(SUM(BS$1262:BS1564)>0,0,IF(MAX(BK1565:BK$2702)=MAX(BK$1262:BK$2702),0,IF(BI1565>0.01*BC$2703,0,$C1565/60)))","v":{"$error":"#VALUE!"}},0,0,0,0,{"$error":"#VALUE!"},{"$error":"#VALUE!"},{"$error":"#VALUE!"},{"$error":"#VALUE!"},{"$error":"#VALUE!"},{"$error":"#VALUE!"},{"$error":"#VALUE!"},{"$error":"#VALUE!"},{"$error":"#VALUE!"},{"$error":"#VALUE!"},{"$error":"#VALUE!"},{"$f":"IF(SUM(CI$1262:CI1564)>0,0,IF(MAX(CB1565:CB$2702)=MAX(CB$1262:CB$2702),0,IF(BZ1565>0.03*BT$2703,0,$C1565/60)))","v":{"$error":"#VALUE!"}},{"$f":"IF(SUM(CJ$1262:CJ1564)>0,0,IF(MAX(CB1565:CB$2702)=MAX(CB$1262:CB$2702),0,IF(BZ1565>0.01*BT$2703,0,$C1565/60)))","v":{"$error":"#VALUE!"}},0,0,0,0,{"$error":"#VALUE!"},{"$error":"#VALUE!"},{"$error":"#VALUE!"},{"$error":"#VALUE!"},{"$error":"#VALUE!"},{"$error":"#VALUE!"},{"$error":"#VALUE!"},{"$error":"#VALUE!"},{"$error":"#VALUE!"},{"$error":"#VALUE!"},{"$error":"#VALUE!"},{"$f":"IF(SUM(CZ$1262:CZ1564)>0,0,IF(MAX(CS1565:CS$2702)=MAX(CS$1262:CS$2702),0,IF(CQ1565>0.03*CK$2703,0,$C1565/60)))","v":{"$error":"#VALUE!"}},{"$f":"IF(SUM(DA$1262:DA1564)>0,0,IF(MAX(CS1565:CS$2702)=MAX(CS$1262:CS$2702),0,IF(CQ1565>0.01*CK$2703,0,$C1565/60)))","v":{"$error":"#VALUE!"}}]
[null,25.583333333333332,1535,0,0,0,0,0,0,0,0,0,{"$error":"#N/A"},{"$error":"#N/A"},{"$error":"#N/A"},{"$error":"#N/A"},{"$error":"#N/A"},{"$error":"#N/A"},{"$f":"IF(SUM(S$1262:S1568)>0,0,\nIF(MAX(L1569:L$2702)=MAX(L$1262:L$2702),0,\nIF(Hydrograph_Source_WQCV=\"USER\",IF(J1569>0.03*D$2703,0,$C1569/60),\nIF(J1569>0.03*J$2703,0,$C1569/60))))","v":0},{"$f":"IF(SUM(T$1262:T1568)>0,0,\nIF(MAX(L1569:L$2702)=MAX(L$1262:L$2702),0,\nIF(Hydrograph_Source_WQCV=\"USER\",IF(J1569>0.01*D$2703,0,$C1569/60),\nIF(J1569>0.01*J$2703,0,$C1569/60))))","v":0},0,0,0,0,{"$error":"#VALUE!"},{"$error":"#VALUE!"},{"$error":"#VALUE!"},{"$error":"#VALUE!"},{"$error":"#VALUE!"},{"$error":"#VALUE!"},{"$error":"#VALUE!"},{"$error":"#VALUE!"},{"$error":"#VALUE!"},{"$error":"#VALUE!"},{"$error":"#VALUE!"},{"$f":"IF(SUM(AJ$1262:AJ1568)>0,0,IF(MAX(AC1569:AC$2702)=MAX(AC$1262:AC$2702),0,IF(AA1569>0.03*U$2703,0,$C1569/60)))","v":{"$error":"#VALUE!"}},{"$f":"IF(SUM(AK$1262:AK1568)>0,0,IF(MAX(AC1569:AC$2702)=MAX(AC$1262:AC$2702),0,IF(AA1569>0.01*U$2703,0,$C1569/60)))","v":{"$error":"#VALUE!"}},0,0,0,0,{"$error":"#VALUE!"},{"$error":"#VALUE!"},{"$error":"#VALUE!"},{"$error":"#VALUE!"},{"$error":"#VALUE!"},{"$error":"#VALUE!"},{"$error":"#VALUE!"},{"$error":"#VALUE!"},{"$error":"#VALUE!"},{"$error":"#VALUE!"},{"$error":"#VALUE!"},{"$f":"IF(SUM(BA$1262:BA1568)>0,0,IF(MAX(AT1569:AT$2702)=MAX(AT$1262:AT$2702),0,IF(AR1569>0.03*AL$2703,0,$C1569/60)))","v":{"$error":"#VALUE!"}},{"$f":"IF(SUM(BB$1262:BB1568)>0,0,IF(MAX(AT1569:AT$2702)=MAX(AT$1262:AT$2702),0,IF(AR1569>0.01*AL$2703,0,$C1569/60)))","v":{"$error":"#VALUE!"}},0,0,0,0,{"$error":"#VALUE!"},{"$error":"#VALUE!"},{"$error":"#VALUE!"},{"$error":"#VALUE!"},{"$error":"#VALUE!"},{"$error":"#VALUE!"},{"$error":"#VALUE!"},{"$error":"#VALUE!"},{"$error":"#VALUE!"},{"$error":"#VALUE!"},{"$error":"#VALUE!"},{"$f":"IF(SUM(BR$1262:BR1568)>0,0,IF(MAX(BK1569:BK$2702)=MAX(BK$1262:BK$2702),0,IF(BI1569>0.03*BC$2703,0,$C1569/60)))","v":{"$error":"#VALUE!"}},{"$f":"IF(SUM(BS$1262:BS1568)>0,0,IF(MAX(BK1569:BK$2702)=MAX(BK$1262:BK$2702),0,IF(BI1569>0.01*BC$2703,0,$C1569/60)))","v":{"$error":"#VALUE!"}},0,0,0,0,{"$error":"#VALUE!"},{"$error":"#VALUE!"},{"$error":"#VALUE!"},{"$error":"#VALUE!"},{"$error":"#VALUE!"},{"$error":"#VALUE!"},{"$error":"#VALUE!"},{"$error":"#VALUE!"},{"$error":"#VALUE!"},{"$error":"#VALUE!"},{"$error":"#VALUE!"},{"$f":"IF(SUM(CI$1262:CI1568)>0,0,IF(MAX(CB1569:CB$2702)=MAX(CB$1262:CB$2702),0,IF(BZ1569>0.03*BT$2703,0,$C1569/60)))","v":{"$error":"#VALUE!"}},{"$f":"IF(SUM(CJ$1262:CJ1568)>0,0,IF(MAX(CB1569:CB$2702)=MAX(CB$1262:CB$2702),0,IF(BZ1569>0.01*BT$2703,0,$C1569/60)))","v":{"$error":"#VALUE!"}},0,0,0,0,{"$error":"#VALUE!"},{"$error":"#VALUE!"},{"$error":"#VALUE!"},{"$error":"#VALUE!"},{"$error":"#VALUE!"},{"$error":"#VALUE!"},{"$error":"#VALUE!"},{"$error":"#VALUE!"},{"$error":"#VALUE!"},{"$error":"#VALUE!"},{"$error":"#VALUE!"},{"$f":"IF(SUM(CZ$1262:CZ1568)>0,0,IF(MAX(CS1569:CS$2702)=MAX(CS$1262:CS$2702),0,IF(CQ1569>0.03*CK$2703,0,$C1569/60)))","v":{"$error":"#VALUE!"}},{"$f":"IF(SUM(DA$1262:DA1568)>0,0,IF(MAX(CS1569:CS$2702)=MAX(CS$1262:CS$2702),0,IF(CQ1569>0.01*CK$2703,0,$C1569/60)))","v":{"$error":"#VALUE!"}}]
[null,26.166666666666668,1570,0,0,0,0,0,0,0,0,0,{"$error":"#N/A"},{"$error":"#N/A"},{"$error":"#N/A"},{"$error":"#N/A"},{"$error":"#N/A"},{"$error":"#N/A"},{"$f":"IF(SUM(S$1262:S1575)>0,0,\nIF(MAX(L1576:L$2702)=MAX(L$1262:L$2702),0,\nIF(Hydrograph_Source_WQCV=\"USER\",IF(J1576>0.03*D$2703,0,$C1576/60),\nIF(J1576>0.03*J$2703,0,$C1576/60))))","v":0},{"$f":"IF(SUM(T$1262:T1575)>0,0,\nIF(MAX(L1576:L$2702)=MAX(L$1262:L$2702),0,\nIF(Hydrograph_Source_WQCV=\"USER\",IF(J1576>0.01*D$2703,0,$C1576/60),\nIF(J1576>0.01*J$2703,0,$C1576/60))))","v":0},0,0,0,0,{"$error":"#VALUE!"},{"$error":"#VALUE!"},{"$error":"#VALUE!"},{"$error":"#VALUE!"},{"$error":"#VALUE!"},{"$error":"#VALUE!"},{"$error":"#VALUE!"},{"$error":"#VALUE!"},{"$error":"#VALUE!"},{"$error":"#VALUE!"},{"$error":"#VALUE!"},{"$f":"IF(SUM(AJ$1262:AJ1575)>0,0,IF(MAX(AC1576:AC$2702)=MAX(AC$1262:AC$2702),0,IF(AA1576>0.03*U$2703,0,$C1576/60)))","v":{"$error":"#VALUE!"}},{"$f":"IF(SUM(AK$1262:AK1575)>0,0,IF(MAX(AC1576:AC$2702)=MAX(AC$1262:AC$2702),0,IF(AA1576>0.01*U$2703,0,$C1576/60)))","v":{"$error":"#VALUE!"}},0,0,0,0,{"$error":"#VALUE!"},{"$error":"#VALUE!"},{"$error":"#VALUE!"},{"$error":"#VALUE!"},{"$error":"#VALUE!"},{"$error":"#VALUE!"},{"$error":"#VALUE!"},{"$error":"#VALUE!"},{"$error":"#VALUE!"},{"$error":"#VALUE!"},{"$error":"#VALUE!"},{"$f":"IF(SUM(BA$1262:BA1575)>0,0,IF(MAX(AT1576:AT$2702)=MAX(AT$1262:AT$2702),0,IF(AR1576>0.03*AL$2703,0,$C1576/60)))","v":{"$error":"#VALUE!"}},{"$f":"IF(SUM(BB$1262:BB1575)>0,0,IF(MAX(AT1576:AT$2702)=MAX(AT$1262:AT$2702),0,IF(AR1576>0.01*AL$2703,0,$C1576/60)))","v":{"$error":"#VALUE!"}},0,0,0,0,{"$error":"#VALUE!"},{"$error":"#VALUE!"},{"$error":"#VALUE!"},{"$error":"#VALUE!"},{"$error":"#VALUE!"},{"$error":"#VALUE!"},{"$error":"#VALUE!"},{"$error":"#VALUE!"},{"$error":"#VALUE!"},{"$error":"#VALUE!"},{"$error":"#VALUE!"},{"$f":"IF(SUM(BR$1262:BR1575)>0,0,IF(MAX(BK1576:BK$2702)=MAX(BK$1262:BK$2702),0,IF(BI1576>0.03*BC$2703,0,$C1576/60)))","v":{"$error":"#VALUE!"}},{"$f":"IF(SUM(BS$1262:BS1575)>0,0,IF(MAX(BK1576:BK$2702)=MAX(BK$1262:BK$2702),0,IF(BI1576>0.01*BC$2703,0,$C1576/60)))","v":{"$error":"#VALUE!"}},0,0,0,0,{"$error":"#VALUE!"},{"$error":"#VALUE!"},{"$error":"#VALUE!"},{"$error":"#VALUE!"},{"$error":"#VALUE!"},{"$error":"#VALUE!"},{"$error":"#VALUE!"},{"$error":"#VALUE!"},{"$error":"#VALUE!"},{"$error":"#VALUE!"},{"$error":"#VALUE!"},{"$f":"IF(SUM(CI$1262:CI1575)>0,0,IF(MAX(CB1576:CB$2702)=MAX(CB$1262:CB$2702),0,IF(BZ1576>0.03*BT$2703,0,$C1576/60)))","v":{"$error":"#VALUE!"}},{"$f":"IF(SUM(CJ$1262:CJ1575)>0,0,IF(MAX(CB1576:CB$2702)=MAX(CB$1262:CB$2702),0,IF(BZ1576>0.01*BT$2703,0,$C1576/60)))","v":{"$error":"#VALUE!"}},0,0,0,0,{"$error":"#VALUE!"},{"$error":"#VALUE!"},{"$error":"#VALUE!"},{"$error":"#VALUE!"},{"$error":"#VALUE!"},{"$error":"#VALUE!"},{"$error":"#VALUE!"},{"$error":"#VALUE!"},{"$error":"#VALUE!"},{"$error":"#VALUE!"},{"$error":"#VALUE!"},{"$f":"IF(SUM(CZ$1262:CZ1575)>0,0,IF(MAX(CS1576:CS$2702)=MAX(CS$1262:CS$2702),0,IF(CQ1576>0.03*CK$2703,0,$C1576/60)))","v":{"$error":"#VALUE!"}},{"$f":"IF(SUM(DA$1262:DA1575)>0,0,IF(MAX(CS1576:CS$2702)=MAX(CS$1262:CS$2702),0,IF(CQ1576>0.01*CK$2703,0,$C1576/60)))","v":{"$error":"#VALUE!"}}]
[null,26.583333333333332,1595,0,0,0,0,0,0,0,0,0,{"$error":"#N/A"},{"$error":"#N/A"},{"$error":"#N/A"},{"$error":"#N/A"},{"$error":"#N/A"},{"$error":"#N/A"},{"$f":"IF(SUM(S$1262:S1580)>0,0,\nIF(MAX(L1581:L$2702)=MAX(L$1262:L$2702),0,\nIF(Hydrograph_Source_WQCV=\"USER\",IF(J1581>0.03*D$2703,0,$C1581/60),\nIF(J1581>0.03*J$2703,0,$C1581/60))))","v":0},{"$f":"IF(SUM(T$1262:T1580)>0,0,\nIF(MAX(L1581:L$2702)=MAX(L$1262:L$2702),0,\nIF(Hydrograph_Source_WQCV=\"USER\",IF(J1581>0.01*D$2703,0,$C1581/60),\nIF(J1581>0.01*J$2703,0,$C1581/60))))","v":0},0,0,0,0,{"$error":"#VALUE!"},{"$error":"#VALUE!"},{"$error":"#VALUE!"},{"$error":"#VALUE!"},{"$error":"#VALUE!"},{"$error":"#VALUE!"},{"$error":"#VALUE!"},{"$error":"#VALUE!"},{"$error":"#VALUE!"},{"$error":"#VALUE!"},{"$error":"#VALUE!"},{"$f":"IF(SUM(AJ$1262:AJ1580)>0,0,IF(MAX(AC1581:AC$2702)=MAX(AC$1262:AC$2702),0,IF(AA1581>0.03*U$2703,0,$C1581/60)))","v":{"$error":"#VALUE!"}},{"$f":"IF(SUM(AK$1262:AK1580)>0,0,IF(MAX(AC1581:AC$2702)=MAX(AC$1262:AC$2702),0,IF(AA1581>0.01*U$2703,0,$C1581/60)))","v":{"$error":"#VALUE!"}},0,0,0,0,{"$error":"#VALUE!"},{"$error":"#VALUE!"},{"$error":"#VALUE!"},{"$error":"#VALUE!"},{"$error":"#VALUE!"},{"$error":"#VALUE!"},{"$error":"#VALUE!"},{"$error":"#VALUE!"},{"$error":"#VALUE!"},{"$error":"#VALUE!"},{"$error":"#VALUE!"},{"$f":"IF(SUM(BA$1262:BA1580)>0,0,IF(MAX(AT1581:AT$2702)=MAX(AT$1262:AT$2702),0,IF(AR1581>0.03*AL$2703,0,$C1581/60)))","v":{"$error":"#VALUE!"}},{"$f":"IF(SUM(BB$1262:BB1580)>0,0,IF(MAX(AT1581:AT$2702)=MAX(AT$1262:AT$2702),0,IF(AR1581>0.01*AL$2703,0,$C1581/60)))","v":{"$error":"#VALUE!"}},0,0,0,0,{"$error":"#VALUE!"},{"$error":"#VALUE!"},{"$error":"#VALUE!"},{"$error":"#VALUE!"},{"$error":"#VALUE!"},{"$error":"#VALUE!"},{"$error":"#VALUE!"},{"$error":"#VALUE!"},{"$error":"#VALUE!"},{"$error":"#VALUE!"},{"$error":"#VALUE!"},{"$f":"IF(SUM(BR$1262:BR1580)>0,0,IF(MAX(BK1581:BK$2702)=MAX(BK$1262:BK$2702),0,IF(BI1581>0.03*BC$2703,0,$C1581/60)))","v":{"$error":"#VALUE!"}},{"$f":"IF(SUM(BS$1262:BS1580)>0,0,IF(MAX(BK1581:BK$2702)=MAX(BK$1262:BK$2702),0,IF(BI1581>0.01*BC$2703,0,$C1581/60)))","v":{"$error":"#VALUE!"}},0,0,0,0,{"$error":"#VALUE!"},{"$error":"#VALUE!"},{"$error":"#VALUE!"},{"$error":"#VALUE!"},{"$error":"#VALUE!"},{"$error":"#VALUE!"},{"$error":"#VALUE!"},{"$error":"#VALUE!"},{"$error":"#VALUE!"},{"$error":"#VALUE!"},{"$error":"#VALUE!"},{"$f":"IF(SUM(CI$1262:CI1580)>0,0,IF(MAX(CB1581:CB$2702)=MAX(CB$1262:CB$2702),0,IF(BZ1581>0.03*BT$2703,0,$C1581/60)))","v":{"$error":"#VALUE!"}},{"$f":"IF(SUM(CJ$1262:CJ1580)>0,0,IF(MAX(CB1581:CB$2702)=MAX(CB$1262:CB$2702),0,IF(BZ1581>0.01*BT$2703,0,$C1581/60)))","v":{"$error":"#VALUE!"}},0,0,0,0,{"$error":"#VALUE!"},{"$error":"#VALUE!"},{"$error":"#VALUE!"},{"$error":"#VALUE!"},{"$error":"#VALUE!"},{"$error":"#VALUE!"},{"$error":"#VALUE!"},{"$error":"#VALUE!"},{"$error":"#VALUE!"},{"$error":"#VALUE!"},{"$error":"#VALUE!"},{"$f":"IF(SUM(CZ$1262:CZ1580)>0,0,IF(MAX(CS1581:CS$2702)=MAX(CS$1262:CS$2702),0,IF(CQ1581>0.03*CK$2703,0,$C1581/60)))","v":{"$error":"#VALUE!"}},{"$f":"IF(SUM(DA$1262:DA1580)>0,0,IF(MAX(CS1581:CS$2702)=MAX(CS$1262:CS$2702),0,IF(CQ1581>0.01*CK$2703,0,$C1581/60)))","v":{"$error":"#VALUE!"}}]
[null,26.75,{"$f":"C1582+$C$1260","v":1605},0,0,{"$f":"G1582","v":0},0,{"$f":"I1582","v":0},0,0,0,{"$f":"IF($D$1263=\"\",0,ROUND((R1583*K1583+Q1583-R1583*P1583),7))","v":0},{"$error":"#N/A"},{"$error":"#N/A"},{"$error":"#N/A"},{"$error":"#N/A"},{"$error":"#N/A"},{"$error":"#N/A"},{"$f":"IF(SUM(S$1262:S1582)>0,0,\nIF(MAX(L1583:L$2702)=MAX(L$1262:L$2702),0,\nIF(Hydrograph_Source_WQCV=\"USER\",IF(J1583>0.03*D$2703,0,$C1583/60),\nIF(J1583>0.03*J$2703,0,$C1583/60))))","v":0},{"$f":"IF(SUM(T$1262:T1582)>0,0,\nIF(MAX(L1583:L$2702)=MAX(L$1262:L$2702),0,\nIF(Hydrograph_Source_WQCV=\"USER\",IF(J1583>0.01*D$2703,0,$C1583/60),\nIF(J1583>0.01*J$2703,0,$C1583/60))))","v":0},0,0,{"$f":"X1582","v":0},0,{"$f":"Z1582","v":{"$error":"#VALUE!"}},{"$error":"#VALUE!"},{"$error":"#VALUE!"},{"$error":"#VALUE!"},{"$f":"IF($U$1263=\"\",0,ROUND((AI1583*AB1583+AH1583-AI1583*AG1583),7))","v":{"$error":"#VALUE!"}},{"$error":"#VALUE!"},{"$error":"#VALUE!"},{"$error":"#VALUE!"},{"$error":"#VALUE!"},{"$error":"#VALUE!"},{"$error":"#VALUE!"},{"$f":"IF(SUM(AJ$1262:AJ1582)>0,0,IF(MAX(AC1583:AC$2702)=MAX(AC$1262:AC$2702),0,IF(AA1583>0.03*U$2703,0,$C1583/60)))","v":{"$error":"#VALUE!"}},{"$f":"IF(SUM(AK$1262:AK1582)>0,0,IF(MAX(AC1583:AC$2702)=MAX(AC$1262:AC$2702),0,IF(AA1583>0.01*U$2703,0,$C1583/60)))","v":{"$error":"#VALUE!"}},0,0,{"$f":"AO1582","v":0},0,{"$f":"AQ1582","v":{"$error":"#VALUE!"}},{"$error":"#VALUE!"},{"$error":"#VALUE!"},{"$error":"#VALUE!"},{"$f":"IF($AL$1263=\"\",0,ROUND((AZ1583*AS1583+AY1583-AZ1583*AX1583),7))","v":{"$error":"#VALUE!"}},{"$error":"#VALUE!"},{"$error":"#VALUE!"},{"$error":"#VALUE!"},{"$error":"#VALUE!"},{"$error":"#VALUE!"},{"$error":"#VALUE!"},{"$f":"IF(SUM(BA$1262:BA1582)>0,0,IF(MAX(AT1583:AT$2702)=MAX(AT$1262:AT$2702),0,IF(AR1583>0.03*AL$2703,0,$C1583/60)))","v":{"$error":"#VALUE!"}},{"$f":"IF(SUM(BB$1262:BB1582)>0,0,IF(MAX(AT1583:AT$2702)=MAX(AT$1262:AT$2702),0,IF(AR1583>0.01*AL$2703,0,$C1583/60)))","v":{"$error":"#VALUE!"}},0,0,{"$f":"BF1582","v":0},0,{"$f":"BH1582","v":{"$error":"#VALUE!"}},{"$error":"#VALUE!"},{"$error":"#VALUE!"},{"$error":"#VALUE!"},{"$f":"IF($BC$1263=\"\",0,ROUND((BQ1583*BJ1583+BP1583-BQ1583*BO1583),7))","v":{"$error":"#VALUE!"}},{"$error":"#VALUE!"},{"$error":"#VALUE!"},{"$error":"#VALUE!"},{"$error":"#VALUE!"},{"$error":"#VALUE!"},{"$error":"#VALUE!"},{"$f":"IF(SUM(BR$1262:BR1582)>0,0,IF(MAX(BK1583:BK$2702)=MAX(BK$1262:BK$2702),0,IF(BI1583>0.03*BC$2703,0,$C1583/60)))","v":{"$error":"#VALUE!"}},{"$f":"IF(SUM(BS$1262:BS1582)>0,0,IF(MAX(BK1583:BK$2702)=MAX(BK$1262:BK$2702),0,IF(BI1583>0.01*BC$2703,0,$C1583/60)))","v":{"$error":"#VALUE!"}},0,0,{"$f":"BW1582","v":0},0,{"$f":"BY1582","v":{"$error":"#VALUE!"}},{"$error":"#VALUE!"},{"$error":"#VALUE!"},{"$error":"#VALUE!"},{"$f":"IF($BT$1263=\"\",0,ROUND((CH1583*CA1583+CG1583-CH1583*CF1583),7))","v":{"$error":"#VALUE!"}},{"$error":"#VALUE!"},{"$error":"#VALUE!"},{"$error":"#VALUE!"},{"$error":"#VALUE!"},{"$error":"#VALUE!"},{"$error":"#VALUE!"},{"$f":"IF(SUM(CI$1262:CI1582)>0,0,IF(MAX(CB1583:CB$2702)=MAX(CB$1262:CB$2702),0,IF(BZ1583>0.03*BT$2703,0,$C1583/60)))","v":{"$error":"#VALUE!"}},{"$f":"IF(SUM(CJ$1262:CJ1582)>0,0,IF(MAX(CB1583:CB$2702)=MAX(CB$1262:CB$2702),0,IF(BZ1583>0.01*BT$2703,0,$C1583/60)))","v":{"$error":"#VALUE!"}},0,0,{"$f":"CN1582","v":0},0,{"$f":"CP1582","v":{"$error":"#VALUE!"}},{"$error":"#VALUE!"},{"$error":"#VALUE!"},{"$error":"#VALUE!"},{"$error":"#VALUE!"},{"$error":"#VALUE!"},{"$error":"#VALUE!"},{"$error":"#VALUE!"},{"$error":"#VALUE!"},{"$error":"#VALUE!"},{"$error":"#VALUE!"},{"$f":"IF(SUM(CZ$1262:CZ1582)>0,0,IF(MAX(CS1583:CS$2702)=MAX(CS$1262:CS$2702),0,IF(CQ1583>0.03*CK$2703,0,$C1583/60)))","v":{"$error":"#VALUE!"}},{"$f":"IF(SUM(DA$1262:DA1582)>0,0,IF(MAX(CS1583:CS$2702)=MAX(CS$1262:CS$2702),0,IF(CQ1583>0.01*CK$2703,0,$C1583/60)))","v":{"$error":"#VALUE!"}}]
[null,27.166666666666668,1630,0,0,0,0,0,0,0,0,0,{"$error":"#N/A"},{"$error":"#N/A"},{"$error":"#N/A"},{"$error":"#N/A"},{"$error":"#N/A"},{"$error":"#N/A"},{"$f":"IF(SUM(S$1262:S1587)>0,0,\nIF(MAX(L1588:L$2702)=MAX(L$1262:L$2702),0,\nIF(Hydrograph_Source_WQCV=\"USER\",IF(J1588>0.03*D$2703,0,$C1588/60),\nIF(J1588>0.03*J$2703,0,$C1588/60))))","v":0},{"$f":"IF(SUM(T$1262:T1587)>0,0,\nIF(MAX(L1588:L$2702)=MAX(L$1262:L$2702),0,\nIF(Hydrograph_Source_WQCV=\"USER\",IF(J1588>0.01*D$2703,0,$C1588/60),\nIF(J1588>0.01*J$2703,0,$C1588/60))))","v":0},0,0,0,0,{"$error":"#VALUE!"},{"$error":"#VALUE!"},{"$error":"#VALUE!"},{"$error":"#VALUE!"},{"$error":"#VALUE!"},{"$error":"#VALUE!"},{"$error":"#VALUE!"},{"$error":"#VALUE!"},{"$error":"#VALUE!"},{"$error":"#VALUE!"},{"$error":"#VALUE!"},{"$f":"IF(SUM(AJ$1262:AJ1587)>0,0,IF(MAX(AC1588:AC$2702)=MAX(AC$1262:AC$2702),0,IF(AA1588>0.03*U$2703,0,$C1588/60)))","v":{"$error":"#VALUE!"}},{"$f":"IF(SUM(AK$1262:AK1587)>0,0,IF(MAX(AC1588:AC$2702)=MAX(AC$1262:AC$2702),0,IF(AA1588>0.01*U$2703,0,$C1588/60)))","v":{"$error":"#VALUE!"}},0,0,0,0,{"$error":"#VALUE!"},{"$error":"#VALUE!"},{"$error":"#VALUE!"},{"$error":"#VALUE!"},{"$error":"#VALUE!"},{"$error":"#VALUE!"},{"$error":"#VALUE!"},{"$error":"#VALUE!"},{"$error":"#VALUE!"},{"$error":"#VALUE!"},{"$error":"#VALUE!"},{"$f":"IF(SUM(BA$1262:BA1587)>0,0,IF(MAX(AT1588:AT$2702)=MAX(AT$1262:AT$2702),0,IF(AR1588>0.03*AL$2703,0,$C1588/60)))","v":{"$error":"#VALUE!"}},{"$f":"IF(SUM(BB$1262:BB1587)>0,0,IF(MAX(AT1588:AT$2702)=MAX(AT$1262:AT$2702),0,IF(AR1588>0.01*AL$2703,0,$C1588/60)))","v":{"$error":"#VALUE!"}},0,0,0,0,{"$error":"#VALUE!"},{"$error":"#VALUE!"},{"$error":"#VALUE!"},{"$error":"#VALUE!"},{"$error":"#VALUE!"},{"$error":"#VALUE!"},{"$error":"#VALUE!"},{"$error":"#VALUE!"},{"$error":"#VALUE!"},{"$error":"#VALUE!"},{"$error":"#VALUE!"},{"$f":"IF(SUM(BR$1262:BR1587)>0,0,IF(MAX(BK1588:BK$2702)=MAX(BK$1262:BK$2702),0,IF(BI1588>0.03*BC$2703,0,$C1588/60)))","v":{"$error":"#VALUE!"}},{"$f":"IF(SUM(BS$1262:BS1587)>0,0,IF(MAX(BK1588:BK$2702)=MAX(BK$1262:BK$2702),0,IF(BI1588>0.01*BC$2703,0,$C1588/60)))","v":{"$error":"#VALUE!"}},0,0,0,0,{"$error":"#VALUE!"},{"$error":"#VALUE!"},{"$error":"#VALUE!"},{"$error":"#VALUE!"},{"$error":"#VALUE!"},{"$error":"#VALUE!"},{"$error":"#VALUE!"},{"$error":"#VALUE!"},{"$error":"#VALUE!"},{"$error":"#VALUE!"},{"$error":"#VALUE!"},{"$f":"IF(SUM(CI$1262:CI1587)>0,0,IF(MAX(CB1588:CB$2702)=MAX(CB$1262:CB$2702),0,IF(BZ1588>0.03*BT$2703,0,$C1588/60)))","v":{"$error":"#VALUE!"}},{"$f":"IF(SUM(CJ$1262:CJ1587)>0,0,IF(MAX(CB1588:CB$2702)=MAX(CB$1262:CB$2702),0,IF(BZ1588>0.01*BT$2703,0,$C1588/60)))","v":{"$error":"#VALUE!"}},0,0,0,0,{"$error":"#VALUE!"},{"$error":"#VALUE!"},{"$error":"#VALUE!"},{"$error":"#VALUE!"},{"$error":"#VALUE!"},{"$error":"#VALUE!"},{"$error":"#VALUE!"},{"$error":"#VALUE!"},{"$error":"#VALUE!"},{"$error":"#VALUE!"},{"$error":"#VALUE!"},{"$f":"IF(SUM(CZ$1262:CZ1587)>0,0,IF(MAX(CS1588:CS$2702)=MAX(CS$1262:CS$2702),0,IF(CQ1588>0.03*CK$2703,0,$C1588/60)))","v":{"$error":"#VALUE!"}},{"$f":"IF(SUM(DA$1262:DA1587)>0,0,IF(MAX(CS1588:CS$2702)=MAX(CS$1262:CS$2702),0,IF(CQ1588>0.01*CK$2703,0,$C1588/60)))","v":{"$error":"#VALUE!"}}]
[null,27.583333333333332,1655,0,0,0,0,0,0,0,0,0,{"$error":"#N/A"},{"$error":"#N/A"},{"$error":"#N/A"},{"$error":"#N/A"},{"$error":"#N/A"},{"$error":"#N/A"},{"$f":"IF(SUM(S$1262:S1592)>0,0,\nIF(MAX(L1593:L$2702)=MAX(L$1262:L$2702),0,\nIF(Hydrograph_Source_WQCV=\"USER\",IF(J1593>0.03*D$2703,0,$C1593/60),\nIF(J1593>0.03*J$2703,0,$C1593/60))))","v":0},{"$f":"IF(SUM(T$1262:T1592)>0,0,\nIF(MAX(L1593:L$2702)=MAX(L$1262:L$2702),0,\nIF(Hydrograph_Source_WQCV=\"USER\",IF(J1593>0.01*D$2703,0,$C1593/60),\nIF(J1593>0.01*J$2703,0,$C1593/60))))","v":0},0,0,0,0,{"$error":"#VALUE!"},{"$error":"#VALUE!"},{"$error":"#VALUE!"},{"$error":"#VALUE!"},{"$error":"#VALUE!"},{"$error":"#VALUE!"},{"$error":"#VALUE!"},{"$error":"#VALUE!"},{"$error":"#VALUE!"},{"$error":"#VALUE!"},{"$error":"#VALUE!"},{"$f":"IF(SUM(AJ$1262:AJ1592)>0,0,IF(MAX(AC1593:AC$2702)=MAX(AC$1262:AC$2702),0,IF(AA1593>0.03*U$2703,0,$C1593/60)))","v":{"$error":"#VALUE!"}},{"$f":"IF(SUM(AK$1262:AK1592)>0,0,IF(MAX(AC1593:AC$2702)=MAX(AC$1262:AC$2702),0,IF(AA1593>0.01*U$2703,0,$C1593/60)))","v":{"$error":"#VALUE!"}},0,0,0,0,{"$error":"#VALUE!"},{"$error":"#VALUE!"},{"$error":"#VALUE!"},{"$error":"#VALUE!"},{"$error":"#VALUE!"},{"$error":"#VALUE!"},{"$error":"#VALUE!"},{"$error":"#VALUE!"},{"$error":"#VALUE!"},{"$error":"#VALUE!"},{"$error":"#VALUE!"},{"$f":"IF(SUM(BA$1262:BA1592)>0,0,IF(MAX(AT1593:AT$2702)=MAX(AT$1262:AT$2702),0,IF(AR1593>0.03*AL$2703,0,$C1593/60)))","v":{"$error":"#VALUE!"}},{"$f":"IF(SUM(BB$1262:BB1592)>0,0,IF(MAX(AT1593:AT$2702)=MAX(AT$1262:AT$2702),0,IF(AR1593>0.01*AL$2703,0,$C1593/60)))","v":{"$error":"#VALUE!"}},0,0,0,0,{"$error":"#VALUE!"},{"$error":"#VALUE!"},{"$error":"#VALUE!"},{"$error":"#VALUE!"},{"$error":"#VALUE!"},{"$error":"#VALUE!"},{"$error":"#VALUE!"},{"$error":"#VALUE!"},{"$error":"#VALUE!"},{"$error":"#VALUE!"},{"$error":"#VALUE!"},{"$f":"IF(SUM(BR$1262:BR1592)>0,0,IF(MAX(BK1593:BK$2702)=MAX(BK$1262:BK$2702),0,IF(BI1593>0.03*BC$2703,0,$C1593/60)))","v":{"$error":"#VALUE!"}},{"$f":"IF(SUM(BS$1262:BS1592)>0,0,IF(MAX(BK1593:BK$2702)=MAX(BK$1262:BK$2702),0,IF(BI1593>0.01*BC$2703,0,$C1593/60)))","v":{"$error":"#VALUE!"}},0,0,0,0,{"$error":"#VALUE!"},{"$error":"#VALUE!"},{"$error":"#VALUE!"},{"$error":"#VALUE!"},{"$error":"#VALUE!"},{"$error":"#VALUE!"},{"$error":"#VALUE!"},{"$error":"#VALUE!"},{"$error":"#VALUE!"},{"$error":"#VALUE!"},{"$error":"#VALUE!"},{"$f":"IF(SUM(CI$1262:CI1592)>0,0,IF(MAX(CB1593:CB$2702)=MAX(CB$1262:CB$2702),0,IF(BZ1593>0.03*BT$2703,0,$C1593/60)))","v":{"$error":"#VALUE!"}},{"$f":"IF(SUM(CJ$1262:CJ1592)>0,0,IF(MAX(CB1593:CB$2702)=MAX(CB$1262:CB$2702),0,IF(BZ1593>0.01*BT$2703,0,$C1593/60)))","v":{"$error":"#VALUE!"}},0,0,0,0,{"$error":"#VALUE!"},{"$error":"#VALUE!"},{"$error":"#VALUE!"},{"$error":"#VALUE!"},{"$error":"#VALUE!"},{"$error":"#VALUE!"},{"$error":"#VALUE!"},{"$error":"#VALUE!"},{"$error":"#VALUE!"},{"$error":"#VALUE!"},{"$error":"#VALUE!"},{"$f":"IF(SUM(CZ$1262:CZ1592)>0,0,IF(MAX(CS1593:CS$2702)=MAX(CS$1262:CS$2702),0,IF(CQ1593>0.03*CK$2703,0,$C1593/60)))","v":{"$error":"#VALUE!"}},{"$f":"IF(SUM(DA$1262:DA1592)>0,0,IF(MAX(CS1593:CS$2702)=MAX(CS$1262:CS$2702),0,IF(CQ1593>0.01*CK$2703,0,$C1593/60)))","v":{"$error":"#VALUE!"}}]
[null,28,1680,0,0,0,0,0,0,0,0,0,{"$error":"#N/A"},{"$error":"#N/A"},{"$error":"#N/A"},{"$error":"#N/A"},{"$error":"#N/A"},{"$error":"#N/A"},{"$f":"IF(SUM(S$1262:S1597)>0,0,\nIF(MAX(L1598:L$2702)=MAX(L$1262:L$2702),0,\nIF(Hydrograph_Source_WQCV=\"USER\",IF(J1598>0.03*D$2703,0,$C1598/60),\nIF(J1598>0.03*J$2703,0,$C1598/60))))","v":0},{"$f":"IF(SUM(T$1262:T1597)>0,0,\nIF(MAX(L1598:L$2702)=MAX(L$1262:L$2702),0,\nIF(Hydrograph_Source_WQCV=\"USER\",IF(J1598>0.01*D$2703,0,$C1598/60),\nIF(J1598>0.01*J$2703,0,$C1598/60))))","v":0},0,0,0,0,{"$error":"#VALUE!"},{"$error":"#VALUE!"},{"$error":"#VALUE!"},{"$error":"#VALUE!"},{"$error":"#VALUE!"},{"$error":"#VALUE!"},{"$error":"#VALUE!"},{"$error":"#VALUE!"},{"$error":"#VALUE!"},{"$error":"#VALUE!"},{"$error":"#VALUE!"},{"$f":"IF(SUM(AJ$1262:AJ1597)>0,0,IF(MAX(AC1598:AC$2702)=MAX(AC$1262:AC$2702),0,IF(AA1598>0.03*U$2703,0,$C1598/60)))","v":{"$error":"#VALUE!"}},{"$f":"IF(SUM(AK$1262:AK1597)>0,0,IF(MAX(AC1598:AC$2702)=MAX(AC$1262:AC$2702),0,IF(AA1598>0.01*U$2703,0,$C1598/60)))","v":{"$error":"#VALUE!"}},0,0,0,0,{"$error":"#VALUE!"},{"$error":"#VALUE!"},{"$error":"#VALUE!"},{"$error":"#VALUE!"},{"$error":"#VALUE!"},{"$error":"#VALUE!"},{"$error":"#VALUE!"},{"$error":"#VALUE!"},{"$error":"#VALUE!"},{"$error":"#VALUE!"},{"$error":"#VALUE!"},{"$f":"IF(SUM(BA$1262:BA1597)>0,0,IF(MAX(AT1598:AT$2702)=MAX(AT$1262:AT$2702),0,IF(AR1598>0.03*AL$2703,0,$C1598/60)))","v":{"$error":"#VALUE!"}},{"$f":"IF(SUM(BB$1262:BB1597)>0,0,IF(MAX(AT1598:AT$2702)=MAX(AT$1262:AT$2702),0,IF(AR1598>0.01*AL$2703,0,$C1598/60)))","v":{"$error":"#VALUE!"}},0,0,0,0,{"$error":"#VALUE!"},{"$error":"#VALUE!"},{"$error":"#VALUE!"},{"$error":"#VALUE!"},{"$error":"#VALUE!"},{"$error":"#VALUE!"},{"$error":"#VALUE!"},{"$error":"#VALUE!"},{"$error":"#VALUE!"},{"$error":"#VALUE!"},{"$error":"#VALUE!"},{"$f":"IF(SUM(BR$1262:BR1597)>0,0,IF(MAX(BK1598:BK$2702)=MAX(BK$1262:BK$2702),0,IF(BI1598>0.03*BC$2703,0,$C1598/60)))","v":{"$error":"#VALUE!"}},{"$f":"IF(SUM(BS$1262:BS1597)>0,0,IF(MAX(BK1598:BK$2702)=MAX(BK$1262:BK$2702),0,IF(BI1598>0.01*BC$2703,0,$C1598/60)))","v":{"$error":"#VALUE!"}},0,0,0,0,{"$error":"#VALUE!"},{"$error":"#VALUE!"},{"$error":"#VALUE!"},{"$error":"#VALUE!"},{"$error":"#VALUE!"},{"$error":"#VALUE!"},{"$error":"#VALUE!"},{"$error":"#VALUE!"},{"$error":"#VALUE!"},{"$error":"#VALUE!"},{"$error":"#VALUE!"},{"$f":"IF(SUM(CI$1262:CI1597)>0,0,IF(MAX(CB1598:CB$2702)=MAX(CB$1262:CB$2702),0,IF(BZ1598>0.03*BT$2703,0,$C1598/60)))","v":{"$error":"#VALUE!"}},{"$f":"IF(SUM(CJ$1262:CJ1597)>0,0,IF(MAX(CB1598:CB$2702)=MAX(CB$1262:CB$2702),0,IF(BZ1598>0.01*BT$2703,0,$C1598/60)))","v":{"$error":"#VALUE!"}},0,0,0,0,{"$error":"#VALUE!"},{"$error":"#VALUE!"},{"$error":"#VALUE!"},{"$error":"#VALUE!"},{"$error":"#VALUE!"},{"$error":"#VALUE!"},{"$error":"#VALUE!"},{"$error":"#VALUE!"},{"$error":"#VALUE!"},{"$error":"#VALUE!"},{"$error":"#VALUE!"},{"$f":"IF(SUM(CZ$1262:CZ1597)>0,0,IF(MAX(CS1598:CS$2702)=MAX(CS$1262:CS$2702),0,IF(CQ1598>0.03*CK$2703,0,$C1598/60)))","v":{"$error":"#VALUE!"}},{"$f":"IF(SUM(DA$1262:DA1597)>0,0,IF(MAX(CS1598:CS$2702)=MAX(CS$1262:CS$2702),0,IF(CQ1598>0.01*CK$2703,0,$C1598/60)))","v":{"$error":"#VALUE!"}}]
[null,28.166666666666668,1690,0,0,0,0,0,0,0,0,0,{"$error":"#N/A"},{"$error":"#N/A"},{"$error":"#N/A"},{"$error":"#N/A"},{"$error":"#N/A"},{"$error":"#N/A"},{"$f":"IF(SUM(S$1262:S1599)>0,0,\nIF(MAX(L1600:L$2702)=MAX(L$1262:L$2702),0,\nIF(Hydrograph_Source_WQCV=\"USER\",IF(J1600>0.03*D$2703,0,$C1600/60),\nIF(J1600>0.03*J$2703,0,$C1600/60))))","v":0},{"$f":"IF(SUM(T$1262:T1599)>0,0,\nIF(MAX(L1600:L$2702)=MAX(L$1262:L$2702),0,\nIF(Hydrograph_Source_WQCV=\"USER\",IF(J1600>0.01*D$2703,0,$C1600/60),\nIF(J1600>0.01*J$2703,0,$C1600/60))))","v":0},0,0,0,0,{"$error":"#VALUE!"},{"$error":"#VALUE!"},{"$error":"#VALUE!"},{"$error":"#VALUE!"},{"$error":"#VALUE!"},{"$error":"#VALUE!"},{"$error":"#VALUE!"},{"$error":"#VALUE!"},{"$error":"#VALUE!"},{"$error":"#VALUE!"},{"$error":"#VALUE!"},{"$f":"IF(SUM(AJ$1262:AJ1599)>0,0,IF(MAX(AC1600:AC$2702)=MAX(AC$1262:AC$2702),0,IF(AA1600>0.03*U$2703,0,$C1600/60)))","v":{"$error":"#VALUE!"}},{"$f":"IF(SUM(AK$1262:AK1599)>0,0,IF(MAX(AC1600:AC$2702)=MAX(AC$1262:AC$2702),0,IF(AA1600>0.01*U$2703,0,$C1600/60)))","v":{"$error":"#VALUE!"}},0,0,0,0,{"$error":"#VALUE!"},{"$error":"#VALUE!"},{"$error":"#VALUE!"},{"$error":"#VALUE!"},{"$error":"#VALUE!"},{"$error":"#VALUE!"},{"$error":"#VALUE!"},{"$error":"#VALUE!"},{"$error":"#VALUE!"},{"$error":"#VALUE!"},{"$error":"#VALUE!"},{"$f":"IF(SUM(BA$1262:BA1599)>0,0,IF(MAX(AT1600:AT$2702)=MAX(AT$1262:AT$2702),0,IF(AR1600>0.03*AL$2703,0,$C1600/60)))","v":{"$error":"#VALUE!"}},{"$f":"IF(SUM(BB$1262:BB1599)>0,0,IF(MAX(AT1600:AT$2702)=MAX(AT$1262:AT$2702),0,IF(AR1600>0.01*AL$2703,0,$C1600/60)))","v":{"$error":"#VALUE!"}},0,0,0,0,{"$error":"#VALUE!"},{"$error":"#VALUE!"},{"$error":"#VALUE!"},{"$error":"#VALUE!"},{"$error":"#VALUE!"},{"$error":"#VALUE!"},{"$error":"#VALUE!"},{"$error":"#VALUE!"},{"$error":"#VALUE!"},{"$error":"#VALUE!"},{"$error":"#VALUE!"},{"$f":"IF(SUM(BR$1262:BR1599)>0,0,IF(MAX(BK1600:BK$2702)=MAX(BK$1262:BK$2702),0,IF(BI1600>0.03*BC$2703,0,$C1600/60)))","v":{"$error":"#VALUE!"}},{"$f":"IF(SUM(BS$1262:BS1599)>0,0,IF(MAX(BK1600:BK$2702)=MAX(BK$1262:BK$2702),0,IF(BI1600>0.01*BC$2703,0,$C1600/60)))","v":{"$error":"#VALUE!"}},0,0,0,0,{"$error":"#VALUE!"},{"$error":"#VALUE!"},{"$error":"#VALUE!"},{"$error":"#VALUE!"},{"$error":"#VALUE!"},{"$error":"#VALUE!"},{"$error":"#VALUE!"},{"$error":"#VALUE!"},{"$error":"#VALUE!"},{"$error":"#VALUE!"},{"$error":"#VALUE!"},{"$f":"IF(SUM(CI$1262:CI1599)>0,0,IF(MAX(CB1600:CB$2702)=MAX(CB$1262:CB$2702),0,IF(BZ1600>0.03*BT$2703,0,$C1600/60)))","v":{"$error":"#VALUE!"}},{"$f":"IF(SUM(CJ$1262:CJ1599)>0,0,IF(MAX(CB1600:CB$2702)=MAX(CB$1262:CB$2702),0,IF(BZ1600>0.01*BT$2703,0,$C1600/60)))","v":{"$error":"#VALUE!"}},0,0,0,0,{"$error":"#VALUE!"},{"$error":"#VALUE!"},{"$error":"#VALUE!"},{"$error":"#VALUE!"},{"$error":"#VALUE!"},{"$error":"#VALUE!"},{"$error":"#VALUE!"},{"$error":"#VALUE!"},{"$error":"#VALUE!"},{"$error":"#VALUE!"},{"$error":"#VALUE!"},{"$f":"IF(SUM(CZ$1262:CZ1599)>0,0,IF(MAX(CS1600:CS$2702)=MAX(CS$1262:CS$2702),0,IF(CQ1600>0.03*CK$2703,0,$C1600/60)))","v":{"$error":"#VALUE!"}},{"$f":"IF(SUM(DA$1262:DA1599)>0,0,IF(MAX(CS1600:CS$2702)=MAX(CS$1262:CS$2702),0,IF(CQ1600>0.01*CK$2703,0,$C1600/60)))","v":{"$error":"#VALUE!"}}]
[null,28.583333333333332,1715,0,0,0,0,0,0,0,0,0,{"$error":"#N/A"},{"$error":"#N/A"},{"$error":"#N/A"},{"$error":"#N/A"},{"$error":"#N/A"},{"$error":"#N/A"},{"$f":"IF(SUM(S$1262:S1604)>0,0,\nIF(MAX(L1605:L$2702)=MAX(L$1262:L$2702),0,\nIF(Hydrograph_Source_WQCV=\"USER\",IF(J1605>0.03*D$2703,0,$C1605/60),\nIF(J1605>0.03*J$2703,0,$C1605/60))))","v":0},{"$f":"IF(SUM(T$1262:T1604)>0,0,\nIF(MAX(L1605:L$2702)=MAX(L$1262:L$2702),0,\nIF(Hydrograph_Source_WQCV=\"USER\",IF(J1605>0.01*D$2703,0,$C1605/60),\nIF(J1605>0.01*J$2703,0,$C1605/60))))","v":0},0,0,0,0,{"$error":"#VALUE!"},{"$error":"#VALUE!"},{"$error":"#VALUE!"},{"$error":"#VALUE!"},{"$error":"#VALUE!"},{"$error":"#VALUE!"},{"$error":"#VALUE!"},{"$error":"#VALUE!"},{"$error":"#VALUE!"},{"$error":"#VALUE!"},{"$error":"#VALUE!"},{"$f":"IF(SUM(AJ$1262:AJ1604)>0,0,IF(MAX(AC1605:AC$2702)=MAX(AC$1262:AC$2702),0,IF(AA1605>0.03*U$2703,0,$C1605/60)))","v":{"$error":"#VALUE!"}},{"$f":"IF(SUM(AK$1262:AK1604)>0,0,IF(MAX(AC1605:AC$2702)=MAX(AC$1262:AC$2702),0,IF(AA1605>0.01*U$2703,0,$C1605/60)))","v":{"$error":"#VALUE!"}},0,0,0,0,{"$error":"#VALUE!"},{"$error":"#VALUE!"},{"$error":"#VALUE!"},{"$error":"#VALUE!"},{"$error":"#VALUE!"},{"$error":"#VALUE!"},{"$error":"#VALUE!"},{"$error":"#VALUE!"},{"$error":"#VALUE!"},{"$error":"#VALUE!"},{"$error":"#VALUE!"},{"$f":"IF(SUM(BA$1262:BA1604)>0,0,IF(MAX(AT1605:AT$2702)=MAX(AT$1262:AT$2702),0,IF(AR1605>0.03*AL$2703,0,$C1605/60)))","v":{"$error":"#VALUE!"}},{"$f":"IF(SUM(BB$1262:BB1604)>0,0,IF(MAX(AT1605:AT$2702)=MAX(AT$1262:AT$2702),0,IF(AR1605>0.01*AL$2703,0,$C1605/60)))","v":{"$error":"#VALUE!"}},0,0,0,0,{"$error":"#VALUE!"},{"$error":"#VALUE!"},{"$error":"#VALUE!"},{"$error":"#VALUE!"},{"$error":"#VALUE!"},{"$error":"#VALUE!"},{"$error":"#VALUE!"},{"$error":"#VALUE!"},{"$error":"#VALUE!"},{"$error":"#VALUE!"},{"$error":"#VALUE!"},{"$f":"IF(SUM(BR$1262:BR1604)>0,0,IF(MAX(BK1605:BK$2702)=MAX(BK$1262:BK$2702),0,IF(BI1605>0.03*BC$2703,0,$C1605/60)))","v":{"$error":"#VALUE!"}},{"$f":"IF(SUM(BS$1262:BS1604)>0,0,IF(MAX(BK1605:BK$2702)=MAX(BK$1262:BK$2702),0,IF(BI1605>0.01*BC$2703,0,$C1605/60)))","v":{"$error":"#VALUE!"}},0,0,0,0,{"$error":"#VALUE!"},{"$error":"#VALUE!"},{"$error":"#VALUE!"},{"$error":"#VALUE!"},{"$error":"#VALUE!"},{"$error":"#VALUE!"},{"$error":"#VALUE!"},{"$error":"#VALUE!"},{"$error":"#VALUE!"},{"$error":"#VALUE!"},{"$error":"#VALUE!"},{"$f":"IF(SUM(CI$1262:CI1604)>0,0,IF(MAX(CB1605:CB$2702)=MAX(CB$1262:CB$2702),0,IF(BZ1605>0.03*BT$2703,0,$C1605/60)))","v":{"$error":"#VALUE!"}},{"$f":"IF(SUM(CJ$1262:CJ1604)>0,0,IF(MAX(CB1605:CB$2702)=MAX(CB$1262:CB$2702),0,IF(BZ1605>0.01*BT$2703,0,$C1605/60)))","v":{"$error":"#VALUE!"}},0,0,0,0,{"$error":"#VALUE!"},{"$error":"#VALUE!"},{"$error":"#VALUE!"},{"$error":"#VALUE!"},{"$error":"#VALUE!"},{"$error":"#VALUE!"},{"$error":"#VALUE!"},{"$error":"#VALUE!"},{"$error":"#VALUE!"},{"$error":"#VALUE!"},{"$error":"#VALUE!"},{"$f":"IF(SUM(CZ$1262:CZ1604)>0,0,IF(MAX(CS1605:CS$2702)=MAX(CS$1262:CS$2702),0,IF(CQ1605>0.03*CK$2703,0,$C1605/60)))","v":{"$error":"#VALUE!"}},{"$f":"IF(SUM(DA$1262:DA1604)>0,0,IF(MAX(CS1605:CS$2702)=MAX(CS$1262:CS$2702),0,IF(CQ1605>0.01*CK$2703,0,$C1605/60)))","v":{"$error":"#VALUE!"}}]
[null,29,1740,0,0,0,0,0,0,0,0,0,{"$error":"#N/A"},{"$error":"#N/A"},{"$error":"#N/A"},{"$error":"#N/A"},{"$error":"#N/A"},{"$error":"#N/A"},{"$f":"IF(SUM(S$1262:S1609)>0,0,\nIF(MAX(L1610:L$2702)=MAX(L$1262:L$2702),0,\nIF(Hydrograph_Source_WQCV=\"USER\",IF(J1610>0.03*D$2703,0,$C1610/60),\nIF(J1610>0.03*J$2703,0,$C1610/60))))","v":0},{"$f":"IF(SUM(T$1262:T1609)>0,0,\nIF(MAX(L1610:L$2702)=MAX(L$1262:L$2702),0,\nIF(Hydrograph_Source_WQCV=\"USER\",IF(J1610>0.01*D$2703,0,$C1610/60),\nIF(J1610>0.01*J$2703,0,$C1610/60))))","v":0},0,0,0,0,{"$error":"#VALUE!"},{"$error":"#VALUE!"},{"$error":"#VALUE!"},{"$error":"#VALUE!"},{"$error":"#VALUE!"},{"$error":"#VALUE!"},{"$error":"#VALUE!"},{"$error":"#VALUE!"},{"$error":"#VALUE!"},{"$error":"#VALUE!"},{"$error":"#VALUE!"},{"$f":"IF(SUM(AJ$1262:AJ1609)>0,0,IF(MAX(AC1610:AC$2702)=MAX(AC$1262:AC$2702),0,IF(AA1610>0.03*U$2703,0,$C1610/60)))","v":{"$error":"#VALUE!"}},{"$f":"IF(SUM(AK$1262:AK1609)>0,0,IF(MAX(AC1610:AC$2702)=MAX(AC$1262:AC$2702),0,IF(AA1610>0.01*U$2703,0,$C1610/60)))","v":{"$error":"#VALUE!"}},0,0,0,0,{"$error":"#VALUE!"},{"$error":"#VALUE!"},{"$error":"#VALUE!"},{"$error":"#VALUE!"},{"$error":"#VALUE!"},{"$error":"#VALUE!"},{"$error":"#VALUE!"},{"$error":"#VALUE!"},{"$error":"#VALUE!"},{"$error":"#VALUE!"},{"$error":"#VALUE!"},{"$f":"IF(SUM(BA$1262:BA1609)>0,0,IF(MAX(AT1610:AT$2702)=MAX(AT$1262:AT$2702),0,IF(AR1610>0.03*AL$2703,0,$C1610/60)))","v":{"$error":"#VALUE!"}},{"$f":"IF(SUM(BB$1262:BB1609)>0,0,IF(MAX(AT1610:AT$2702)=MAX(AT$1262:AT$2702),0,IF(AR1610>0.01*AL$2703,0,$C1610/60)))","v":{"$error":"#VALUE!"}},0,0,0,0,{"$error":"#VALUE!"},{"$error":"#VALUE!"},{"$error":"#VALUE!"},{"$error":"#VALUE!"},{"$error":"#VALUE!"},{"$error":"#VALUE!"},{"$error":"#VALUE!"},{"$error":"#VALUE!"},{"$error":"#VALUE!"},{"$error":"#VALUE!"},{"$error":"#VALUE!"},{"$f":"IF(SUM(BR$1262:BR1609)>0,0,IF(MAX(BK1610:BK$2702)=MAX(BK$1262:BK$2702),0,IF(BI1610>0.03*BC$2703,0,$C1610/60)))","v":{"$error":"#VALUE!"}},{"$f":"IF(SUM(BS$1262:BS1609)>0,0,IF(MAX(BK1610:BK$2702)=MAX(BK$1262:BK$2702),0,IF(BI1610>0.01*BC$2703,0,$C1610/60)))","v":{"$error":"#VALUE!"}},0,0,0,0,{"$error":"#VALUE!"},{"$error":"#VALUE!"},{"$error":"#VALUE!"},{"$error":"#VALUE!"},{"$error":"#VALUE!"},{"$error":"#VALUE!"},{"$error":"#VALUE!"},{"$error":"#VALUE!"},{"$error":"#VALUE!"},{"$error":"#VALUE!"},{"$error":"#VALUE!"},{"$f":"IF(SUM(CI$1262:CI1609)>0,0,IF(MAX(CB1610:CB$2702)=MAX(CB$1262:CB$2702),0,IF(BZ1610>0.03*BT$2703,0,$C1610/60)))","v":{"$error":"#VALUE!"}},{"$f":"IF(SUM(CJ$1262:CJ1609)>0,0,IF(MAX(CB1610:CB$2702)=MAX(CB$1262:CB$2702),0,IF(BZ1610>0.01*BT$2703,0,$C1610/60)))","v":{"$error":"#VALUE!"}},0,0,0,0,{"$error":"#VALUE!"},{"$error":"#VALUE!"},{"$error":"#VALUE!"},{"$error":"#VALUE!"},{"$error":"#VALUE!"},{"$error":"#VALUE!"},{"$error":"#VALUE!"},{"$error":"#VALUE!"},{"$error":"#VALUE!"},{"$error":"#VALUE!"},{"$error":"#VALUE!"},{"$f":"IF(SUM(CZ$1262:CZ1609)>0,0,IF(MAX(CS1610:CS$2702)=MAX(CS$1262:CS$2702),0,IF(CQ1610>0.03*CK$2703,0,$C1610/60)))","v":{"$error":"#VALUE!"}},{"$f":"IF(SUM(DA$1262:DA1609)>0,0,IF(MAX(CS1610:CS$2702)=MAX(CS$1262:CS$2702),0,IF(CQ1610>0.01*CK$2703,0,$C1610/60)))","v":{"$error":"#VALUE!"}}]
[null,29.5,1770,0,0,0,0,0,0,0,0,0,{"$error":"#N/A"},{"$error":"#N/A"},{"$error":"#N/A"},{"$error":"#N/A"},{"$error":"#N/A"},{"$error":"#N/A"},{"$f":"IF(SUM(S$1262:S1615)>0,0,\nIF(MAX(L1616:L$2702)=MAX(L$1262:L$2702),0,\nIF(Hydrograph_Source_WQCV=\"USER\",IF(J1616>0.03*D$2703,0,$C1616/60),\nIF(J1616>0.03*J$2703,0,$C1616/60))))","v":0},{"$f":"IF(SUM(T$1262:T1615)>0,0,\nIF(MAX(L1616:L$2702)=MAX(L$1262:L$2702),0,\nIF(Hydrograph_Source_WQCV=\"USER\",IF(J1616>0.01*D$2703,0,$C1616/60),\nIF(J1616>0.01*J$2703,0,$C1616/60))))","v":0},0,0,0,0,{"$error":"#VALUE!"},{"$error":"#VALUE!"},{"$error":"#VALUE!"},{"$error":"#VALUE!"},{"$error":"#VALUE!"},{"$error":"#VALUE!"},{"$error":"#VALUE!"},{"$error":"#VALUE!"},{"$error":"#VALUE!"},{"$error":"#VALUE!"},{"$error":"#VALUE!"},{"$f":"IF(SUM(AJ$1262:AJ1615)>0,0,IF(MAX(AC1616:AC$2702)=MAX(AC$1262:AC$2702),0,IF(AA1616>0.03*U$2703,0,$C1616/60)))","v":{"$error":"#VALUE!"}},{"$f":"IF(SUM(AK$1262:AK1615)>0,0,IF(MAX(AC1616:AC$2702)=MAX(AC$1262:AC$2702),0,IF(AA1616>0.01*U$2703,0,$C1616/60)))","v":{"$error":"#VALUE!"}},0,0,0,0,{"$error":"#VALUE!"},{"$error":"#VALUE!"},{"$error":"#VALUE!"},{"$error":"#VALUE!"},{"$error":"#VALUE!"},{"$error":"#VALUE!"},{"$error":"#VALUE!"},{"$error":"#VALUE!"},{"$error":"#VALUE!"},{"$error":"#VALUE!"},{"$error":"#VALUE!"},{"$f":"IF(SUM(BA$1262:BA1615)>0,0,IF(MAX(AT1616:AT$2702)=MAX(AT$1262:AT$2702),0,IF(AR1616>0.03*AL$2703,0,$C1616/60)))","v":{"$error":"#VALUE!"}},{"$f":"IF(SUM(BB$1262:BB1615)>0,0,IF(MAX(AT1616:AT$2702)=MAX(AT$1262:AT$2702),0,IF(AR1616>0.01*AL$2703,0,$C1616/60)))","v":{"$error":"#VALUE!"}},0,0,0,0,{"$error":"#VALUE!"},{"$error":"#VALUE!"},{"$error":"#VALUE!"},{"$error":"#VALUE!"},{"$error":"#VALUE!"},{"$error":"#VALUE!"},{"$error":"#VALUE!"},{"$error":"#VALUE!"},{"$error":"#VALUE!"},{"$error":"#VALUE!"},{"$error":"#VALUE!"},{"$f":"IF(SUM(BR$1262:BR1615)>0,0,IF(MAX(BK1616:BK$2702)=MAX(BK$1262:BK$2702),0,IF(BI1616>0.03*BC$2703,0,$C1616/60)))","v":{"$error":"#VALUE!"}},{"$f":"IF(SUM(BS$1262:BS1615)>0,0,IF(MAX(BK1616:BK$2702)=MAX(BK$1262:BK$2702),0,IF(BI1616>0.01*BC$2703,0,$C1616/60)))","v":{"$error":"#VALUE!"}},0,0,0,0,{"$error":"#VALUE!"},{"$error":"#VALUE!"},{"$error":"#VALUE!"},{"$error":"#VALUE!"},{"$error":"#VALUE!"},{"$error":"#VALUE!"},{"$error":"#VALUE!"},{"$error":"#VALUE!"},{"$error":"#VALUE!"},{"$error":"#VALUE!"},{"$error":"#VALUE!"},{"$f":"IF(SUM(CI$1262:CI1615)>0,0,IF(MAX(CB1616:CB$2702)=MAX(CB$1262:CB$2702),0,IF(BZ1616>0.03*BT$2703,0,$C1616/60)))","v":{"$error":"#VALUE!"}},{"$f":"IF(SUM(CJ$1262:CJ1615)>0,0,IF(MAX(CB1616:CB$2702)=MAX(CB$1262:CB$2702),0,IF(BZ1616>0.01*BT$2703,0,$C1616/60)))","v":{"$error":"#VALUE!"}},0,0,0,0,{"$error":"#VALUE!"},{"$error":"#VALUE!"},{"$error":"#VALUE!"},{"$error":"#VALUE!"},{"$error":"#VALUE!"},{"$error":"#VALUE!"},{"$error":"#VALUE!"},{"$error":"#VALUE!"},{"$error":"#VALUE!"},{"$error":"#VALUE!"},{"$error":"#VALUE!"},{"$f":"IF(SUM(CZ$1262:CZ1615)>0,0,IF(MAX(CS1616:CS$2702)=MAX(CS$1262:CS$2702),0,IF(CQ1616>0.03*CK$2703,0,$C1616/60)))","v":{"$error":"#VALUE!"}},{"$f":"IF(SUM(DA$1262:DA1615)>0,0,IF(MAX(CS1616:CS$2702)=MAX(CS$1262:CS$2702),0,IF(CQ1616>0.01*CK$2703,0,$C1616/60)))","v":{"$error":"#VALUE!"}}]
[null,29.583333333333332,1775,0,0,0,0,0,0,0,0,0,{"$error":"#N/A"},{"$error":"#N/A"},{"$error":"#N/A"},{"$error":"#N/A"},{"$error":"#N/A"},{"$error":"#N/A"},{"$f":"IF(SUM(S$1262:S1616)>0,0,\nIF(MAX(L1617:L$2702)=MAX(L$1262:L$2702),0,\nIF(Hydrograph_Source_WQCV=\"USER\",IF(J1617>0.03*D$2703,0,$C1617/60),\nIF(J1617>0.03*J$2703,0,$C1617/60))))","v":0},{"$f":"IF(SUM(T$1262:T1616)>0,0,\nIF(MAX(L1617:L$2702)=MAX(L$1262:L$2702),0,\nIF(Hydrograph_Source_WQCV=\"USER\",IF(J1617>0.01*D$2703,0,$C1617/60),\nIF(J1617>0.01*J$2703,0,$C1617/60))))","v":0},0,0,0,0,{"$error":"#VALUE!"},{"$error":"#VALUE!"},{"$error":"#VALUE!"},{"$error":"#VALUE!"},{"$error":"#VALUE!"},{"$error":"#VALUE!"},{"$error":"#VALUE!"},{"$error":"#VALUE!"},{"$error":"#VALUE!"},{"$error":"#VALUE!"},{"$error":"#VALUE!"},{"$f":"IF(SUM(AJ$1262:AJ1616)>0,0,IF(MAX(AC1617:AC$2702)=MAX(AC$1262:AC$2702),0,IF(AA1617>0.03*U$2703,0,$C1617/60)))","v":{"$error":"#VALUE!"}},{"$f":"IF(SUM(AK$1262:AK1616)>0,0,IF(MAX(AC1617:AC$2702)=MAX(AC$1262:AC$2702),0,IF(AA1617>0.01*U$2703,0,$C1617/60)))","v":{"$error":"#VALUE!"}},0,0,0,0,{"$error":"#VALUE!"},{"$error":"#VALUE!"},{"$error":"#VALUE!"},{"$error":"#VALUE!"},{"$error":"#VALUE!"},{"$error":"#VALUE!"},{"$error":"#VALUE!"},{"$error":"#VALUE!"},{"$error":"#VALUE!"},{"$error":"#VALUE!"},{"$error":"#VALUE!"},{"$f":"IF(SUM(BA$1262:BA1616)>0,0,IF(MAX(AT1617:AT$2702)=MAX(AT$1262:AT$2702),0,IF(AR1617>0.03*AL$2703,0,$C1617/60)))","v":{"$error":"#VALUE!"}},{"$f":"IF(SUM(BB$1262:BB1616)>0,0,IF(MAX(AT1617:AT$2702)=MAX(AT$1262:AT$2702),0,IF(AR1617>0.01*AL$2703,0,$C1617/60)))","v":{"$error":"#VALUE!"}},0,0,0,0,{"$error":"#VALUE!"},{"$error":"#VALUE!"},{"$error":"#VALUE!"},{"$error":"#VALUE!"},{"$error":"#VALUE!"},{"$error":"#VALUE!"},{"$error":"#VALUE!"},{"$error":"#VALUE!"},{"$error":"#VALUE!"},{"$error":"#VALUE!"},{"$error":"#VALUE!"},{"$f":"IF(SUM(BR$1262:BR1616)>0,0,IF(MAX(BK1617:BK$2702)=MAX(BK$1262:BK$2702),0,IF(BI1617>0.03*BC$2703,0,$C1617/60)))","v":{"$error":"#VALUE!"}},{"$f":"IF(SUM(BS$1262:BS1616)>0,0,IF(MAX(BK1617:BK$2702)=MAX(BK$1262:BK$2702),0,IF(BI1617>0.01*BC$2703,0,$C1617/60)))","v":{"$error":"#VALUE!"}},0,0,0,0,{"$error":"#VALUE!"},{"$error":"#VALUE!"},{"$error":"#VALUE!"},{"$error":"#VALUE!"},{"$error":"#VALUE!"},{"$error":"#VALUE!"},{"$error":"#VALUE!"},{"$error":"#VALUE!"},{"$error":"#VALUE!"},{"$error":"#VALUE!"},{"$error":"#VALUE!"},{"$f":"IF(SUM(CI$1262:CI1616)>0,0,IF(MAX(CB1617:CB$2702)=MAX(CB$1262:CB$2702),0,IF(BZ1617>0.03*BT$2703,0,$C1617/60)))","v":{"$error":"#VALUE!"}},{"$f":"IF(SUM(CJ$1262:CJ1616)>0,0,IF(MAX(CB1617:CB$2702)=MAX(CB$1262:CB$2702),0,IF(BZ1617>0.01*BT$2703,0,$C1617/60)))","v":{"$error":"#VALUE!"}},0,0,0,0,{"$error":"#VALUE!"},{"$error":"#VALUE!"},{"$error":"#VALUE!"},{"$error":"#VALUE!"},{"$error":"#VALUE!"},{"$error":"#VALUE!"},{"$error":"#VALUE!"},{"$error":"#VALUE!"},{"$error":"#VALUE!"},{"$error":"#VALUE!"},{"$error":"#VALUE!"},{"$f":"IF(SUM(CZ$1262:CZ1616)>0,0,IF(MAX(CS1617:CS$2702)=MAX(CS$1262:CS$2702),0,IF(CQ1617>0.03*CK$2703,0,$C1617/60)))","v":{"$error":"#VALUE!"}},{"$f":"IF(SUM(DA$1262:DA1616)>0,0,IF(MAX(CS1617:CS$2702)=MAX(CS$1262:CS$2702),0,IF(CQ1617>0.01*CK$2703,0,$C1617/60)))","v":{"$error":"#VALUE!"}}]
[null,30,1800,0,0,0,0,0,0,0,0,0,{"$error":"#N/A"},{"$error":"#N/A"},{"$error":"#N/A"},{"$error":"#N/A"},{"$error":"#N/A"},{"$error":"#N/A"},{"$f":"IF(SUM(S$1262:S1621)>0,0,\nIF(MAX(L1622:L$2702)=MAX(L$1262:L$2702),0,\nIF(Hydrograph_Source_WQCV=\"USER\",IF(J1622>0.03*D$2703,0,$C1622/60),\nIF(J1622>0.03*J$2703,0,$C1622/60))))","v":0},{"$f":"IF(SUM(T$1262:T1621)>0,0,\nIF(MAX(L1622:L$2702)=MAX(L$1262:L$2702),0,\nIF(Hydrograph_Source_WQCV=\"USER\",IF(J1622>0.01*D$2703,0,$C1622/60),\nIF(J1622>0.01*J$2703,0,$C1622/60))))","v":0},0,0,0,0,{"$error":"#VALUE!"},{"$error":"#VALUE!"},{"$error":"#VALUE!"},{"$error":"#VALUE!"},{"$error":"#VALUE!"},{"$error":"#VALUE!"},{"$error":"#VALUE!"},{"$error":"#VALUE!"},{"$error":"#VALUE!"},{"$error":"#VALUE!"},{"$error":"#VALUE!"},{"$f":"IF(SUM(AJ$1262:AJ1621)>0,0,IF(MAX(AC1622:AC$2702)=MAX(AC$1262:AC$2702),0,IF(AA1622>0.03*U$2703,0,$C1622/60)))","v":{"$error":"#VALUE!"}},{"$f":"IF(SUM(AK$1262:AK1621)>0,0,IF(MAX(AC1622:AC$2702)=MAX(AC$1262:AC$2702),0,IF(AA1622>0.01*U$2703,0,$C1622/60)))","v":{"$error":"#VALUE!"}},0,0,0,0,{"$error":"#VALUE!"},{"$error":"#VALUE!"},{"$error":"#VALUE!"},{"$error":"#VALUE!"},{"$error":"#VALUE!"},{"$error":"#VALUE!"},{"$error":"#VALUE!"},{"$error":"#VALUE!"},{"$error":"#VALUE!"},{"$error":"#VALUE!"},{"$error":"#VALUE!"},{"$f":"IF(SUM(BA$1262:BA1621)>0,0,IF(MAX(AT1622:AT$2702)=MAX(AT$1262:AT$2702),0,IF(AR1622>0.03*AL$2703,0,$C1622/60)))","v":{"$error":"#VALUE!"}},{"$f":"IF(SUM(BB$1262:BB1621)>0,0,IF(MAX(AT1622:AT$2702)=MAX(AT$1262:AT$2702),0,IF(AR1622>0.01*AL$2703,0,$C1622/60)))","v":{"$error":"#VALUE!"}},0,0,0,0,{"$error":"#VALUE!"},{"$error":"#VALUE!"},{"$error":"#VALUE!"},{"$error":"#VALUE!"},{"$error":"#VALUE!"},{"$error":"#VALUE!"},{"$error":"#VALUE!"},{"$error":"#VALUE!"},{"$error":"#VALUE!"},{"$error":"#VALUE!"},{"$error":"#VALUE!"},{"$f":"IF(SUM(BR$1262:BR1621)>0,0,IF(MAX(BK1622:BK$2702)=MAX(BK$1262:BK$2702),0,IF(BI1622>0.03*BC$2703,0,$C1622/60)))","v":{"$error":"#VALUE!"}},{"$f":"IF(SUM(BS$1262:BS1621)>0,0,IF(MAX(BK1622:BK$2702)=MAX(BK$1262:BK$2702),0,IF(BI1622>0.01*BC$2703,0,$C1622/60)))","v":{"$error":"#VALUE!"}},0,0,0,0,{"$error":"#VALUE!"},{"$error":"#VALUE!"},{"$error":"#VALUE!"},{"$error":"#VALUE!"},{"$error":"#VALUE!"},{"$error":"#VALUE!"},{"$error":"#VALUE!"},{"$error":"#VALUE!"},{"$error":"#VALUE!"},{"$error":"#VALUE!"},{"$error":"#VALUE!"},{"$f":"IF(SUM(CI$1262:CI1621)>0,0,IF(MAX(CB1622:CB$2702)=MAX(CB$1262:CB$2702),0,IF(BZ1622>0.03*BT$2703,0,$C1622/60)))","v":{"$error":"#VALUE!"}},{"$f":"IF(SUM(CJ$1262:CJ1621)>0,0,IF(MAX(CB1622:CB$2702)=MAX(CB$1262:CB$2702),0,IF(BZ1622>0.01*BT$2703,0,$C1622/60)))","v":{"$error":"#VALUE!"}},0,0,0,0,{"$error":"#VALUE!"},{"$error":"#VALUE!"},{"$error":"#VALUE!"},{"$error":"#VALUE!"},{"$error":"#VALUE!"},{"$error":"#VALUE!"},{"$error":"#VALUE!"},{"$error":"#VALUE!"},{"$error":"#VALUE!"},{"$error":"#VALUE!"},{"$error":"#VALUE!"},{"$f":"IF(SUM(CZ$1262:CZ1621)>0,0,IF(MAX(CS1622:CS$2702)=MAX(CS$1262:CS$2702),0,IF(CQ1622>0.03*CK$2703,0,$C1622/60)))","v":{"$error":"#VALUE!"}},{"$f":"IF(SUM(DA$1262:DA1621)>0,0,IF(MAX(CS1622:CS$2702)=MAX(CS$1262:CS$2702),0,IF(CQ1622>0.01*CK$2703,0,$C1622/60)))","v":{"$error":"#VALUE!"}}]
[null,30.25,1815,0,0,0,0,0,0,0,0,0,{"$error":"#N/A"},{"$error":"#N/A"},{"$error":"#N/A"},{"$error":"#N/A"},{"$error":"#N/A"},{"$error":"#N/A"},{"$f":"IF(SUM(S$1262:S1624)>0,0,\nIF(MAX(L1625:L$2702)=MAX(L$1262:L$2702),0,\nIF(Hydrograph_Source_WQCV=\"USER\",IF(J1625>0.03*D$2703,0,$C1625/60),\nIF(J1625>0.03*J$2703,0,$C1625/60))))","v":0},{"$f":"IF(SUM(T$1262:T1624)>0,0,\nIF(MAX(L1625:L$2702)=MAX(L$1262:L$2702),0,\nIF(Hydrograph_Source_WQCV=\"USER\",IF(J1625>0.01*D$2703,0,$C1625/60),\nIF(J1625>0.01*J$2703,0,$C1625/60))))","v":0},0,0,0,0,{"$error":"#VALUE!"},{"$error":"#VALUE!"},{"$error":"#VALUE!"},{"$error":"#VALUE!"},{"$error":"#VALUE!"},{"$error":"#VALUE!"},{"$error":"#VALUE!"},{"$error":"#VALUE!"},{"$error":"#VALUE!"},{"$error":"#VALUE!"},{"$error":"#VALUE!"},{"$f":"IF(SUM(AJ$1262:AJ1624)>0,0,IF(MAX(AC1625:AC$2702)=MAX(AC$1262:AC$2702),0,IF(AA1625>0.03*U$2703,0,$C1625/60)))","v":{"$error":"#VALUE!"}},{"$f":"IF(SUM(AK$1262:AK1624)>0,0,IF(MAX(AC1625:AC$2702)=MAX(AC$1262:AC$2702),0,IF(AA1625>0.01*U$2703,0,$C1625/60)))","v":{"$error":"#VALUE!"}},0,0,0,0,{"$error":"#VALUE!"},{"$error":"#VALUE!"},{"$error":"#VALUE!"},{"$error":"#VALUE!"},{"$error":"#VALUE!"},{"$error":"#VALUE!"},{"$error":"#VALUE!"},{"$error":"#VALUE!"},{"$error":"#VALUE!"},{"$error":"#VALUE!"},{"$error":"#VALUE!"},{"$f":"IF(SUM(BA$1262:BA1624)>0,0,IF(MAX(AT1625:AT$2702)=MAX(AT$1262:AT$2702),0,IF(AR1625>0.03*AL$2703,0,$C1625/60)))","v":{"$error":"#VALUE!"}},{"$f":"IF(SUM(BB$1262:BB1624)>0,0,IF(MAX(AT1625:AT$2702)=MAX(AT$1262:AT$2702),0,IF(AR1625>0.01*AL$2703,0,$C1625/60)))","v":{"$error":"#VALUE!"}},0,0,0,0,{"$error":"#VALUE!"},{"$error":"#VALUE!"},{"$error":"#VALUE!"},{"$error":"#VALUE!"},{"$error":"#VALUE!"},{"$error":"#VALUE!"},{"$error":"#VALUE!"},{"$error":"#VALUE!"},{"$error":"#VALUE!"},{"$error":"#VALUE!"},{"$error":"#VALUE!"},{"$f":"IF(SUM(BR$1262:BR1624)>0,0,IF(MAX(BK1625:BK$2702)=MAX(BK$1262:BK$2702),0,IF(BI1625>0.03*BC$2703,0,$C1625/60)))","v":{"$error":"#VALUE!"}},{"$f":"IF(SUM(BS$1262:BS1624)>0,0,IF(MAX(BK1625:BK$2702)=MAX(BK$1262:BK$2702),0,IF(BI1625>0.01*BC$2703,0,$C1625/60)))","v":{"$error":"#VALUE!"}},0,0,0,0,{"$error":"#VALUE!"},{"$error":"#VALUE!"},{"$error":"#VALUE!"},{"$error":"#VALUE!"},{"$error":"#VALUE!"},{"$error":"#VALUE!"},{"$error":"#VALUE!"},{"$error":"#VALUE!"},{"$error":"#VALUE!"},{"$error":"#VALUE!"},{"$error":"#VALUE!"},{"$f":"IF(SUM(CI$1262:CI1624)>0,0,IF(MAX(CB1625:CB$2702)=MAX(CB$1262:CB$2702),0,IF(BZ1625>0.03*BT$2703,0,$C1625/60)))","v":{"$error":"#VALUE!"}},{"$f":"IF(SUM(CJ$1262:CJ1624)>0,0,IF(MAX(CB1625:CB$2702)=MAX(CB$1262:CB$2702),0,IF(BZ1625>0.01*BT$2703,0,$C1625/60)))","v":{"$error":"#VALUE!"}},0,0,0,0,{"$error":"#VALUE!"},{"$error":"#VALUE!"},{"$error":"#VALUE!"},{"$error":"#VALUE!"},{"$error":"#VALUE!"},{"$error":"#VALUE!"},{"$error":"#VALUE!"},{"$error":"#VALUE!"},{"$error":"#VALUE!"},{"$error":"#VALUE!"},{"$error":"#VALUE!"},{"$f":"IF(SUM(CZ$1262:CZ1624)>0,0,IF(MAX(CS1625:CS$2702)=MAX(CS$1262:CS$2702),0,IF(CQ1625>0.03*CK$2703,0,$C1625/60)))","v":{"$error":"#VALUE!"}},{"$f":"IF(SUM(DA$1262:DA1624)>0,0,IF(MAX(CS1625:CS$2702)=MAX(CS$1262:CS$2702),0,IF(CQ1625>0.01*CK$2703,0,$C1625/60)))","v":{"$error":"#VALUE!"}}]
[null,30.916666666666668,1855,0,0,0,0,0,0,0,0,0,{"$error":"#N/A"},{"$error":"#N/A"},{"$error":"#N/A"},{"$error":"#N/A"},{"$error":"#N/A"},{"$error":"#N/A"},{"$f":"IF(SUM(S$1262:S1632)>0,0,\nIF(MAX(L1633:L$2702)=MAX(L$1262:L$2702),0,\nIF(Hydrograph_Source_WQCV=\"USER\",IF(J1633>0.03*D$2703,0,$C1633/60),\nIF(J1633>0.03*J$2703,0,$C1633/60))))","v":0},{"$f":"IF(SUM(T$1262:T1632)>0,0,\nIF(MAX(L1633:L$2702)=MAX(L$1262:L$2702),0,\nIF(Hydrograph_Source_WQCV=\"USER\",IF(J1633>0.01*D$2703,0,$C1633/60),\nIF(J1633>0.01*J$2703,0,$C1633/60))))","v":0},0,0,0,0,{"$error":"#VALUE!"},{"$error":"#VALUE!"},{"$error":"#VALUE!"},{"$error":"#VALUE!"},{"$error":"#VALUE!"},{"$error":"#VALUE!"},{"$error":"#VALUE!"},{"$error":"#VALUE!"},{"$error":"#VALUE!"},{"$error":"#VALUE!"},{"$error":"#VALUE!"},{"$f":"IF(SUM(AJ$1262:AJ1632)>0,0,IF(MAX(AC1633:AC$2702)=MAX(AC$1262:AC$2702),0,IF(AA1633>0.03*U$2703,0,$C1633/60)))","v":{"$error":"#VALUE!"}},{"$f":"IF(SUM(AK$1262:AK1632)>0,0,IF(MAX(AC1633:AC$2702)=MAX(AC$1262:AC$2702),0,IF(AA1633>0.01*U$2703,0,$C1633/60)))","v":{"$error":"#VALUE!"}},0,0,0,0,{"$error":"#VALUE!"},{"$error":"#VALUE!"},{"$error":"#VALUE!"},{"$error":"#VALUE!"},{"$error":"#VALUE!"},{"$error":"#VALUE!"},{"$error":"#VALUE!"},{"$error":"#VALUE!"},{"$error":"#VALUE!"},{"$error":"#VALUE!"},{"$error":"#VALUE!"},{"$f":"IF(SUM(BA$1262:BA1632)>0,0,IF(MAX(AT1633:AT$2702)=MAX(AT$1262:AT$2702),0,IF(AR1633>0.03*AL$2703,0,$C1633/60)))","v":{"$error":"#VALUE!"}},{"$f":"IF(SUM(BB$1262:BB1632)>0,0,IF(MAX(AT1633:AT$2702)=MAX(AT$1262:AT$2702),0,IF(AR1633>0.01*AL$2703,0,$C1633/60)))","v":{"$error":"#VALUE!"}},0,0,0,0,{"$error":"#VALUE!"},{"$error":"#VALUE!"},{"$error":"#VALUE!"},{"$error":"#VALUE!"},{"$error":"#VALUE!"},{"$error":"#VALUE!"},{"$error":"#VALUE!"},{"$error":"#VALUE!"},{"$error":"#VALUE!"},{"$error":"#VALUE!"},{"$error":"#VALUE!"},{"$f":"IF(SUM(BR$1262:BR1632)>0,0,IF(MAX(BK1633:BK$2702)=MAX(BK$1262:BK$2702),0,IF(BI1633>0.03*BC$2703,0,$C1633/60)))","v":{"$error":"#VALUE!"}},{"$f":"IF(SUM(BS$1262:BS1632)>0,0,IF(MAX(BK1633:BK$2702)=MAX(BK$1262:BK$2702),0,IF(BI1633>0.01*BC$2703,0,$C1633/60)))","v":{"$error":"#VALUE!"}},0,0,0,0,{"$error":"#VALUE!"},{"$error":"#VALUE!"},{"$error":"#VALUE!"},{"$error":"#VALUE!"},{"$error":"#VALUE!"},{"$error":"#VALUE!"},{"$error":"#VALUE!"},{"$error":"#VALUE!"},{"$error":"#VALUE!"},{"$error":"#VALUE!"},{"$error":"#VALUE!"},{"$f":"IF(SUM(CI$1262:CI1632)>0,0,IF(MAX(CB1633:CB$2702)=MAX(CB$1262:CB$2702),0,IF(BZ1633>0.03*BT$2703,0,$C1633/60)))","v":{"$error":"#VALUE!"}},{"$f":"IF(SUM(CJ$1262:CJ1632)>0,0,IF(MAX(CB1633:CB$2702)=MAX(CB$1262:CB$2702),0,IF(BZ1633>0.01*BT$2703,0,$C1633/60)))","v":{"$error":"#VALUE!"}},0,0,0,0,{"$error":"#VALUE!"},{"$error":"#VALUE!"},{"$error":"#VALUE!"},{"$error":"#VALUE!"},{"$error":"#VALUE!"},{"$error":"#VALUE!"},{"$error":"#VALUE!"},{"$error":"#VALUE!"},{"$error":"#VALUE!"},{"$error":"#VALUE!"},{"$error":"#VALUE!"},{"$f":"IF(SUM(CZ$1262:CZ1632)>0,0,IF(MAX(CS1633:CS$2702)=MAX(CS$1262:CS$2702),0,IF(CQ1633>0.03*CK$2703,0,$C1633/60)))","v":{"$error":"#VALUE!"}},{"$f":"IF(SUM(DA$1262:DA1632)>0,0,IF(MAX(CS1633:CS$2702)=MAX(CS$1262:CS$2702),0,IF(CQ1633>0.01*CK$2703,0,$C1633/60)))","v":{"$error":"#VALUE!"}}]
[null,31,1860,0,0,0,0,0,0,0,0,0,{"$error":"#N/A"},{"$error":"#N/A"},{"$error":"#N/A"},{"$error":"#N/A"},{"$error":"#N/A"},{"$error":"#N/A"},{"$f":"IF(SUM(S$1262:S1633)>0,0,\nIF(MAX(L1634:L$2702)=MAX(L$1262:L$2702),0,\nIF(Hydrograph_Source_WQCV=\"USER\",IF(J1634>0.03*D$2703,0,$C1634/60),\nIF(J1634>0.03*J$2703,0,$C1634/60))))","v":0},{"$f":"IF(SUM(T$1262:T1633)>0,0,\nIF(MAX(L1634:L$2702)=MAX(L$1262:L$2702),0,\nIF(Hydrograph_Source_WQCV=\"USER\",IF(J1634>0.01*D$2703,0,$C1634/60),\nIF(J1634>0.01*J$2703,0,$C1634/60))))","v":0},0,0,0,0,{"$error":"#VALUE!"},{"$error":"#VALUE!"},{"$error":"#VALUE!"},{"$error":"#VALUE!"},{"$error":"#VALUE!"},{"$error":"#VALUE!"},{"$error":"#VALUE!"},{"$error":"#VALUE!"},{"$error":"#VALUE!"},{"$error":"#VALUE!"},{"$error":"#VALUE!"},{"$f":"IF(SUM(AJ$1262:AJ1633)>0,0,IF(MAX(AC1634:AC$2702)=MAX(AC$1262:AC$2702),0,IF(AA1634>0.03*U$2703,0,$C1634/60)))","v":{"$error":"#VALUE!"}},{"$f":"IF(SUM(AK$1262:AK1633)>0,0,IF(MAX(AC1634:AC$2702)=MAX(AC$1262:AC$2702),0,IF(AA1634>0.01*U$2703,0,$C1634/60)))","v":{"$error":"#VALUE!"}},0,0,0,0,{"$error":"#VALUE!"},{"$error":"#VALUE!"},{"$error":"#VALUE!"},{"$error":"#VALUE!"},{"$error":"#VALUE!"},{"$error":"#VALUE!"},{"$error":"#VALUE!"},{"$error":"#VALUE!"},{"$error":"#VALUE!"},{"$error":"#VALUE!"},{"$error":"#VALUE!"},{"$f":"IF(SUM(BA$1262:BA1633)>0,0,IF(MAX(AT1634:AT$2702)=MAX(AT$1262:AT$2702),0,IF(AR1634>0.03*AL$2703,0,$C1634/60)))","v":{"$error":"#VALUE!"}},{"$f":"IF(SUM(BB$1262:BB1633)>0,0,IF(MAX(AT1634:AT$2702)=MAX(AT$1262:AT$2702),0,IF(AR1634>0.01*AL$2703,0,$C1634/60)))","v":{"$error":"#VALUE!"}},0,0,0,0,{"$error":"#VALUE!"},{"$error":"#VALUE!"},{"$error":"#VALUE!"},{"$error":"#VALUE!"},{"$error":"#VALUE!"},{"$error":"#VALUE!"},{"$error":"#VALUE!"},{"$error":"#VALUE!"},{"$error":"#VALUE!"},{"$error":"#VALUE!"},{"$error":"#VALUE!"},{"$f":"IF(SUM(BR$1262:BR1633)>0,0,IF(MAX(BK1634:BK$2702)=MAX(BK$1262:BK$2702),0,IF(BI1634>0.03*BC$2703,0,$C1634/60)))","v":{"$error":"#VALUE!"}},{"$f":"IF(SUM(BS$1262:BS1633)>0,0,IF(MAX(BK1634:BK$2702)=MAX(BK$1262:BK$2702),0,IF(BI1634>0.01*BC$2703,0,$C1634/60)))","v":{"$error":"#VALUE!"}},0,0,0,0,{"$error":"#VALUE!"},{"$error":"#VALUE!"},{"$error":"#VALUE!"},{"$error":"#VALUE!"},{"$error":"#VALUE!"},{"$error":"#VALUE!"},{"$error":"#VALUE!"},{"$error":"#VALUE!"},{"$error":"#VALUE!"},{"$error":"#VALUE!"},{"$error":"#VALUE!"},{"$f":"IF(SUM(CI$1262:CI1633)>0,0,IF(MAX(CB1634:CB$2702)=MAX(CB$1262:CB$2702),0,IF(BZ1634>0.03*BT$2703,0,$C1634/60)))","v":{"$error":"#VALUE!"}},{"$f":"IF(SUM(CJ$1262:CJ1633)>0,0,IF(MAX(CB1634:CB$2702)=MAX(CB$1262:CB$2702),0,IF(BZ1634>0.01*BT$2703,0,$C1634/60)))","v":{"$error":"#VALUE!"}},0,0,0,0,{"$error":"#VALUE!"},{"$error":"#VALUE!"},{"$error":"#VALUE!"},{"$error":"#VALUE!"},{"$error":"#VALUE!"},{"$error":"#VALUE!"},{"$error":"#VALUE!"},{"$error":"#VALUE!"},{"$error":"#VALUE!"},{"$error":"#VALUE!"},{"$error":"#VALUE!"},{"$f":"IF(SUM(CZ$1262:CZ1633)>0,0,IF(MAX(CS1634:CS$2702)=MAX(CS$1262:CS$2702),0,IF(CQ1634>0.03*CK$2703,0,$C1634/60)))","v":{"$error":"#VALUE!"}},{"$f":"IF(SUM(DA$1262:DA1633)>0,0,IF(MAX(CS1634:CS$2702)=MAX(CS$1262:CS$2702),0,IF(CQ1634>0.01*CK$2703,0,$C1634/60)))","v":{"$error":"#VALUE!"}}]
[null,31.416666666666668,1885,0,0,0,0,0,0,0,0,0,{"$error":"#N/A"},{"$error":"#N/A"},{"$error":"#N/A"},{"$error":"#N/A"},{"$error":"#N/A"},{"$error":"#N/A"},{"$f":"IF(SUM(S$1262:S1638)>0,0,\nIF(MAX(L1639:L$2702)=MAX(L$1262:L$2702),0,\nIF(Hydrograph_Source_WQCV=\"USER\",IF(J1639>0.03*D$2703,0,$C1639/60),\nIF(J1639>0.03*J$2703,0,$C1639/60))))","v":0},{"$f":"IF(SUM(T$1262:T1638)>0,0,\nIF(MAX(L1639:L$2702)=MAX(L$1262:L$2702),0,\nIF(Hydrograph_Source_WQCV=\"USER\",IF(J1639>0.01*D$2703,0,$C1639/60),\nIF(J1639>0.01*J$2703,0,$C1639/60))))","v":0},0,0,0,0,{"$error":"#VALUE!"},{"$error":"#VALUE!"},{"$error":"#VALUE!"},{"$error":"#VALUE!"},{"$error":"#VALUE!"},{"$error":"#VALUE!"},{"$error":"#VALUE!"},{"$error":"#VALUE!"},{"$error":"#VALUE!"},{"$error":"#VALUE!"},{"$error":"#VALUE!"},{"$f":"IF(SUM(AJ$1262:AJ1638)>0,0,IF(MAX(AC1639:AC$2702)=MAX(AC$1262:AC$2702),0,IF(AA1639>0.03*U$2703,0,$C1639/60)))","v":{"$error":"#VALUE!"}},{"$f":"IF(SUM(AK$1262:AK1638)>0,0,IF(MAX(AC1639:AC$2702)=MAX(AC$1262:AC$2702),0,IF(AA1639>0.01*U$2703,0,$C1639/60)))","v":{"$error":"#VALUE!"}},0,0,0,0,{"$error":"#VALUE!"},{"$error":"#VALUE!"},{"$error":"#VALUE!"},{"$error":"#VALUE!"},{"$error":"#VALUE!"},{"$error":"#VALUE!"},{"$error":"#VALUE!"},{"$error":"#VALUE!"},{"$error":"#VALUE!"},{"$error":"#VALUE!"},{"$error":"#VALUE!"},{"$f":"IF(SUM(BA$1262:BA1638)>0,0,IF(MAX(AT1639:AT$2702)=MAX(AT$1262:AT$2702),0,IF(AR1639>0.03*AL$2703,0,$C1639/60)))","v":{"$error":"#VALUE!"}},{"$f":"IF(SUM(BB$1262:BB1638)>0,0,IF(MAX(AT1639:AT$2702)=MAX(AT$1262:AT$2702),0,IF(AR1639>0.01*AL$2703,0,$C1639/60)))","v":{"$error":"#VALUE!"}},0,0,0,0,{"$error":"#VALUE!"},{"$error":"#VALUE!"},{"$error":"#VALUE!"},{"$error":"#VALUE!"},{"$error":"#VALUE!"},{"$error":"#VALUE!"},{"$error":"#VALUE!"},{"$error":"#VALUE!"},{"$error":"#VALUE!"},{"$error":"#VALUE!"},{"$error":"#VALUE!"},{"$f":"IF(SUM(BR$1262:BR1638)>0,0,IF(MAX(BK1639:BK$2702)=MAX(BK$1262:BK$2702),0,IF(BI1639>0.03*BC$2703,0,$C1639/60)))","v":{"$error":"#VALUE!"}},{"$f":"IF(SUM(BS$1262:BS1638)>0,0,IF(MAX(BK1639:BK$2702)=MAX(BK$1262:BK$2702),0,IF(BI1639>0.01*BC$2703,0,$C1639/60)))","v":{"$error":"#VALUE!"}},0,0,0,0,{"$error":"#VALUE!"},{"$error":"#VALUE!"},{"$error":"#VALUE!"},{"$error":"#VALUE!"},{"$error":"#VALUE!"},{"$error":"#VALUE!"},{"$error":"#VALUE!"},{"$error":"#VALUE!"},{"$error":"#VALUE!"},{"$error":"#VALUE!"},{"$error":"#VALUE!"},{"$f":"IF(SUM(CI$1262:CI1638)>0,0,IF(MAX(CB1639:CB$2702)=MAX(CB$1262:CB$2702),0,IF(BZ1639>0.03*BT$2703,0,$C1639/60)))","v":{"$error":"#VALUE!"}},{"$f":"IF(SUM(CJ$1262:CJ1638)>0,0,IF(MAX(CB1639:CB$2702)=MAX(CB$1262:CB$2702),0,IF(BZ1639>0.01*BT$2703,0,$C1639/60)))","v":{"$error":"#VALUE!"}},0,0,0,0,{"$error":"#VALUE!"},{"$error":"#VALUE!"},{"$error":"#VALUE!"},{"$error":"#VALUE!"},{"$error":"#VALUE!"},{"$error":"#VALUE!"},{"$error":"#VALUE!"},{"$error":"#VALUE!"},{"$error":"#VALUE!"},{"$error":"#VALUE!"},{"$error":"#VALUE!"},{"$f":"IF(SUM(CZ$1262:CZ1638)>0,0,IF(MAX(CS1639:CS$2702)=MAX(CS$1262:CS$2702),0,IF(CQ1639>0.03*CK$2703,0,$C1639/60)))","v":{"$error":"#VALUE!"}},{"$f":"IF(SUM(DA$1262:DA1638)>0,0,IF(MAX(CS1639:CS$2702)=MAX(CS$1262:CS$2702),0,IF(CQ1639>0.01*CK$2703,0,$C1639/60)))","v":{"$error":"#VALUE!"}}]
[null,31.916666666666668,1915,0,0,0,0,0,0,0,0,0,{"$error":"#N/A"},{"$error":"#N/A"},{"$error":"#N/A"},{"$error":"#N/A"},{"$error":"#N/A"},{"$error":"#N/A"},{"$f":"IF(SUM(S$1262:S1644)>0,0,\nIF(MAX(L1645:L$2702)=MAX(L$1262:L$2702),0,\nIF(Hydrograph_Source_WQCV=\"USER\",IF(J1645>0.03*D$2703,0,$C1645/60),\nIF(J1645>0.03*J$2703,0,$C1645/60))))","v":0},{"$f":"IF(SUM(T$1262:T1644)>0,0,\nIF(MAX(L1645:L$2702)=MAX(L$1262:L$2702),0,\nIF(Hydrograph_Source_WQCV=\"USER\",IF(J1645>0.01*D$2703,0,$C1645/60),\nIF(J1645>0.01*J$2703,0,$C1645/60))))","v":0},0,0,0,0,{"$error":"#VALUE!"},{"$error":"#VALUE!"},{"$error":"#VALUE!"},{"$error":"#VALUE!"},{"$error":"#VALUE!"},{"$error":"#VALUE!"},{"$error":"#VALUE!"},{"$error":"#VALUE!"},{"$error":"#VALUE!"},{"$error":"#VALUE!"},{"$error":"#VALUE!"},{"$f":"IF(SUM(AJ$1262:AJ1644)>0,0,IF(MAX(AC1645:AC$2702)=MAX(AC$1262:AC$2702),0,IF(AA1645>0.03*U$2703,0,$C1645/60)))","v":{"$error":"#VALUE!"}},{"$f":"IF(SUM(AK$1262:AK1644)>0,0,IF(MAX(AC1645:AC$2702)=MAX(AC$1262:AC$2702),0,IF(AA1645>0.01*U$2703,0,$C1645/60)))","v":{"$error":"#VALUE!"}},0,0,0,0,{"$error":"#VALUE!"},{"$error":"#VALUE!"},{"$error":"#VALUE!"},{"$error":"#VALUE!"},{"$error":"#VALUE!"},{"$error":"#VALUE!"},{"$error":"#VALUE!"},{"$error":"#VALUE!"},{"$error":"#VALUE!"},{"$error":"#VALUE!"},{"$error":"#VALUE!"},{"$f":"IF(SUM(BA$1262:BA1644)>0,0,IF(MAX(AT1645:AT$2702)=MAX(AT$1262:AT$2702),0,IF(AR1645>0.03*AL$2703,0,$C1645/60)))","v":{"$error":"#VALUE!"}},{"$f":"IF(SUM(BB$1262:BB1644)>0,0,IF(MAX(AT1645:AT$2702)=MAX(AT$1262:AT$2702),0,IF(AR1645>0.01*AL$2703,0,$C1645/60)))","v":{"$error":"#VALUE!"}},0,0,0,0,{"$error":"#VALUE!"},{"$error":"#VALUE!"},{"$error":"#VALUE!"},{"$error":"#VALUE!"},{"$error":"#VALUE!"},{"$error":"#VALUE!"},{"$error":"#VALUE!"},{"$error":"#VALUE!"},{"$error":"#VALUE!"},{"$error":"#VALUE!"},{"$error":"#VALUE!"},{"$f":"IF(SUM(BR$1262:BR1644)>0,0,IF(MAX(BK1645:BK$2702)=MAX(BK$1262:BK$2702),0,IF(BI1645>0.03*BC$2703,0,$C1645/60)))","v":{"$error":"#VALUE!"}},{"$f":"IF(SUM(BS$1262:BS1644)>0,0,IF(MAX(BK1645:BK$2702)=MAX(BK$1262:BK$2702),0,IF(BI1645>0.01*BC$2703,0,$C1645/60)))","v":{"$error":"#VALUE!"}},0,0,0,0,{"$error":"#VALUE!"},{"$error":"#VALUE!"},{"$error":"#VALUE!"},{"$error":"#VALUE!"},{"$error":"#VALUE!"},{"$error":"#VALUE!"},{"$error":"#VALUE!"},{"$error":"#VALUE!"},{"$error":"#VALUE!"},{"$error":"#VALUE!"},{"$error":"#VALUE!"},{"$f":"IF(SUM(CI$1262:CI1644)>0,0,IF(MAX(CB1645:CB$2702)=MAX(CB$1262:CB$2702),0,IF(BZ1645>0.03*BT$2703,0,$C1645/60)))","v":{"$error":"#VALUE!"}},{"$f":"IF(SUM(CJ$1262:CJ1644)>0,0,IF(MAX(CB1645:CB$2702)=MAX(CB$1262:CB$2702),0,IF(BZ1645>0.01*BT$2703,0,$C1645/60)))","v":{"$error":"#VALUE!"}},0,0,0,0,{"$error":"#VALUE!"},{"$error":"#VALUE!"},{"$error":"#VALUE!"},{"$error":"#VALUE!"},{"$error":"#VALUE!"},{"$error":"#VALUE!"},{"$error":"#VALUE!"},{"$error":"#VALUE!"},{"$error":"#VALUE!"},{"$error":"#VALUE!"},{"$error":"#VALUE!"},{"$f":"IF(SUM(CZ$1262:CZ1644)>0,0,IF(MAX(CS1645:CS$2702)=MAX(CS$1262:CS$2702),0,IF(CQ1645>0.03*CK$2703,0,$C1645/60)))","v":{"$error":"#VALUE!"}},{"$f":"IF(SUM(DA$1262:DA1644)>0,0,IF(MAX(CS1645:CS$2702)=MAX(CS$1262:CS$2702),0,IF(CQ1645>0.01*CK$2703,0,$C1645/60)))","v":{"$error":"#VALUE!"}}]
[null,32.333333333333336,1940,0,0,0,0,0,0,0,0,0,{"$error":"#N/A"},{"$error":"#N/A"},{"$error":"#N/A"},{"$error":"#N/A"},{"$error":"#N/A"},{"$error":"#N/A"},{"$f":"IF(SUM(S$1262:S1649)>0,0,\nIF(MAX(L1650:L$2702)=MAX(L$1262:L$2702),0,\nIF(Hydrograph_Source_WQCV=\"USER\",IF(J1650>0.03*D$2703,0,$C1650/60),\nIF(J1650>0.03*J$2703,0,$C1650/60))))","v":0},{"$f":"IF(SUM(T$1262:T1649)>0,0,\nIF(MAX(L1650:L$2702)=MAX(L$1262:L$2702),0,\nIF(Hydrograph_Source_WQCV=\"USER\",IF(J1650>0.01*D$2703,0,$C1650/60),\nIF(J1650>0.01*J$2703,0,$C1650/60))))","v":0},0,0,0,0,{"$error":"#VALUE!"},{"$error":"#VALUE!"},{"$error":"#VALUE!"},{"$error":"#VALUE!"},{"$error":"#VALUE!"},{"$error":"#VALUE!"},{"$error":"#VALUE!"},{"$error":"#VALUE!"},{"$error":"#VALUE!"},{"$error":"#VALUE!"},{"$error":"#VALUE!"},{"$f":"IF(SUM(AJ$1262:AJ1649)>0,0,IF(MAX(AC1650:AC$2702)=MAX(AC$1262:AC$2702),0,IF(AA1650>0.03*U$2703,0,$C1650/60)))","v":{"$error":"#VALUE!"}},{"$f":"IF(SUM(AK$1262:AK1649)>0,0,IF(MAX(AC1650:AC$2702)=MAX(AC$1262:AC$2702),0,IF(AA1650>0.01*U$2703,0,$C1650/60)))","v":{"$error":"#VALUE!"}},0,0,0,0,{"$error":"#VALUE!"},{"$error":"#VALUE!"},{"$error":"#VALUE!"},{"$error":"#VALUE!"},{"$error":"#VALUE!"},{"$error":"#VALUE!"},{"$error":"#VALUE!"},{"$error":"#VALUE!"},{"$error":"#VALUE!"},{"$error":"#VALUE!"},{"$error":"#VALUE!"},{"$f":"IF(SUM(BA$1262:BA1649)>0,0,IF(MAX(AT1650:AT$2702)=MAX(AT$1262:AT$2702),0,IF(AR1650>0.03*AL$2703,0,$C1650/60)))","v":{"$error":"#VALUE!"}},{"$f":"IF(SUM(BB$1262:BB1649)>0,0,IF(MAX(AT1650:AT$2702)=MAX(AT$1262:AT$2702),0,IF(AR1650>0.01*AL$2703,0,$C1650/60)))","v":{"$error":"#VALUE!"}},0,0,0,0,{"$error":"#VALUE!"},{"$error":"#VALUE!"},{"$error":"#VALUE!"},{"$error":"#VALUE!"},{"$error":"#VALUE!"},{"$error":"#VALUE!"},{"$error":"#VALUE!"},{"$error":"#VALUE!"},{"$error":"#VALUE!"},{"$error":"#VALUE!"},{"$error":"#VALUE!"},{"$f":"IF(SUM(BR$1262:BR1649)>0,0,IF(MAX(BK1650:BK$2702)=MAX(BK$1262:BK$2702),0,IF(BI1650>0.03*BC$2703,0,$C1650/60)))","v":{"$error":"#VALUE!"}},{"$f":"IF(SUM(BS$1262:BS1649)>0,0,IF(MAX(BK1650:BK$2702)=MAX(BK$1262:BK$2702),0,IF(BI1650>0.01*BC$2703,0,$C1650/60)))","v":{"$error":"#VALUE!"}},0,0,0,0,{"$error":"#VALUE!"},{"$error":"#VALUE!"},{"$error":"#VALUE!"},{"$error":"#VALUE!"},{"$error":"#VALUE!"},{"$error":"#VALUE!"},{"$error":"#VALUE!"},{"$error":"#VALUE!"},{"$error":"#VALUE!"},{"$error":"#VALUE!"},{"$error":"#VALUE!"},{"$f":"IF(SUM(CI$1262:CI1649)>0,0,IF(MAX(CB1650:CB$2702)=MAX(CB$1262:CB$2702),0,IF(BZ1650>0.03*BT$2703,0,$C1650/60)))","v":{"$error":"#VALUE!"}},{"$f":"IF(SUM(CJ$1262:CJ1649)>0,0,IF(MAX(CB1650:CB$2702)=MAX(CB$1262:CB$2702),0,IF(BZ1650>0.01*BT$2703,0,$C1650/60)))","v":{"$error":"#VALUE!"}},0,0,0,0,{"$error":"#VALUE!"},{"$error":"#VALUE!"},{"$error":"#VALUE!"},{"$error":"#VALUE!"},{"$error":"#VALUE!"},{"$error":"#VALUE!"},{"$error":"#VALUE!"},{"$error":"#VALUE!"},{"$error":"#VALUE!"},{"$error":"#VALUE!"},{"$error":"#VALUE!"},{"$f":"IF(SUM(CZ$1262:CZ1649)>0,0,IF(MAX(CS1650:CS$2702)=MAX(CS$1262:CS$2702),0,IF(CQ1650>0.03*CK$2703,0,$C1650/60)))","v":{"$error":"#VALUE!"}},{"$f":"IF(SUM(DA$1262:DA1649)>0,0,IF(MAX(CS1650:CS$2702)=MAX(CS$1262:CS$2702),0,IF(CQ1650>0.01*CK$2703,0,$C1650/60)))","v":{"$error":"#VALUE!"}}]
[null,32.583333333333336,1955,0,0,0,0,0,0,0,0,0,{"$error":"#N/A"},{"$error":"#N/A"},{"$error":"#N/A"},{"$error":"#N/A"},{"$error":"#N/A"},{"$error":"#N/A"},{"$f":"IF(SUM(S$1262:S1652)>0,0,\nIF(MAX(L1653:L$2702)=MAX(L$1262:L$2702),0,\nIF(Hydrograph_Source_WQCV=\"USER\",IF(J1653>0.03*D$2703,0,$C1653/60),\nIF(J1653>0.03*J$2703,0,$C1653/60))))","v":0},{"$f":"IF(SUM(T$1262:T1652)>0,0,\nIF(MAX(L1653:L$2702)=MAX(L$1262:L$2702),0,\nIF(Hydrograph_Source_WQCV=\"USER\",IF(J1653>0.01*D$2703,0,$C1653/60),\nIF(J1653>0.01*J$2703,0,$C1653/60))))","v":0},0,0,0,0,{"$error":"#VALUE!"},{"$error":"#VALUE!"},{"$error":"#VALUE!"},{"$error":"#VALUE!"},{"$error":"#VALUE!"},{"$error":"#VALUE!"},{"$error":"#VALUE!"},{"$error":"#VALUE!"},{"$error":"#VALUE!"},{"$error":"#VALUE!"},{"$error":"#VALUE!"},{"$f":"IF(SUM(AJ$1262:AJ1652)>0,0,IF(MAX(AC1653:AC$2702)=MAX(AC$1262:AC$2702),0,IF(AA1653>0.03*U$2703,0,$C1653/60)))","v":{"$error":"#VALUE!"}},{"$f":"IF(SUM(AK$1262:AK1652)>0,0,IF(MAX(AC1653:AC$2702)=MAX(AC$1262:AC$2702),0,IF(AA1653>0.01*U$2703,0,$C1653/60)))","v":{"$error":"#VALUE!"}},0,0,0,0,{"$error":"#VALUE!"},{"$error":"#VALUE!"},{"$error":"#VALUE!"},{"$error":"#VALUE!"},{"$error":"#VALUE!"},{"$error":"#VALUE!"},{"$error":"#VALUE!"},{"$error":"#VALUE!"},{"$error":"#VALUE!"},{"$error":"#VALUE!"},{"$error":"#VALUE!"},{"$f":"IF(SUM(BA$1262:BA1652)>0,0,IF(MAX(AT1653:AT$2702)=MAX(AT$1262:AT$2702),0,IF(AR1653>0.03*AL$2703,0,$C1653/60)))","v":{"$error":"#VALUE!"}},{"$f":"IF(SUM(BB$1262:BB1652)>0,0,IF(MAX(AT1653:AT$2702)=MAX(AT$1262:AT$2702),0,IF(AR1653>0.01*AL$2703,0,$C1653/60)))","v":{"$error":"#VALUE!"}},0,0,0,0,{"$error":"#VALUE!"},{"$error":"#VALUE!"},{"$error":"#VALUE!"},{"$error":"#VALUE!"},{"$error":"#VALUE!"},{"$error":"#VALUE!"},{"$error":"#VALUE!"},{"$error":"#VALUE!"},{"$error":"#VALUE!"},{"$error":"#VALUE!"},{"$error":"#VALUE!"},{"$f":"IF(SUM(BR$1262:BR1652)>0,0,IF(MAX(BK1653:BK$2702)=MAX(BK$1262:BK$2702),0,IF(BI1653>0.03*BC$2703,0,$C1653/60)))","v":{"$error":"#VALUE!"}},{"$f":"IF(SUM(BS$1262:BS1652)>0,0,IF(MAX(BK1653:BK$2702)=MAX(BK$1262:BK$2702),0,IF(BI1653>0.01*BC$2703,0,$C1653/60)))","v":{"$error":"#VALUE!"}},0,0,0,0,{"$error":"#VALUE!"},{"$error":"#VALUE!"},{"$error":"#VALUE!"},{"$error":"#VALUE!"},{"$error":"#VALUE!"},{"$error":"#VALUE!"},{"$error":"#VALUE!"},{"$error":"#VALUE!"},{"$error":"#VALUE!"},{"$error":"#VALUE!"},{"$error":"#VALUE!"},{"$f":"IF(SUM(CI$1262:CI1652)>0,0,IF(MAX(CB1653:CB$2702)=MAX(CB$1262:CB$2702),0,IF(BZ1653>0.03*BT$2703,0,$C1653/60)))","v":{"$error":"#VALUE!"}},{"$f":"IF(SUM(CJ$1262:CJ1652)>0,0,IF(MAX(CB1653:CB$2702)=MAX(CB$1262:CB$2702),0,IF(BZ1653>0.01*BT$2703,0,$C1653/60)))","v":{"$error":"#VALUE!"}},0,0,0,0,{"$error":"#VALUE!"},{"$error":"#VALUE!"},{"$error":"#VALUE!"},{"$error":"#VALUE!"},{"$error":"#VALUE!"},{"$error":"#VALUE!"},{"$error":"#VALUE!"},{"$error":"#VALUE!"},{"$error":"#VALUE!"},{"$error":"#VALUE!"},{"$error":"#VALUE!"},{"$f":"IF(SUM(CZ$1262:CZ1652)>0,0,IF(MAX(CS1653:CS$2702)=MAX(CS$1262:CS$2702),0,IF(CQ1653>0.03*CK$2703,0,$C1653/60)))","v":{"$error":"#VALUE!"}},{"$f":"IF(SUM(DA$1262:DA1652)>0,0,IF(MAX(CS1653:CS$2702)=MAX(CS$1262:CS$2702),0,IF(CQ1653>0.01*CK$2703,0,$C1653/60)))","v":{"$error":"#VALUE!"}}]
[null,32.916666666666664,1975,0,0,0,0,0,0,0,0,0,{"$error":"#N/A"},{"$error":"#N/A"},{"$error":"#N/A"},{"$error":"#N/A"},{"$error":"#N/A"},{"$error":"#N/A"},{"$f":"IF(SUM(S$1262:S1656)>0,0,\nIF(MAX(L1657:L$2702)=MAX(L$1262:L$2702),0,\nIF(Hydrograph_Source_WQCV=\"USER\",IF(J1657>0.03*D$2703,0,$C1657/60),\nIF(J1657>0.03*J$2703,0,$C1657/60))))","v":0},{"$f":"IF(SUM(T$1262:T1656)>0,0,\nIF(MAX(L1657:L$2702)=MAX(L$1262:L$2702),0,\nIF(Hydrograph_Source_WQCV=\"USER\",IF(J1657>0.01*D$2703,0,$C1657/60),\nIF(J1657>0.01*J$2703,0,$C1657/60))))","v":0},0,0,0,0,{"$error":"#VALUE!"},{"$error":"#VALUE!"},{"$error":"#VALUE!"},{"$error":"#VALUE!"},{"$error":"#VALUE!"},{"$error":"#VALUE!"},{"$error":"#VALUE!"},{"$error":"#VALUE!"},{"$error":"#VALUE!"},{"$error":"#VALUE!"},{"$error":"#VALUE!"},{"$f":"IF(SUM(AJ$1262:AJ1656)>0,0,IF(MAX(AC1657:AC$2702)=MAX(AC$1262:AC$2702),0,IF(AA1657>0.03*U$2703,0,$C1657/60)))","v":{"$error":"#VALUE!"}},{"$f":"IF(SUM(AK$1262:AK1656)>0,0,IF(MAX(AC1657:AC$2702)=MAX(AC$1262:AC$2702),0,IF(AA1657>0.01*U$2703,0,$C1657/60)))","v":{"$error":"#VALUE!"}},0,0,0,0,{"$error":"#VALUE!"},{"$error":"#VALUE!"},{"$error":"#VALUE!"},{"$error":"#VALUE!"},{"$error":"#VALUE!"},{"$error":"#VALUE!"},{"$error":"#VALUE!"},{"$error":"#VALUE!"},{"$error":"#VALUE!"},{"$error":"#VALUE!"},{"$error":"#VALUE!"},{"$f":"IF(SUM(BA$1262:BA1656)>0,0,IF(MAX(AT1657:AT$2702)=MAX(AT$1262:AT$2702),0,IF(AR1657>0.03*AL$2703,0,$C1657/60)))","v":{"$error":"#VALUE!"}},{"$f":"IF(SUM(BB$1262:BB1656)>0,0,IF(MAX(AT1657:AT$2702)=MAX(AT$1262:AT$2702),0,IF(AR1657>0.01*AL$2703,0,$C1657/60)))","v":{"$error":"#VALUE!"}},0,0,0,0,{"$error":"#VALUE!"},{"$error":"#VALUE!"},{"$error":"#VALUE!"},{"$error":"#VALUE!"},{"$error":"#VALUE!"},{"$error":"#VALUE!"},{"$error":"#VALUE!"},{"$error":"#VALUE!"},{"$error":"#VALUE!"},{"$error":"#VALUE!"},{"$error":"#VALUE!"},{"$f":"IF(SUM(BR$1262:BR1656)>0,0,IF(MAX(BK1657:BK$2702)=MAX(BK$1262:BK$2702),0,IF(BI1657>0.03*BC$2703,0,$C1657/60)))","v":{"$error":"#VALUE!"}},{"$f":"IF(SUM(BS$1262:BS1656)>0,0,IF(MAX(BK1657:BK$2702)=MAX(BK$1262:BK$2702),0,IF(BI1657>0.01*BC$2703,0,$C1657/60)))","v":{"$error":"#VALUE!"}},0,0,0,0,{"$error":"#VALUE!"},{"$error":"#VALUE!"},{"$error":"#VALUE!"},{"$error":"#VALUE!"},{"$error":"#VALUE!"},{"$error":"#VALUE!"},{"$error":"#VALUE!"},{"$error":"#VALUE!"},{"$error":"#VALUE!"},{"$error":"#VALUE!"},{"$error":"#VALUE!"},{"$f":"IF(SUM(CI$1262:CI1656)>0,0,IF(MAX(CB1657:CB$2702)=MAX(CB$1262:CB$2702),0,IF(BZ1657>0.03*BT$2703,0,$C1657/60)))","v":{"$error":"#VALUE!"}},{"$f":"IF(SUM(CJ$1262:CJ1656)>0,0,IF(MAX(CB1657:CB$2702)=MAX(CB$1262:CB$2702),0,IF(BZ1657>0.01*BT$2703,0,$C1657/60)))","v":{"$error":"#VALUE!"}},0,0,0,0,{"$error":"#VALUE!"},{"$error":"#VALUE!"},{"$error":"#VALUE!"},{"$error":"#VALUE!"},{"$error":"#VALUE!"},{"$error":"#VALUE!"},{"$error":"#VALUE!"},{"$error":"#VALUE!"},{"$error":"#VALUE!"},{"$error":"#VALUE!"},{"$error":"#VALUE!"},{"$f":"IF(SUM(CZ$1262:CZ1656)>0,0,IF(MAX(CS1657:CS$2702)=MAX(CS$1262:CS$2702),0,IF(CQ1657>0.03*CK$2703,0,$C1657/60)))","v":{"$error":"#VALUE!"}},{"$f":"IF(SUM(DA$1262:DA1656)>0,0,IF(MAX(CS1657:CS$2702)=MAX(CS$1262:CS$2702),0,IF(CQ1657>0.01*CK$2703,0,$C1657/60)))","v":{"$error":"#VALUE!"}}]
[null,33.333333333333336,2000,0,0,0,0,0,0,0,0,0,{"$error":"#N/A"},{"$error":"#N/A"},{"$error":"#N/A"},{"$error":"#N/A"},{"$error":"#N/A"},{"$error":"#N/A"},{"$f":"IF(SUM(S$1262:S1661)>0,0,\nIF(MAX(L1662:L$2702)=MAX(L$1262:L$2702),0,\nIF(Hydrograph_Source_WQCV=\"USER\",IF(J1662>0.03*D$2703,0,$C1662/60),\nIF(J1662>0.03*J$2703,0,$C1662/60))))","v":0},{"$f":"IF(SUM(T$1262:T1661)>0,0,\nIF(MAX(L1662:L$2702)=MAX(L$1262:L$2702),0,\nIF(Hydrograph_Source_WQCV=\"USER\",IF(J1662>0.01*D$2703,0,$C1662/60),\nIF(J1662>0.01*J$2703,0,$C1662/60))))","v":0},0,0,0,0,{"$error":"#VALUE!"},{"$error":"#VALUE!"},{"$error":"#VALUE!"},{"$error":"#VALUE!"},{"$error":"#VALUE!"},{"$error":"#VALUE!"},{"$error":"#VALUE!"},{"$error":"#VALUE!"},{"$error":"#VALUE!"},{"$error":"#VALUE!"},{"$error":"#VALUE!"},{"$f":"IF(SUM(AJ$1262:AJ1661)>0,0,IF(MAX(AC1662:AC$2702)=MAX(AC$1262:AC$2702),0,IF(AA1662>0.03*U$2703,0,$C1662/60)))","v":{"$error":"#VALUE!"}},{"$f":"IF(SUM(AK$1262:AK1661)>0,0,IF(MAX(AC1662:AC$2702)=MAX(AC$1262:AC$2702),0,IF(AA1662>0.01*U$2703,0,$C1662/60)))","v":{"$error":"#VALUE!"}},0,0,0,0,{"$error":"#VALUE!"},{"$error":"#VALUE!"},{"$error":"#VALUE!"},{"$error":"#VALUE!"},{"$error":"#VALUE!"},{"$error":"#VALUE!"},{"$error":"#VALUE!"},{"$error":"#VALUE!"},{"$error":"#VALUE!"},{"$error":"#VALUE!"},{"$error":"#VALUE!"},{"$f":"IF(SUM(BA$1262:BA1661)>0,0,IF(MAX(AT1662:AT$2702)=MAX(AT$1262:AT$2702),0,IF(AR1662>0.03*AL$2703,0,$C1662/60)))","v":{"$error":"#VALUE!"}},{"$f":"IF(SUM(BB$1262:BB1661)>0,0,IF(MAX(AT1662:AT$2702)=MAX(AT$1262:AT$2702),0,IF(AR1662>0.01*AL$2703,0,$C1662/60)))","v":{"$error":"#VALUE!"}},0,0,0,0,{"$error":"#VALUE!"},{"$error":"#VALUE!"},{"$error":"#VALUE!"},{"$error":"#VALUE!"},{"$error":"#VALUE!"},{"$error":"#VALUE!"},{"$error":"#VALUE!"},{"$error":"#VALUE!"},{"$error":"#VALUE!"},{"$error":"#VALUE!"},{"$error":"#VALUE!"},{"$f":"IF(SUM(BR$1262:BR1661)>0,0,IF(MAX(BK1662:BK$2702)=MAX(BK$1262:BK$2702),0,IF(BI1662>0.03*BC$2703,0,$C1662/60)))","v":{"$error":"#VALUE!"}},{"$f":"IF(SUM(BS$1262:BS1661)>0,0,IF(MAX(BK1662:BK$2702)=MAX(BK$1262:BK$2702),0,IF(BI1662>0.01*BC$2703,0,$C1662/60)))","v":{"$error":"#VALUE!"}},0,0,0,0,{"$error":"#VALUE!"},{"$error":"#VALUE!"},{"$error":"#VALUE!"},{"$error":"#VALUE!"},{"$error":"#VALUE!"},{"$error":"#VALUE!"},{"$error":"#VALUE!"},{"$error":"#VALUE!"},{"$error":"#VALUE!"},{"$error":"#VALUE!"},{"$error":"#VALUE!"},{"$f":"IF(SUM(CI$1262:CI1661)>0,0,IF(MAX(CB1662:CB$2702)=MAX(CB$1262:CB$2702),0,IF(BZ1662>0.03*BT$2703,0,$C1662/60)))","v":{"$error":"#VALUE!"}},{"$f":"IF(SUM(CJ$1262:CJ1661)>0,0,IF(MAX(CB1662:CB$2702)=MAX(CB$1262:CB$2702),0,IF(BZ1662>0.01*BT$2703,0,$C1662/60)))","v":{"$error":"#VALUE!"}},0,0,0,0,{"$error":"#VALUE!"},{"$error":"#VALUE!"},{"$error":"#VALUE!"},{"$error":"#VALUE!"},{"$error":"#VALUE!"},{"$error":"#VALUE!"},{"$error":"#VALUE!"},{"$error":"#VALUE!"},{"$error":"#VALUE!"},{"$error":"#VALUE!"},{"$error":"#VALUE!"},{"$f":"IF(SUM(CZ$1262:CZ1661)>0,0,IF(MAX(CS1662:CS$2702)=MAX(CS$1262:CS$2702),0,IF(CQ1662>0.03*CK$2703,0,$C1662/60)))","v":{"$error":"#VALUE!"}},{"$f":"IF(SUM(DA$1262:DA1661)>0,0,IF(MAX(CS1662:CS$2702)=MAX(CS$1262:CS$2702),0,IF(CQ1662>0.01*CK$2703,0,$C1662/60)))","v":{"$error":"#VALUE!"}}]
[null,33.833333333333336,2030,0,0,0,0,0,0,0,0,0,{"$error":"#N/A"},{"$error":"#N/A"},{"$error":"#N/A"},{"$error":"#N/A"},{"$error":"#N/A"},{"$error":"#N/A"},{"$f":"IF(SUM(S$1262:S1667)>0,0,\nIF(MAX(L1668:L$2702)=MAX(L$1262:L$2702),0,\nIF(Hydrograph_Source_WQCV=\"USER\",IF(J1668>0.03*D$2703,0,$C1668/60),\nIF(J1668>0.03*J$2703,0,$C1668/60))))","v":0},{"$f":"IF(SUM(T$1262:T1667)>0,0,\nIF(MAX(L1668:L$2702)=MAX(L$1262:L$2702),0,\nIF(Hydrograph_Source_WQCV=\"USER\",IF(J1668>0.01*D$2703,0,$C1668/60),\nIF(J1668>0.01*J$2703,0,$C1668/60))))","v":0},0,0,0,0,{"$error":"#VALUE!"},{"$error":"#VALUE!"},{"$error":"#VALUE!"},{"$error":"#VALUE!"},{"$error":"#VALUE!"},{"$error":"#VALUE!"},{"$error":"#VALUE!"},{"$error":"#VALUE!"},{"$error":"#VALUE!"},{"$error":"#VALUE!"},{"$error":"#VALUE!"},{"$f":"IF(SUM(AJ$1262:AJ1667)>0,0,IF(MAX(AC1668:AC$2702)=MAX(AC$1262:AC$2702),0,IF(AA1668>0.03*U$2703,0,$C1668/60)))","v":{"$error":"#VALUE!"}},{"$f":"IF(SUM(AK$1262:AK1667)>0,0,IF(MAX(AC1668:AC$2702)=MAX(AC$1262:AC$2702),0,IF(AA1668>0.01*U$2703,0,$C1668/60)))","v":{"$error":"#VALUE!"}},0,0,0,0,{"$error":"#VALUE!"},{"$error":"#VALUE!"},{"$error":"#VALUE!"},{"$error":"#VALUE!"},{"$error":"#VALUE!"},{"$error":"#VALUE!"},{"$error":"#VALUE!"},{"$error":"#VALUE!"},{"$error":"#VALUE!"},{"$error":"#VALUE!"},{"$error":"#VALUE!"},{"$f":"IF(SUM(BA$1262:BA1667)>0,0,IF(MAX(AT1668:AT$2702)=MAX(AT$1262:AT$2702),0,IF(AR1668>0.03*AL$2703,0,$C1668/60)))","v":{"$error":"#VALUE!"}},{"$f":"IF(SUM(BB$1262:BB1667)>0,0,IF(MAX(AT1668:AT$2702)=MAX(AT$1262:AT$2702),0,IF(AR1668>0.01*AL$2703,0,$C1668/60)))","v":{"$error":"#VALUE!"}},0,0,0,0,{"$error":"#VALUE!"},{"$error":"#VALUE!"},{"$error":"#VALUE!"},{"$error":"#VALUE!"},{"$error":"#VALUE!"},{"$error":"#VALUE!"},{"$error":"#VALUE!"},{"$error":"#VALUE!"},{"$error":"#VALUE!"},{"$error":"#VALUE!"},{"$error":"#VALUE!"},{"$f":"IF(SUM(BR$1262:BR1667)>0,0,IF(MAX(BK1668:BK$2702)=MAX(BK$1262:BK$2702),0,IF(BI1668>0.03*BC$2703,0,$C1668/60)))","v":{"$error":"#VALUE!"}},{"$f":"IF(SUM(BS$1262:BS1667)>0,0,IF(MAX(BK1668:BK$2702)=MAX(BK$1262:BK$2702),0,IF(BI1668>0.01*BC$2703,0,$C1668/60)))","v":{"$error":"#VALUE!"}},0,0,0,0,{"$error":"#VALUE!"},{"$error":"#VALUE!"},{"$error":"#VALUE!"},{"$error":"#VALUE!"},{"$error":"#VALUE!"},{"$error":"#VALUE!"},{"$error":"#VALUE!"},{"$error":"#VALUE!"},{"$error":"#VALUE!"},{"$error":"#VALUE!"},{"$error":"#VALUE!"},{"$f":"IF(SUM(CI$1262:CI1667)>0,0,IF(MAX(CB1668:CB$2702)=MAX(CB$1262:CB$2702),0,IF(BZ1668>0.03*BT$2703,0,$C1668/60)))","v":{"$error":"#VALUE!"}},{"$f":"IF(SUM(CJ$1262:CJ1667)>0,0,IF(MAX(CB1668:CB$2702)=MAX(CB$1262:CB$2702),0,IF(BZ1668>0.01*BT$2703,0,$C1668/60)))","v":{"$error":"#VALUE!"}},0,0,0,0,{"$error":"#VALUE!"},{"$error":"#VALUE!"},{"$error":"#VALUE!"},{"$error":"#VALUE!"},{"$error":"#VALUE!"},{"$error":"#VALUE!"},{"$error":"#VALUE!"},{"$error":"#VALUE!"},{"$error":"#VALUE!"},{"$error":"#VALUE!"},{"$error":"#VALUE!"},{"$f":"IF(SUM(CZ$1262:CZ1667)>0,0,IF(MAX(CS1668:CS$2702)=MAX(CS$1262:CS$2702),0,IF(CQ1668>0.03*CK$2703,0,$C1668/60)))","v":{"$error":"#VALUE!"}},{"$f":"IF(SUM(DA$1262:DA1667)>0,0,IF(MAX(CS1668:CS$2702)=MAX(CS$1262:CS$2702),0,IF(CQ1668>0.01*CK$2703,0,$C1668/60)))","v":{"$error":"#VALUE!"}}]
[null,33.916666666666664,2035,0,0,0,0,0,0,0,0,0,{"$error":"#N/A"},{"$error":"#N/A"},{"$error":"#N/A"},{"$error":"#N/A"},{"$error":"#N/A"},{"$error":"#N/A"},{"$f":"IF(SUM(S$1262:S1668)>0,0,\nIF(MAX(L1669:L$2702)=MAX(L$1262:L$2702),0,\nIF(Hydrograph_Source_WQCV=\"USER\",IF(J1669>0.03*D$2703,0,$C1669/60),\nIF(J1669>0.03*J$2703,0,$C1669/60))))","v":0},{"$f":"IF(SUM(T$1262:T1668)>0,0,\nIF(MAX(L1669:L$2702)=MAX(L$1262:L$2702),0,\nIF(Hydrograph_Source_WQCV=\"USER\",IF(J1669>0.01*D$2703,0,$C1669/60),\nIF(J1669>0.01*J$2703,0,$C1669/60))))","v":0},0,0,0,0,{"$error":"#VALUE!"},{"$error":"#VALUE!"},{"$error":"#VALUE!"},{"$error":"#VALUE!"},{"$error":"#VALUE!"},{"$error":"#VALUE!"},{"$error":"#VALUE!"},{"$error":"#VALUE!"},{"$error":"#VALUE!"},{"$error":"#VALUE!"},{"$error":"#VALUE!"},{"$f":"IF(SUM(AJ$1262:AJ1668)>0,0,IF(MAX(AC1669:AC$2702)=MAX(AC$1262:AC$2702),0,IF(AA1669>0.03*U$2703,0,$C1669/60)))","v":{"$error":"#VALUE!"}},{"$f":"IF(SUM(AK$1262:AK1668)>0,0,IF(MAX(AC1669:AC$2702)=MAX(AC$1262:AC$2702),0,IF(AA1669>0.01*U$2703,0,$C1669/60)))","v":{"$error":"#VALUE!"}},0,0,0,0,{"$error":"#VALUE!"},{"$error":"#VALUE!"},{"$error":"#VALUE!"},{"$error":"#VALUE!"},{"$error":"#VALUE!"},{"$error":"#VALUE!"},{"$error":"#VALUE!"},{"$error":"#VALUE!"},{"$error":"#VALUE!"},{"$error":"#VALUE!"},{"$error":"#VALUE!"},{"$f":"IF(SUM(BA$1262:BA1668)>0,0,IF(MAX(AT1669:AT$2702)=MAX(AT$1262:AT$2702),0,IF(AR1669>0.03*AL$2703,0,$C1669/60)))","v":{"$error":"#VALUE!"}},{"$f":"IF(SUM(BB$1262:BB1668)>0,0,IF(MAX(AT1669:AT$2702)=MAX(AT$1262:AT$2702),0,IF(AR1669>0.01*AL$2703,0,$C1669/60)))","v":{"$error":"#VALUE!"}},0,0,0,0,{"$error":"#VALUE!"},{"$error":"#VALUE!"},{"$error":"#VALUE!"},{"$error":"#VALUE!"},{"$error":"#VALUE!"},{"$error":"#VALUE!"},{"$error":"#VALUE!"},{"$error":"#VALUE!"},{"$error":"#VALUE!"},{"$error":"#VALUE!"},{"$error":"#VALUE!"},{"$f":"IF(SUM(BR$1262:BR1668)>0,0,IF(MAX(BK1669:BK$2702)=MAX(BK$1262:BK$2702),0,IF(BI1669>0.03*BC$2703,0,$C1669/60)))","v":{"$error":"#VALUE!"}},{"$f":"IF(SUM(BS$1262:BS1668)>0,0,IF(MAX(BK1669:BK$2702)=MAX(BK$1262:BK$2702),0,IF(BI1669>0.01*BC$2703,0,$C1669/60)))","v":{"$error":"#VALUE!"}},0,0,0,0,{"$error":"#VALUE!"},{"$error":"#VALUE!"},{"$error":"#VALUE!"},{"$error":"#VALUE!"},{"$error":"#VALUE!"},{"$error":"#VALUE!"},{"$error":"#VALUE!"},{"$error":"#VALUE!"},{"$error":"#VALUE!"},{"$error":"#VALUE!"},{"$error":"#VALUE!"},{"$f":"IF(SUM(CI$1262:CI1668)>0,0,IF(MAX(CB1669:CB$2702)=MAX(CB$1262:CB$2702),0,IF(BZ1669>0.03*BT$2703,0,$C1669/60)))","v":{"$error":"#VALUE!"}},{"$f":"IF(SUM(CJ$1262:CJ1668)>0,0,IF(MAX(CB1669:CB$2702)=MAX(CB$1262:CB$2702),0,IF(BZ1669>0.01*BT$2703,0,$C1669/60)))","v":{"$error":"#VALUE!"}},0,0,0,0,{"$error":"#VALUE!"},{"$error":"#VALUE!"},{"$error":"#VALUE!"},{"$error":"#VALUE!"},{"$error":"#VALUE!"},{"$error":"#VALUE!"},{"$error":"#VALUE!"},{"$error":"#VALUE!"},{"$error":"#VALUE!"},{"$error":"#VALUE!"},{"$error":"#VALUE!"},{"$f":"IF(SUM(CZ$1262:CZ1668)>0,0,IF(MAX(CS1669:CS$2702)=MAX(CS$1262:CS$2702),0,IF(CQ1669>0.03*CK$2703,0,$C1669/60)))","v":{"$error":"#VALUE!"}},{"$f":"IF(SUM(DA$1262:DA1668)>0,0,IF(MAX(CS1669:CS$2702)=MAX(CS$1262:CS$2702),0,IF(CQ1669>0.01*CK$2703,0,$C1669/60)))","v":{"$error":"#VALUE!"}}]
[null,34.333333333333336,2060,0,0,0,0,0,0,0,0,0,{"$error":"#N/A"},{"$error":"#N/A"},{"$error":"#N/A"},{"$error":"#N/A"},{"$error":"#N/A"},{"$error":"#N/A"},{"$f":"IF(SUM(S$1262:S1673)>0,0,\nIF(MAX(L1674:L$2702)=MAX(L$1262:L$2702),0,\nIF(Hydrograph_Source_WQCV=\"USER\",IF(J1674>0.03*D$2703,0,$C1674/60),\nIF(J1674>0.03*J$2703,0,$C1674/60))))","v":0},{"$f":"IF(SUM(T$1262:T1673)>0,0,\nIF(MAX(L1674:L$2702)=MAX(L$1262:L$2702),0,\nIF(Hydrograph_Source_WQCV=\"USER\",IF(J1674>0.01*D$2703,0,$C1674/60),\nIF(J1674>0.01*J$2703,0,$C1674/60))))","v":0},0,0,0,0,{"$error":"#VALUE!"},{"$error":"#VALUE!"},{"$error":"#VALUE!"},{"$error":"#VALUE!"},{"$error":"#VALUE!"},{"$error":"#VALUE!"},{"$error":"#VALUE!"},{"$error":"#VALUE!"},{"$error":"#VALUE!"},{"$error":"#VALUE!"},{"$error":"#VALUE!"},{"$f":"IF(SUM(AJ$1262:AJ1673)>0,0,IF(MAX(AC1674:AC$2702)=MAX(AC$1262:AC$2702),0,IF(AA1674>0.03*U$2703,0,$C1674/60)))","v":{"$error":"#VALUE!"}},{"$f":"IF(SUM(AK$1262:AK1673)>0,0,IF(MAX(AC1674:AC$2702)=MAX(AC$1262:AC$2702),0,IF(AA1674>0.01*U$2703,0,$C1674/60)))","v":{"$error":"#VALUE!"}},0,0,0,0,{"$error":"#VALUE!"},{"$error":"#VALUE!"},{"$error":"#VALUE!"},{"$error":"#VALUE!"},{"$error":"#VALUE!"},{"$error":"#VALUE!"},{"$error":"#VALUE!"},{"$error":"#VALUE!"},{"$error":"#VALUE!"},{"$error":"#VALUE!"},{"$error":"#VALUE!"},{"$f":"IF(SUM(BA$1262:BA1673)>0,0,IF(MAX(AT1674:AT$2702)=MAX(AT$1262:AT$2702),0,IF(AR1674>0.03*AL$2703,0,$C1674/60)))","v":{"$error":"#VALUE!"}},{"$f":"IF(SUM(BB$1262:BB1673)>0,0,IF(MAX(AT1674:AT$2702)=MAX(AT$1262:AT$2702),0,IF(AR1674>0.01*AL$2703,0,$C1674/60)))","v":{"$error":"#VALUE!"}},0,0,0,0,{"$error":"#VALUE!"},{"$error":"#VALUE!"},{"$error":"#VALUE!"},{"$error":"#VALUE!"},{"$error":"#VALUE!"},{"$error":"#VALUE!"},{"$error":"#VALUE!"},{"$error":"#VALUE!"},{"$error":"#VALUE!"},{"$error":"#VALUE!"},{"$error":"#VALUE!"},{"$f":"IF(SUM(BR$1262:BR1673)>0,0,IF(MAX(BK1674:BK$2702)=MAX(BK$1262:BK$2702),0,IF(BI1674>0.03*BC$2703,0,$C1674/60)))","v":{"$error":"#VALUE!"}},{"$f":"IF(SUM(BS$1262:BS1673)>0,0,IF(MAX(BK1674:BK$2702)=MAX(BK$1262:BK$2702),0,IF(BI1674>0.01*BC$2703,0,$C1674/60)))","v":{"$error":"#VALUE!"}},0,0,0,0,{"$error":"#VALUE!"},{"$error":"#VALUE!"},{"$error":"#VALUE!"},{"$error":"#VALUE!"},{"$error":"#VALUE!"},{"$error":"#VALUE!"},{"$error":"#VALUE!"},{"$error":"#VALUE!"},{"$error":"#VALUE!"},{"$error":"#VALUE!"},{"$error":"#VALUE!"},{"$f":"IF(SUM(CI$1262:CI1673)>0,0,IF(MAX(CB1674:CB$2702)=MAX(CB$1262:CB$2702),0,IF(BZ1674>0.03*BT$2703,0,$C1674/60)))","v":{"$error":"#VALUE!"}},{"$f":"IF(SUM(CJ$1262:CJ1673)>0,0,IF(MAX(CB1674:CB$2702)=MAX(CB$1262:CB$2702),0,IF(BZ1674>0.01*BT$2703,0,$C1674/60)))","v":{"$error":"#VALUE!"}},0,0,0,0,{"$error":"#VALUE!"},{"$error":"#VALUE!"},{"$error":"#VALUE!"},{"$error":"#VALUE!"},{"$error":"#VALUE!"},{"$error":"#VALUE!"},{"$error":"#VALUE!"},{"$error":"#VALUE!"},{"$error":"#VALUE!"},{"$error":"#VALUE!"},{"$error":"#VALUE!"},{"$f":"IF(SUM(CZ$1262:CZ1673)>0,0,IF(MAX(CS1674:CS$2702)=MAX(CS$1262:CS$2702),0,IF(CQ1674>0.03*CK$2703,0,$C1674/60)))","v":{"$error":"#VALUE!"}},{"$f":"IF(SUM(DA$1262:DA1673)>0,0,IF(MAX(CS1674:CS$2702)=MAX(CS$1262:CS$2702),0,IF(CQ1674>0.01*CK$2703,0,$C1674/60)))","v":{"$error":"#VALUE!"}}]
[null,34.75,2085,0,0,0,0,0,0,0,0,0,{"$error":"#N/A"},{"$error":"#N/A"},{"$error":"#N/A"},{"$error":"#N/A"},{"$error":"#N/A"},{"$error":"#N/A"},{"$f":"IF(SUM(S$1262:S1678)>0,0,\nIF(MAX(L1679:L$2702)=MAX(L$1262:L$2702),0,\nIF(Hydrograph_Source_WQCV=\"USER\",IF(J1679>0.03*D$2703,0,$C1679/60),\nIF(J1679>0.03*J$2703,0,$C1679/60))))","v":0},{"$f":"IF(SUM(T$1262:T1678)>0,0,\nIF(MAX(L1679:L$2702)=MAX(L$1262:L$2702),0,\nIF(Hydrograph_Source_WQCV=\"USER\",IF(J1679>0.01*D$2703,0,$C1679/60),\nIF(J1679>0.01*J$2703,0,$C1679/60))))","v":0},0,0,0,0,{"$error":"#VALUE!"},{"$error":"#VALUE!"},{"$error":"#VALUE!"},{"$error":"#VALUE!"},{"$error":"#VALUE!"},{"$error":"#VALUE!"},{"$error":"#VALUE!"},{"$error":"#VALUE!"},{"$error":"#VALUE!"},{"$error":"#VALUE!"},{"$error":"#VALUE!"},{"$f":"IF(SUM(AJ$1262:AJ1678)>0,0,IF(MAX(AC1679:AC$2702)=MAX(AC$1262:AC$2702),0,IF(AA1679>0.03*U$2703,0,$C1679/60)))","v":{"$error":"#VALUE!"}},{"$f":"IF(SUM(AK$1262:AK1678)>0,0,IF(MAX(AC1679:AC$2702)=MAX(AC$1262:AC$2702),0,IF(AA1679>0.01*U$2703,0,$C1679/60)))","v":{"$error":"#VALUE!"}},0,0,0,0,{"$error":"#VALUE!"},{"$error":"#VALUE!"},{"$error":"#VALUE!"},{"$error":"#VALUE!"},{"$error":"#VALUE!"},{"$error":"#VALUE!"},{"$error":"#VALUE!"},{"$error":"#VALUE!"},{"$error":"#VALUE!"},{"$error":"#VALUE!"},{"$error":"#VALUE!"},{"$f":"IF(SUM(BA$1262:BA1678)>0,0,IF(MAX(AT1679:AT$2702)=MAX(AT$1262:AT$2702),0,IF(AR1679>0.03*AL$2703,0,$C1679/60)))","v":{"$error":"#VALUE!"}},{"$f":"IF(SUM(BB$1262:BB1678)>0,0,IF(MAX(AT1679:AT$2702)=MAX(AT$1262:AT$2702),0,IF(AR1679>0.01*AL$2703,0,$C1679/60)))","v":{"$error":"#VALUE!"}},0,0,0,0,{"$error":"#VALUE!"},{"$error":"#VALUE!"},{"$error":"#VALUE!"},{"$error":"#VALUE!"},{"$error":"#VALUE!"},{"$error":"#VALUE!"},{"$error":"#VALUE!"},{"$error":"#VALUE!"},{"$error":"#VALUE!"},{"$error":"#VALUE!"},{"$error":"#VALUE!"},{"$f":"IF(SUM(BR$1262:BR1678)>0,0,IF(MAX(BK1679:BK$2702)=MAX(BK$1262:BK$2702),0,IF(BI1679>0.03*BC$2703,0,$C1679/60)))","v":{"$error":"#VALUE!"}},{"$f":"IF(SUM(BS$1262:BS1678)>0,0,IF(MAX(BK1679:BK$2702)=MAX(BK$1262:BK$2702),0,IF(BI1679>0.01*BC$2703,0,$C1679/60)))","v":{"$error":"#VALUE!"}},0,0,0,0,{"$error":"#VALUE!"},{"$error":"#VALUE!"},{"$error":"#VALUE!"},{"$error":"#VALUE!"},{"$error":"#VALUE!"},{"$error":"#VALUE!"},{"$error":"#VALUE!"},{"$error":"#VALUE!"},{"$error":"#VALUE!"},{"$error":"#VALUE!"},{"$error":"#VALUE!"},{"$f":"IF(SUM(CI$1262:CI1678)>0,0,IF(MAX(CB1679:CB$2702)=MAX(CB$1262:CB$2702),0,IF(BZ1679>0.03*BT$2703,0,$C1679/60)))","v":{"$error":"#VALUE!"}},{"$f":"IF(SUM(CJ$1262:CJ1678)>0,0,IF(MAX(CB1679:CB$2702)=MAX(CB$1262:CB$2702),0,IF(BZ1679>0.01*BT$2703,0,$C1679/60)))","v":{"$error":"#VALUE!"}},0,0,0,0,{"$error":"#VALUE!"},{"$error":"#VALUE!"},{"$error":"#VALUE!"},{"$error":"#VALUE!"},{"$error":"#VALUE!"},{"$error":"#VALUE!"},{"$error":"#VALUE!"},{"$error":"#VALUE!"},{"$error":"#VALUE!"},{"$error":"#VALUE!"},{"$error":"#VALUE!"},{"$f":"IF(SUM(CZ$1262:CZ1678)>0,0,IF(MAX(CS1679:CS$2702)=MAX(CS$1262:CS$2702),0,IF(CQ1679>0.03*CK$2703,0,$C1679/60)))","v":{"$error":"#VALUE!"}},{"$f":"IF(SUM(DA$1262:DA1678)>0,0,IF(MAX(CS1679:CS$2702)=MAX(CS$1262:CS$2702),0,IF(CQ1679>0.01*CK$2703,0,$C1679/60)))","v":{"$error":"#VALUE!"}}]
[null,34.916666666666664,2095,0,0,0,0,0,0,0,0,0,{"$error":"#N/A"},{"$error":"#N/A"},{"$error":"#N/A"},{"$error":"#N/A"},{"$error":"#N/A"},{"$error":"#N/A"},{"$f":"IF(SUM(S$1262:S1680)>0,0,\nIF(MAX(L1681:L$2702)=MAX(L$1262:L$2702),0,\nIF(Hydrograph_Source_WQCV=\"USER\",IF(J1681>0.03*D$2703,0,$C1681/60),\nIF(J1681>0.03*J$2703,0,$C1681/60))))","v":0},{"$f":"IF(SUM(T$1262:T1680)>0,0,\nIF(MAX(L1681:L$2702)=MAX(L$1262:L$2702),0,\nIF(Hydrograph_Source_WQCV=\"USER\",IF(J1681>0.01*D$2703,0,$C1681/60),\nIF(J1681>0.01*J$2703,0,$C1681/60))))","v":0},0,0,0,0,{"$error":"#VALUE!"},{"$error":"#VALUE!"},{"$error":"#VALUE!"},{"$error":"#VALUE!"},{"$error":"#VALUE!"},{"$error":"#VALUE!"},{"$error":"#VALUE!"},{"$error":"#VALUE!"},{"$error":"#VALUE!"},{"$error":"#VALUE!"},{"$error":"#VALUE!"},{"$f":"IF(SUM(AJ$1262:AJ1680)>0,0,IF(MAX(AC1681:AC$2702)=MAX(AC$1262:AC$2702),0,IF(AA1681>0.03*U$2703,0,$C1681/60)))","v":{"$error":"#VALUE!"}},{"$f":"IF(SUM(AK$1262:AK1680)>0,0,IF(MAX(AC1681:AC$2702)=MAX(AC$1262:AC$2702),0,IF(AA1681>0.01*U$2703,0,$C1681/60)))","v":{"$error":"#VALUE!"}},0,0,0,0,{"$error":"#VALUE!"},{"$error":"#VALUE!"},{"$error":"#VALUE!"},{"$error":"#VALUE!"},{"$error":"#VALUE!"},{"$error":"#VALUE!"},{"$error":"#VALUE!"},{"$error":"#VALUE!"},{"$error":"#VALUE!"},{"$error":"#VALUE!"},{"$error":"#VALUE!"},{"$f":"IF(SUM(BA$1262:BA1680)>0,0,IF(MAX(AT1681:AT$2702)=MAX(AT$1262:AT$2702),0,IF(AR1681>0.03*AL$2703,0,$C1681/60)))","v":{"$error":"#VALUE!"}},{"$f":"IF(SUM(BB$1262:BB1680)>0,0,IF(MAX(AT1681:AT$2702)=MAX(AT$1262:AT$2702),0,IF(AR1681>0.01*AL$2703,0,$C1681/60)))","v":{"$error":"#VALUE!"}},0,0,0,0,{"$error":"#VALUE!"},{"$error":"#VALUE!"},{"$error":"#VALUE!"},{"$error":"#VALUE!"},{"$error":"#VALUE!"},{"$error":"#VALUE!"},{"$error":"#VALUE!"},{"$error":"#VALUE!"},{"$error":"#VALUE!"},{"$error":"#VALUE!"},{"$error":"#VALUE!"},{"$f":"IF(SUM(BR$1262:BR1680)>0,0,IF(MAX(BK1681:BK$2702)=MAX(BK$1262:BK$2702),0,IF(BI1681>0.03*BC$2703,0,$C1681/60)))","v":{"$error":"#VALUE!"}},{"$f":"IF(SUM(BS$1262:BS1680)>0,0,IF(MAX(BK1681:BK$2702)=MAX(BK$1262:BK$2702),0,IF(BI1681>0.01*BC$2703,0,$C1681/60)))","v":{"$error":"#VALUE!"}},0,0,0,0,{"$error":"#VALUE!"},{"$error":"#VALUE!"},{"$error":"#VALUE!"},{"$error":"#VALUE!"},{"$error":"#VALUE!"},{"$error":"#VALUE!"},{"$error":"#VALUE!"},{"$error":"#VALUE!"},{"$error":"#VALUE!"},{"$error":"#VALUE!"},{"$error":"#VALUE!"},{"$f":"IF(SUM(CI$1262:CI1680)>0,0,IF(MAX(CB1681:CB$2702)=MAX(CB$1262:CB$2702),0,IF(BZ1681>0.03*BT$2703,0,$C1681/60)))","v":{"$error":"#VALUE!"}},{"$f":"IF(SUM(CJ$1262:CJ1680)>0,0,IF(MAX(CB1681:CB$2702)=MAX(CB$1262:CB$2702),0,IF(BZ1681>0.01*BT$2703,0,$C1681/60)))","v":{"$error":"#VALUE!"}},0,0,0,0,{"$error":"#VALUE!"},{"$error":"#VALUE!"},{"$error":"#VALUE!"},{"$error":"#VALUE!"},{"$error":"#VALUE!"},{"$error":"#VALUE!"},{"$error":"#VALUE!"},{"$error":"#VALUE!"},{"$error":"#VALUE!"},{"$error":"#VALUE!"},{"$error":"#VALUE!"},{"$f":"IF(SUM(CZ$1262:CZ1680)>0,0,IF(MAX(CS1681:CS$2702)=MAX(CS$1262:CS$2702),0,IF(CQ1681>0.03*CK$2703,0,$C1681/60)))","v":{"$error":"#VALUE!"}},{"$f":"IF(SUM(DA$1262:DA1680)>0,0,IF(MAX(CS1681:CS$2702)=MAX(CS$1262:CS$2702),0,IF(CQ1681>0.01*CK$2703,0,$C1681/60)))","v":{"$error":"#VALUE!"}}]
[null,35.333333333333336,2120,0,0,0,0,0,0,0,0,0,{"$error":"#N/A"},{"$error":"#N/A"},{"$error":"#N/A"},{"$error":"#N/A"},{"$error":"#N/A"},{"$error":"#N/A"},{"$f":"IF(SUM(S$1262:S1685)>0,0,\nIF(MAX(L1686:L$2702)=MAX(L$1262:L$2702),0,\nIF(Hydrograph_Source_WQCV=\"USER\",IF(J1686>0.03*D$2703,0,$C1686/60),\nIF(J1686>0.03*J$2703,0,$C1686/60))))","v":0},{"$f":"IF(SUM(T$1262:T1685)>0,0,\nIF(MAX(L1686:L$2702)=MAX(L$1262:L$2702),0,\nIF(Hydrograph_Source_WQCV=\"USER\",IF(J1686>0.01*D$2703,0,$C1686/60),\nIF(J1686>0.01*J$2703,0,$C1686/60))))","v":0},0,0,0,0,{"$error":"#VALUE!"},{"$error":"#VALUE!"},{"$error":"#VALUE!"},{"$error":"#VALUE!"},{"$error":"#VALUE!"},{"$error":"#VALUE!"},{"$error":"#VALUE!"},{"$error":"#VALUE!"},{"$error":"#VALUE!"},{"$error":"#VALUE!"},{"$error":"#VALUE!"},{"$f":"IF(SUM(AJ$1262:AJ1685)>0,0,IF(MAX(AC1686:AC$2702)=MAX(AC$1262:AC$2702),0,IF(AA1686>0.03*U$2703,0,$C1686/60)))","v":{"$error":"#VALUE!"}},{"$f":"IF(SUM(AK$1262:AK1685)>0,0,IF(MAX(AC1686:AC$2702)=MAX(AC$1262:AC$2702),0,IF(AA1686>0.01*U$2703,0,$C1686/60)))","v":{"$error":"#VALUE!"}},0,0,0,0,{"$error":"#VALUE!"},{"$error":"#VALUE!"},{"$error":"#VALUE!"},{"$error":"#VALUE!"},{"$error":"#VALUE!"},{"$error":"#VALUE!"},{"$error":"#VALUE!"},{"$error":"#VALUE!"},{"$error":"#VALUE!"},{"$error":"#VALUE!"},{"$error":"#VALUE!"},{"$f":"IF(SUM(BA$1262:BA1685)>0,0,IF(MAX(AT1686:AT$2702)=MAX(AT$1262:AT$2702),0,IF(AR1686>0.03*AL$2703,0,$C1686/60)))","v":{"$error":"#VALUE!"}},{"$f":"IF(SUM(BB$1262:BB1685)>0,0,IF(MAX(AT1686:AT$2702)=MAX(AT$1262:AT$2702),0,IF(AR1686>0.01*AL$2703,0,$C1686/60)))","v":{"$error":"#VALUE!"}},0,0,0,0,{"$error":"#VALUE!"},{"$error":"#VALUE!"},{"$error":"#VALUE!"},{"$error":"#VALUE!"},{"$error":"#VALUE!"},{"$error":"#VALUE!"},{"$error":"#VALUE!"},{"$error":"#VALUE!"},{"$error":"#VALUE!"},{"$error":"#VALUE!"},{"$error":"#VALUE!"},{"$f":"IF(SUM(BR$1262:BR1685)>0,0,IF(MAX(BK1686:BK$2702)=MAX(BK$1262:BK$2702),0,IF(BI1686>0.03*BC$2703,0,$C1686/60)))","v":{"$error":"#VALUE!"}},{"$f":"IF(SUM(BS$1262:BS1685)>0,0,IF(MAX(BK1686:BK$2702)=MAX(BK$1262:BK$2702),0,IF(BI1686>0.01*BC$2703,0,$C1686/60)))","v":{"$error":"#VALUE!"}},0,0,0,0,{"$error":"#VALUE!"},{"$error":"#VALUE!"},{"$error":"#VALUE!"},{"$error":"#VALUE!"},{"$error":"#VALUE!"},{"$error":"#VALUE!"},{"$error":"#VALUE!"},{"$error":"#VALUE!"},{"$error":"#VALUE!"},{"$error":"#VALUE!"},{"$error":"#VALUE!"},{"$f":"IF(SUM(CI$1262:CI1685)>0,0,IF(MAX(CB1686:CB$2702)=MAX(CB$1262:CB$2702),0,IF(BZ1686>0.03*BT$2703,0,$C1686/60)))","v":{"$error":"#VALUE!"}},{"$f":"IF(SUM(CJ$1262:CJ1685)>0,0,IF(MAX(CB1686:CB$2702)=MAX(CB$1262:CB$2702),0,IF(BZ1686>0.01*BT$2703,0,$C1686/60)))","v":{"$error":"#VALUE!"}},0,0,0,0,{"$error":"#VALUE!"},{"$error":"#VALUE!"},{"$error":"#VALUE!"},{"$error":"#VALUE!"},{"$error":"#VALUE!"},{"$error":"#VALUE!"},{"$error":"#VALUE!"},{"$error":"#VALUE!"},{"$error":"#VALUE!"},{"$error":"#VALUE!"},{"$error":"#VALUE!"},{"$f":"IF(SUM(CZ$1262:CZ1685)>0,0,IF(MAX(CS1686:CS$2702)=MAX(CS$1262:CS$2702),0,IF(CQ1686>0.03*CK$2703,0,$C1686/60)))","v":{"$error":"#VALUE!"}},{"$f":"IF(SUM(DA$1262:DA1685)>0,0,IF(MAX(CS1686:CS$2702)=MAX(CS$1262:CS$2702),0,IF(CQ1686>0.01*CK$2703,0,$C1686/60)))","v":{"$error":"#VALUE!"}}]
[null,35.75,2145,0,0,0,0,0,0,0,0,0,{"$error":"#N/A"},{"$error":"#N/A"},{"$error":"#N/A"},{"$error":"#N/A"},{"$error":"#N/A"},{"$error":"#N/A"},{"$f":"IF(SUM(S$1262:S1690)>0,0,\nIF(MAX(L1691:L$2702)=MAX(L$1262:L$2702),0,\nIF(Hydrograph_Source_WQCV=\"USER\",IF(J1691>0.03*D$2703,0,$C1691/60),\nIF(J1691>0.03*J$2703,0,$C1691/60))))","v":0},{"$f":"IF(SUM(T$1262:T1690)>0,0,\nIF(MAX(L1691:L$2702)=MAX(L$1262:L$2702),0,\nIF(Hydrograph_Source_WQCV=\"USER\",IF(J1691>0.01*D$2703,0,$C1691/60),\nIF(J1691>0.01*J$2703,0,$C1691/60))))","v":0},0,0,0,0,{"$error":"#VALUE!"},{"$error":"#VALUE!"},{"$error":"#VALUE!"},{"$error":"#VALUE!"},{"$error":"#VALUE!"},{"$error":"#VALUE!"},{"$error":"#VALUE!"},{"$error":"#VALUE!"},{"$error":"#VALUE!"},{"$error":"#VALUE!"},{"$error":"#VALUE!"},{"$f":"IF(SUM(AJ$1262:AJ1690)>0,0,IF(MAX(AC1691:AC$2702)=MAX(AC$1262:AC$2702),0,IF(AA1691>0.03*U$2703,0,$C1691/60)))","v":{"$error":"#VALUE!"}},{"$f":"IF(SUM(AK$1262:AK1690)>0,0,IF(MAX(AC1691:AC$2702)=MAX(AC$1262:AC$2702),0,IF(AA1691>0.01*U$2703,0,$C1691/60)))","v":{"$error":"#VALUE!"}},0,0,0,0,{"$error":"#VALUE!"},{"$error":"#VALUE!"},{"$error":"#VALUE!"},{"$error":"#VALUE!"},{"$error":"#VALUE!"},{"$error":"#VALUE!"},{"$error":"#VALUE!"},{"$error":"#VALUE!"},{"$error":"#VALUE!"},{"$error":"#VALUE!"},{"$error":"#VALUE!"},{"$f":"IF(SUM(BA$1262:BA1690)>0,0,IF(MAX(AT1691:AT$2702)=MAX(AT$1262:AT$2702),0,IF(AR1691>0.03*AL$2703,0,$C1691/60)))","v":{"$error":"#VALUE!"}},{"$f":"IF(SUM(BB$1262:BB1690)>0,0,IF(MAX(AT1691:AT$2702)=MAX(AT$1262:AT$2702),0,IF(AR1691>0.01*AL$2703,0,$C1691/60)))","v":{"$error":"#VALUE!"}},0,0,0,0,{"$error":"#VALUE!"},{"$error":"#VALUE!"},{"$error":"#VALUE!"},{"$error":"#VALUE!"},{"$error":"#VALUE!"},{"$error":"#VALUE!"},{"$error":"#VALUE!"},{"$error":"#VALUE!"},{"$error":"#VALUE!"},{"$error":"#VALUE!"},{"$error":"#VALUE!"},{"$f":"IF(SUM(BR$1262:BR1690)>0,0,IF(MAX(BK1691:BK$2702)=MAX(BK$1262:BK$2702),0,IF(BI1691>0.03*BC$2703,0,$C1691/60)))","v":{"$error":"#VALUE!"}},{"$f":"IF(SUM(BS$1262:BS1690)>0,0,IF(MAX(BK1691:BK$2702)=MAX(BK$1262:BK$2702),0,IF(BI1691>0.01*BC$2703,0,$C1691/60)))","v":{"$error":"#VALUE!"}},0,0,0,0,{"$error":"#VALUE!"},{"$error":"#VALUE!"},{"$error":"#VALUE!"},{"$error":"#VALUE!"},{"$error":"#VALUE!"},{"$error":"#VALUE!"},{"$error":"#VALUE!"},{"$error":"#VALUE!"},{"$error":"#VALUE!"},{"$error":"#VALUE!"},{"$error":"#VALUE!"},{"$f":"IF(SUM(CI$1262:CI1690)>0,0,IF(MAX(CB1691:CB$2702)=MAX(CB$1262:CB$2702),0,IF(BZ1691>0.03*BT$2703,0,$C1691/60)))","v":{"$error":"#VALUE!"}},{"$f":"IF(SUM(CJ$1262:CJ1690)>0,0,IF(MAX(CB1691:CB$2702)=MAX(CB$1262:CB$2702),0,IF(BZ1691>0.01*BT$2703,0,$C1691/60)))","v":{"$error":"#VALUE!"}},0,0,0,0,{"$error":"#VALUE!"},{"$error":"#VALUE!"},{"$error":"#VALUE!"},{"$error":"#VALUE!"},{"$error":"#VALUE!"},{"$error":"#VALUE!"},{"$error":"#VALUE!"},{"$error":"#VALUE!"},{"$error":"#VALUE!"},{"$error":"#VALUE!"},{"$error":"#VALUE!"},{"$f":"IF(SUM(CZ$1262:CZ1690)>0,0,IF(MAX(CS1691:CS$2702)=MAX(CS$1262:CS$2702),0,IF(CQ1691>0.03*CK$2703,0,$C1691/60)))","v":{"$error":"#VALUE!"}},{"$f":"IF(SUM(DA$1262:DA1690)>0,0,IF(MAX(CS1691:CS$2702)=MAX(CS$1262:CS$2702),0,IF(CQ1691>0.01*CK$2703,0,$C1691/60)))","v":{"$error":"#VALUE!"}}]
[null,36.083333333333336,2165,0,0,0,0,0,0,0,0,0,{"$error":"#N/A"},{"$error":"#N/A"},{"$error":"#N/A"},{"$error":"#N/A"},{"$error":"#N/A"},{"$error":"#N/A"},{"$f":"IF(SUM(S$1262:S1694)>0,0,\nIF(MAX(L1695:L$2702)=MAX(L$1262:L$2702),0,\nIF(Hydrograph_Source_WQCV=\"USER\",IF(J1695>0.03*D$2703,0,$C1695/60),\nIF(J1695>0.03*J$2703,0,$C1695/60))))","v":0},{"$f":"IF(SUM(T$1262:T1694)>0,0,\nIF(MAX(L1695:L$2702)=MAX(L$1262:L$2702),0,\nIF(Hydrograph_Source_WQCV=\"USER\",IF(J1695>0.01*D$2703,0,$C1695/60),\nIF(J1695>0.01*J$2703,0,$C1695/60))))","v":0},0,0,0,0,{"$error":"#VALUE!"},{"$error":"#VALUE!"},{"$error":"#VALUE!"},{"$error":"#VALUE!"},{"$error":"#VALUE!"},{"$error":"#VALUE!"},{"$error":"#VALUE!"},{"$error":"#VALUE!"},{"$error":"#VALUE!"},{"$error":"#VALUE!"},{"$error":"#VALUE!"},{"$f":"IF(SUM(AJ$1262:AJ1694)>0,0,IF(MAX(AC1695:AC$2702)=MAX(AC$1262:AC$2702),0,IF(AA1695>0.03*U$2703,0,$C1695/60)))","v":{"$error":"#VALUE!"}},{"$f":"IF(SUM(AK$1262:AK1694)>0,0,IF(MAX(AC1695:AC$2702)=MAX(AC$1262:AC$2702),0,IF(AA1695>0.01*U$2703,0,$C1695/60)))","v":{"$error":"#VALUE!"}},0,0,0,0,{"$error":"#VALUE!"},{"$error":"#VALUE!"},{"$error":"#VALUE!"},{"$error":"#VALUE!"},{"$error":"#VALUE!"},{"$error":"#VALUE!"},{"$error":"#VALUE!"},{"$error":"#VALUE!"},{"$error":"#VALUE!"},{"$error":"#VALUE!"},{"$error":"#VALUE!"},{"$f":"IF(SUM(BA$1262:BA1694)>0,0,IF(MAX(AT1695:AT$2702)=MAX(AT$1262:AT$2702),0,IF(AR1695>0.03*AL$2703,0,$C1695/60)))","v":{"$error":"#VALUE!"}},{"$f":"IF(SUM(BB$1262:BB1694)>0,0,IF(MAX(AT1695:AT$2702)=MAX(AT$1262:AT$2702),0,IF(AR1695>0.01*AL$2703,0,$C1695/60)))","v":{"$error":"#VALUE!"}},0,0,0,0,{"$error":"#VALUE!"},{"$error":"#VALUE!"},{"$error":"#VALUE!"},{"$error":"#VALUE!"},{"$error":"#VALUE!"},{"$error":"#VALUE!"},{"$error":"#VALUE!"},{"$error":"#VALUE!"},{"$error":"#VALUE!"},{"$error":"#VALUE!"},{"$error":"#VALUE!"},{"$f":"IF(SUM(BR$1262:BR1694)>0,0,IF(MAX(BK1695:BK$2702)=MAX(BK$1262:BK$2702),0,IF(BI1695>0.03*BC$2703,0,$C1695/60)))","v":{"$error":"#VALUE!"}},{"$f":"IF(SUM(BS$1262:BS1694)>0,0,IF(MAX(BK1695:BK$2702)=MAX(BK$1262:BK$2702),0,IF(BI1695>0.01*BC$2703,0,$C1695/60)))","v":{"$error":"#VALUE!"}},0,0,0,0,{"$error":"#VALUE!"},{"$error":"#VALUE!"},{"$error":"#VALUE!"},{"$error":"#VALUE!"},{"$error":"#VALUE!"},{"$error":"#VALUE!"},{"$error":"#VALUE!"},{"$error":"#VALUE!"},{"$error":"#VALUE!"},{"$error":"#VALUE!"},{"$error":"#VALUE!"},{"$f":"IF(SUM(CI$1262:CI1694)>0,0,IF(MAX(CB1695:CB$2702)=MAX(CB$1262:CB$2702),0,IF(BZ1695>0.03*BT$2703,0,$C1695/60)))","v":{"$error":"#VALUE!"}},{"$f":"IF(SUM(CJ$1262:CJ1694)>0,0,IF(MAX(CB1695:CB$2702)=MAX(CB$1262:CB$2702),0,IF(BZ1695>0.01*BT$2703,0,$C1695/60)))","v":{"$error":"#VALUE!"}},0,0,0,0,{"$error":"#VALUE!"},{"$error":"#VALUE!"},{"$error":"#VALUE!"},{"$error":"#VALUE!"},{"$error":"#VALUE!"},{"$error":"#VALUE!"},{"$error":"#VALUE!"},{"$error":"#VALUE!"},{"$error":"#VALUE!"},{"$error":"#VALUE!"},{"$error":"#VALUE!"},{"$f":"IF(SUM(CZ$1262:CZ1694)>0,0,IF(MAX(CS1695:CS$2702)=MAX(CS$1262:CS$2702),0,IF(CQ1695>0.03*CK$2703,0,$C1695/60)))","v":{"$error":"#VALUE!"}},{"$f":"IF(SUM(DA$1262:DA1694)>0,0,IF(MAX(CS1695:CS$2702)=MAX(CS$1262:CS$2702),0,IF(CQ1695>0.01*CK$2703,0,$C1695/60)))","v":{"$error":"#VALUE!"}}]
[null,36.666666666666664,2200,0,0,0,0,0,0,0,0,0,{"$error":"#N/A"},{"$error":"#N/A"},{"$error":"#N/A"},{"$error":"#N/A"},{"$error":"#N/A"},{"$error":"#N/A"},{"$f":"IF(SUM(S$1262:S1701)>0,0,\nIF(MAX(L1702:L$2702)=MAX(L$1262:L$2702),0,\nIF(Hydrograph_Source_WQCV=\"USER\",IF(J1702>0.03*D$2703,0,$C1702/60),\nIF(J1702>0.03*J$2703,0,$C1702/60))))","v":0},{"$f":"IF(SUM(T$1262:T1701)>0,0,\nIF(MAX(L1702:L$2702)=MAX(L$1262:L$2702),0,\nIF(Hydrograph_Source_WQCV=\"USER\",IF(J1702>0.01*D$2703,0,$C1702/60),\nIF(J1702>0.01*J$2703,0,$C1702/60))))","v":0},0,0,0,0,{"$error":"#VALUE!"},{"$error":"#VALUE!"},{"$error":"#VALUE!"},{"$error":"#VALUE!"},{"$error":"#VALUE!"},{"$error":"#VALUE!"},{"$error":"#VALUE!"},{"$error":"#VALUE!"},{"$error":"#VALUE!"},{"$error":"#VALUE!"},{"$error":"#VALUE!"},{"$f":"IF(SUM(AJ$1262:AJ1701)>0,0,IF(MAX(AC1702:AC$2702)=MAX(AC$1262:AC$2702),0,IF(AA1702>0.03*U$2703,0,$C1702/60)))","v":{"$error":"#VALUE!"}},{"$f":"IF(SUM(AK$1262:AK1701)>0,0,IF(MAX(AC1702:AC$2702)=MAX(AC$1262:AC$2702),0,IF(AA1702>0.01*U$2703,0,$C1702/60)))","v":{"$error":"#VALUE!"}},0,0,0,0,{"$error":"#VALUE!"},{"$error":"#VALUE!"},{"$error":"#VALUE!"},{"$error":"#VALUE!"},{"$error":"#VALUE!"},{"$error":"#VALUE!"},{"$error":"#VALUE!"},{"$error":"#VALUE!"},{"$error":"#VALUE!"},{"$error":"#VALUE!"},{"$error":"#VALUE!"},{"$f":"IF(SUM(BA$1262:BA1701)>0,0,IF(MAX(AT1702:AT$2702)=MAX(AT$1262:AT$2702),0,IF(AR1702>0.03*AL$2703,0,$C1702/60)))","v":{"$error":"#VALUE!"}},{"$f":"IF(SUM(BB$1262:BB1701)>0,0,IF(MAX(AT1702:AT$2702)=MAX(AT$1262:AT$2702),0,IF(AR1702>0.01*AL$2703,0,$C1702/60)))","v":{"$error":"#VALUE!"}},0,0,0,0,{"$error":"#VALUE!"},{"$error":"#VALUE!"},{"$error":"#VALUE!"},{"$error":"#VALUE!"},{"$error":"#VALUE!"},{"$error":"#VALUE!"},{"$error":"#VALUE!"},{"$error":"#VALUE!"},{"$error":"#VALUE!"},{"$error":"#VALUE!"},{"$error":"#VALUE!"},{"$f":"IF(SUM(BR$1262:BR1701)>0,0,IF(MAX(BK1702:BK$2702)=MAX(BK$1262:BK$2702),0,IF(BI1702>0.03*BC$2703,0,$C1702/60)))","v":{"$error":"#VALUE!"}},{"$f":"IF(SUM(BS$1262:BS1701)>0,0,IF(MAX(BK1702:BK$2702)=MAX(BK$1262:BK$2702),0,IF(BI1702>0.01*BC$2703,0,$C1702/60)))","v":{"$error":"#VALUE!"}},0,0,0,0,{"$error":"#VALUE!"},{"$error":"#VALUE!"},{"$error":"#VALUE!"},{"$error":"#VALUE!"},{"$error":"#VALUE!"},{"$error":"#VALUE!"},{"$error":"#VALUE!"},{"$error":"#VALUE!"},{"$error":"#VALUE!"},{"$error":"#VALUE!"},{"$error":"#VALUE!"},{"$f":"IF(SUM(CI$1262:CI1701)>0,0,IF(MAX(CB1702:CB$2702)=MAX(CB$1262:CB$2702),0,IF(BZ1702>0.03*BT$2703,0,$C1702/60)))","v":{"$error":"#VALUE!"}},{"$f":"IF(SUM(CJ$1262:CJ1701)>0,0,IF(MAX(CB1702:CB$2702)=MAX(CB$1262:CB$2702),0,IF(BZ1702>0.01*BT$2703,0,$C1702/60)))","v":{"$error":"#VALUE!"}},0,0,0,0,{"$error":"#VALUE!"},{"$error":"#VALUE!"},{"$error":"#VALUE!"},{"$error":"#VALUE!"},{"$error":"#VALUE!"},{"$error":"#VALUE!"},{"$error":"#VALUE!"},{"$error":"#VALUE!"},{"$error":"#VALUE!"},{"$error":"#VALUE!"},{"$error":"#VALUE!"},{"$f":"IF(SUM(CZ$1262:CZ1701)>0,0,IF(MAX(CS1702:CS$2702)=MAX(CS$1262:CS$2702),0,IF(CQ1702>0.03*CK$2703,0,$C1702/60)))","v":{"$error":"#VALUE!"}},{"$f":"IF(SUM(DA$1262:DA1701)>0,0,IF(MAX(CS1702:CS$2702)=MAX(CS$1262:CS$2702),0,IF(CQ1702>0.01*CK$2703,0,$C1702/60)))","v":{"$error":"#VALUE!"}}]
[null,36.75,2205,0,0,0,0,0,0,0,0,0,{"$error":"#N/A"},{"$error":"#N/A"},{"$error":"#N/A"},{"$error":"#N/A"},{"$error":"#N/A"},{"$error":"#N/A"},{"$f":"IF(SUM(S$1262:S1702)>0,0,\nIF(MAX(L1703:L$2702)=MAX(L$1262:L$2702),0,\nIF(Hydrograph_Source_WQCV=\"USER\",IF(J1703>0.03*D$2703,0,$C1703/60),\nIF(J1703>0.03*J$2703,0,$C1703/60))))","v":0},{"$f":"IF(SUM(T$1262:T1702)>0,0,\nIF(MAX(L1703:L$2702)=MAX(L$1262:L$2702),0,\nIF(Hydrograph_Source_WQCV=\"USER\",IF(J1703>0.01*D$2703,0,$C1703/60),\nIF(J1703>0.01*J$2703,0,$C1703/60))))","v":0},0,0,0,0,{"$error":"#VALUE!"},{"$error":"#VALUE!"},{"$error":"#VALUE!"},{"$error":"#VALUE!"},{"$error":"#VALUE!"},{"$error":"#VALUE!"},{"$error":"#VALUE!"},{"$error":"#VALUE!"},{"$error":"#VALUE!"},{"$error":"#VALUE!"},{"$error":"#VALUE!"},{"$f":"IF(SUM(AJ$1262:AJ1702)>0,0,IF(MAX(AC1703:AC$2702)=MAX(AC$1262:AC$2702),0,IF(AA1703>0.03*U$2703,0,$C1703/60)))","v":{"$error":"#VALUE!"}},{"$f":"IF(SUM(AK$1262:AK1702)>0,0,IF(MAX(AC1703:AC$2702)=MAX(AC$1262:AC$2702),0,IF(AA1703>0.01*U$2703,0,$C1703/60)))","v":{"$error":"#VALUE!"}},0,0,0,0,{"$error":"#VALUE!"},{"$error":"#VALUE!"},{"$error":"#VALUE!"},{"$error":"#VALUE!"},{"$error":"#VALUE!"},{"$error":"#VALUE!"},{"$error":"#VALUE!"},{"$error":"#VALUE!"},{"$error":"#VALUE!"},{"$error":"#VALUE!"},{"$error":"#VALUE!"},{"$f":"IF(SUM(BA$1262:BA1702)>0,0,IF(MAX(AT1703:AT$2702)=MAX(AT$1262:AT$2702),0,IF(AR1703>0.03*AL$2703,0,$C1703/60)))","v":{"$error":"#VALUE!"}},{"$f":"IF(SUM(BB$1262:BB1702)>0,0,IF(MAX(AT1703:AT$2702)=MAX(AT$1262:AT$2702),0,IF(AR1703>0.01*AL$2703,0,$C1703/60)))","v":{"$error":"#VALUE!"}},0,0,0,0,{"$error":"#VALUE!"},{"$error":"#VALUE!"},{"$error":"#VALUE!"},{"$error":"#VALUE!"},{"$error":"#VALUE!"},{"$error":"#VALUE!"},{"$error":"#VALUE!"},{"$error":"#VALUE!"},{"$error":"#VALUE!"},{"$error":"#VALUE!"},{"$error":"#VALUE!"},{"$f":"IF(SUM(BR$1262:BR1702)>0,0,IF(MAX(BK1703:BK$2702)=MAX(BK$1262:BK$2702),0,IF(BI1703>0.03*BC$2703,0,$C1703/60)))","v":{"$error":"#VALUE!"}},{"$f":"IF(SUM(BS$1262:BS1702)>0,0,IF(MAX(BK1703:BK$2702)=MAX(BK$1262:BK$2702),0,IF(BI1703>0.01*BC$2703,0,$C1703/60)))","v":{"$error":"#VALUE!"}},0,0,0,0,{"$error":"#VALUE!"},{"$error":"#VALUE!"},{"$error":"#VALUE!"},{"$error":"#VALUE!"},{"$error":"#VALUE!"},{"$error":"#VALUE!"},{"$error":"#VALUE!"},{"$error":"#VALUE!"},{"$error":"#VALUE!"},{"$error":"#VALUE!"},{"$error":"#VALUE!"},{"$f":"IF(SUM(CI$1262:CI1702)>0,0,IF(MAX(CB1703:CB$2702)=MAX(CB$1262:CB$2702),0,IF(BZ1703>0.03*BT$2703,0,$C1703/60)))","v":{"$error":"#VALUE!"}},{"$f":"IF(SUM(CJ$1262:CJ1702)>0,0,IF(MAX(CB1703:CB$2702)=MAX(CB$1262:CB$2702),0,IF(BZ1703>0.01*BT$2703,0,$C1703/60)))","v":{"$error":"#VALUE!"}},0,0,0,0,{"$error":"#VALUE!"},{"$error":"#VALUE!"},{"$error":"#VALUE!"},{"$error":"#VALUE!"},{"$error":"#VALUE!"},{"$error":"#VALUE!"},{"$error":"#VALUE!"},{"$error":"#VALUE!"},{"$error":"#VALUE!"},{"$error":"#VALUE!"},{"$error":"#VALUE!"},{"$f":"IF(SUM(CZ$1262:CZ1702)>0,0,IF(MAX(CS1703:CS$2702)=MAX(CS$1262:CS$2702),0,IF(CQ1703>0.03*CK$2703,0,$C1703/60)))","v":{"$error":"#VALUE!"}},{"$f":"IF(SUM(DA$1262:DA1702)>0,0,IF(MAX(CS1703:CS$2702)=MAX(CS$1262:CS$2702),0,IF(CQ1703>0.01*CK$2703,0,$C1703/60)))","v":{"$error":"#VALUE!"}}]
[null,37.25,2235,0,0,0,0,0,0,0,0,0,{"$error":"#N/A"},{"$error":"#N/A"},{"$error":"#N/A"},{"$error":"#N/A"},{"$error":"#N/A"},{"$error":"#N/A"},{"$f":"IF(SUM(S$1262:S1708)>0,0,\nIF(MAX(L1709:L$2702)=MAX(L$1262:L$2702),0,\nIF(Hydrograph_Source_WQCV=\"USER\",IF(J1709>0.03*D$2703,0,$C1709/60),\nIF(J1709>0.03*J$2703,0,$C1709/60))))","v":0},{"$f":"IF(SUM(T$1262:T1708)>0,0,\nIF(MAX(L1709:L$2702)=MAX(L$1262:L$2702),0,\nIF(Hydrograph_Source_WQCV=\"USER\",IF(J1709>0.01*D$2703,0,$C1709/60),\nIF(J1709>0.01*J$2703,0,$C1709/60))))","v":0},0,0,0,0,{"$error":"#VALUE!"},{"$error":"#VALUE!"},{"$error":"#VALUE!"},{"$error":"#VALUE!"},{"$error":"#VALUE!"},{"$error":"#VALUE!"},{"$error":"#VALUE!"},{"$error":"#VALUE!"},{"$error":"#VALUE!"},{"$error":"#VALUE!"},{"$error":"#VALUE!"},{"$f":"IF(SUM(AJ$1262:AJ1708)>0,0,IF(MAX(AC1709:AC$2702)=MAX(AC$1262:AC$2702),0,IF(AA1709>0.03*U$2703,0,$C1709/60)))","v":{"$error":"#VALUE!"}},{"$f":"IF(SUM(AK$1262:AK1708)>0,0,IF(MAX(AC1709:AC$2702)=MAX(AC$1262:AC$2702),0,IF(AA1709>0.01*U$2703,0,$C1709/60)))","v":{"$error":"#VALUE!"}},0,0,0,0,{"$error":"#VALUE!"},{"$error":"#VALUE!"},{"$error":"#VALUE!"},{"$error":"#VALUE!"},{"$error":"#VALUE!"},{"$error":"#VALUE!"},{"$error":"#VALUE!"},{"$error":"#VALUE!"},{"$error":"#VALUE!"},{"$error":"#VALUE!"},{"$error":"#VALUE!"},{"$f":"IF(SUM(BA$1262:BA1708)>0,0,IF(MAX(AT1709:AT$2702)=MAX(AT$1262:AT$2702),0,IF(AR1709>0.03*AL$2703,0,$C1709/60)))","v":{"$error":"#VALUE!"}},{"$f":"IF(SUM(BB$1262:BB1708)>0,0,IF(MAX(AT1709:AT$2702)=MAX(AT$1262:AT$2702),0,IF(AR1709>0.01*AL$2703,0,$C1709/60)))","v":{"$error":"#VALUE!"}},0,0,0,0,{"$error":"#VALUE!"},{"$error":"#VALUE!"},{"$error":"#VALUE!"},{"$error":"#VALUE!"},{"$error":"#VALUE!"},{"$error":"#VALUE!"},{"$error":"#VALUE!"},{"$error":"#VALUE!"},{"$error":"#VALUE!"},{"$error":"#VALUE!"},{"$error":"#VALUE!"},{"$f":"IF(SUM(BR$1262:BR1708)>0,0,IF(MAX(BK1709:BK$2702)=MAX(BK$1262:BK$2702),0,IF(BI1709>0.03*BC$2703,0,$C1709/60)))","v":{"$error":"#VALUE!"}},{"$f":"IF(SUM(BS$1262:BS1708)>0,0,IF(MAX(BK1709:BK$2702)=MAX(BK$1262:BK$2702),0,IF(BI1709>0.01*BC$2703,0,$C1709/60)))","v":{"$error":"#VALUE!"}},0,0,0,0,{"$error":"#VALUE!"},{"$error":"#VALUE!"},{"$error":"#VALUE!"},{"$error":"#VALUE!"},{"$error":"#VALUE!"},{"$error":"#VALUE!"},{"$error":"#VALUE!"},{"$error":"#VALUE!"},{"$error":"#VALUE!"},{"$error":"#VALUE!"},{"$error":"#VALUE!"},{"$f":"IF(SUM(CI$1262:CI1708)>0,0,IF(MAX(CB1709:CB$2702)=MAX(CB$1262:CB$2702),0,IF(BZ1709>0.03*BT$2703,0,$C1709/60)))","v":{"$error":"#VALUE!"}},{"$f":"IF(SUM(CJ$1262:CJ1708)>0,0,IF(MAX(CB1709:CB$2702)=MAX(CB$1262:CB$2702),0,IF(BZ1709>0.01*BT$2703,0,$C1709/60)))","v":{"$error":"#VALUE!"}},0,0,0,0,{"$error":"#VALUE!"},{"$error":"#VALUE!"},{"$error":"#VALUE!"},{"$error":"#VALUE!"},{"$error":"#VALUE!"},{"$error":"#VALUE!"},{"$error":"#VALUE!"},{"$error":"#VALUE!"},{"$error":"#VALUE!"},{"$error":"#VALUE!"},{"$error":"#VALUE!"},{"$f":"IF(SUM(CZ$1262:CZ1708)>0,0,IF(MAX(CS1709:CS$2702)=MAX(CS$1262:CS$2702),0,IF(CQ1709>0.03*CK$2703,0,$C1709/60)))","v":{"$error":"#VALUE!"}},{"$f":"IF(SUM(DA$1262:DA1708)>0,0,IF(MAX(CS1709:CS$2702)=MAX(CS$1262:CS$2702),0,IF(CQ1709>0.01*CK$2703,0,$C1709/60)))","v":{"$error":"#VALUE!"}}]
[null,37.666666666666664,2260,0,0,0,0,0,0,0,0,0,{"$error":"#N/A"},{"$error":"#N/A"},{"$error":"#N/A"},{"$error":"#N/A"},{"$error":"#N/A"},{"$error":"#N/A"},{"$f":"IF(SUM(S$1262:S1713)>0,0,\nIF(MAX(L1714:L$2702)=MAX(L$1262:L$2702),0,\nIF(Hydrograph_Source_WQCV=\"USER\",IF(J1714>0.03*D$2703,0,$C1714/60),\nIF(J1714>0.03*J$2703,0,$C1714/60))))","v":0},{"$f":"IF(SUM(T$1262:T1713)>0,0,\nIF(MAX(L1714:L$2702)=MAX(L$1262:L$2702),0,\nIF(Hydrograph_Source_WQCV=\"USER\",IF(J1714>0.01*D$2703,0,$C1714/60),\nIF(J1714>0.01*J$2703,0,$C1714/60))))","v":0},0,0,0,0,{"$error":"#VALUE!"},{"$error":"#VALUE!"},{"$error":"#VALUE!"},{"$error":"#VALUE!"},{"$error":"#VALUE!"},{"$error":"#VALUE!"},{"$error":"#VALUE!"},{"$error":"#VALUE!"},{"$error":"#VALUE!"},{"$error":"#VALUE!"},{"$error":"#VALUE!"},{"$f":"IF(SUM(AJ$1262:AJ1713)>0,0,IF(MAX(AC1714:AC$2702)=MAX(AC$1262:AC$2702),0,IF(AA1714>0.03*U$2703,0,$C1714/60)))","v":{"$error":"#VALUE!"}},{"$f":"IF(SUM(AK$1262:AK1713)>0,0,IF(MAX(AC1714:AC$2702)=MAX(AC$1262:AC$2702),0,IF(AA1714>0.01*U$2703,0,$C1714/60)))","v":{"$error":"#VALUE!"}},0,0,0,0,{"$error":"#VALUE!"},{"$error":"#VALUE!"},{"$error":"#VALUE!"},{"$error":"#VALUE!"},{"$error":"#VALUE!"},{"$error":"#VALUE!"},{"$error":"#VALUE!"},{"$error":"#VALUE!"},{"$error":"#VALUE!"},{"$error":"#VALUE!"},{"$error":"#VALUE!"},{"$f":"IF(SUM(BA$1262:BA1713)>0,0,IF(MAX(AT1714:AT$2702)=MAX(AT$1262:AT$2702),0,IF(AR1714>0.03*AL$2703,0,$C1714/60)))","v":{"$error":"#VALUE!"}},{"$f":"IF(SUM(BB$1262:BB1713)>0,0,IF(MAX(AT1714:AT$2702)=MAX(AT$1262:AT$2702),0,IF(AR1714>0.01*AL$2703,0,$C1714/60)))","v":{"$error":"#VALUE!"}},0,0,0,0,{"$error":"#VALUE!"},{"$error":"#VALUE!"},{"$error":"#VALUE!"},{"$error":"#VALUE!"},{"$error":"#VALUE!"},{"$error":"#VALUE!"},{"$error":"#VALUE!"},{"$error":"#VALUE!"},{"$error":"#VALUE!"},{"$error":"#VALUE!"},{"$error":"#VALUE!"},{"$f":"IF(SUM(BR$1262:BR1713)>0,0,IF(MAX(BK1714:BK$2702)=MAX(BK$1262:BK$2702),0,IF(BI1714>0.03*BC$2703,0,$C1714/60)))","v":{"$error":"#VALUE!"}},{"$f":"IF(SUM(BS$1262:BS1713)>0,0,IF(MAX(BK1714:BK$2702)=MAX(BK$1262:BK$2702),0,IF(BI1714>0.01*BC$2703,0,$C1714/60)))","v":{"$error":"#VALUE!"}},0,0,0,0,{"$error":"#VALUE!"},{"$error":"#VALUE!"},{"$error":"#VALUE!"},{"$error":"#VALUE!"},{"$error":"#VALUE!"},{"$error":"#VALUE!"},{"$error":"#VALUE!"},{"$error":"#VALUE!"},{"$error":"#VALUE!"},{"$error":"#VALUE!"},{"$error":"#VALUE!"},{"$f":"IF(SUM(CI$1262:CI1713)>0,0,IF(MAX(CB1714:CB$2702)=MAX(CB$1262:CB$2702),0,IF(BZ1714>0.03*BT$2703,0,$C1714/60)))","v":{"$error":"#VALUE!"}},{"$f":"IF(SUM(CJ$1262:CJ1713)>0,0,IF(MAX(CB1714:CB$2702)=MAX(CB$1262:CB$2702),0,IF(BZ1714>0.01*BT$2703,0,$C1714/60)))","v":{"$error":"#VALUE!"}},0,0,0,0,{"$error":"#VALUE!"},{"$error":"#VALUE!"},{"$error":"#VALUE!"},{"$error":"#VALUE!"},{"$error":"#VALUE!"},{"$error":"#VALUE!"},{"$error":"#VALUE!"},{"$error":"#VALUE!"},{"$error":"#VALUE!"},{"$error":"#VALUE!"},{"$error":"#VALUE!"},{"$f":"IF(SUM(CZ$1262:CZ1713)>0,0,IF(MAX(CS1714:CS$2702)=MAX(CS$1262:CS$2702),0,IF(CQ1714>0.03*CK$2703,0,$C1714/60)))","v":{"$error":"#VALUE!"}},{"$f":"IF(SUM(DA$1262:DA1713)>0,0,IF(MAX(CS1714:CS$2702)=MAX(CS$1262:CS$2702),0,IF(CQ1714>0.01*CK$2703,0,$C1714/60)))","v":{"$error":"#VALUE!"}}]
[null,38.083333333333336,2285,0,0,0,0,0,0,0,0,0,{"$error":"#N/A"},{"$error":"#N/A"},{"$error":"#N/A"},{"$error":"#N/A"},{"$error":"#N/A"},{"$error":"#N/A"},{"$f":"IF(SUM(S$1262:S1718)>0,0,\nIF(MAX(L1719:L$2702)=MAX(L$1262:L$2702),0,\nIF(Hydrograph_Source_WQCV=\"USER\",IF(J1719>0.03*D$2703,0,$C1719/60),\nIF(J1719>0.03*J$2703,0,$C1719/60))))","v":0},{"$f":"IF(SUM(T$1262:T1718)>0,0,\nIF(MAX(L1719:L$2702)=MAX(L$1262:L$2702),0,\nIF(Hydrograph_Source_WQCV=\"USER\",IF(J1719>0.01*D$2703,0,$C1719/60),\nIF(J1719>0.01*J$2703,0,$C1719/60))))","v":0},0,0,0,0,{"$error":"#VALUE!"},{"$error":"#VALUE!"},{"$error":"#VALUE!"},{"$error":"#VALUE!"},{"$error":"#VALUE!"},{"$error":"#VALUE!"},{"$error":"#VALUE!"},{"$error":"#VALUE!"},{"$error":"#VALUE!"},{"$error":"#VALUE!"},{"$error":"#VALUE!"},{"$f":"IF(SUM(AJ$1262:AJ1718)>0,0,IF(MAX(AC1719:AC$2702)=MAX(AC$1262:AC$2702),0,IF(AA1719>0.03*U$2703,0,$C1719/60)))","v":{"$error":"#VALUE!"}},{"$f":"IF(SUM(AK$1262:AK1718)>0,0,IF(MAX(AC1719:AC$2702)=MAX(AC$1262:AC$2702),0,IF(AA1719>0.01*U$2703,0,$C1719/60)))","v":{"$error":"#VALUE!"}},0,0,0,0,{"$error":"#VALUE!"},{"$error":"#VALUE!"},{"$error":"#VALUE!"},{"$error":"#VALUE!"},{"$error":"#VALUE!"},{"$error":"#VALUE!"},{"$error":"#VALUE!"},{"$error":"#VALUE!"},{"$error":"#VALUE!"},{"$error":"#VALUE!"},{"$error":"#VALUE!"},{"$f":"IF(SUM(BA$1262:BA1718)>0,0,IF(MAX(AT1719:AT$2702)=MAX(AT$1262:AT$2702),0,IF(AR1719>0.03*AL$2703,0,$C1719/60)))","v":{"$error":"#VALUE!"}},{"$f":"IF(SUM(BB$1262:BB1718)>0,0,IF(MAX(AT1719:AT$2702)=MAX(AT$1262:AT$2702),0,IF(AR1719>0.01*AL$2703,0,$C1719/60)))","v":{"$error":"#VALUE!"}},0,0,0,0,{"$error":"#VALUE!"},{"$error":"#VALUE!"},{"$error":"#VALUE!"},{"$error":"#VALUE!"},{"$error":"#VALUE!"},{"$error":"#VALUE!"},{"$error":"#VALUE!"},{"$error":"#VALUE!"},{"$error":"#VALUE!"},{"$error":"#VALUE!"},{"$error":"#VALUE!"},{"$f":"IF(SUM(BR$1262:BR1718)>0,0,IF(MAX(BK1719:BK$2702)=MAX(BK$1262:BK$2702),0,IF(BI1719>0.03*BC$2703,0,$C1719/60)))","v":{"$error":"#VALUE!"}},{"$f":"IF(SUM(BS$1262:BS1718)>0,0,IF(MAX(BK1719:BK$2702)=MAX(BK$1262:BK$2702),0,IF(BI1719>0.01*BC$2703,0,$C1719/60)))","v":{"$error":"#VALUE!"}},0,0,0,0,{"$error":"#VALUE!"},{"$error":"#VALUE!"},{"$error":"#VALUE!"},{"$error":"#VALUE!"},{"$error":"#VALUE!"},{"$error":"#VALUE!"},{"$error":"#VALUE!"},{"$error":"#VALUE!"},{"$error":"#VALUE!"},{"$error":"#VALUE!"},{"$error":"#VALUE!"},{"$f":"IF(SUM(CI$1262:CI1718)>0,0,IF(MAX(CB1719:CB$2702)=MAX(CB$1262:CB$2702),0,IF(BZ1719>0.03*BT$2703,0,$C1719/60)))","v":{"$error":"#VALUE!"}},{"$f":"IF(SUM(CJ$1262:CJ1718)>0,0,IF(MAX(CB1719:CB$2702)=MAX(CB$1262:CB$2702),0,IF(BZ1719>0.01*BT$2703,0,$C1719/60)))","v":{"$error":"#VALUE!"}},0,0,0,0,{"$error":"#VALUE!"},{"$error":"#VALUE!"},{"$error":"#VALUE!"},{"$error":"#VALUE!"},{"$error":"#VALUE!"},{"$error":"#VALUE!"},{"$error":"#VALUE!"},{"$error":"#VALUE!"},{"$error":"#VALUE!"},{"$error":"#VALUE!"},{"$error":"#VALUE!"},{"$f":"IF(SUM(CZ$1262:CZ1718)>0,0,IF(MAX(CS1719:CS$2702)=MAX(CS$1262:CS$2702),0,IF(CQ1719>0.03*CK$2703,0,$C1719/60)))","v":{"$error":"#VALUE!"}},{"$f":"IF(SUM(DA$1262:DA1718)>0,0,IF(MAX(CS1719:CS$2702)=MAX(CS$1262:CS$2702),0,IF(CQ1719>0.01*CK$2703,0,$C1719/60)))","v":{"$error":"#VALUE!"}}]
[null,38.5,2310,0,0,0,0,0,0,0,0,0,{"$error":"#N/A"},{"$error":"#N/A"},{"$error":"#N/A"},{"$error":"#N/A"},{"$error":"#N/A"},{"$error":"#N/A"},{"$f":"IF(SUM(S$1262:S1723)>0,0,\nIF(MAX(L1724:L$2702)=MAX(L$1262:L$2702),0,\nIF(Hydrograph_Source_WQCV=\"USER\",IF(J1724>0.03*D$2703,0,$C1724/60),\nIF(J1724>0.03*J$2703,0,$C1724/60))))","v":0},{"$f":"IF(SUM(T$1262:T1723)>0,0,\nIF(MAX(L1724:L$2702)=MAX(L$1262:L$2702),0,\nIF(Hydrograph_Source_WQCV=\"USER\",IF(J1724>0.01*D$2703,0,$C1724/60),\nIF(J1724>0.01*J$2703,0,$C1724/60))))","v":0},0,0,0,0,{"$error":"#VALUE!"},{"$error":"#VALUE!"},{"$error":"#VALUE!"},{"$error":"#VALUE!"},{"$error":"#VALUE!"},{"$error":"#VALUE!"},{"$error":"#VALUE!"},{"$error":"#VALUE!"},{"$error":"#VALUE!"},{"$error":"#VALUE!"},{"$error":"#VALUE!"},{"$f":"IF(SUM(AJ$1262:AJ1723)>0,0,IF(MAX(AC1724:AC$2702)=MAX(AC$1262:AC$2702),0,IF(AA1724>0.03*U$2703,0,$C1724/60)))","v":{"$error":"#VALUE!"}},{"$f":"IF(SUM(AK$1262:AK1723)>0,0,IF(MAX(AC1724:AC$2702)=MAX(AC$1262:AC$2702),0,IF(AA1724>0.01*U$2703,0,$C1724/60)))","v":{"$error":"#VALUE!"}},0,0,0,0,{"$error":"#VALUE!"},{"$error":"#VALUE!"},{"$error":"#VALUE!"},{"$error":"#VALUE!"},{"$error":"#VALUE!"},{"$error":"#VALUE!"},{"$error":"#VALUE!"},{"$error":"#VALUE!"},{"$error":"#VALUE!"},{"$error":"#VALUE!"},{"$error":"#VALUE!"},{"$f":"IF(SUM(BA$1262:BA1723)>0,0,IF(MAX(AT1724:AT$2702)=MAX(AT$1262:AT$2702),0,IF(AR1724>0.03*AL$2703,0,$C1724/60)))","v":{"$error":"#VALUE!"}},{"$f":"IF(SUM(BB$1262:BB1723)>0,0,IF(MAX(AT1724:AT$2702)=MAX(AT$1262:AT$2702),0,IF(AR1724>0.01*AL$2703,0,$C1724/60)))","v":{"$error":"#VALUE!"}},0,0,0,0,{"$error":"#VALUE!"},{"$error":"#VALUE!"},{"$error":"#VALUE!"},{"$error":"#VALUE!"},{"$error":"#VALUE!"},{"$error":"#VALUE!"},{"$error":"#VALUE!"},{"$error":"#VALUE!"},{"$error":"#VALUE!"},{"$error":"#VALUE!"},{"$error":"#VALUE!"},{"$f":"IF(SUM(BR$1262:BR1723)>0,0,IF(MAX(BK1724:BK$2702)=MAX(BK$1262:BK$2702),0,IF(BI1724>0.03*BC$2703,0,$C1724/60)))","v":{"$error":"#VALUE!"}},{"$f":"IF(SUM(BS$1262:BS1723)>0,0,IF(MAX(BK1724:BK$2702)=MAX(BK$1262:BK$2702),0,IF(BI1724>0.01*BC$2703,0,$C1724/60)))","v":{"$error":"#VALUE!"}},0,0,0,0,{"$error":"#VALUE!"},{"$error":"#VALUE!"},{"$error":"#VALUE!"},{"$error":"#VALUE!"},{"$error":"#VALUE!"},{"$error":"#VALUE!"},{"$error":"#VALUE!"},{"$error":"#VALUE!"},{"$error":"#VALUE!"},{"$error":"#VALUE!"},{"$error":"#VALUE!"},{"$f":"IF(SUM(CI$1262:CI1723)>0,0,IF(MAX(CB1724:CB$2702)=MAX(CB$1262:CB$2702),0,IF(BZ1724>0.03*BT$2703,0,$C1724/60)))","v":{"$error":"#VALUE!"}},{"$f":"IF(SUM(CJ$1262:CJ1723)>0,0,IF(MAX(CB1724:CB$2702)=MAX(CB$1262:CB$2702),0,IF(BZ1724>0.01*BT$2703,0,$C1724/60)))","v":{"$error":"#VALUE!"}},0,0,0,0,{"$error":"#VALUE!"},{"$error":"#VALUE!"},{"$error":"#VALUE!"},{"$error":"#VALUE!"},{"$error":"#VALUE!"},{"$error":"#VALUE!"},{"$error":"#VALUE!"},{"$error":"#VALUE!"},{"$error":"#VALUE!"},{"$error":"#VALUE!"},{"$error":"#VALUE!"},{"$f":"IF(SUM(CZ$1262:CZ1723)>0,0,IF(MAX(CS1724:CS$2702)=MAX(CS$1262:CS$2702),0,IF(CQ1724>0.03*CK$2703,0,$C1724/60)))","v":{"$error":"#VALUE!"}},{"$f":"IF(SUM(DA$1262:DA1723)>0,0,IF(MAX(CS1724:CS$2702)=MAX(CS$1262:CS$2702),0,IF(CQ1724>0.01*CK$2703,0,$C1724/60)))","v":{"$error":"#VALUE!"}}]
[null,38.666666666666664,2320,0,0,0,0,0,0,0,0,0,{"$error":"#N/A"},{"$error":"#N/A"},{"$error":"#N/A"},{"$error":"#N/A"},{"$error":"#N/A"},{"$error":"#N/A"},{"$f":"IF(SUM(S$1262:S1725)>0,0,\nIF(MAX(L1726:L$2702)=MAX(L$1262:L$2702),0,\nIF(Hydrograph_Source_WQCV=\"USER\",IF(J1726>0.03*D$2703,0,$C1726/60),\nIF(J1726>0.03*J$2703,0,$C1726/60))))","v":0},{"$f":"IF(SUM(T$1262:T1725)>0,0,\nIF(MAX(L1726:L$2702)=MAX(L$1262:L$2702),0,\nIF(Hydrograph_Source_WQCV=\"USER\",IF(J1726>0.01*D$2703,0,$C1726/60),\nIF(J1726>0.01*J$2703,0,$C1726/60))))","v":0},0,0,0,0,{"$error":"#VALUE!"},{"$error":"#VALUE!"},{"$error":"#VALUE!"},{"$error":"#VALUE!"},{"$error":"#VALUE!"},{"$error":"#VALUE!"},{"$error":"#VALUE!"},{"$error":"#VALUE!"},{"$error":"#VALUE!"},{"$error":"#VALUE!"},{"$error":"#VALUE!"},{"$f":"IF(SUM(AJ$1262:AJ1725)>0,0,IF(MAX(AC1726:AC$2702)=MAX(AC$1262:AC$2702),0,IF(AA1726>0.03*U$2703,0,$C1726/60)))","v":{"$error":"#VALUE!"}},{"$f":"IF(SUM(AK$1262:AK1725)>0,0,IF(MAX(AC1726:AC$2702)=MAX(AC$1262:AC$2702),0,IF(AA1726>0.01*U$2703,0,$C1726/60)))","v":{"$error":"#VALUE!"}},0,0,0,0,{"$error":"#VALUE!"},{"$error":"#VALUE!"},{"$error":"#VALUE!"},{"$error":"#VALUE!"},{"$error":"#VALUE!"},{"$error":"#VALUE!"},{"$error":"#VALUE!"},{"$error":"#VALUE!"},{"$error":"#VALUE!"},{"$error":"#VALUE!"},{"$error":"#VALUE!"},{"$f":"IF(SUM(BA$1262:BA1725)>0,0,IF(MAX(AT1726:AT$2702)=MAX(AT$1262:AT$2702),0,IF(AR1726>0.03*AL$2703,0,$C1726/60)))","v":{"$error":"#VALUE!"}},{"$f":"IF(SUM(BB$1262:BB1725)>0,0,IF(MAX(AT1726:AT$2702)=MAX(AT$1262:AT$2702),0,IF(AR1726>0.01*AL$2703,0,$C1726/60)))","v":{"$error":"#VALUE!"}},0,0,0,0,{"$error":"#VALUE!"},{"$error":"#VALUE!"},{"$error":"#VALUE!"},{"$error":"#VALUE!"},{"$error":"#VALUE!"},{"$error":"#VALUE!"},{"$error":"#VALUE!"},{"$error":"#VALUE!"},{"$error":"#VALUE!"},{"$error":"#VALUE!"},{"$error":"#VALUE!"},{"$f":"IF(SUM(BR$1262:BR1725)>0,0,IF(MAX(BK1726:BK$2702)=MAX(BK$1262:BK$2702),0,IF(BI1726>0.03*BC$2703,0,$C1726/60)))","v":{"$error":"#VALUE!"}},{"$f":"IF(SUM(BS$1262:BS1725)>0,0,IF(MAX(BK1726:BK$2702)=MAX(BK$1262:BK$2702),0,IF(BI1726>0.01*BC$2703,0,$C1726/60)))","v":{"$error":"#VALUE!"}},0,0,0,0,{"$error":"#VALUE!"},{"$error":"#VALUE!"},{"$error":"#VALUE!"},{"$error":"#VALUE!"},{"$error":"#VALUE!"},{"$error":"#VALUE!"},{"$error":"#VALUE!"},{"$error":"#VALUE!"},{"$error":"#VALUE!"},{"$error":"#VALUE!"},{"$error":"#VALUE!"},{"$f":"IF(SUM(CI$1262:CI1725)>0,0,IF(MAX(CB1726:CB$2702)=MAX(CB$1262:CB$2702),0,IF(BZ1726>0.03*BT$2703,0,$C1726/60)))","v":{"$error":"#VALUE!"}},{"$f":"IF(SUM(CJ$1262:CJ1725)>0,0,IF(MAX(CB1726:CB$2702)=MAX(CB$1262:CB$2702),0,IF(BZ1726>0.01*BT$2703,0,$C1726/60)))","v":{"$error":"#VALUE!"}},0,0,0,0,{"$error":"#VALUE!"},{"$error":"#VALUE!"},{"$error":"#VALUE!"},{"$error":"#VALUE!"},{"$error":"#VALUE!"},{"$error":"#VALUE!"},{"$error":"#VALUE!"},{"$error":"#VALUE!"},{"$error":"#VALUE!"},{"$error":"#VALUE!"},{"$error":"#VALUE!"},{"$f":"IF(SUM(CZ$1262:CZ1725)>0,0,IF(MAX(CS1726:CS$2702)=MAX(CS$1262:CS$2702),0,IF(CQ1726>0.03*CK$2703,0,$C1726/60)))","v":{"$error":"#VALUE!"}},{"$f":"IF(SUM(DA$1262:DA1725)>0,0,IF(MAX(CS1726:CS$2702)=MAX(CS$1262:CS$2702),0,IF(CQ1726>0.01*CK$2703,0,$C1726/60)))","v":{"$error":"#VALUE!"}}]
[null,39.083333333333336,2345,0,0,0,0,0,0,0,0,0,{"$error":"#N/A"},{"$error":"#N/A"},{"$error":"#N/A"},{"$error":"#N/A"},{"$error":"#N/A"},{"$error":"#N/A"},{"$f":"IF(SUM(S$1262:S1730)>0,0,\nIF(MAX(L1731:L$2702)=MAX(L$1262:L$2702),0,\nIF(Hydrograph_Source_WQCV=\"USER\",IF(J1731>0.03*D$2703,0,$C1731/60),\nIF(J1731>0.03*J$2703,0,$C1731/60))))","v":0},{"$f":"IF(SUM(T$1262:T1730)>0,0,\nIF(MAX(L1731:L$2702)=MAX(L$1262:L$2702),0,\nIF(Hydrograph_Source_WQCV=\"USER\",IF(J1731>0.01*D$2703,0,$C1731/60),\nIF(J1731>0.01*J$2703,0,$C1731/60))))","v":0},0,0,0,0,{"$error":"#VALUE!"},{"$error":"#VALUE!"},{"$error":"#VALUE!"},{"$error":"#VALUE!"},{"$error":"#VALUE!"},{"$error":"#VALUE!"},{"$error":"#VALUE!"},{"$error":"#VALUE!"},{"$error":"#VALUE!"},{"$error":"#VALUE!"},{"$error":"#VALUE!"},{"$f":"IF(SUM(AJ$1262:AJ1730)>0,0,IF(MAX(AC1731:AC$2702)=MAX(AC$1262:AC$2702),0,IF(AA1731>0.03*U$2703,0,$C1731/60)))","v":{"$error":"#VALUE!"}},{"$f":"IF(SUM(AK$1262:AK1730)>0,0,IF(MAX(AC1731:AC$2702)=MAX(AC$1262:AC$2702),0,IF(AA1731>0.01*U$2703,0,$C1731/60)))","v":{"$error":"#VALUE!"}},0,0,0,0,{"$error":"#VALUE!"},{"$error":"#VALUE!"},{"$error":"#VALUE!"},{"$error":"#VALUE!"},{"$error":"#VALUE!"},{"$error":"#VALUE!"},{"$error":"#VALUE!"},{"$error":"#VALUE!"},{"$error":"#VALUE!"},{"$error":"#VALUE!"},{"$error":"#VALUE!"},{"$f":"IF(SUM(BA$1262:BA1730)>0,0,IF(MAX(AT1731:AT$2702)=MAX(AT$1262:AT$2702),0,IF(AR1731>0.03*AL$2703,0,$C1731/60)))","v":{"$error":"#VALUE!"}},{"$f":"IF(SUM(BB$1262:BB1730)>0,0,IF(MAX(AT1731:AT$2702)=MAX(AT$1262:AT$2702),0,IF(AR1731>0.01*AL$2703,0,$C1731/60)))","v":{"$error":"#VALUE!"}},0,0,0,0,{"$error":"#VALUE!"},{"$error":"#VALUE!"},{"$error":"#VALUE!"},{"$error":"#VALUE!"},{"$error":"#VALUE!"},{"$error":"#VALUE!"},{"$error":"#VALUE!"},{"$error":"#VALUE!"},{"$error":"#VALUE!"},{"$error":"#VALUE!"},{"$error":"#VALUE!"},{"$f":"IF(SUM(BR$1262:BR1730)>0,0,IF(MAX(BK1731:BK$2702)=MAX(BK$1262:BK$2702),0,IF(BI1731>0.03*BC$2703,0,$C1731/60)))","v":{"$error":"#VALUE!"}},{"$f":"IF(SUM(BS$1262:BS1730)>0,0,IF(MAX(BK1731:BK$2702)=MAX(BK$1262:BK$2702),0,IF(BI1731>0.01*BC$2703,0,$C1731/60)))","v":{"$error":"#VALUE!"}},0,0,0,0,{"$error":"#VALUE!"},{"$error":"#VALUE!"},{"$error":"#VALUE!"},{"$error":"#VALUE!"},{"$error":"#VALUE!"},{"$error":"#VALUE!"},{"$error":"#VALUE!"},{"$error":"#VALUE!"},{"$error":"#VALUE!"},{"$error":"#VALUE!"},{"$error":"#VALUE!"},{"$f":"IF(SUM(CI$1262:CI1730)>0,0,IF(MAX(CB1731:CB$2702)=MAX(CB$1262:CB$2702),0,IF(BZ1731>0.03*BT$2703,0,$C1731/60)))","v":{"$error":"#VALUE!"}},{"$f":"IF(SUM(CJ$1262:CJ1730)>0,0,IF(MAX(CB1731:CB$2702)=MAX(CB$1262:CB$2702),0,IF(BZ1731>0.01*BT$2703,0,$C1731/60)))","v":{"$error":"#VALUE!"}},0,0,0,0,{"$error":"#VALUE!"},{"$error":"#VALUE!"},{"$error":"#VALUE!"},{"$error":"#VALUE!"},{"$error":"#VALUE!"},{"$error":"#VALUE!"},{"$error":"#VALUE!"},{"$error":"#VALUE!"},{"$error":"#VALUE!"},{"$error":"#VALUE!"},{"$error":"#VALUE!"},{"$f":"IF(SUM(CZ$1262:CZ1730)>0,0,IF(MAX(CS1731:CS$2702)=MAX(CS$1262:CS$2702),0,IF(CQ1731>0.03*CK$2703,0,$C1731/60)))","v":{"$error":"#VALUE!"}},{"$f":"IF(SUM(DA$1262:DA1730)>0,0,IF(MAX(CS1731:CS$2702)=MAX(CS$1262:CS$2702),0,IF(CQ1731>0.01*CK$2703,0,$C1731/60)))","v":{"$error":"#VALUE!"}}]
[null,39.5,2370,0,0,0,0,0,0,0,0,0,{"$error":"#N/A"},{"$error":"#N/A"},{"$error":"#N/A"},{"$error":"#N/A"},{"$error":"#N/A"},{"$error":"#N/A"},{"$f":"IF(SUM(S$1262:S1735)>0,0,\nIF(MAX(L1736:L$2702)=MAX(L$1262:L$2702),0,\nIF(Hydrograph_Source_WQCV=\"USER\",IF(J1736>0.03*D$2703,0,$C1736/60),\nIF(J1736>0.03*J$2703,0,$C1736/60))))","v":0},{"$f":"IF(SUM(T$1262:T1735)>0,0,\nIF(MAX(L1736:L$2702)=MAX(L$1262:L$2702),0,\nIF(Hydrograph_Source_WQCV=\"USER\",IF(J1736>0.01*D$2703,0,$C1736/60),\nIF(J1736>0.01*J$2703,0,$C1736/60))))","v":0},0,0,0,0,{"$error":"#VALUE!"},{"$error":"#VALUE!"},{"$error":"#VALUE!"},{"$error":"#VALUE!"},{"$error":"#VALUE!"},{"$error":"#VALUE!"},{"$error":"#VALUE!"},{"$error":"#VALUE!"},{"$error":"#VALUE!"},{"$error":"#VALUE!"},{"$error":"#VALUE!"},{"$f":"IF(SUM(AJ$1262:AJ1735)>0,0,IF(MAX(AC1736:AC$2702)=MAX(AC$1262:AC$2702),0,IF(AA1736>0.03*U$2703,0,$C1736/60)))","v":{"$error":"#VALUE!"}},{"$f":"IF(SUM(AK$1262:AK1735)>0,0,IF(MAX(AC1736:AC$2702)=MAX(AC$1262:AC$2702),0,IF(AA1736>0.01*U$2703,0,$C1736/60)))","v":{"$error":"#VALUE!"}},0,0,0,0,{"$error":"#VALUE!"},{"$error":"#VALUE!"},{"$error":"#VALUE!"},{"$error":"#VALUE!"},{"$error":"#VALUE!"},{"$error":"#VALUE!"},{"$error":"#VALUE!"},{"$error":"#VALUE!"},{"$error":"#VALUE!"},{"$error":"#VALUE!"},{"$error":"#VALUE!"},{"$f":"IF(SUM(BA$1262:BA1735)>0,0,IF(MAX(AT1736:AT$2702)=MAX(AT$1262:AT$2702),0,IF(AR1736>0.03*AL$2703,0,$C1736/60)))","v":{"$error":"#VALUE!"}},{"$f":"IF(SUM(BB$1262:BB1735)>0,0,IF(MAX(AT1736:AT$2702)=MAX(AT$1262:AT$2702),0,IF(AR1736>0.01*AL$2703,0,$C1736/60)))","v":{"$error":"#VALUE!"}},0,0,0,0,{"$error":"#VALUE!"},{"$error":"#VALUE!"},{"$error":"#VALUE!"},{"$error":"#VALUE!"},{"$error":"#VALUE!"},{"$error":"#VALUE!"},{"$error":"#VALUE!"},{"$error":"#VALUE!"},{"$error":"#VALUE!"},{"$error":"#VALUE!"},{"$error":"#VALUE!"},{"$f":"IF(SUM(BR$1262:BR1735)>0,0,IF(MAX(BK1736:BK$2702)=MAX(BK$1262:BK$2702),0,IF(BI1736>0.03*BC$2703,0,$C1736/60)))","v":{"$error":"#VALUE!"}},{"$f":"IF(SUM(BS$1262:BS1735)>0,0,IF(MAX(BK1736:BK$2702)=MAX(BK$1262:BK$2702),0,IF(BI1736>0.01*BC$2703,0,$C1736/60)))","v":{"$error":"#VALUE!"}},0,0,0,0,{"$error":"#VALUE!"},{"$error":"#VALUE!"},{"$error":"#VALUE!"},{"$error":"#VALUE!"},{"$error":"#VALUE!"},{"$error":"#VALUE!"},{"$error":"#VALUE!"},{"$error":"#VALUE!"},{"$error":"#VALUE!"},{"$error":"#VALUE!"},{"$error":"#VALUE!"},{"$f":"IF(SUM(CI$1262:CI1735)>0,0,IF(MAX(CB1736:CB$2702)=MAX(CB$1262:CB$2702),0,IF(BZ1736>0.03*BT$2703,0,$C1736/60)))","v":{"$error":"#VALUE!"}},{"$f":"IF(SUM(CJ$1262:CJ1735)>0,0,IF(MAX(CB1736:CB$2702)=MAX(CB$1262:CB$2702),0,IF(BZ1736>0.01*BT$2703,0,$C1736/60)))","v":{"$error":"#VALUE!"}},0,0,0,0,{"$error":"#VALUE!"},{"$error":"#VALUE!"},{"$error":"#VALUE!"},{"$error":"#VALUE!"},{"$error":"#VALUE!"},{"$error":"#VALUE!"},{"$error":"#VALUE!"},{"$error":"#VALUE!"},{"$error":"#VALUE!"},{"$error":"#VALUE!"},{"$error":"#VALUE!"},{"$f":"IF(SUM(CZ$1262:CZ1735)>0,0,IF(MAX(CS1736:CS$2702)=MAX(CS$1262:CS$2702),0,IF(CQ1736>0.03*CK$2703,0,$C1736/60)))","v":{"$error":"#VALUE!"}},{"$f":"IF(SUM(DA$1262:DA1735)>0,0,IF(MAX(CS1736:CS$2702)=MAX(CS$1262:CS$2702),0,IF(CQ1736>0.01*CK$2703,0,$C1736/60)))","v":{"$error":"#VALUE!"}}]
[null,39.583333333333336,2375,0,0,0,0,0,0,0,0,0,{"$error":"#N/A"},{"$error":"#N/A"},{"$error":"#N/A"},{"$error":"#N/A"},{"$error":"#N/A"},{"$error":"#N/A"},{"$f":"IF(SUM(S$1262:S1736)>0,0,\nIF(MAX(L1737:L$2702)=MAX(L$1262:L$2702),0,\nIF(Hydrograph_Source_WQCV=\"USER\",IF(J1737>0.03*D$2703,0,$C1737/60),\nIF(J1737>0.03*J$2703,0,$C1737/60))))","v":0},{"$f":"IF(SUM(T$1262:T1736)>0,0,\nIF(MAX(L1737:L$2702)=MAX(L$1262:L$2702),0,\nIF(Hydrograph_Source_WQCV=\"USER\",IF(J1737>0.01*D$2703,0,$C1737/60),\nIF(J1737>0.01*J$2703,0,$C1737/60))))","v":0},0,0,0,0,{"$error":"#VALUE!"},{"$error":"#VALUE!"},{"$error":"#VALUE!"},{"$error":"#VALUE!"},{"$error":"#VALUE!"},{"$error":"#VALUE!"},{"$error":"#VALUE!"},{"$error":"#VALUE!"},{"$error":"#VALUE!"},{"$error":"#VALUE!"},{"$error":"#VALUE!"},{"$f":"IF(SUM(AJ$1262:AJ1736)>0,0,IF(MAX(AC1737:AC$2702)=MAX(AC$1262:AC$2702),0,IF(AA1737>0.03*U$2703,0,$C1737/60)))","v":{"$error":"#VALUE!"}},{"$f":"IF(SUM(AK$1262:AK1736)>0,0,IF(MAX(AC1737:AC$2702)=MAX(AC$1262:AC$2702),0,IF(AA1737>0.01*U$2703,0,$C1737/60)))","v":{"$error":"#VALUE!"}},0,0,0,0,{"$error":"#VALUE!"},{"$error":"#VALUE!"},{"$error":"#VALUE!"},{"$error":"#VALUE!"},{"$error":"#VALUE!"},{"$error":"#VALUE!"},{"$error":"#VALUE!"},{"$error":"#VALUE!"},{"$error":"#VALUE!"},{"$error":"#VALUE!"},{"$error":"#VALUE!"},{"$f":"IF(SUM(BA$1262:BA1736)>0,0,IF(MAX(AT1737:AT$2702)=MAX(AT$1262:AT$2702),0,IF(AR1737>0.03*AL$2703,0,$C1737/60)))","v":{"$error":"#VALUE!"}},{"$f":"IF(SUM(BB$1262:BB1736)>0,0,IF(MAX(AT1737:AT$2702)=MAX(AT$1262:AT$2702),0,IF(AR1737>0.01*AL$2703,0,$C1737/60)))","v":{"$error":"#VALUE!"}},0,0,0,0,{"$error":"#VALUE!"},{"$error":"#VALUE!"},{"$error":"#VALUE!"},{"$error":"#VALUE!"},{"$error":"#VALUE!"},{"$error":"#VALUE!"},{"$error":"#VALUE!"},{"$error":"#VALUE!"},{"$error":"#VALUE!"},{"$error":"#VALUE!"},{"$error":"#VALUE!"},{"$f":"IF(SUM(BR$1262:BR1736)>0,0,IF(MAX(BK1737:BK$2702)=MAX(BK$1262:BK$2702),0,IF(BI1737>0.03*BC$2703,0,$C1737/60)))","v":{"$error":"#VALUE!"}},{"$f":"IF(SUM(BS$1262:BS1736)>0,0,IF(MAX(BK1737:BK$2702)=MAX(BK$1262:BK$2702),0,IF(BI1737>0.01*BC$2703,0,$C1737/60)))","v":{"$error":"#VALUE!"}},0,0,0,0,{"$error":"#VALUE!"},{"$error":"#VALUE!"},{"$error":"#VALUE!"},{"$error":"#VALUE!"},{"$error":"#VALUE!"},{"$error":"#VALUE!"},{"$error":"#VALUE!"},{"$error":"#VALUE!"},{"$error":"#VALUE!"},{"$error":"#VALUE!"},{"$error":"#VALUE!"},{"$f":"IF(SUM(CI$1262:CI1736)>0,0,IF(MAX(CB1737:CB$2702)=MAX(CB$1262:CB$2702),0,IF(BZ1737>0.03*BT$2703,0,$C1737/60)))","v":{"$error":"#VALUE!"}},{"$f":"IF(SUM(CJ$1262:CJ1736)>0,0,IF(MAX(CB1737:CB$2702)=MAX(CB$1262:CB$2702),0,IF(BZ1737>0.01*BT$2703,0,$C1737/60)))","v":{"$error":"#VALUE!"}},0,0,0,0,{"$error":"#VALUE!"},{"$error":"#VALUE!"},{"$error":"#VALUE!"},{"$error":"#VALUE!"},{"$error":"#VALUE!"},{"$error":"#VALUE!"},{"$error":"#VALUE!"},{"$error":"#VALUE!"},{"$error":"#VALUE!"},{"$error":"#VALUE!"},{"$error":"#VALUE!"},{"$f":"IF(SUM(CZ$1262:CZ1736)>0,0,IF(MAX(CS1737:CS$2702)=MAX(CS$1262:CS$2702),0,IF(CQ1737>0.03*CK$2703,0,$C1737/60)))","v":{"$error":"#VALUE!"}},{"$f":"IF(SUM(DA$1262:DA1736)>0,0,IF(MAX(CS1737:CS$2702)=MAX(CS$1262:CS$2702),0,IF(CQ1737>0.01*CK$2703,0,$C1737/60)))","v":{"$error":"#VALUE!"}}]
[null,40.083333333333336,2405,0,0,0,0,0,0,0,0,0,{"$error":"#N/A"},{"$error":"#N/A"},{"$error":"#N/A"},{"$error":"#N/A"},{"$error":"#N/A"},{"$error":"#N/A"},{"$f":"IF(SUM(S$1262:S1742)>0,0,\nIF(MAX(L1743:L$2702)=MAX(L$1262:L$2702),0,\nIF(Hydrograph_Source_WQCV=\"USER\",IF(J1743>0.03*D$2703,0,$C1743/60),\nIF(J1743>0.03*J$2703,0,$C1743/60))))","v":0},{"$f":"IF(SUM(T$1262:T1742)>0,0,\nIF(MAX(L1743:L$2702)=MAX(L$1262:L$2702),0,\nIF(Hydrograph_Source_WQCV=\"USER\",IF(J1743>0.01*D$2703,0,$C1743/60),\nIF(J1743>0.01*J$2703,0,$C1743/60))))","v":0},0,0,0,0,{"$error":"#VALUE!"},{"$error":"#VALUE!"},{"$error":"#VALUE!"},{"$error":"#VALUE!"},{"$error":"#VALUE!"},{"$error":"#VALUE!"},{"$error":"#VALUE!"},{"$error":"#VALUE!"},{"$error":"#VALUE!"},{"$error":"#VALUE!"},{"$error":"#VALUE!"},{"$f":"IF(SUM(AJ$1262:AJ1742)>0,0,IF(MAX(AC1743:AC$2702)=MAX(AC$1262:AC$2702),0,IF(AA1743>0.03*U$2703,0,$C1743/60)))","v":{"$error":"#VALUE!"}},{"$f":"IF(SUM(AK$1262:AK1742)>0,0,IF(MAX(AC1743:AC$2702)=MAX(AC$1262:AC$2702),0,IF(AA1743>0.01*U$2703,0,$C1743/60)))","v":{"$error":"#VALUE!"}},0,0,0,0,{"$error":"#VALUE!"},{"$error":"#VALUE!"},{"$error":"#VALUE!"},{"$error":"#VALUE!"},{"$error":"#VALUE!"},{"$error":"#VALUE!"},{"$error":"#VALUE!"},{"$error":"#VALUE!"},{"$error":"#VALUE!"},{"$error":"#VALUE!"},{"$error":"#VALUE!"},{"$f":"IF(SUM(BA$1262:BA1742)>0,0,IF(MAX(AT1743:AT$2702)=MAX(AT$1262:AT$2702),0,IF(AR1743>0.03*AL$2703,0,$C1743/60)))","v":{"$error":"#VALUE!"}},{"$f":"IF(SUM(BB$1262:BB1742)>0,0,IF(MAX(AT1743:AT$2702)=MAX(AT$1262:AT$2702),0,IF(AR1743>0.01*AL$2703,0,$C1743/60)))","v":{"$error":"#VALUE!"}},0,0,0,0,{"$error":"#VALUE!"},{"$error":"#VALUE!"},{"$error":"#VALUE!"},{"$error":"#VALUE!"},{"$error":"#VALUE!"},{"$error":"#VALUE!"},{"$error":"#VALUE!"},{"$error":"#VALUE!"},{"$error":"#VALUE!"},{"$error":"#VALUE!"},{"$error":"#VALUE!"},{"$f":"IF(SUM(BR$1262:BR1742)>0,0,IF(MAX(BK1743:BK$2702)=MAX(BK$1262:BK$2702),0,IF(BI1743>0.03*BC$2703,0,$C1743/60)))","v":{"$error":"#VALUE!"}},{"$f":"IF(SUM(BS$1262:BS1742)>0,0,IF(MAX(BK1743:BK$2702)=MAX(BK$1262:BK$2702),0,IF(BI1743>0.01*BC$2703,0,$C1743/60)))","v":{"$error":"#VALUE!"}},0,0,0,0,{"$error":"#VALUE!"},{"$error":"#VALUE!"},{"$error":"#VALUE!"},{"$error":"#VALUE!"},{"$error":"#VALUE!"},{"$error":"#VALUE!"},{"$error":"#VALUE!"},{"$error":"#VALUE!"},{"$error":"#VALUE!"},{"$error":"#VALUE!"},{"$error":"#VALUE!"},{"$f":"IF(SUM(CI$1262:CI1742)>0,0,IF(MAX(CB1743:CB$2702)=MAX(CB$1262:CB$2702),0,IF(BZ1743>0.03*BT$2703,0,$C1743/60)))","v":{"$error":"#VALUE!"}},{"$f":"IF(SUM(CJ$1262:CJ1742)>0,0,IF(MAX(CB1743:CB$2702)=MAX(CB$1262:CB$2702),0,IF(BZ1743>0.01*BT$2703,0,$C1743/60)))","v":{"$error":"#VALUE!"}},0,0,0,0,{"$error":"#VALUE!"},{"$error":"#VALUE!"},{"$error":"#VALUE!"},{"$error":"#VALUE!"},{"$error":"#VALUE!"},{"$error":"#VALUE!"},{"$error":"#VALUE!"},{"$error":"#VALUE!"},{"$error":"#VALUE!"},{"$error":"#VALUE!"},{"$error":"#VALUE!"},{"$f":"IF(SUM(CZ$1262:CZ1742)>0,0,IF(MAX(CS1743:CS$2702)=MAX(CS$1262:CS$2702),0,IF(CQ1743>0.03*CK$2703,0,$C1743/60)))","v":{"$error":"#VALUE!"}},{"$f":"IF(SUM(DA$1262:DA1742)>0,0,IF(MAX(CS1743:CS$2702)=MAX(CS$1262:CS$2702),0,IF(CQ1743>0.01*CK$2703,0,$C1743/60)))","v":{"$error":"#VALUE!"}}]
[null,40.5,2430,0,0,0,0,0,0,0,0,0,{"$error":"#N/A"},{"$error":"#N/A"},{"$error":"#N/A"},{"$error":"#N/A"},{"$error":"#N/A"},{"$error":"#N/A"},{"$f":"IF(SUM(S$1262:S1747)>0,0,\nIF(MAX(L1748:L$2702)=MAX(L$1262:L$2702),0,\nIF(Hydrograph_Source_WQCV=\"USER\",IF(J1748>0.03*D$2703,0,$C1748/60),\nIF(J1748>0.03*J$2703,0,$C1748/60))))","v":0},{"$f":"IF(SUM(T$1262:T1747)>0,0,\nIF(MAX(L1748:L$2702)=MAX(L$1262:L$2702),0,\nIF(Hydrograph_Source_WQCV=\"USER\",IF(J1748>0.01*D$2703,0,$C1748/60),\nIF(J1748>0.01*J$2703,0,$C1748/60))))","v":0},0,0,0,0,{"$error":"#VALUE!"},{"$error":"#VALUE!"},{"$error":"#VALUE!"},{"$error":"#VALUE!"},{"$error":"#VALUE!"},{"$error":"#VALUE!"},{"$error":"#VALUE!"},{"$error":"#VALUE!"},{"$error":"#VALUE!"},{"$error":"#VALUE!"},{"$error":"#VALUE!"},{"$f":"IF(SUM(AJ$1262:AJ1747)>0,0,IF(MAX(AC1748:AC$2702)=MAX(AC$1262:AC$2702),0,IF(AA1748>0.03*U$2703,0,$C1748/60)))","v":{"$error":"#VALUE!"}},{"$f":"IF(SUM(AK$1262:AK1747)>0,0,IF(MAX(AC1748:AC$2702)=MAX(AC$1262:AC$2702),0,IF(AA1748>0.01*U$2703,0,$C1748/60)))","v":{"$error":"#VALUE!"}},0,0,0,0,{"$error":"#VALUE!"},{"$error":"#VALUE!"},{"$error":"#VALUE!"},{"$error":"#VALUE!"},{"$error":"#VALUE!"},{"$error":"#VALUE!"},{"$error":"#VALUE!"},{"$error":"#VALUE!"},{"$error":"#VALUE!"},{"$error":"#VALUE!"},{"$error":"#VALUE!"},{"$f":"IF(SUM(BA$1262:BA1747)>0,0,IF(MAX(AT1748:AT$2702)=MAX(AT$1262:AT$2702),0,IF(AR1748>0.03*AL$2703,0,$C1748/60)))","v":{"$error":"#VALUE!"}},{"$f":"IF(SUM(BB$1262:BB1747)>0,0,IF(MAX(AT1748:AT$2702)=MAX(AT$1262:AT$2702),0,IF(AR1748>0.01*AL$2703,0,$C1748/60)))","v":{"$error":"#VALUE!"}},0,0,0,0,{"$error":"#VALUE!"},{"$error":"#VALUE!"},{"$error":"#VALUE!"},{"$error":"#VALUE!"},{"$error":"#VALUE!"},{"$error":"#VALUE!"},{"$error":"#VALUE!"},{"$error":"#VALUE!"},{"$error":"#VALUE!"},{"$error":"#VALUE!"},{"$error":"#VALUE!"},{"$f":"IF(SUM(BR$1262:BR1747)>0,0,IF(MAX(BK1748:BK$2702)=MAX(BK$1262:BK$2702),0,IF(BI1748>0.03*BC$2703,0,$C1748/60)))","v":{"$error":"#VALUE!"}},{"$f":"IF(SUM(BS$1262:BS1747)>0,0,IF(MAX(BK1748:BK$2702)=MAX(BK$1262:BK$2702),0,IF(BI1748>0.01*BC$2703,0,$C1748/60)))","v":{"$error":"#VALUE!"}},0,0,0,0,{"$error":"#VALUE!"},{"$error":"#VALUE!"},{"$error":"#VALUE!"},{"$error":"#VALUE!"},{"$error":"#VALUE!"},{"$error":"#VALUE!"},{"$error":"#VALUE!"},{"$error":"#VALUE!"},{"$error":"#VALUE!"},{"$error":"#VALUE!"},{"$error":"#VALUE!"},{"$f":"IF(SUM(CI$1262:CI1747)>0,0,IF(MAX(CB1748:CB$2702)=MAX(CB$1262:CB$2702),0,IF(BZ1748>0.03*BT$2703,0,$C1748/60)))","v":{"$error":"#VALUE!"}},{"$f":"IF(SUM(CJ$1262:CJ1747)>0,0,IF(MAX(CB1748:CB$2702)=MAX(CB$1262:CB$2702),0,IF(BZ1748>0.01*BT$2703,0,$C1748/60)))","v":{"$error":"#VALUE!"}},0,0,0,0,{"$error":"#VALUE!"},{"$error":"#VALUE!"},{"$error":"#VALUE!"},{"$error":"#VALUE!"},{"$error":"#VALUE!"},{"$error":"#VALUE!"},{"$error":"#VALUE!"},{"$error":"#VALUE!"},{"$error":"#VALUE!"},{"$error":"#VALUE!"},{"$error":"#VALUE!"},{"$f":"IF(SUM(CZ$1262:CZ1747)>0,0,IF(MAX(CS1748:CS$2702)=MAX(CS$1262:CS$2702),0,IF(CQ1748>0.03*CK$2703,0,$C1748/60)))","v":{"$error":"#VALUE!"}},{"$f":"IF(SUM(DA$1262:DA1747)>0,0,IF(MAX(CS1748:CS$2702)=MAX(CS$1262:CS$2702),0,IF(CQ1748>0.01*CK$2703,0,$C1748/60)))","v":{"$error":"#VALUE!"}}]
[null,40.75,2445,0,0,0,0,0,0,0,0,0,{"$error":"#N/A"},{"$error":"#N/A"},{"$error":"#N/A"},{"$error":"#N/A"},{"$error":"#N/A"},{"$error":"#N/A"},{"$f":"IF(SUM(S$1262:S1750)>0,0,\nIF(MAX(L1751:L$2702)=MAX(L$1262:L$2702),0,\nIF(Hydrograph_Source_WQCV=\"USER\",IF(J1751>0.03*D$2703,0,$C1751/60),\nIF(J1751>0.03*J$2703,0,$C1751/60))))","v":0},{"$f":"IF(SUM(T$1262:T1750)>0,0,\nIF(MAX(L1751:L$2702)=MAX(L$1262:L$2702),0,\nIF(Hydrograph_Source_WQCV=\"USER\",IF(J1751>0.01*D$2703,0,$C1751/60),\nIF(J1751>0.01*J$2703,0,$C1751/60))))","v":0},0,0,0,0,{"$error":"#VALUE!"},{"$error":"#VALUE!"},{"$error":"#VALUE!"},{"$error":"#VALUE!"},{"$error":"#VALUE!"},{"$error":"#VALUE!"},{"$error":"#VALUE!"},{"$error":"#VALUE!"},{"$error":"#VALUE!"},{"$error":"#VALUE!"},{"$error":"#VALUE!"},{"$f":"IF(SUM(AJ$1262:AJ1750)>0,0,IF(MAX(AC1751:AC$2702)=MAX(AC$1262:AC$2702),0,IF(AA1751>0.03*U$2703,0,$C1751/60)))","v":{"$error":"#VALUE!"}},{"$f":"IF(SUM(AK$1262:AK1750)>0,0,IF(MAX(AC1751:AC$2702)=MAX(AC$1262:AC$2702),0,IF(AA1751>0.01*U$2703,0,$C1751/60)))","v":{"$error":"#VALUE!"}},0,0,0,0,{"$error":"#VALUE!"},{"$error":"#VALUE!"},{"$error":"#VALUE!"},{"$error":"#VALUE!"},{"$error":"#VALUE!"},{"$error":"#VALUE!"},{"$error":"#VALUE!"},{"$error":"#VALUE!"},{"$error":"#VALUE!"},{"$error":"#VALUE!"},{"$error":"#VALUE!"},{"$f":"IF(SUM(BA$1262:BA1750)>0,0,IF(MAX(AT1751:AT$2702)=MAX(AT$1262:AT$2702),0,IF(AR1751>0.03*AL$2703,0,$C1751/60)))","v":{"$error":"#VALUE!"}},{"$f":"IF(SUM(BB$1262:BB1750)>0,0,IF(MAX(AT1751:AT$2702)=MAX(AT$1262:AT$2702),0,IF(AR1751>0.01*AL$2703,0,$C1751/60)))","v":{"$error":"#VALUE!"}},0,0,0,0,{"$error":"#VALUE!"},{"$error":"#VALUE!"},{"$error":"#VALUE!"},{"$error":"#VALUE!"},{"$error":"#VALUE!"},{"$error":"#VALUE!"},{"$error":"#VALUE!"},{"$error":"#VALUE!"},{"$error":"#VALUE!"},{"$error":"#VALUE!"},{"$error":"#VALUE!"},{"$f":"IF(SUM(BR$1262:BR1750)>0,0,IF(MAX(BK1751:BK$2702)=MAX(BK$1262:BK$2702),0,IF(BI1751>0.03*BC$2703,0,$C1751/60)))","v":{"$error":"#VALUE!"}},{"$f":"IF(SUM(BS$1262:BS1750)>0,0,IF(MAX(BK1751:BK$2702)=MAX(BK$1262:BK$2702),0,IF(BI1751>0.01*BC$2703,0,$C1751/60)))","v":{"$error":"#VALUE!"}},0,0,0,0,{"$error":"#VALUE!"},{"$error":"#VALUE!"},{"$error":"#VALUE!"},{"$error":"#VALUE!"},{"$error":"#VALUE!"},{"$error":"#VALUE!"},{"$error":"#VALUE!"},{"$error":"#VALUE!"},{"$error":"#VALUE!"},{"$error":"#VALUE!"},{"$error":"#VALUE!"},{"$f":"IF(SUM(CI$1262:CI1750)>0,0,IF(MAX(CB1751:CB$2702)=MAX(CB$1262:CB$2702),0,IF(BZ1751>0.03*BT$2703,0,$C1751/60)))","v":{"$error":"#VALUE!"}},{"$f":"IF(SUM(CJ$1262:CJ1750)>0,0,IF(MAX(CB1751:CB$2702)=MAX(CB$1262:CB$2702),0,IF(BZ1751>0.01*BT$2703,0,$C1751/60)))","v":{"$error":"#VALUE!"}},0,0,0,0,{"$error":"#VALUE!"},{"$error":"#VALUE!"},{"$error":"#VALUE!"},{"$error":"#VALUE!"},{"$error":"#VALUE!"},{"$error":"#VALUE!"},{"$error":"#VALUE!"},{"$error":"#VALUE!"},{"$error":"#VALUE!"},{"$error":"#VALUE!"},{"$error":"#VALUE!"},{"$f":"IF(SUM(CZ$1262:CZ1750)>0,0,IF(MAX(CS1751:CS$2702)=MAX(CS$1262:CS$2702),0,IF(CQ1751>0.03*CK$2703,0,$C1751/60)))","v":{"$error":"#VALUE!"}},{"$f":"IF(SUM(DA$1262:DA1750)>0,0,IF(MAX(CS1751:CS$2702)=MAX(CS$1262:CS$2702),0,IF(CQ1751>0.01*CK$2703,0,$C1751/60)))","v":{"$error":"#VALUE!"}}]
[null,41.083333333333336,2465,0,0,0,0,0,0,0,0,0,{"$error":"#N/A"},{"$error":"#N/A"},{"$error":"#N/A"},{"$error":"#N/A"},{"$error":"#N/A"},{"$error":"#N/A"},{"$f":"IF(SUM(S$1262:S1754)>0,0,\nIF(MAX(L1755:L$2702)=MAX(L$1262:L$2702),0,\nIF(Hydrograph_Source_WQCV=\"USER\",IF(J1755>0.03*D$2703,0,$C1755/60),\nIF(J1755>0.03*J$2703,0,$C1755/60))))","v":0},{"$f":"IF(SUM(T$1262:T1754)>0,0,\nIF(MAX(L1755:L$2702)=MAX(L$1262:L$2702),0,\nIF(Hydrograph_Source_WQCV=\"USER\",IF(J1755>0.01*D$2703,0,$C1755/60),\nIF(J1755>0.01*J$2703,0,$C1755/60))))","v":0},0,0,0,0,{"$error":"#VALUE!"},{"$error":"#VALUE!"},{"$error":"#VALUE!"},{"$error":"#VALUE!"},{"$error":"#VALUE!"},{"$error":"#VALUE!"},{"$error":"#VALUE!"},{"$error":"#VALUE!"},{"$error":"#VALUE!"},{"$error":"#VALUE!"},{"$error":"#VALUE!"},{"$f":"IF(SUM(AJ$1262:AJ1754)>0,0,IF(MAX(AC1755:AC$2702)=MAX(AC$1262:AC$2702),0,IF(AA1755>0.03*U$2703,0,$C1755/60)))","v":{"$error":"#VALUE!"}},{"$f":"IF(SUM(AK$1262:AK1754)>0,0,IF(MAX(AC1755:AC$2702)=MAX(AC$1262:AC$2702),0,IF(AA1755>0.01*U$2703,0,$C1755/60)))","v":{"$error":"#VALUE!"}},0,0,0,0,{"$error":"#VALUE!"},{"$error":"#VALUE!"},{"$error":"#VALUE!"},{"$error":"#VALUE!"},{"$error":"#VALUE!"},{"$error":"#VALUE!"},{"$error":"#VALUE!"},{"$error":"#VALUE!"},{"$error":"#VALUE!"},{"$error":"#VALUE!"},{"$error":"#VALUE!"},{"$f":"IF(SUM(BA$1262:BA1754)>0,0,IF(MAX(AT1755:AT$2702)=MAX(AT$1262:AT$2702),0,IF(AR1755>0.03*AL$2703,0,$C1755/60)))","v":{"$error":"#VALUE!"}},{"$f":"IF(SUM(BB$1262:BB1754)>0,0,IF(MAX(AT1755:AT$2702)=MAX(AT$1262:AT$2702),0,IF(AR1755>0.01*AL$2703,0,$C1755/60)))","v":{"$error":"#VALUE!"}},0,0,0,0,{"$error":"#VALUE!"},{"$error":"#VALUE!"},{"$error":"#VALUE!"},{"$error":"#VALUE!"},{"$error":"#VALUE!"},{"$error":"#VALUE!"},{"$error":"#VALUE!"},{"$error":"#VALUE!"},{"$error":"#VALUE!"},{"$error":"#VALUE!"},{"$error":"#VALUE!"},{"$f":"IF(SUM(BR$1262:BR1754)>0,0,IF(MAX(BK1755:BK$2702)=MAX(BK$1262:BK$2702),0,IF(BI1755>0.03*BC$2703,0,$C1755/60)))","v":{"$error":"#VALUE!"}},{"$f":"IF(SUM(BS$1262:BS1754)>0,0,IF(MAX(BK1755:BK$2702)=MAX(BK$1262:BK$2702),0,IF(BI1755>0.01*BC$2703,0,$C1755/60)))","v":{"$error":"#VALUE!"}},0,0,0,0,{"$error":"#VALUE!"},{"$error":"#VALUE!"},{"$error":"#VALUE!"},{"$error":"#VALUE!"},{"$error":"#VALUE!"},{"$error":"#VALUE!"},{"$error":"#VALUE!"},{"$error":"#VALUE!"},{"$error":"#VALUE!"},{"$error":"#VALUE!"},{"$error":"#VALUE!"},{"$f":"IF(SUM(CI$1262:CI1754)>0,0,IF(MAX(CB1755:CB$2702)=MAX(CB$1262:CB$2702),0,IF(BZ1755>0.03*BT$2703,0,$C1755/60)))","v":{"$error":"#VALUE!"}},{"$f":"IF(SUM(CJ$1262:CJ1754)>0,0,IF(MAX(CB1755:CB$2702)=MAX(CB$1262:CB$2702),0,IF(BZ1755>0.01*BT$2703,0,$C1755/60)))","v":{"$error":"#VALUE!"}},0,0,0,0,{"$error":"#VALUE!"},{"$error":"#VALUE!"},{"$error":"#VALUE!"},{"$error":"#VALUE!"},{"$error":"#VALUE!"},{"$error":"#VALUE!"},{"$error":"#VALUE!"},{"$error":"#VALUE!"},{"$error":"#VALUE!"},{"$error":"#VALUE!"},{"$error":"#VALUE!"},{"$f":"IF(SUM(CZ$1262:CZ1754)>0,0,IF(MAX(CS1755:CS$2702)=MAX(CS$1262:CS$2702),0,IF(CQ1755>0.03*CK$2703,0,$C1755/60)))","v":{"$error":"#VALUE!"}},{"$f":"IF(SUM(DA$1262:DA1754)>0,0,IF(MAX(CS1755:CS$2702)=MAX(CS$1262:CS$2702),0,IF(CQ1755>0.01*CK$2703,0,$C1755/60)))","v":{"$error":"#VALUE!"}}]
[null,41.5,2490,0,0,0,0,0,0,0,0,0,{"$error":"#N/A"},{"$error":"#N/A"},{"$error":"#N/A"},{"$error":"#N/A"},{"$error":"#N/A"},{"$error":"#N/A"},{"$f":"IF(SUM(S$1262:S1759)>0,0,\nIF(MAX(L1760:L$2702)=MAX(L$1262:L$2702),0,\nIF(Hydrograph_Source_WQCV=\"USER\",IF(J1760>0.03*D$2703,0,$C1760/60),\nIF(J1760>0.03*J$2703,0,$C1760/60))))","v":0},{"$f":"IF(SUM(T$1262:T1759)>0,0,\nIF(MAX(L1760:L$2702)=MAX(L$1262:L$2702),0,\nIF(Hydrograph_Source_WQCV=\"USER\",IF(J1760>0.01*D$2703,0,$C1760/60),\nIF(J1760>0.01*J$2703,0,$C1760/60))))","v":0},0,0,0,0,{"$error":"#VALUE!"},{"$error":"#VALUE!"},{"$error":"#VALUE!"},{"$error":"#VALUE!"},{"$error":"#VALUE!"},{"$error":"#VALUE!"},{"$error":"#VALUE!"},{"$error":"#VALUE!"},{"$error":"#VALUE!"},{"$error":"#VALUE!"},{"$error":"#VALUE!"},{"$f":"IF(SUM(AJ$1262:AJ1759)>0,0,IF(MAX(AC1760:AC$2702)=MAX(AC$1262:AC$2702),0,IF(AA1760>0.03*U$2703,0,$C1760/60)))","v":{"$error":"#VALUE!"}},{"$f":"IF(SUM(AK$1262:AK1759)>0,0,IF(MAX(AC1760:AC$2702)=MAX(AC$1262:AC$2702),0,IF(AA1760>0.01*U$2703,0,$C1760/60)))","v":{"$error":"#VALUE!"}},0,0,0,0,{"$error":"#VALUE!"},{"$error":"#VALUE!"},{"$error":"#VALUE!"},{"$error":"#VALUE!"},{"$error":"#VALUE!"},{"$error":"#VALUE!"},{"$error":"#VALUE!"},{"$error":"#VALUE!"},{"$error":"#VALUE!"},{"$error":"#VALUE!"},{"$error":"#VALUE!"},{"$f":"IF(SUM(BA$1262:BA1759)>0,0,IF(MAX(AT1760:AT$2702)=MAX(AT$1262:AT$2702),0,IF(AR1760>0.03*AL$2703,0,$C1760/60)))","v":{"$error":"#VALUE!"}},{"$f":"IF(SUM(BB$1262:BB1759)>0,0,IF(MAX(AT1760:AT$2702)=MAX(AT$1262:AT$2702),0,IF(AR1760>0.01*AL$2703,0,$C1760/60)))","v":{"$error":"#VALUE!"}},0,0,0,0,{"$error":"#VALUE!"},{"$error":"#VALUE!"},{"$error":"#VALUE!"},{"$error":"#VALUE!"},{"$error":"#VALUE!"},{"$error":"#VALUE!"},{"$error":"#VALUE!"},{"$error":"#VALUE!"},{"$error":"#VALUE!"},{"$error":"#VALUE!"},{"$error":"#VALUE!"},{"$f":"IF(SUM(BR$1262:BR1759)>0,0,IF(MAX(BK1760:BK$2702)=MAX(BK$1262:BK$2702),0,IF(BI1760>0.03*BC$2703,0,$C1760/60)))","v":{"$error":"#VALUE!"}},{"$f":"IF(SUM(BS$1262:BS1759)>0,0,IF(MAX(BK1760:BK$2702)=MAX(BK$1262:BK$2702),0,IF(BI1760>0.01*BC$2703,0,$C1760/60)))","v":{"$error":"#VALUE!"}},0,0,0,0,{"$error":"#VALUE!"},{"$error":"#VALUE!"},{"$error":"#VALUE!"},{"$error":"#VALUE!"},{"$error":"#VALUE!"},{"$error":"#VALUE!"},{"$error":"#VALUE!"},{"$error":"#VALUE!"},{"$error":"#VALUE!"},{"$error":"#VALUE!"},{"$error":"#VALUE!"},{"$f":"IF(SUM(CI$1262:CI1759)>0,0,IF(MAX(CB1760:CB$2702)=MAX(CB$1262:CB$2702),0,IF(BZ1760>0.03*BT$2703,0,$C1760/60)))","v":{"$error":"#VALUE!"}},{"$f":"IF(SUM(CJ$1262:CJ1759)>0,0,IF(MAX(CB1760:CB$2702)=MAX(CB$1262:CB$2702),0,IF(BZ1760>0.01*BT$2703,0,$C1760/60)))","v":{"$error":"#VALUE!"}},0,0,0,0,{"$error":"#VALUE!"},{"$error":"#VALUE!"},{"$error":"#VALUE!"},{"$error":"#VALUE!"},{"$error":"#VALUE!"},{"$error":"#VALUE!"},{"$error":"#VALUE!"},{"$error":"#VALUE!"},{"$error":"#VALUE!"},{"$error":"#VALUE!"},{"$error":"#VALUE!"},{"$f":"IF(SUM(CZ$1262:CZ1759)>0,0,IF(MAX(CS1760:CS$2702)=MAX(CS$1262:CS$2702),0,IF(CQ1760>0.03*CK$2703,0,$C1760/60)))","v":{"$error":"#VALUE!"}},{"$f":"IF(SUM(DA$1262:DA1759)>0,0,IF(MAX(CS1760:CS$2702)=MAX(CS$1262:CS$2702),0,IF(CQ1760>0.01*CK$2703,0,$C1760/60)))","v":{"$error":"#VALUE!"}}]
[null,41.916666666666664,2515,0,0,0,0,0,0,0,0,0,{"$error":"#N/A"},{"$error":"#N/A"},{"$error":"#N/A"},{"$error":"#N/A"},{"$error":"#N/A"},{"$error":"#N/A"},{"$f":"IF(SUM(S$1262:S1764)>0,0,\nIF(MAX(L1765:L$2702)=MAX(L$1262:L$2702),0,\nIF(Hydrograph_Source_WQCV=\"USER\",IF(J1765>0.03*D$2703,0,$C1765/60),\nIF(J1765>0.03*J$2703,0,$C1765/60))))","v":0},{"$f":"IF(SUM(T$1262:T1764)>0,0,\nIF(MAX(L1765:L$2702)=MAX(L$1262:L$2702),0,\nIF(Hydrograph_Source_WQCV=\"USER\",IF(J1765>0.01*D$2703,0,$C1765/60),\nIF(J1765>0.01*J$2703,0,$C1765/60))))","v":0},0,0,0,0,{"$error":"#VALUE!"},{"$error":"#VALUE!"},{"$error":"#VALUE!"},{"$error":"#VALUE!"},{"$error":"#VALUE!"},{"$error":"#VALUE!"},{"$error":"#VALUE!"},{"$error":"#VALUE!"},{"$error":"#VALUE!"},{"$error":"#VALUE!"},{"$error":"#VALUE!"},{"$f":"IF(SUM(AJ$1262:AJ1764)>0,0,IF(MAX(AC1765:AC$2702)=MAX(AC$1262:AC$2702),0,IF(AA1765>0.03*U$2703,0,$C1765/60)))","v":{"$error":"#VALUE!"}},{"$f":"IF(SUM(AK$1262:AK1764)>0,0,IF(MAX(AC1765:AC$2702)=MAX(AC$1262:AC$2702),0,IF(AA1765>0.01*U$2703,0,$C1765/60)))","v":{"$error":"#VALUE!"}},0,0,0,0,{"$error":"#VALUE!"},{"$error":"#VALUE!"},{"$error":"#VALUE!"},{"$error":"#VALUE!"},{"$error":"#VALUE!"},{"$error":"#VALUE!"},{"$error":"#VALUE!"},{"$error":"#VALUE!"},{"$error":"#VALUE!"},{"$error":"#VALUE!"},{"$error":"#VALUE!"},{"$f":"IF(SUM(BA$1262:BA1764)>0,0,IF(MAX(AT1765:AT$2702)=MAX(AT$1262:AT$2702),0,IF(AR1765>0.03*AL$2703,0,$C1765/60)))","v":{"$error":"#VALUE!"}},{"$f":"IF(SUM(BB$1262:BB1764)>0,0,IF(MAX(AT1765:AT$2702)=MAX(AT$1262:AT$2702),0,IF(AR1765>0.01*AL$2703,0,$C1765/60)))","v":{"$error":"#VALUE!"}},0,0,0,0,{"$error":"#VALUE!"},{"$error":"#VALUE!"},{"$error":"#VALUE!"},{"$error":"#VALUE!"},{"$error":"#VALUE!"},{"$error":"#VALUE!"},{"$error":"#VALUE!"},{"$error":"#VALUE!"},{"$error":"#VALUE!"},{"$error":"#VALUE!"},{"$error":"#VALUE!"},{"$f":"IF(SUM(BR$1262:BR1764)>0,0,IF(MAX(BK1765:BK$2702)=MAX(BK$1262:BK$2702),0,IF(BI1765>0.03*BC$2703,0,$C1765/60)))","v":{"$error":"#VALUE!"}},{"$f":"IF(SUM(BS$1262:BS1764)>0,0,IF(MAX(BK1765:BK$2702)=MAX(BK$1262:BK$2702),0,IF(BI1765>0.01*BC$2703,0,$C1765/60)))","v":{"$error":"#VALUE!"}},0,0,0,0,{"$error":"#VALUE!"},{"$error":"#VALUE!"},{"$error":"#VALUE!"},{"$error":"#VALUE!"},{"$error":"#VALUE!"},{"$error":"#VALUE!"},{"$error":"#VALUE!"},{"$error":"#VALUE!"},{"$error":"#VALUE!"},{"$error":"#VALUE!"},{"$error":"#VALUE!"},{"$f":"IF(SUM(CI$1262:CI1764)>0,0,IF(MAX(CB1765:CB$2702)=MAX(CB$1262:CB$2702),0,IF(BZ1765>0.03*BT$2703,0,$C1765/60)))","v":{"$error":"#VALUE!"}},{"$f":"IF(SUM(CJ$1262:CJ1764)>0,0,IF(MAX(CB1765:CB$2702)=MAX(CB$1262:CB$2702),0,IF(BZ1765>0.01*BT$2703,0,$C1765/60)))","v":{"$error":"#VALUE!"}},0,0,0,0,{"$error":"#VALUE!"},{"$error":"#VALUE!"},{"$error":"#VALUE!"},{"$error":"#VALUE!"},{"$error":"#VALUE!"},{"$error":"#VALUE!"},{"$error":"#VALUE!"},{"$error":"#VALUE!"},{"$error":"#VALUE!"},{"$error":"#VALUE!"},{"$error":"#VALUE!"},{"$f":"IF(SUM(CZ$1262:CZ1764)>0,0,IF(MAX(CS1765:CS$2702)=MAX(CS$1262:CS$2702),0,IF(CQ1765>0.03*CK$2703,0,$C1765/60)))","v":{"$error":"#VALUE!"}},{"$f":"IF(SUM(DA$1262:DA1764)>0,0,IF(MAX(CS1765:CS$2702)=MAX(CS$1262:CS$2702),0,IF(CQ1765>0.01*CK$2703,0,$C1765/60)))","v":{"$error":"#VALUE!"}}]
[null,42.416666666666664,2545,0,0,0,0,0,0,0,0,0,{"$error":"#N/A"},{"$error":"#N/A"},{"$error":"#N/A"},{"$error":"#N/A"},{"$error":"#N/A"},{"$error":"#N/A"},{"$f":"IF(SUM(S$1262:S1770)>0,0,\nIF(MAX(L1771:L$2702)=MAX(L$1262:L$2702),0,\nIF(Hydrograph_Source_WQCV=\"USER\",IF(J1771>0.03*D$2703,0,$C1771/60),\nIF(J1771>0.03*J$2703,0,$C1771/60))))","v":0},{"$f":"IF(SUM(T$1262:T1770)>0,0,\nIF(MAX(L1771:L$2702)=MAX(L$1262:L$2702),0,\nIF(Hydrograph_Source_WQCV=\"USER\",IF(J1771>0.01*D$2703,0,$C1771/60),\nIF(J1771>0.01*J$2703,0,$C1771/60))))","v":0},0,0,0,0,{"$error":"#VALUE!"},{"$error":"#VALUE!"},{"$error":"#VALUE!"},{"$error":"#VALUE!"},{"$error":"#VALUE!"},{"$error":"#VALUE!"},{"$error":"#VALUE!"},{"$error":"#VALUE!"},{"$error":"#VALUE!"},{"$error":"#VALUE!"},{"$error":"#VALUE!"},{"$f":"IF(SUM(AJ$1262:AJ1770)>0,0,IF(MAX(AC1771:AC$2702)=MAX(AC$1262:AC$2702),0,IF(AA1771>0.03*U$2703,0,$C1771/60)))","v":{"$error":"#VALUE!"}},{"$f":"IF(SUM(AK$1262:AK1770)>0,0,IF(MAX(AC1771:AC$2702)=MAX(AC$1262:AC$2702),0,IF(AA1771>0.01*U$2703,0,$C1771/60)))","v":{"$error":"#VALUE!"}},0,0,0,0,{"$error":"#VALUE!"},{"$error":"#VALUE!"},{"$error":"#VALUE!"},{"$error":"#VALUE!"},{"$error":"#VALUE!"},{"$error":"#VALUE!"},{"$error":"#VALUE!"},{"$error":"#VALUE!"},{"$error":"#VALUE!"},{"$error":"#VALUE!"},{"$error":"#VALUE!"},{"$f":"IF(SUM(BA$1262:BA1770)>0,0,IF(MAX(AT1771:AT$2702)=MAX(AT$1262:AT$2702),0,IF(AR1771>0.03*AL$2703,0,$C1771/60)))","v":{"$error":"#VALUE!"}},{"$f":"IF(SUM(BB$1262:BB1770)>0,0,IF(MAX(AT1771:AT$2702)=MAX(AT$1262:AT$2702),0,IF(AR1771>0.01*AL$2703,0,$C1771/60)))","v":{"$error":"#VALUE!"}},0,0,0,0,{"$error":"#VALUE!"},{"$error":"#VALUE!"},{"$error":"#VALUE!"},{"$error":"#VALUE!"},{"$error":"#VALUE!"},{"$error":"#VALUE!"},{"$error":"#VALUE!"},{"$error":"#VALUE!"},{"$error":"#VALUE!"},{"$error":"#VALUE!"},{"$error":"#VALUE!"},{"$f":"IF(SUM(BR$1262:BR1770)>0,0,IF(MAX(BK1771:BK$2702)=MAX(BK$1262:BK$2702),0,IF(BI1771>0.03*BC$2703,0,$C1771/60)))","v":{"$error":"#VALUE!"}},{"$f":"IF(SUM(BS$1262:BS1770)>0,0,IF(MAX(BK1771:BK$2702)=MAX(BK$1262:BK$2702),0,IF(BI1771>0.01*BC$2703,0,$C1771/60)))","v":{"$error":"#VALUE!"}},0,0,0,0,{"$error":"#VALUE!"},{"$error":"#VALUE!"},{"$error":"#VALUE!"},{"$error":"#VALUE!"},{"$error":"#VALUE!"},{"$error":"#VALUE!"},{"$error":"#VALUE!"},{"$error":"#VALUE!"},{"$error":"#VALUE!"},{"$error":"#VALUE!"},{"$error":"#VALUE!"},{"$f":"IF(SUM(CI$1262:CI1770)>0,0,IF(MAX(CB1771:CB$2702)=MAX(CB$1262:CB$2702),0,IF(BZ1771>0.03*BT$2703,0,$C1771/60)))","v":{"$error":"#VALUE!"}},{"$f":"IF(SUM(CJ$1262:CJ1770)>0,0,IF(MAX(CB1771:CB$2702)=MAX(CB$1262:CB$2702),0,IF(BZ1771>0.01*BT$2703,0,$C1771/60)))","v":{"$error":"#VALUE!"}},0,0,0,0,{"$error":"#VALUE!"},{"$error":"#VALUE!"},{"$error":"#VALUE!"},{"$error":"#VALUE!"},{"$error":"#VALUE!"},{"$error":"#VALUE!"},{"$error":"#VALUE!"},{"$error":"#VALUE!"},{"$error":"#VALUE!"},{"$error":"#VALUE!"},{"$error":"#VALUE!"},{"$f":"IF(SUM(CZ$1262:CZ1770)>0,0,IF(MAX(CS1771:CS$2702)=MAX(CS$1262:CS$2702),0,IF(CQ1771>0.03*CK$2703,0,$C1771/60)))","v":{"$error":"#VALUE!"}},{"$f":"IF(SUM(DA$1262:DA1770)>0,0,IF(MAX(CS1771:CS$2702)=MAX(CS$1262:CS$2702),0,IF(CQ1771>0.01*CK$2703,0,$C1771/60)))","v":{"$error":"#VALUE!"}}]
[null,42.5,2550,0,0,0,0,0,0,0,0,0,{"$error":"#N/A"},{"$error":"#N/A"},{"$error":"#N/A"},{"$error":"#N/A"},{"$error":"#N/A"},{"$error":"#N/A"},{"$f":"IF(SUM(S$1262:S1771)>0,0,\nIF(MAX(L1772:L$2702)=MAX(L$1262:L$2702),0,\nIF(Hydrograph_Source_WQCV=\"USER\",IF(J1772>0.03*D$2703,0,$C1772/60),\nIF(J1772>0.03*J$2703,0,$C1772/60))))","v":0},{"$f":"IF(SUM(T$1262:T1771)>0,0,\nIF(MAX(L1772:L$2702)=MAX(L$1262:L$2702),0,\nIF(Hydrograph_Source_WQCV=\"USER\",IF(J1772>0.01*D$2703,0,$C1772/60),\nIF(J1772>0.01*J$2703,0,$C1772/60))))","v":0},0,0,0,0,{"$error":"#VALUE!"},{"$error":"#VALUE!"},{"$error":"#VALUE!"},{"$error":"#VALUE!"},{"$error":"#VALUE!"},{"$error":"#VALUE!"},{"$error":"#VALUE!"},{"$error":"#VALUE!"},{"$error":"#VALUE!"},{"$error":"#VALUE!"},{"$error":"#VALUE!"},{"$f":"IF(SUM(AJ$1262:AJ1771)>0,0,IF(MAX(AC1772:AC$2702)=MAX(AC$1262:AC$2702),0,IF(AA1772>0.03*U$2703,0,$C1772/60)))","v":{"$error":"#VALUE!"}},{"$f":"IF(SUM(AK$1262:AK1771)>0,0,IF(MAX(AC1772:AC$2702)=MAX(AC$1262:AC$2702),0,IF(AA1772>0.01*U$2703,0,$C1772/60)))","v":{"$error":"#VALUE!"}},0,0,0,0,{"$error":"#VALUE!"},{"$error":"#VALUE!"},{"$error":"#VALUE!"},{"$error":"#VALUE!"},{"$error":"#VALUE!"},{"$error":"#VALUE!"},{"$error":"#VALUE!"},{"$error":"#VALUE!"},{"$error":"#VALUE!"},{"$error":"#VALUE!"},{"$error":"#VALUE!"},{"$f":"IF(SUM(BA$1262:BA1771)>0,0,IF(MAX(AT1772:AT$2702)=MAX(AT$1262:AT$2702),0,IF(AR1772>0.03*AL$2703,0,$C1772/60)))","v":{"$error":"#VALUE!"}},{"$f":"IF(SUM(BB$1262:BB1771)>0,0,IF(MAX(AT1772:AT$2702)=MAX(AT$1262:AT$2702),0,IF(AR1772>0.01*AL$2703,0,$C1772/60)))","v":{"$error":"#VALUE!"}},0,0,0,0,{"$error":"#VALUE!"},{"$error":"#VALUE!"},{"$error":"#VALUE!"},{"$error":"#VALUE!"},{"$error":"#VALUE!"},{"$error":"#VALUE!"},{"$error":"#VALUE!"},{"$error":"#VALUE!"},{"$error":"#VALUE!"},{"$error":"#VALUE!"},{"$error":"#VALUE!"},{"$f":"IF(SUM(BR$1262:BR1771)>0,0,IF(MAX(BK1772:BK$2702)=MAX(BK$1262:BK$2702),0,IF(BI1772>0.03*BC$2703,0,$C1772/60)))","v":{"$error":"#VALUE!"}},{"$f":"IF(SUM(BS$1262:BS1771)>0,0,IF(MAX(BK1772:BK$2702)=MAX(BK$1262:BK$2702),0,IF(BI1772>0.01*BC$2703,0,$C1772/60)))","v":{"$error":"#VALUE!"}},0,0,0,0,{"$error":"#VALUE!"},{"$error":"#VALUE!"},{"$error":"#VALUE!"},{"$error":"#VALUE!"},{"$error":"#VALUE!"},{"$error":"#VALUE!"},{"$error":"#VALUE!"},{"$error":"#VALUE!"},{"$error":"#VALUE!"},{"$error":"#VALUE!"},{"$error":"#VALUE!"},{"$f":"IF(SUM(CI$1262:CI1771)>0,0,IF(MAX(CB1772:CB$2702)=MAX(CB$1262:CB$2702),0,IF(BZ1772>0.03*BT$2703,0,$C1772/60)))","v":{"$error":"#VALUE!"}},{"$f":"IF(SUM(CJ$1262:CJ1771)>0,0,IF(MAX(CB1772:CB$2702)=MAX(CB$1262:CB$2702),0,IF(BZ1772>0.01*BT$2703,0,$C1772/60)))","v":{"$error":"#VALUE!"}},0,0,0,0,{"$error":"#VALUE!"},{"$error":"#VALUE!"},{"$error":"#VALUE!"},{"$error":"#VALUE!"},{"$error":"#VALUE!"},{"$error":"#VALUE!"},{"$error":"#VALUE!"},{"$error":"#VALUE!"},{"$error":"#VALUE!"},{"$error":"#VALUE!"},{"$error":"#VALUE!"},{"$f":"IF(SUM(CZ$1262:CZ1771)>0,0,IF(MAX(CS1772:CS$2702)=MAX(CS$1262:CS$2702),0,IF(CQ1772>0.03*CK$2703,0,$C1772/60)))","v":{"$error":"#VALUE!"}},{"$f":"IF(SUM(DA$1262:DA1771)>0,0,IF(MAX(CS1772:CS$2702)=MAX(CS$1262:CS$2702),0,IF(CQ1772>0.01*CK$2703,0,$C1772/60)))","v":{"$error":"#VALUE!"}}]
[null,43.166666666666664,2590,0,0,0,0,0,0,0,0,0,{"$error":"#N/A"},{"$error":"#N/A"},{"$error":"#N/A"},{"$error":"#N/A"},{"$error":"#N/A"},{"$error":"#N/A"},{"$f":"IF(SUM(S$1262:S1779)>0,0,\nIF(MAX(L1780:L$2702)=MAX(L$1262:L$2702),0,\nIF(Hydrograph_Source_WQCV=\"USER\",IF(J1780>0.03*D$2703,0,$C1780/60),\nIF(J1780>0.03*J$2703,0,$C1780/60))))","v":0},{"$f":"IF(SUM(T$1262:T1779)>0,0,\nIF(MAX(L1780:L$2702)=MAX(L$1262:L$2702),0,\nIF(Hydrograph_Source_WQCV=\"USER\",IF(J1780>0.01*D$2703,0,$C1780/60),\nIF(J1780>0.01*J$2703,0,$C1780/60))))","v":0},0,0,0,0,{"$error":"#VALUE!"},{"$error":"#VALUE!"},{"$error":"#VALUE!"},{"$error":"#VALUE!"},{"$error":"#VALUE!"},{"$error":"#VALUE!"},{"$error":"#VALUE!"},{"$error":"#VALUE!"},{"$error":"#VALUE!"},{"$error":"#VALUE!"},{"$error":"#VALUE!"},{"$f":"IF(SUM(AJ$1262:AJ1779)>0,0,IF(MAX(AC1780:AC$2702)=MAX(AC$1262:AC$2702),0,IF(AA1780>0.03*U$2703,0,$C1780/60)))","v":{"$error":"#VALUE!"}},{"$f":"IF(SUM(AK$1262:AK1779)>0,0,IF(MAX(AC1780:AC$2702)=MAX(AC$1262:AC$2702),0,IF(AA1780>0.01*U$2703,0,$C1780/60)))","v":{"$error":"#VALUE!"}},0,0,0,0,{"$error":"#VALUE!"},{"$error":"#VALUE!"},{"$error":"#VALUE!"},{"$error":"#VALUE!"},{"$error":"#VALUE!"},{"$error":"#VALUE!"},{"$error":"#VALUE!"},{"$error":"#VALUE!"},{"$error":"#VALUE!"},{"$error":"#VALUE!"},{"$error":"#VALUE!"},{"$f":"IF(SUM(BA$1262:BA1779)>0,0,IF(MAX(AT1780:AT$2702)=MAX(AT$1262:AT$2702),0,IF(AR1780>0.03*AL$2703,0,$C1780/60)))","v":{"$error":"#VALUE!"}},{"$f":"IF(SUM(BB$1262:BB1779)>0,0,IF(MAX(AT1780:AT$2702)=MAX(AT$1262:AT$2702),0,IF(AR1780>0.01*AL$2703,0,$C1780/60)))","v":{"$error":"#VALUE!"}},0,0,0,0,{"$error":"#VALUE!"},{"$error":"#VALUE!"},{"$error":"#VALUE!"},{"$error":"#VALUE!"},{"$error":"#VALUE!"},{"$error":"#VALUE!"},{"$error":"#VALUE!"},{"$error":"#VALUE!"},{"$error":"#VALUE!"},{"$error":"#VALUE!"},{"$error":"#VALUE!"},{"$f":"IF(SUM(BR$1262:BR1779)>0,0,IF(MAX(BK1780:BK$2702)=MAX(BK$1262:BK$2702),0,IF(BI1780>0.03*BC$2703,0,$C1780/60)))","v":{"$error":"#VALUE!"}},{"$f":"IF(SUM(BS$1262:BS1779)>0,0,IF(MAX(BK1780:BK$2702)=MAX(BK$1262:BK$2702),0,IF(BI1780>0.01*BC$2703,0,$C1780/60)))","v":{"$error":"#VALUE!"}},0,0,0,0,{"$error":"#VALUE!"},{"$error":"#VALUE!"},{"$error":"#VALUE!"},{"$error":"#VALUE!"},{"$error":"#VALUE!"},{"$error":"#VALUE!"},{"$error":"#VALUE!"},{"$error":"#VALUE!"},{"$error":"#VALUE!"},{"$error":"#VALUE!"},{"$error":"#VALUE!"},{"$f":"IF(SUM(CI$1262:CI1779)>0,0,IF(MAX(CB1780:CB$2702)=MAX(CB$1262:CB$2702),0,IF(BZ1780>0.03*BT$2703,0,$C1780/60)))","v":{"$error":"#VALUE!"}},{"$f":"IF(SUM(CJ$1262:CJ1779)>0,0,IF(MAX(CB1780:CB$2702)=MAX(CB$1262:CB$2702),0,IF(BZ1780>0.01*BT$2703,0,$C1780/60)))","v":{"$error":"#VALUE!"}},0,0,0,0,{"$error":"#VALUE!"},{"$error":"#VALUE!"},{"$error":"#VALUE!"},{"$error":"#VALUE!"},{"$error":"#VALUE!"},{"$error":"#VALUE!"},{"$error":"#VALUE!"},{"$error":"#VALUE!"},{"$error":"#VALUE!"},{"$error":"#VALUE!"},{"$error":"#VALUE!"},{"$f":"IF(SUM(CZ$1262:CZ1779)>0,0,IF(MAX(CS1780:CS$2702)=MAX(CS$1262:CS$2702),0,IF(CQ1780>0.03*CK$2703,0,$C1780/60)))","v":{"$error":"#VALUE!"}},{"$f":"IF(SUM(DA$1262:DA1779)>0,0,IF(MAX(CS1780:CS$2702)=MAX(CS$1262:CS$2702),0,IF(CQ1780>0.01*CK$2703,0,$C1780/60)))","v":{"$error":"#VALUE!"}}]
[null,43.416666666666664,2605,0,0,0,0,0,0,0,0,0,{"$error":"#N/A"},{"$error":"#N/A"},{"$error":"#N/A"},{"$error":"#N/A"},{"$error":"#N/A"},{"$error":"#N/A"},{"$f":"IF(SUM(S$1262:S1782)>0,0,\nIF(MAX(L1783:L$2702)=MAX(L$1262:L$2702),0,\nIF(Hydrograph_Source_WQCV=\"USER\",IF(J1783>0.03*D$2703,0,$C1783/60),\nIF(J1783>0.03*J$2703,0,$C1783/60))))","v":0},{"$f":"IF(SUM(T$1262:T1782)>0,0,\nIF(MAX(L1783:L$2702)=MAX(L$1262:L$2702),0,\nIF(Hydrograph_Source_WQCV=\"USER\",IF(J1783>0.01*D$2703,0,$C1783/60),\nIF(J1783>0.01*J$2703,0,$C1783/60))))","v":0},0,0,0,0,{"$error":"#VALUE!"},{"$error":"#VALUE!"},{"$error":"#VALUE!"},{"$error":"#VALUE!"},{"$error":"#VALUE!"},{"$error":"#VALUE!"},{"$error":"#VALUE!"},{"$error":"#VALUE!"},{"$error":"#VALUE!"},{"$error":"#VALUE!"},{"$error":"#VALUE!"},{"$f":"IF(SUM(AJ$1262:AJ1782)>0,0,IF(MAX(AC1783:AC$2702)=MAX(AC$1262:AC$2702),0,IF(AA1783>0.03*U$2703,0,$C1783/60)))","v":{"$error":"#VALUE!"}},{"$f":"IF(SUM(AK$1262:AK1782)>0,0,IF(MAX(AC1783:AC$2702)=MAX(AC$1262:AC$2702),0,IF(AA1783>0.01*U$2703,0,$C1783/60)))","v":{"$error":"#VALUE!"}},0,0,0,0,{"$error":"#VALUE!"},{"$error":"#VALUE!"},{"$error":"#VALUE!"},{"$error":"#VALUE!"},{"$error":"#VALUE!"},{"$error":"#VALUE!"},{"$error":"#VALUE!"},{"$error":"#VALUE!"},{"$error":"#VALUE!"},{"$error":"#VALUE!"},{"$error":"#VALUE!"},{"$f":"IF(SUM(BA$1262:BA1782)>0,0,IF(MAX(AT1783:AT$2702)=MAX(AT$1262:AT$2702),0,IF(AR1783>0.03*AL$2703,0,$C1783/60)))","v":{"$error":"#VALUE!"}},{"$f":"IF(SUM(BB$1262:BB1782)>0,0,IF(MAX(AT1783:AT$2702)=MAX(AT$1262:AT$2702),0,IF(AR1783>0.01*AL$2703,0,$C1783/60)))","v":{"$error":"#VALUE!"}},0,0,0,0,{"$error":"#VALUE!"},{"$error":"#VALUE!"},{"$error":"#VALUE!"},{"$error":"#VALUE!"},{"$error":"#VALUE!"},{"$error":"#VALUE!"},{"$error":"#VALUE!"},{"$error":"#VALUE!"},{"$error":"#VALUE!"},{"$error":"#VALUE!"},{"$error":"#VALUE!"},{"$f":"IF(SUM(BR$1262:BR1782)>0,0,IF(MAX(BK1783:BK$2702)=MAX(BK$1262:BK$2702),0,IF(BI1783>0.03*BC$2703,0,$C1783/60)))","v":{"$error":"#VALUE!"}},{"$f":"IF(SUM(BS$1262:BS1782)>0,0,IF(MAX(BK1783:BK$2702)=MAX(BK$1262:BK$2702),0,IF(BI1783>0.01*BC$2703,0,$C1783/60)))","v":{"$error":"#VALUE!"}},0,0,0,0,{"$error":"#VALUE!"},{"$error":"#VALUE!"},{"$error":"#VALUE!"},{"$error":"#VALUE!"},{"$error":"#VALUE!"},{"$error":"#VALUE!"},{"$error":"#VALUE!"},{"$error":"#VALUE!"},{"$error":"#VALUE!"},{"$error":"#VALUE!"},{"$error":"#VALUE!"},{"$f":"IF(SUM(CI$1262:CI1782)>0,0,IF(MAX(CB1783:CB$2702)=MAX(CB$1262:CB$2702),0,IF(BZ1783>0.03*BT$2703,0,$C1783/60)))","v":{"$error":"#VALUE!"}},{"$f":"IF(SUM(CJ$1262:CJ1782)>0,0,IF(MAX(CB1783:CB$2702)=MAX(CB$1262:CB$2702),0,IF(BZ1783>0.01*BT$2703,0,$C1783/60)))","v":{"$error":"#VALUE!"}},0,0,0,0,{"$error":"#VALUE!"},{"$error":"#VALUE!"},{"$error":"#VALUE!"},{"$error":"#VALUE!"},{"$error":"#VALUE!"},{"$error":"#VALUE!"},{"$error":"#VALUE!"},{"$error":"#VALUE!"},{"$error":"#VALUE!"},{"$error":"#VALUE!"},{"$error":"#VALUE!"},{"$f":"IF(SUM(CZ$1262:CZ1782)>0,0,IF(MAX(CS1783:CS$2702)=MAX(CS$1262:CS$2702),0,IF(CQ1783>0.03*CK$2703,0,$C1783/60)))","v":{"$error":"#VALUE!"}},{"$f":"IF(SUM(DA$1262:DA1782)>0,0,IF(MAX(CS1783:CS$2702)=MAX(CS$1262:CS$2702),0,IF(CQ1783>0.01*CK$2703,0,$C1783/60)))","v":{"$error":"#VALUE!"}}]
[null,43.833333333333336,2630,0,0,0,0,0,0,0,0,0,{"$error":"#N/A"},{"$error":"#N/A"},{"$error":"#N/A"},{"$error":"#N/A"},{"$error":"#N/A"},{"$error":"#N/A"},{"$f":"IF(SUM(S$1262:S1787)>0,0,\nIF(MAX(L1788:L$2702)=MAX(L$1262:L$2702),0,\nIF(Hydrograph_Source_WQCV=\"USER\",IF(J1788>0.03*D$2703,0,$C1788/60),\nIF(J1788>0.03*J$2703,0,$C1788/60))))","v":0},{"$f":"IF(SUM(T$1262:T1787)>0,0,\nIF(MAX(L1788:L$2702)=MAX(L$1262:L$2702),0,\nIF(Hydrograph_Source_WQCV=\"USER\",IF(J1788>0.01*D$2703,0,$C1788/60),\nIF(J1788>0.01*J$2703,0,$C1788/60))))","v":0},0,0,0,0,{"$error":"#VALUE!"},{"$error":"#VALUE!"},{"$error":"#VALUE!"},{"$error":"#VALUE!"},{"$error":"#VALUE!"},{"$error":"#VALUE!"},{"$error":"#VALUE!"},{"$error":"#VALUE!"},{"$error":"#VALUE!"},{"$error":"#VALUE!"},{"$error":"#VALUE!"},{"$f":"IF(SUM(AJ$1262:AJ1787)>0,0,IF(MAX(AC1788:AC$2702)=MAX(AC$1262:AC$2702),0,IF(AA1788>0.03*U$2703,0,$C1788/60)))","v":{"$error":"#VALUE!"}},{"$f":"IF(SUM(AK$1262:AK1787)>0,0,IF(MAX(AC1788:AC$2702)=MAX(AC$1262:AC$2702),0,IF(AA1788>0.01*U$2703,0,$C1788/60)))","v":{"$error":"#VALUE!"}},0,0,0,0,{"$error":"#VALUE!"},{"$error":"#VALUE!"},{"$error":"#VALUE!"},{"$error":"#VALUE!"},{"$error":"#VALUE!"},{"$error":"#VALUE!"},{"$error":"#VALUE!"},{"$error":"#VALUE!"},{"$error":"#VALUE!"},{"$error":"#VALUE!"},{"$error":"#VALUE!"},{"$f":"IF(SUM(BA$1262:BA1787)>0,0,IF(MAX(AT1788:AT$2702)=MAX(AT$1262:AT$2702),0,IF(AR1788>0.03*AL$2703,0,$C1788/60)))","v":{"$error":"#VALUE!"}},{"$f":"IF(SUM(BB$1262:BB1787)>0,0,IF(MAX(AT1788:AT$2702)=MAX(AT$1262:AT$2702),0,IF(AR1788>0.01*AL$2703,0,$C1788/60)))","v":{"$error":"#VALUE!"}},0,0,0,0,{"$error":"#VALUE!"},{"$error":"#VALUE!"},{"$error":"#VALUE!"},{"$error":"#VALUE!"},{"$error":"#VALUE!"},{"$error":"#VALUE!"},{"$error":"#VALUE!"},{"$error":"#VALUE!"},{"$error":"#VALUE!"},{"$error":"#VALUE!"},{"$error":"#VALUE!"},{"$f":"IF(SUM(BR$1262:BR1787)>0,0,IF(MAX(BK1788:BK$2702)=MAX(BK$1262:BK$2702),0,IF(BI1788>0.03*BC$2703,0,$C1788/60)))","v":{"$error":"#VALUE!"}},{"$f":"IF(SUM(BS$1262:BS1787)>0,0,IF(MAX(BK1788:BK$2702)=MAX(BK$1262:BK$2702),0,IF(BI1788>0.01*BC$2703,0,$C1788/60)))","v":{"$error":"#VALUE!"}},0,0,0,0,{"$error":"#VALUE!"},{"$error":"#VALUE!"},{"$error":"#VALUE!"},{"$error":"#VALUE!"},{"$error":"#VALUE!"},{"$error":"#VALUE!"},{"$error":"#VALUE!"},{"$error":"#VALUE!"},{"$error":"#VALUE!"},{"$error":"#VALUE!"},{"$error":"#VALUE!"},{"$f":"IF(SUM(CI$1262:CI1787)>0,0,IF(MAX(CB1788:CB$2702)=MAX(CB$1262:CB$2702),0,IF(BZ1788>0.03*BT$2703,0,$C1788/60)))","v":{"$error":"#VALUE!"}},{"$f":"IF(SUM(CJ$1262:CJ1787)>0,0,IF(MAX(CB1788:CB$2702)=MAX(CB$1262:CB$2702),0,IF(BZ1788>0.01*BT$2703,0,$C1788/60)))","v":{"$error":"#VALUE!"}},0,0,0,0,{"$error":"#VALUE!"},{"$error":"#VALUE!"},{"$error":"#VALUE!"},{"$error":"#VALUE!"},{"$error":"#VALUE!"},{"$error":"#VALUE!"},{"$error":"#VALUE!"},{"$error":"#VALUE!"},{"$error":"#VALUE!"},{"$error":"#VALUE!"},{"$error":"#VALUE!"},{"$f":"IF(SUM(CZ$1262:CZ1787)>0,0,IF(MAX(CS1788:CS$2702)=MAX(CS$1262:CS$2702),0,IF(CQ1788>0.03*CK$2703,0,$C1788/60)))","v":{"$error":"#VALUE!"}},{"$f":"IF(SUM(DA$1262:DA1787)>0,0,IF(MAX(CS1788:CS$2702)=MAX(CS$1262:CS$2702),0,IF(CQ1788>0.01*CK$2703,0,$C1788/60)))","v":{"$error":"#VALUE!"}}]
[null,43.916666666666664,2635,0,0,0,0,0,0,0,0,0,{"$error":"#N/A"},{"$error":"#N/A"},{"$error":"#N/A"},{"$error":"#N/A"},{"$error":"#N/A"},{"$error":"#N/A"},{"$f":"IF(SUM(S$1262:S1788)>0,0,\nIF(MAX(L1789:L$2702)=MAX(L$1262:L$2702),0,\nIF(Hydrograph_Source_WQCV=\"USER\",IF(J1789>0.03*D$2703,0,$C1789/60),\nIF(J1789>0.03*J$2703,0,$C1789/60))))","v":0},{"$f":"IF(SUM(T$1262:T1788)>0,0,\nIF(MAX(L1789:L$2702)=MAX(L$1262:L$2702),0,\nIF(Hydrograph_Source_WQCV=\"USER\",IF(J1789>0.01*D$2703,0,$C1789/60),\nIF(J1789>0.01*J$2703,0,$C1789/60))))","v":0},0,0,0,0,{"$error":"#VALUE!"},{"$error":"#VALUE!"},{"$error":"#VALUE!"},{"$error":"#VALUE!"},{"$error":"#VALUE!"},{"$error":"#VALUE!"},{"$error":"#VALUE!"},{"$error":"#VALUE!"},{"$error":"#VALUE!"},{"$error":"#VALUE!"},{"$error":"#VALUE!"},{"$f":"IF(SUM(AJ$1262:AJ1788)>0,0,IF(MAX(AC1789:AC$2702)=MAX(AC$1262:AC$2702),0,IF(AA1789>0.03*U$2703,0,$C1789/60)))","v":{"$error":"#VALUE!"}},{"$f":"IF(SUM(AK$1262:AK1788)>0,0,IF(MAX(AC1789:AC$2702)=MAX(AC$1262:AC$2702),0,IF(AA1789>0.01*U$2703,0,$C1789/60)))","v":{"$error":"#VALUE!"}},0,0,0,0,{"$error":"#VALUE!"},{"$error":"#VALUE!"},{"$error":"#VALUE!"},{"$error":"#VALUE!"},{"$error":"#VALUE!"},{"$error":"#VALUE!"},{"$error":"#VALUE!"},{"$error":"#VALUE!"},{"$error":"#VALUE!"},{"$error":"#VALUE!"},{"$error":"#VALUE!"},{"$f":"IF(SUM(BA$1262:BA1788)>0,0,IF(MAX(AT1789:AT$2702)=MAX(AT$1262:AT$2702),0,IF(AR1789>0.03*AL$2703,0,$C1789/60)))","v":{"$error":"#VALUE!"}},{"$f":"IF(SUM(BB$1262:BB1788)>0,0,IF(MAX(AT1789:AT$2702)=MAX(AT$1262:AT$2702),0,IF(AR1789>0.01*AL$2703,0,$C1789/60)))","v":{"$error":"#VALUE!"}},0,0,0,0,{"$error":"#VALUE!"},{"$error":"#VALUE!"},{"$error":"#VALUE!"},{"$error":"#VALUE!"},{"$error":"#VALUE!"},{"$error":"#VALUE!"},{"$error":"#VALUE!"},{"$error":"#VALUE!"},{"$error":"#VALUE!"},{"$error":"#VALUE!"},{"$error":"#VALUE!"},{"$f":"IF(SUM(BR$1262:BR1788)>0,0,IF(MAX(BK1789:BK$2702)=MAX(BK$1262:BK$2702),0,IF(BI1789>0.03*BC$2703,0,$C1789/60)))","v":{"$error":"#VALUE!"}},{"$f":"IF(SUM(BS$1262:BS1788)>0,0,IF(MAX(BK1789:BK$2702)=MAX(BK$1262:BK$2702),0,IF(BI1789>0.01*BC$2703,0,$C1789/60)))","v":{"$error":"#VALUE!"}},0,0,0,0,{"$error":"#VALUE!"},{"$error":"#VALUE!"},{"$error":"#VALUE!"},{"$error":"#VALUE!"},{"$error":"#VALUE!"},{"$error":"#VALUE!"},{"$error":"#VALUE!"},{"$error":"#VALUE!"},{"$error":"#VALUE!"},{"$error":"#VALUE!"},{"$error":"#VALUE!"},{"$f":"IF(SUM(CI$1262:CI1788)>0,0,IF(MAX(CB1789:CB$2702)=MAX(CB$1262:CB$2702),0,IF(BZ1789>0.03*BT$2703,0,$C1789/60)))","v":{"$error":"#VALUE!"}},{"$f":"IF(SUM(CJ$1262:CJ1788)>0,0,IF(MAX(CB1789:CB$2702)=MAX(CB$1262:CB$2702),0,IF(BZ1789>0.01*BT$2703,0,$C1789/60)))","v":{"$error":"#VALUE!"}},0,0,0,0,{"$error":"#VALUE!"},{"$error":"#VALUE!"},{"$error":"#VALUE!"},{"$error":"#VALUE!"},{"$error":"#VALUE!"},{"$error":"#VALUE!"},{"$error":"#VALUE!"},{"$error":"#VALUE!"},{"$error":"#VALUE!"},{"$error":"#VALUE!"},{"$error":"#VALUE!"},{"$f":"IF(SUM(CZ$1262:CZ1788)>0,0,IF(MAX(CS1789:CS$2702)=MAX(CS$1262:CS$2702),0,IF(CQ1789>0.03*CK$2703,0,$C1789/60)))","v":{"$error":"#VALUE!"}},{"$f":"IF(SUM(DA$1262:DA1788)>0,0,IF(MAX(CS1789:CS$2702)=MAX(CS$1262:CS$2702),0,IF(CQ1789>0.01*CK$2703,0,$C1789/60)))","v":{"$error":"#VALUE!"}}]
[null,44.416666666666664,2665,0,0,0,0,0,0,0,0,0,{"$error":"#N/A"},{"$error":"#N/A"},{"$error":"#N/A"},{"$error":"#N/A"},{"$error":"#N/A"},{"$error":"#N/A"},{"$f":"IF(SUM(S$1262:S1794)>0,0,\nIF(MAX(L1795:L$2702)=MAX(L$1262:L$2702),0,\nIF(Hydrograph_Source_WQCV=\"USER\",IF(J1795>0.03*D$2703,0,$C1795/60),\nIF(J1795>0.03*J$2703,0,$C1795/60))))","v":0},{"$f":"IF(SUM(T$1262:T1794)>0,0,\nIF(MAX(L1795:L$2702)=MAX(L$1262:L$2702),0,\nIF(Hydrograph_Source_WQCV=\"USER\",IF(J1795>0.01*D$2703,0,$C1795/60),\nIF(J1795>0.01*J$2703,0,$C1795/60))))","v":0},0,0,0,0,{"$error":"#VALUE!"},{"$error":"#VALUE!"},{"$error":"#VALUE!"},{"$error":"#VALUE!"},{"$error":"#VALUE!"},{"$error":"#VALUE!"},{"$error":"#VALUE!"},{"$error":"#VALUE!"},{"$error":"#VALUE!"},{"$error":"#VALUE!"},{"$error":"#VALUE!"},{"$f":"IF(SUM(AJ$1262:AJ1794)>0,0,IF(MAX(AC1795:AC$2702)=MAX(AC$1262:AC$2702),0,IF(AA1795>0.03*U$2703,0,$C1795/60)))","v":{"$error":"#VALUE!"}},{"$f":"IF(SUM(AK$1262:AK1794)>0,0,IF(MAX(AC1795:AC$2702)=MAX(AC$1262:AC$2702),0,IF(AA1795>0.01*U$2703,0,$C1795/60)))","v":{"$error":"#VALUE!"}},0,0,0,0,{"$error":"#VALUE!"},{"$error":"#VALUE!"},{"$error":"#VALUE!"},{"$error":"#VALUE!"},{"$error":"#VALUE!"},{"$error":"#VALUE!"},{"$error":"#VALUE!"},{"$error":"#VALUE!"},{"$error":"#VALUE!"},{"$error":"#VALUE!"},{"$error":"#VALUE!"},{"$f":"IF(SUM(BA$1262:BA1794)>0,0,IF(MAX(AT1795:AT$2702)=MAX(AT$1262:AT$2702),0,IF(AR1795>0.03*AL$2703,0,$C1795/60)))","v":{"$error":"#VALUE!"}},{"$f":"IF(SUM(BB$1262:BB1794)>0,0,IF(MAX(AT1795:AT$2702)=MAX(AT$1262:AT$2702),0,IF(AR1795>0.01*AL$2703,0,$C1795/60)))","v":{"$error":"#VALUE!"}},0,0,0,0,{"$error":"#VALUE!"},{"$error":"#VALUE!"},{"$error":"#VALUE!"},{"$error":"#VALUE!"},{"$error":"#VALUE!"},{"$error":"#VALUE!"},{"$error":"#VALUE!"},{"$error":"#VALUE!"},{"$error":"#VALUE!"},{"$error":"#VALUE!"},{"$error":"#VALUE!"},{"$f":"IF(SUM(BR$1262:BR1794)>0,0,IF(MAX(BK1795:BK$2702)=MAX(BK$1262:BK$2702),0,IF(BI1795>0.03*BC$2703,0,$C1795/60)))","v":{"$error":"#VALUE!"}},{"$f":"IF(SUM(BS$1262:BS1794)>0,0,IF(MAX(BK1795:BK$2702)=MAX(BK$1262:BK$2702),0,IF(BI1795>0.01*BC$2703,0,$C1795/60)))","v":{"$error":"#VALUE!"}},0,0,0,0,{"$error":"#VALUE!"},{"$error":"#VALUE!"},{"$error":"#VALUE!"},{"$error":"#VALUE!"},{"$error":"#VALUE!"},{"$error":"#VALUE!"},{"$error":"#VALUE!"},{"$error":"#VALUE!"},{"$error":"#VALUE!"},{"$error":"#VALUE!"},{"$error":"#VALUE!"},{"$f":"IF(SUM(CI$1262:CI1794)>0,0,IF(MAX(CB1795:CB$2702)=MAX(CB$1262:CB$2702),0,IF(BZ1795>0.03*BT$2703,0,$C1795/60)))","v":{"$error":"#VALUE!"}},{"$f":"IF(SUM(CJ$1262:CJ1794)>0,0,IF(MAX(CB1795:CB$2702)=MAX(CB$1262:CB$2702),0,IF(BZ1795>0.01*BT$2703,0,$C1795/60)))","v":{"$error":"#VALUE!"}},0,0,0,0,{"$error":"#VALUE!"},{"$error":"#VALUE!"},{"$error":"#VALUE!"},{"$error":"#VALUE!"},{"$error":"#VALUE!"},{"$error":"#VALUE!"},{"$error":"#VALUE!"},{"$error":"#VALUE!"},{"$error":"#VALUE!"},{"$error":"#VALUE!"},{"$error":"#VALUE!"},{"$f":"IF(SUM(CZ$1262:CZ1794)>0,0,IF(MAX(CS1795:CS$2702)=MAX(CS$1262:CS$2702),0,IF(CQ1795>0.03*CK$2703,0,$C1795/60)))","v":{"$error":"#VALUE!"}},{"$f":"IF(SUM(DA$1262:DA1794)>0,0,IF(MAX(CS1795:CS$2702)=MAX(CS$1262:CS$2702),0,IF(CQ1795>0.01*CK$2703,0,$C1795/60)))","v":{"$error":"#VALUE!"}}]
[null,44.833333333333336,2690,0,0,0,0,0,0,0,0,0,{"$error":"#N/A"},{"$error":"#N/A"},{"$error":"#N/A"},{"$error":"#N/A"},{"$error":"#N/A"},{"$error":"#N/A"},{"$f":"IF(SUM(S$1262:S1799)>0,0,\nIF(MAX(L1800:L$2702)=MAX(L$1262:L$2702),0,\nIF(Hydrograph_Source_WQCV=\"USER\",IF(J1800>0.03*D$2703,0,$C1800/60),\nIF(J1800>0.03*J$2703,0,$C1800/60))))","v":0},{"$f":"IF(SUM(T$1262:T1799)>0,0,\nIF(MAX(L1800:L$2702)=MAX(L$1262:L$2702),0,\nIF(Hydrograph_Source_WQCV=\"USER\",IF(J1800>0.01*D$2703,0,$C1800/60),\nIF(J1800>0.01*J$2703,0,$C1800/60))))","v":0},0,0,0,0,{"$error":"#VALUE!"},{"$error":"#VALUE!"},{"$error":"#VALUE!"},{"$error":"#VALUE!"},{"$error":"#VALUE!"},{"$error":"#VALUE!"},{"$error":"#VALUE!"},{"$error":"#VALUE!"},{"$error":"#VALUE!"},{"$error":"#VALUE!"},{"$error":"#VALUE!"},{"$f":"IF(SUM(AJ$1262:AJ1799)>0,0,IF(MAX(AC1800:AC$2702)=MAX(AC$1262:AC$2702),0,IF(AA1800>0.03*U$2703,0,$C1800/60)))","v":{"$error":"#VALUE!"}},{"$f":"IF(SUM(AK$1262:AK1799)>0,0,IF(MAX(AC1800:AC$2702)=MAX(AC$1262:AC$2702),0,IF(AA1800>0.01*U$2703,0,$C1800/60)))","v":{"$error":"#VALUE!"}},0,0,0,0,{"$error":"#VALUE!"},{"$error":"#VALUE!"},{"$error":"#VALUE!"},{"$error":"#VALUE!"},{"$error":"#VALUE!"},{"$error":"#VALUE!"},{"$error":"#VALUE!"},{"$error":"#VALUE!"},{"$error":"#VALUE!"},{"$error":"#VALUE!"},{"$error":"#VALUE!"},{"$f":"IF(SUM(BA$1262:BA1799)>0,0,IF(MAX(AT1800:AT$2702)=MAX(AT$1262:AT$2702),0,IF(AR1800>0.03*AL$2703,0,$C1800/60)))","v":{"$error":"#VALUE!"}},{"$f":"IF(SUM(BB$1262:BB1799)>0,0,IF(MAX(AT1800:AT$2702)=MAX(AT$1262:AT$2702),0,IF(AR1800>0.01*AL$2703,0,$C1800/60)))","v":{"$error":"#VALUE!"}},0,0,0,0,{"$error":"#VALUE!"},{"$error":"#VALUE!"},{"$error":"#VALUE!"},{"$error":"#VALUE!"},{"$error":"#VALUE!"},{"$error":"#VALUE!"},{"$error":"#VALUE!"},{"$error":"#VALUE!"},{"$error":"#VALUE!"},{"$error":"#VALUE!"},{"$error":"#VALUE!"},{"$f":"IF(SUM(BR$1262:BR1799)>0,0,IF(MAX(BK1800:BK$2702)=MAX(BK$1262:BK$2702),0,IF(BI1800>0.03*BC$2703,0,$C1800/60)))","v":{"$error":"#VALUE!"}},{"$f":"IF(SUM(BS$1262:BS1799)>0,0,IF(MAX(BK1800:BK$2702)=MAX(BK$1262:BK$2702),0,IF(BI1800>0.01*BC$2703,0,$C1800/60)))","v":{"$error":"#VALUE!"}},0,0,0,0,{"$error":"#VALUE!"},{"$error":"#VALUE!"},{"$error":"#VALUE!"},{"$error":"#VALUE!"},{"$error":"#VALUE!"},{"$error":"#VALUE!"},{"$error":"#VALUE!"},{"$error":"#VALUE!"},{"$error":"#VALUE!"},{"$error":"#VALUE!"},{"$error":"#VALUE!"},{"$f":"IF(SUM(CI$1262:CI1799)>0,0,IF(MAX(CB1800:CB$2702)=MAX(CB$1262:CB$2702),0,IF(BZ1800>0.03*BT$2703,0,$C1800/60)))","v":{"$error":"#VALUE!"}},{"$f":"IF(SUM(CJ$1262:CJ1799)>0,0,IF(MAX(CB1800:CB$2702)=MAX(CB$1262:CB$2702),0,IF(BZ1800>0.01*BT$2703,0,$C1800/60)))","v":{"$error":"#VALUE!"}},0,0,0,0,{"$error":"#VALUE!"},{"$error":"#VALUE!"},{"$error":"#VALUE!"},{"$error":"#VALUE!"},{"$error":"#VALUE!"},{"$error":"#VALUE!"},{"$error":"#VALUE!"},{"$error":"#VALUE!"},{"$error":"#VALUE!"},{"$error":"#VALUE!"},{"$error":"#VALUE!"},{"$f":"IF(SUM(CZ$1262:CZ1799)>0,0,IF(MAX(CS1800:CS$2702)=MAX(CS$1262:CS$2702),0,IF(CQ1800>0.03*CK$2703,0,$C1800/60)))","v":{"$error":"#VALUE!"}},{"$f":"IF(SUM(DA$1262:DA1799)>0,0,IF(MAX(CS1800:CS$2702)=MAX(CS$1262:CS$2702),0,IF(CQ1800>0.01*CK$2703,0,$C1800/60)))","v":{"$error":"#VALUE!"}}]
[null,45.25,2715,0,0,0,0,0,0,0,0,0,{"$error":"#N/A"},{"$error":"#N/A"},{"$error":"#N/A"},{"$error":"#N/A"},{"$error":"#N/A"},{"$error":"#N/A"},{"$f":"IF(SUM(S$1262:S1804)>0,0,\nIF(MAX(L1805:L$2702)=MAX(L$1262:L$2702),0,\nIF(Hydrograph_Source_WQCV=\"USER\",IF(J1805>0.03*D$2703,0,$C1805/60),\nIF(J1805>0.03*J$2703,0,$C1805/60))))","v":0},{"$f":"IF(SUM(T$1262:T1804)>0,0,\nIF(MAX(L1805:L$2702)=MAX(L$1262:L$2702),0,\nIF(Hydrograph_Source_WQCV=\"USER\",IF(J1805>0.01*D$2703,0,$C1805/60),\nIF(J1805>0.01*J$2703,0,$C1805/60))))","v":0},0,0,0,0,{"$error":"#VALUE!"},{"$error":"#VALUE!"},{"$error":"#VALUE!"},{"$error":"#VALUE!"},{"$error":"#VALUE!"},{"$error":"#VALUE!"},{"$error":"#VALUE!"},{"$error":"#VALUE!"},{"$error":"#VALUE!"},{"$error":"#VALUE!"},{"$error":"#VALUE!"},{"$f":"IF(SUM(AJ$1262:AJ1804)>0,0,IF(MAX(AC1805:AC$2702)=MAX(AC$1262:AC$2702),0,IF(AA1805>0.03*U$2703,0,$C1805/60)))","v":{"$error":"#VALUE!"}},{"$f":"IF(SUM(AK$1262:AK1804)>0,0,IF(MAX(AC1805:AC$2702)=MAX(AC$1262:AC$2702),0,IF(AA1805>0.01*U$2703,0,$C1805/60)))","v":{"$error":"#VALUE!"}},0,0,0,0,{"$error":"#VALUE!"},{"$error":"#VALUE!"},{"$error":"#VALUE!"},{"$error":"#VALUE!"},{"$error":"#VALUE!"},{"$error":"#VALUE!"},{"$error":"#VALUE!"},{"$error":"#VALUE!"},{"$error":"#VALUE!"},{"$error":"#VALUE!"},{"$error":"#VALUE!"},{"$f":"IF(SUM(BA$1262:BA1804)>0,0,IF(MAX(AT1805:AT$2702)=MAX(AT$1262:AT$2702),0,IF(AR1805>0.03*AL$2703,0,$C1805/60)))","v":{"$error":"#VALUE!"}},{"$f":"IF(SUM(BB$1262:BB1804)>0,0,IF(MAX(AT1805:AT$2702)=MAX(AT$1262:AT$2702),0,IF(AR1805>0.01*AL$2703,0,$C1805/60)))","v":{"$error":"#VALUE!"}},0,0,0,0,{"$error":"#VALUE!"},{"$error":"#VALUE!"},{"$error":"#VALUE!"},{"$error":"#VALUE!"},{"$error":"#VALUE!"},{"$error":"#VALUE!"},{"$error":"#VALUE!"},{"$error":"#VALUE!"},{"$error":"#VALUE!"},{"$error":"#VALUE!"},{"$error":"#VALUE!"},{"$f":"IF(SUM(BR$1262:BR1804)>0,0,IF(MAX(BK1805:BK$2702)=MAX(BK$1262:BK$2702),0,IF(BI1805>0.03*BC$2703,0,$C1805/60)))","v":{"$error":"#VALUE!"}},{"$f":"IF(SUM(BS$1262:BS1804)>0,0,IF(MAX(BK1805:BK$2702)=MAX(BK$1262:BK$2702),0,IF(BI1805>0.01*BC$2703,0,$C1805/60)))","v":{"$error":"#VALUE!"}},0,0,0,0,{"$error":"#VALUE!"},{"$error":"#VALUE!"},{"$error":"#VALUE!"},{"$error":"#VALUE!"},{"$error":"#VALUE!"},{"$error":"#VALUE!"},{"$error":"#VALUE!"},{"$error":"#VALUE!"},{"$error":"#VALUE!"},{"$error":"#VALUE!"},{"$error":"#VALUE!"},{"$f":"IF(SUM(CI$1262:CI1804)>0,0,IF(MAX(CB1805:CB$2702)=MAX(CB$1262:CB$2702),0,IF(BZ1805>0.03*BT$2703,0,$C1805/60)))","v":{"$error":"#VALUE!"}},{"$f":"IF(SUM(CJ$1262:CJ1804)>0,0,IF(MAX(CB1805:CB$2702)=MAX(CB$1262:CB$2702),0,IF(BZ1805>0.01*BT$2703,0,$C1805/60)))","v":{"$error":"#VALUE!"}},0,0,0,0,{"$error":"#VALUE!"},{"$error":"#VALUE!"},{"$error":"#VALUE!"},{"$error":"#VALUE!"},{"$error":"#VALUE!"},{"$error":"#VALUE!"},{"$error":"#VALUE!"},{"$error":"#VALUE!"},{"$error":"#VALUE!"},{"$error":"#VALUE!"},{"$error":"#VALUE!"},{"$f":"IF(SUM(CZ$1262:CZ1804)>0,0,IF(MAX(CS1805:CS$2702)=MAX(CS$1262:CS$2702),0,IF(CQ1805>0.03*CK$2703,0,$C1805/60)))","v":{"$error":"#VALUE!"}},{"$f":"IF(SUM(DA$1262:DA1804)>0,0,IF(MAX(CS1805:CS$2702)=MAX(CS$1262:CS$2702),0,IF(CQ1805>0.01*CK$2703,0,$C1805/60)))","v":{"$error":"#VALUE!"}}]
[null,45.416666666666664,2725,0,0,0,0,0,0,0,0,0,{"$error":"#N/A"},{"$error":"#N/A"},{"$error":"#N/A"},{"$error":"#N/A"},{"$error":"#N/A"},{"$error":"#N/A"},{"$f":"IF(SUM(S$1262:S1806)>0,0,\nIF(MAX(L1807:L$2702)=MAX(L$1262:L$2702),0,\nIF(Hydrograph_Source_WQCV=\"USER\",IF(J1807>0.03*D$2703,0,$C1807/60),\nIF(J1807>0.03*J$2703,0,$C1807/60))))","v":0},{"$f":"IF(SUM(T$1262:T1806)>0,0,\nIF(MAX(L1807:L$2702)=MAX(L$1262:L$2702),0,\nIF(Hydrograph_Source_WQCV=\"USER\",IF(J1807>0.01*D$2703,0,$C1807/60),\nIF(J1807>0.01*J$2703,0,$C1807/60))))","v":0},0,0,0,0,{"$error":"#VALUE!"},{"$error":"#VALUE!"},{"$error":"#VALUE!"},{"$error":"#VALUE!"},{"$error":"#VALUE!"},{"$error":"#VALUE!"},{"$error":"#VALUE!"},{"$error":"#VALUE!"},{"$error":"#VALUE!"},{"$error":"#VALUE!"},{"$error":"#VALUE!"},{"$f":"IF(SUM(AJ$1262:AJ1806)>0,0,IF(MAX(AC1807:AC$2702)=MAX(AC$1262:AC$2702),0,IF(AA1807>0.03*U$2703,0,$C1807/60)))","v":{"$error":"#VALUE!"}},{"$f":"IF(SUM(AK$1262:AK1806)>0,0,IF(MAX(AC1807:AC$2702)=MAX(AC$1262:AC$2702),0,IF(AA1807>0.01*U$2703,0,$C1807/60)))","v":{"$error":"#VALUE!"}},0,0,0,0,{"$error":"#VALUE!"},{"$error":"#VALUE!"},{"$error":"#VALUE!"},{"$error":"#VALUE!"},{"$error":"#VALUE!"},{"$error":"#VALUE!"},{"$error":"#VALUE!"},{"$error":"#VALUE!"},{"$error":"#VALUE!"},{"$error":"#VALUE!"},{"$error":"#VALUE!"},{"$f":"IF(SUM(BA$1262:BA1806)>0,0,IF(MAX(AT1807:AT$2702)=MAX(AT$1262:AT$2702),0,IF(AR1807>0.03*AL$2703,0,$C1807/60)))","v":{"$error":"#VALUE!"}},{"$f":"IF(SUM(BB$1262:BB1806)>0,0,IF(MAX(AT1807:AT$2702)=MAX(AT$1262:AT$2702),0,IF(AR1807>0.01*AL$2703,0,$C1807/60)))","v":{"$error":"#VALUE!"}},0,0,0,0,{"$error":"#VALUE!"},{"$error":"#VALUE!"},{"$error":"#VALUE!"},{"$error":"#VALUE!"},{"$error":"#VALUE!"},{"$error":"#VALUE!"},{"$error":"#VALUE!"},{"$error":"#VALUE!"},{"$error":"#VALUE!"},{"$error":"#VALUE!"},{"$error":"#VALUE!"},{"$f":"IF(SUM(BR$1262:BR1806)>0,0,IF(MAX(BK1807:BK$2702)=MAX(BK$1262:BK$2702),0,IF(BI1807>0.03*BC$2703,0,$C1807/60)))","v":{"$error":"#VALUE!"}},{"$f":"IF(SUM(BS$1262:BS1806)>0,0,IF(MAX(BK1807:BK$2702)=MAX(BK$1262:BK$2702),0,IF(BI1807>0.01*BC$2703,0,$C1807/60)))","v":{"$error":"#VALUE!"}},0,0,0,0,{"$error":"#VALUE!"},{"$error":"#VALUE!"},{"$error":"#VALUE!"},{"$error":"#VALUE!"},{"$error":"#VALUE!"},{"$error":"#VALUE!"},{"$error":"#VALUE!"},{"$error":"#VALUE!"},{"$error":"#VALUE!"},{"$error":"#VALUE!"},{"$error":"#VALUE!"},{"$f":"IF(SUM(CI$1262:CI1806)>0,0,IF(MAX(CB1807:CB$2702)=MAX(CB$1262:CB$2702),0,IF(BZ1807>0.03*BT$2703,0,$C1807/60)))","v":{"$error":"#VALUE!"}},{"$f":"IF(SUM(CJ$1262:CJ1806)>0,0,IF(MAX(CB1807:CB$2702)=MAX(CB$1262:CB$2702),0,IF(BZ1807>0.01*BT$2703,0,$C1807/60)))","v":{"$error":"#VALUE!"}},0,0,0,0,{"$error":"#VALUE!"},{"$error":"#VALUE!"},{"$error":"#VALUE!"},{"$error":"#VALUE!"},{"$error":"#VALUE!"},{"$error":"#VALUE!"},{"$error":"#VALUE!"},{"$error":"#VALUE!"},{"$error":"#VALUE!"},{"$error":"#VALUE!"},{"$error":"#VALUE!"},{"$f":"IF(SUM(CZ$1262:CZ1806)>0,0,IF(MAX(CS1807:CS$2702)=MAX(CS$1262:CS$2702),0,IF(CQ1807>0.03*CK$2703,0,$C1807/60)))","v":{"$error":"#VALUE!"}},{"$f":"IF(SUM(DA$1262:DA1806)>0,0,IF(MAX(CS1807:CS$2702)=MAX(CS$1262:CS$2702),0,IF(CQ1807>0.01*CK$2703,0,$C1807/60)))","v":{"$error":"#VALUE!"}}]
[null,45.833333333333336,2750,0,0,0,0,0,0,0,0,0,{"$error":"#N/A"},{"$error":"#N/A"},{"$error":"#N/A"},{"$error":"#N/A"},{"$error":"#N/A"},{"$error":"#N/A"},{"$f":"IF(SUM(S$1262:S1811)>0,0,\nIF(MAX(L1812:L$2702)=MAX(L$1262:L$2702),0,\nIF(Hydrograph_Source_WQCV=\"USER\",IF(J1812>0.03*D$2703,0,$C1812/60),\nIF(J1812>0.03*J$2703,0,$C1812/60))))","v":0},{"$f":"IF(SUM(T$1262:T1811)>0,0,\nIF(MAX(L1812:L$2702)=MAX(L$1262:L$2702),0,\nIF(Hydrograph_Source_WQCV=\"USER\",IF(J1812>0.01*D$2703,0,$C1812/60),\nIF(J1812>0.01*J$2703,0,$C1812/60))))","v":0},0,0,0,0,{"$error":"#VALUE!"},{"$error":"#VALUE!"},{"$error":"#VALUE!"},{"$error":"#VALUE!"},{"$error":"#VALUE!"},{"$error":"#VALUE!"},{"$error":"#VALUE!"},{"$error":"#VALUE!"},{"$error":"#VALUE!"},{"$error":"#VALUE!"},{"$error":"#VALUE!"},{"$f":"IF(SUM(AJ$1262:AJ1811)>0,0,IF(MAX(AC1812:AC$2702)=MAX(AC$1262:AC$2702),0,IF(AA1812>0.03*U$2703,0,$C1812/60)))","v":{"$error":"#VALUE!"}},{"$f":"IF(SUM(AK$1262:AK1811)>0,0,IF(MAX(AC1812:AC$2702)=MAX(AC$1262:AC$2702),0,IF(AA1812>0.01*U$2703,0,$C1812/60)))","v":{"$error":"#VALUE!"}},0,0,0,0,{"$error":"#VALUE!"},{"$error":"#VALUE!"},{"$error":"#VALUE!"},{"$error":"#VALUE!"},{"$error":"#VALUE!"},{"$error":"#VALUE!"},{"$error":"#VALUE!"},{"$error":"#VALUE!"},{"$error":"#VALUE!"},{"$error":"#VALUE!"},{"$error":"#VALUE!"},{"$f":"IF(SUM(BA$1262:BA1811)>0,0,IF(MAX(AT1812:AT$2702)=MAX(AT$1262:AT$2702),0,IF(AR1812>0.03*AL$2703,0,$C1812/60)))","v":{"$error":"#VALUE!"}},{"$f":"IF(SUM(BB$1262:BB1811)>0,0,IF(MAX(AT1812:AT$2702)=MAX(AT$1262:AT$2702),0,IF(AR1812>0.01*AL$2703,0,$C1812/60)))","v":{"$error":"#VALUE!"}},0,0,0,0,{"$error":"#VALUE!"},{"$error":"#VALUE!"},{"$error":"#VALUE!"},{"$error":"#VALUE!"},{"$error":"#VALUE!"},{"$error":"#VALUE!"},{"$error":"#VALUE!"},{"$error":"#VALUE!"},{"$error":"#VALUE!"},{"$error":"#VALUE!"},{"$error":"#VALUE!"},{"$f":"IF(SUM(BR$1262:BR1811)>0,0,IF(MAX(BK1812:BK$2702)=MAX(BK$1262:BK$2702),0,IF(BI1812>0.03*BC$2703,0,$C1812/60)))","v":{"$error":"#VALUE!"}},{"$f":"IF(SUM(BS$1262:BS1811)>0,0,IF(MAX(BK1812:BK$2702)=MAX(BK$1262:BK$2702),0,IF(BI1812>0.01*BC$2703,0,$C1812/60)))","v":{"$error":"#VALUE!"}},0,0,0,0,{"$error":"#VALUE!"},{"$error":"#VALUE!"},{"$error":"#VALUE!"},{"$error":"#VALUE!"},{"$error":"#VALUE!"},{"$error":"#VALUE!"},{"$error":"#VALUE!"},{"$error":"#VALUE!"},{"$error":"#VALUE!"},{"$error":"#VALUE!"},{"$error":"#VALUE!"},{"$f":"IF(SUM(CI$1262:CI1811)>0,0,IF(MAX(CB1812:CB$2702)=MAX(CB$1262:CB$2702),0,IF(BZ1812>0.03*BT$2703,0,$C1812/60)))","v":{"$error":"#VALUE!"}},{"$f":"IF(SUM(CJ$1262:CJ1811)>0,0,IF(MAX(CB1812:CB$2702)=MAX(CB$1262:CB$2702),0,IF(BZ1812>0.01*BT$2703,0,$C1812/60)))","v":{"$error":"#VALUE!"}},0,0,0,0,{"$error":"#VALUE!"},{"$error":"#VALUE!"},{"$error":"#VALUE!"},{"$error":"#VALUE!"},{"$error":"#VALUE!"},{"$error":"#VALUE!"},{"$error":"#VALUE!"},{"$error":"#VALUE!"},{"$error":"#VALUE!"},{"$error":"#VALUE!"},{"$error":"#VALUE!"},{"$f":"IF(SUM(CZ$1262:CZ1811)>0,0,IF(MAX(CS1812:CS$2702)=MAX(CS$1262:CS$2702),0,IF(CQ1812>0.03*CK$2703,0,$C1812/60)))","v":{"$error":"#VALUE!"}},{"$f":"IF(SUM(DA$1262:DA1811)>0,0,IF(MAX(CS1812:CS$2702)=MAX(CS$1262:CS$2702),0,IF(CQ1812>0.01*CK$2703,0,$C1812/60)))","v":{"$error":"#VALUE!"}}]
[null,46.25,2775,0,0,0,0,0,0,0,0,0,{"$error":"#N/A"},{"$error":"#N/A"},{"$error":"#N/A"},{"$error":"#N/A"},{"$error":"#N/A"},{"$error":"#N/A"},{"$f":"IF(SUM(S$1262:S1816)>0,0,\nIF(MAX(L1817:L$2702)=MAX(L$1262:L$2702),0,\nIF(Hydrograph_Source_WQCV=\"USER\",IF(J1817>0.03*D$2703,0,$C1817/60),\nIF(J1817>0.03*J$2703,0,$C1817/60))))","v":0},{"$f":"IF(SUM(T$1262:T1816)>0,0,\nIF(MAX(L1817:L$2702)=MAX(L$1262:L$2702),0,\nIF(Hydrograph_Source_WQCV=\"USER\",IF(J1817>0.01*D$2703,0,$C1817/60),\nIF(J1817>0.01*J$2703,0,$C1817/60))))","v":0},0,0,0,0,{"$error":"#VALUE!"},{"$error":"#VALUE!"},{"$error":"#VALUE!"},{"$error":"#VALUE!"},{"$error":"#VALUE!"},{"$error":"#VALUE!"},{"$error":"#VALUE!"},{"$error":"#VALUE!"},{"$error":"#VALUE!"},{"$error":"#VALUE!"},{"$error":"#VALUE!"},{"$f":"IF(SUM(AJ$1262:AJ1816)>0,0,IF(MAX(AC1817:AC$2702)=MAX(AC$1262:AC$2702),0,IF(AA1817>0.03*U$2703,0,$C1817/60)))","v":{"$error":"#VALUE!"}},{"$f":"IF(SUM(AK$1262:AK1816)>0,0,IF(MAX(AC1817:AC$2702)=MAX(AC$1262:AC$2702),0,IF(AA1817>0.01*U$2703,0,$C1817/60)))","v":{"$error":"#VALUE!"}},0,0,0,0,{"$error":"#VALUE!"},{"$error":"#VALUE!"},{"$error":"#VALUE!"},{"$error":"#VALUE!"},{"$error":"#VALUE!"},{"$error":"#VALUE!"},{"$error":"#VALUE!"},{"$error":"#VALUE!"},{"$error":"#VALUE!"},{"$error":"#VALUE!"},{"$error":"#VALUE!"},{"$f":"IF(SUM(BA$1262:BA1816)>0,0,IF(MAX(AT1817:AT$2702)=MAX(AT$1262:AT$2702),0,IF(AR1817>0.03*AL$2703,0,$C1817/60)))","v":{"$error":"#VALUE!"}},{"$f":"IF(SUM(BB$1262:BB1816)>0,0,IF(MAX(AT1817:AT$2702)=MAX(AT$1262:AT$2702),0,IF(AR1817>0.01*AL$2703,0,$C1817/60)))","v":{"$error":"#VALUE!"}},0,0,0,0,{"$error":"#VALUE!"},{"$error":"#VALUE!"},{"$error":"#VALUE!"},{"$error":"#VALUE!"},{"$error":"#VALUE!"},{"$error":"#VALUE!"},{"$error":"#VALUE!"},{"$error":"#VALUE!"},{"$error":"#VALUE!"},{"$error":"#VALUE!"},{"$error":"#VALUE!"},{"$f":"IF(SUM(BR$1262:BR1816)>0,0,IF(MAX(BK1817:BK$2702)=MAX(BK$1262:BK$2702),0,IF(BI1817>0.03*BC$2703,0,$C1817/60)))","v":{"$error":"#VALUE!"}},{"$f":"IF(SUM(BS$1262:BS1816)>0,0,IF(MAX(BK1817:BK$2702)=MAX(BK$1262:BK$2702),0,IF(BI1817>0.01*BC$2703,0,$C1817/60)))","v":{"$error":"#VALUE!"}},0,0,0,0,{"$error":"#VALUE!"},{"$error":"#VALUE!"},{"$error":"#VALUE!"},{"$error":"#VALUE!"},{"$error":"#VALUE!"},{"$error":"#VALUE!"},{"$error":"#VALUE!"},{"$error":"#VALUE!"},{"$error":"#VALUE!"},{"$error":"#VALUE!"},{"$error":"#VALUE!"},{"$f":"IF(SUM(CI$1262:CI1816)>0,0,IF(MAX(CB1817:CB$2702)=MAX(CB$1262:CB$2702),0,IF(BZ1817>0.03*BT$2703,0,$C1817/60)))","v":{"$error":"#VALUE!"}},{"$f":"IF(SUM(CJ$1262:CJ1816)>0,0,IF(MAX(CB1817:CB$2702)=MAX(CB$1262:CB$2702),0,IF(BZ1817>0.01*BT$2703,0,$C1817/60)))","v":{"$error":"#VALUE!"}},0,0,0,0,{"$error":"#VALUE!"},{"$error":"#VALUE!"},{"$error":"#VALUE!"},{"$error":"#VALUE!"},{"$error":"#VALUE!"},{"$error":"#VALUE!"},{"$error":"#VALUE!"},{"$error":"#VALUE!"},{"$error":"#VALUE!"},{"$error":"#VALUE!"},{"$error":"#VALUE!"},{"$f":"IF(SUM(CZ$1262:CZ1816)>0,0,IF(MAX(CS1817:CS$2702)=MAX(CS$1262:CS$2702),0,IF(CQ1817>0.03*CK$2703,0,$C1817/60)))","v":{"$error":"#VALUE!"}},{"$f":"IF(SUM(DA$1262:DA1816)>0,0,IF(MAX(CS1817:CS$2702)=MAX(CS$1262:CS$2702),0,IF(CQ1817>0.01*CK$2703,0,$C1817/60)))","v":{"$error":"#VALUE!"}}]
[null,46.583333333333336,2795,0,0,0,0,0,0,0,0,0,{"$error":"#N/A"},{"$error":"#N/A"},{"$error":"#N/A"},{"$error":"#N/A"},{"$error":"#N/A"},{"$error":"#N/A"},{"$f":"IF(SUM(S$1262:S1820)>0,0,\nIF(MAX(L1821:L$2702)=MAX(L$1262:L$2702),0,\nIF(Hydrograph_Source_WQCV=\"USER\",IF(J1821>0.03*D$2703,0,$C1821/60),\nIF(J1821>0.03*J$2703,0,$C1821/60))))","v":0},{"$f":"IF(SUM(T$1262:T1820)>0,0,\nIF(MAX(L1821:L$2702)=MAX(L$1262:L$2702),0,\nIF(Hydrograph_Source_WQCV=\"USER\",IF(J1821>0.01*D$2703,0,$C1821/60),\nIF(J1821>0.01*J$2703,0,$C1821/60))))","v":0},0,0,0,0,{"$error":"#VALUE!"},{"$error":"#VALUE!"},{"$error":"#VALUE!"},{"$error":"#VALUE!"},{"$error":"#VALUE!"},{"$error":"#VALUE!"},{"$error":"#VALUE!"},{"$error":"#VALUE!"},{"$error":"#VALUE!"},{"$error":"#VALUE!"},{"$error":"#VALUE!"},{"$f":"IF(SUM(AJ$1262:AJ1820)>0,0,IF(MAX(AC1821:AC$2702)=MAX(AC$1262:AC$2702),0,IF(AA1821>0.03*U$2703,0,$C1821/60)))","v":{"$error":"#VALUE!"}},{"$f":"IF(SUM(AK$1262:AK1820)>0,0,IF(MAX(AC1821:AC$2702)=MAX(AC$1262:AC$2702),0,IF(AA1821>0.01*U$2703,0,$C1821/60)))","v":{"$error":"#VALUE!"}},0,0,0,0,{"$error":"#VALUE!"},{"$error":"#VALUE!"},{"$error":"#VALUE!"},{"$error":"#VALUE!"},{"$error":"#VALUE!"},{"$error":"#VALUE!"},{"$error":"#VALUE!"},{"$error":"#VALUE!"},{"$error":"#VALUE!"},{"$error":"#VALUE!"},{"$error":"#VALUE!"},{"$f":"IF(SUM(BA$1262:BA1820)>0,0,IF(MAX(AT1821:AT$2702)=MAX(AT$1262:AT$2702),0,IF(AR1821>0.03*AL$2703,0,$C1821/60)))","v":{"$error":"#VALUE!"}},{"$f":"IF(SUM(BB$1262:BB1820)>0,0,IF(MAX(AT1821:AT$2702)=MAX(AT$1262:AT$2702),0,IF(AR1821>0.01*AL$2703,0,$C1821/60)))","v":{"$error":"#VALUE!"}},0,0,0,0,{"$error":"#VALUE!"},{"$error":"#VALUE!"},{"$error":"#VALUE!"},{"$error":"#VALUE!"},{"$error":"#VALUE!"},{"$error":"#VALUE!"},{"$error":"#VALUE!"},{"$error":"#VALUE!"},{"$error":"#VALUE!"},{"$error":"#VALUE!"},{"$error":"#VALUE!"},{"$f":"IF(SUM(BR$1262:BR1820)>0,0,IF(MAX(BK1821:BK$2702)=MAX(BK$1262:BK$2702),0,IF(BI1821>0.03*BC$2703,0,$C1821/60)))","v":{"$error":"#VALUE!"}},{"$f":"IF(SUM(BS$1262:BS1820)>0,0,IF(MAX(BK1821:BK$2702)=MAX(BK$1262:BK$2702),0,IF(BI1821>0.01*BC$2703,0,$C1821/60)))","v":{"$error":"#VALUE!"}},0,0,0,0,{"$error":"#VALUE!"},{"$error":"#VALUE!"},{"$error":"#VALUE!"},{"$error":"#VALUE!"},{"$error":"#VALUE!"},{"$error":"#VALUE!"},{"$error":"#VALUE!"},{"$error":"#VALUE!"},{"$error":"#VALUE!"},{"$error":"#VALUE!"},{"$error":"#VALUE!"},{"$f":"IF(SUM(CI$1262:CI1820)>0,0,IF(MAX(CB1821:CB$2702)=MAX(CB$1262:CB$2702),0,IF(BZ1821>0.03*BT$2703,0,$C1821/60)))","v":{"$error":"#VALUE!"}},{"$f":"IF(SUM(CJ$1262:CJ1820)>0,0,IF(MAX(CB1821:CB$2702)=MAX(CB$1262:CB$2702),0,IF(BZ1821>0.01*BT$2703,0,$C1821/60)))","v":{"$error":"#VALUE!"}},0,0,0,0,{"$error":"#VALUE!"},{"$error":"#VALUE!"},{"$error":"#VALUE!"},{"$error":"#VALUE!"},{"$error":"#VALUE!"},{"$error":"#VALUE!"},{"$error":"#VALUE!"},{"$error":"#VALUE!"},{"$error":"#VALUE!"},{"$error":"#VALUE!"},{"$error":"#VALUE!"},{"$f":"IF(SUM(CZ$1262:CZ1820)>0,0,IF(MAX(CS1821:CS$2702)=MAX(CS$1262:CS$2702),0,IF(CQ1821>0.03*CK$2703,0,$C1821/60)))","v":{"$error":"#VALUE!"}},{"$f":"IF(SUM(DA$1262:DA1820)>0,0,IF(MAX(CS1821:CS$2702)=MAX(CS$1262:CS$2702),0,IF(CQ1821>0.01*CK$2703,0,$C1821/60)))","v":{"$error":"#VALUE!"}}]
[null,46.833333333333336,2810,0,0,0,0,0,0,0,0,0,{"$error":"#N/A"},{"$error":"#N/A"},{"$error":"#N/A"},{"$error":"#N/A"},{"$error":"#N/A"},{"$error":"#N/A"},{"$f":"IF(SUM(S$1262:S1823)>0,0,\nIF(MAX(L1824:L$2702)=MAX(L$1262:L$2702),0,\nIF(Hydrograph_Source_WQCV=\"USER\",IF(J1824>0.03*D$2703,0,$C1824/60),\nIF(J1824>0.03*J$2703,0,$C1824/60))))","v":0},{"$f":"IF(SUM(T$1262:T1823)>0,0,\nIF(MAX(L1824:L$2702)=MAX(L$1262:L$2702),0,\nIF(Hydrograph_Source_WQCV=\"USER\",IF(J1824>0.01*D$2703,0,$C1824/60),\nIF(J1824>0.01*J$2703,0,$C1824/60))))","v":0},0,0,0,0,{"$error":"#VALUE!"},{"$error":"#VALUE!"},{"$error":"#VALUE!"},{"$error":"#VALUE!"},{"$error":"#VALUE!"},{"$error":"#VALUE!"},{"$error":"#VALUE!"},{"$error":"#VALUE!"},{"$error":"#VALUE!"},{"$error":"#VALUE!"},{"$error":"#VALUE!"},{"$f":"IF(SUM(AJ$1262:AJ1823)>0,0,IF(MAX(AC1824:AC$2702)=MAX(AC$1262:AC$2702),0,IF(AA1824>0.03*U$2703,0,$C1824/60)))","v":{"$error":"#VALUE!"}},{"$f":"IF(SUM(AK$1262:AK1823)>0,0,IF(MAX(AC1824:AC$2702)=MAX(AC$1262:AC$2702),0,IF(AA1824>0.01*U$2703,0,$C1824/60)))","v":{"$error":"#VALUE!"}},0,0,0,0,{"$error":"#VALUE!"},{"$error":"#VALUE!"},{"$error":"#VALUE!"},{"$error":"#VALUE!"},{"$error":"#VALUE!"},{"$error":"#VALUE!"},{"$error":"#VALUE!"},{"$error":"#VALUE!"},{"$error":"#VALUE!"},{"$error":"#VALUE!"},{"$error":"#VALUE!"},{"$f":"IF(SUM(BA$1262:BA1823)>0,0,IF(MAX(AT1824:AT$2702)=MAX(AT$1262:AT$2702),0,IF(AR1824>0.03*AL$2703,0,$C1824/60)))","v":{"$error":"#VALUE!"}},{"$f":"IF(SUM(BB$1262:BB1823)>0,0,IF(MAX(AT1824:AT$2702)=MAX(AT$1262:AT$2702),0,IF(AR1824>0.01*AL$2703,0,$C1824/60)))","v":{"$error":"#VALUE!"}},0,0,0,0,{"$error":"#VALUE!"},{"$error":"#VALUE!"},{"$error":"#VALUE!"},{"$error":"#VALUE!"},{"$error":"#VALUE!"},{"$error":"#VALUE!"},{"$error":"#VALUE!"},{"$error":"#VALUE!"},{"$error":"#VALUE!"},{"$error":"#VALUE!"},{"$error":"#VALUE!"},{"$f":"IF(SUM(BR$1262:BR1823)>0,0,IF(MAX(BK1824:BK$2702)=MAX(BK$1262:BK$2702),0,IF(BI1824>0.03*BC$2703,0,$C1824/60)))","v":{"$error":"#VALUE!"}},{"$f":"IF(SUM(BS$1262:BS1823)>0,0,IF(MAX(BK1824:BK$2702)=MAX(BK$1262:BK$2702),0,IF(BI1824>0.01*BC$2703,0,$C1824/60)))","v":{"$error":"#VALUE!"}},0,0,0,0,{"$error":"#VALUE!"},{"$error":"#VALUE!"},{"$error":"#VALUE!"},{"$error":"#VALUE!"},{"$error":"#VALUE!"},{"$error":"#VALUE!"},{"$error":"#VALUE!"},{"$error":"#VALUE!"},{"$error":"#VALUE!"},{"$error":"#VALUE!"},{"$error":"#VALUE!"},{"$f":"IF(SUM(CI$1262:CI1823)>0,0,IF(MAX(CB1824:CB$2702)=MAX(CB$1262:CB$2702),0,IF(BZ1824>0.03*BT$2703,0,$C1824/60)))","v":{"$error":"#VALUE!"}},{"$f":"IF(SUM(CJ$1262:CJ1823)>0,0,IF(MAX(CB1824:CB$2702)=MAX(CB$1262:CB$2702),0,IF(BZ1824>0.01*BT$2703,0,$C1824/60)))","v":{"$error":"#VALUE!"}},0,0,0,0,{"$error":"#VALUE!"},{"$error":"#VALUE!"},{"$error":"#VALUE!"},{"$error":"#VALUE!"},{"$error":"#VALUE!"},{"$error":"#VALUE!"},{"$error":"#VALUE!"},{"$error":"#VALUE!"},{"$error":"#VALUE!"},{"$error":"#VALUE!"},{"$error":"#VALUE!"},{"$f":"IF(SUM(CZ$1262:CZ1823)>0,0,IF(MAX(CS1824:CS$2702)=MAX(CS$1262:CS$2702),0,IF(CQ1824>0.03*CK$2703,0,$C1824/60)))","v":{"$error":"#VALUE!"}},{"$f":"IF(SUM(DA$1262:DA1823)>0,0,IF(MAX(CS1824:CS$2702)=MAX(CS$1262:CS$2702),0,IF(CQ1824>0.01*CK$2703,0,$C1824/60)))","v":{"$error":"#VALUE!"}}]
[null,47.25,2835,0,0,0,0,0,0,0,0,0,{"$error":"#N/A"},{"$error":"#N/A"},{"$error":"#N/A"},{"$error":"#N/A"},{"$error":"#N/A"},{"$error":"#N/A"},{"$f":"IF(SUM(S$1262:S1828)>0,0,\nIF(MAX(L1829:L$2702)=MAX(L$1262:L$2702),0,\nIF(Hydrograph_Source_WQCV=\"USER\",IF(J1829>0.03*D$2703,0,$C1829/60),\nIF(J1829>0.03*J$2703,0,$C1829/60))))","v":0},{"$f":"IF(SUM(T$1262:T1828)>0,0,\nIF(MAX(L1829:L$2702)=MAX(L$1262:L$2702),0,\nIF(Hydrograph_Source_WQCV=\"USER\",IF(J1829>0.01*D$2703,0,$C1829/60),\nIF(J1829>0.01*J$2703,0,$C1829/60))))","v":0},0,0,0,0,{"$error":"#VALUE!"},{"$error":"#VALUE!"},{"$error":"#VALUE!"},{"$error":"#VALUE!"},{"$error":"#VALUE!"},{"$error":"#VALUE!"},{"$error":"#VALUE!"},{"$error":"#VALUE!"},{"$error":"#VALUE!"},{"$error":"#VALUE!"},{"$error":"#VALUE!"},{"$f":"IF(SUM(AJ$1262:AJ1828)>0,0,IF(MAX(AC1829:AC$2702)=MAX(AC$1262:AC$2702),0,IF(AA1829>0.03*U$2703,0,$C1829/60)))","v":{"$error":"#VALUE!"}},{"$f":"IF(SUM(AK$1262:AK1828)>0,0,IF(MAX(AC1829:AC$2702)=MAX(AC$1262:AC$2702),0,IF(AA1829>0.01*U$2703,0,$C1829/60)))","v":{"$error":"#VALUE!"}},0,0,0,0,{"$error":"#VALUE!"},{"$error":"#VALUE!"},{"$error":"#VALUE!"},{"$error":"#VALUE!"},{"$error":"#VALUE!"},{"$error":"#VALUE!"},{"$error":"#VALUE!"},{"$error":"#VALUE!"},{"$error":"#VALUE!"},{"$error":"#VALUE!"},{"$error":"#VALUE!"},{"$f":"IF(SUM(BA$1262:BA1828)>0,0,IF(MAX(AT1829:AT$2702)=MAX(AT$1262:AT$2702),0,IF(AR1829>0.03*AL$2703,0,$C1829/60)))","v":{"$error":"#VALUE!"}},{"$f":"IF(SUM(BB$1262:BB1828)>0,0,IF(MAX(AT1829:AT$2702)=MAX(AT$1262:AT$2702),0,IF(AR1829>0.01*AL$2703,0,$C1829/60)))","v":{"$error":"#VALUE!"}},0,0,0,0,{"$error":"#VALUE!"},{"$error":"#VALUE!"},{"$error":"#VALUE!"},{"$error":"#VALUE!"},{"$error":"#VALUE!"},{"$error":"#VALUE!"},{"$error":"#VALUE!"},{"$error":"#VALUE!"},{"$error":"#VALUE!"},{"$error":"#VALUE!"},{"$error":"#VALUE!"},{"$f":"IF(SUM(BR$1262:BR1828)>0,0,IF(MAX(BK1829:BK$2702)=MAX(BK$1262:BK$2702),0,IF(BI1829>0.03*BC$2703,0,$C1829/60)))","v":{"$error":"#VALUE!"}},{"$f":"IF(SUM(BS$1262:BS1828)>0,0,IF(MAX(BK1829:BK$2702)=MAX(BK$1262:BK$2702),0,IF(BI1829>0.01*BC$2703,0,$C1829/60)))","v":{"$error":"#VALUE!"}},0,0,0,0,{"$error":"#VALUE!"},{"$error":"#VALUE!"},{"$error":"#VALUE!"},{"$error":"#VALUE!"},{"$error":"#VALUE!"},{"$error":"#VALUE!"},{"$error":"#VALUE!"},{"$error":"#VALUE!"},{"$error":"#VALUE!"},{"$error":"#VALUE!"},{"$error":"#VALUE!"},{"$f":"IF(SUM(CI$1262:CI1828)>0,0,IF(MAX(CB1829:CB$2702)=MAX(CB$1262:CB$2702),0,IF(BZ1829>0.03*BT$2703,0,$C1829/60)))","v":{"$error":"#VALUE!"}},{"$f":"IF(SUM(CJ$1262:CJ1828)>0,0,IF(MAX(CB1829:CB$2702)=MAX(CB$1262:CB$2702),0,IF(BZ1829>0.01*BT$2703,0,$C1829/60)))","v":{"$error":"#VALUE!"}},0,0,0,0,{"$error":"#VALUE!"},{"$error":"#VALUE!"},{"$error":"#VALUE!"},{"$error":"#VALUE!"},{"$error":"#VALUE!"},{"$error":"#VALUE!"},{"$error":"#VALUE!"},{"$error":"#VALUE!"},{"$error":"#VALUE!"},{"$error":"#VALUE!"},{"$error":"#VALUE!"},{"$f":"IF(SUM(CZ$1262:CZ1828)>0,0,IF(MAX(CS1829:CS$2702)=MAX(CS$1262:CS$2702),0,IF(CQ1829>0.03*CK$2703,0,$C1829/60)))","v":{"$error":"#VALUE!"}},{"$f":"IF(SUM(DA$1262:DA1828)>0,0,IF(MAX(CS1829:CS$2702)=MAX(CS$1262:CS$2702),0,IF(CQ1829>0.01*CK$2703,0,$C1829/60)))","v":{"$error":"#VALUE!"}}]
[null,47.833333333333336,2870,0,0,0,0,0,0,0,0,0,{"$error":"#N/A"},{"$error":"#N/A"},{"$error":"#N/A"},{"$error":"#N/A"},{"$error":"#N/A"},{"$error":"#N/A"},{"$f":"IF(SUM(S$1262:S1835)>0,0,\nIF(MAX(L1836:L$2702)=MAX(L$1262:L$2702),0,\nIF(Hydrograph_Source_WQCV=\"USER\",IF(J1836>0.03*D$2703,0,$C1836/60),\nIF(J1836>0.03*J$2703,0,$C1836/60))))","v":0},{"$f":"IF(SUM(T$1262:T1835)>0,0,\nIF(MAX(L1836:L$2702)=MAX(L$1262:L$2702),0,\nIF(Hydrograph_Source_WQCV=\"USER\",IF(J1836>0.01*D$2703,0,$C1836/60),\nIF(J1836>0.01*J$2703,0,$C1836/60))))","v":0},0,0,0,0,{"$error":"#VALUE!"},{"$error":"#VALUE!"},{"$error":"#VALUE!"},{"$error":"#VALUE!"},{"$error":"#VALUE!"},{"$error":"#VALUE!"},{"$error":"#VALUE!"},{"$error":"#VALUE!"},{"$error":"#VALUE!"},{"$error":"#VALUE!"},{"$error":"#VALUE!"},{"$f":"IF(SUM(AJ$1262:AJ1835)>0,0,IF(MAX(AC1836:AC$2702)=MAX(AC$1262:AC$2702),0,IF(AA1836>0.03*U$2703,0,$C1836/60)))","v":{"$error":"#VALUE!"}},{"$f":"IF(SUM(AK$1262:AK1835)>0,0,IF(MAX(AC1836:AC$2702)=MAX(AC$1262:AC$2702),0,IF(AA1836>0.01*U$2703,0,$C1836/60)))","v":{"$error":"#VALUE!"}},0,0,0,0,{"$error":"#VALUE!"},{"$error":"#VALUE!"},{"$error":"#VALUE!"},{"$error":"#VALUE!"},{"$error":"#VALUE!"},{"$error":"#VALUE!"},{"$error":"#VALUE!"},{"$error":"#VALUE!"},{"$error":"#VALUE!"},{"$error":"#VALUE!"},{"$error":"#VALUE!"},{"$f":"IF(SUM(BA$1262:BA1835)>0,0,IF(MAX(AT1836:AT$2702)=MAX(AT$1262:AT$2702),0,IF(AR1836>0.03*AL$2703,0,$C1836/60)))","v":{"$error":"#VALUE!"}},{"$f":"IF(SUM(BB$1262:BB1835)>0,0,IF(MAX(AT1836:AT$2702)=MAX(AT$1262:AT$2702),0,IF(AR1836>0.01*AL$2703,0,$C1836/60)))","v":{"$error":"#VALUE!"}},0,0,0,0,{"$error":"#VALUE!"},{"$error":"#VALUE!"},{"$error":"#VALUE!"},{"$error":"#VALUE!"},{"$error":"#VALUE!"},{"$error":"#VALUE!"},{"$error":"#VALUE!"},{"$error":"#VALUE!"},{"$error":"#VALUE!"},{"$error":"#VALUE!"},{"$error":"#VALUE!"},{"$f":"IF(SUM(BR$1262:BR1835)>0,0,IF(MAX(BK1836:BK$2702)=MAX(BK$1262:BK$2702),0,IF(BI1836>0.03*BC$2703,0,$C1836/60)))","v":{"$error":"#VALUE!"}},{"$f":"IF(SUM(BS$1262:BS1835)>0,0,IF(MAX(BK1836:BK$2702)=MAX(BK$1262:BK$2702),0,IF(BI1836>0.01*BC$2703,0,$C1836/60)))","v":{"$error":"#VALUE!"}},0,0,0,0,{"$error":"#VALUE!"},{"$error":"#VALUE!"},{"$error":"#VALUE!"},{"$error":"#VALUE!"},{"$error":"#VALUE!"},{"$error":"#VALUE!"},{"$error":"#VALUE!"},{"$error":"#VALUE!"},{"$error":"#VALUE!"},{"$error":"#VALUE!"},{"$error":"#VALUE!"},{"$f":"IF(SUM(CI$1262:CI1835)>0,0,IF(MAX(CB1836:CB$2702)=MAX(CB$1262:CB$2702),0,IF(BZ1836>0.03*BT$2703,0,$C1836/60)))","v":{"$error":"#VALUE!"}},{"$f":"IF(SUM(CJ$1262:CJ1835)>0,0,IF(MAX(CB1836:CB$2702)=MAX(CB$1262:CB$2702),0,IF(BZ1836>0.01*BT$2703,0,$C1836/60)))","v":{"$error":"#VALUE!"}},0,0,0,0,{"$error":"#VALUE!"},{"$error":"#VALUE!"},{"$error":"#VALUE!"},{"$error":"#VALUE!"},{"$error":"#VALUE!"},{"$error":"#VALUE!"},{"$error":"#VALUE!"},{"$error":"#VALUE!"},{"$error":"#VALUE!"},{"$error":"#VALUE!"},{"$error":"#VALUE!"},{"$f":"IF(SUM(CZ$1262:CZ1835)>0,0,IF(MAX(CS1836:CS$2702)=MAX(CS$1262:CS$2702),0,IF(CQ1836>0.03*CK$2703,0,$C1836/60)))","v":{"$error":"#VALUE!"}},{"$f":"IF(SUM(DA$1262:DA1835)>0,0,IF(MAX(CS1836:CS$2702)=MAX(CS$1262:CS$2702),0,IF(CQ1836>0.01*CK$2703,0,$C1836/60)))","v":{"$error":"#VALUE!"}}]
[null,48.166666666666664,2890,0,0,0,0,0,0,0,0,0,{"$error":"#N/A"},{"$error":"#N/A"},{"$error":"#N/A"},{"$error":"#N/A"},{"$error":"#N/A"},{"$error":"#N/A"},{"$f":"IF(SUM(S$1262:S1839)>0,0,\nIF(MAX(L1840:L$2702)=MAX(L$1262:L$2702),0,\nIF(Hydrograph_Source_WQCV=\"USER\",IF(J1840>0.03*D$2703,0,$C1840/60),\nIF(J1840>0.03*J$2703,0,$C1840/60))))","v":0},{"$f":"IF(SUM(T$1262:T1839)>0,0,\nIF(MAX(L1840:L$2702)=MAX(L$1262:L$2702),0,\nIF(Hydrograph_Source_WQCV=\"USER\",IF(J1840>0.01*D$2703,0,$C1840/60),\nIF(J1840>0.01*J$2703,0,$C1840/60))))","v":0},0,0,0,0,{"$error":"#VALUE!"},{"$error":"#VALUE!"},{"$error":"#VALUE!"},{"$error":"#VALUE!"},{"$error":"#VALUE!"},{"$error":"#VALUE!"},{"$error":"#VALUE!"},{"$error":"#VALUE!"},{"$error":"#VALUE!"},{"$error":"#VALUE!"},{"$error":"#VALUE!"},{"$f":"IF(SUM(AJ$1262:AJ1839)>0,0,IF(MAX(AC1840:AC$2702)=MAX(AC$1262:AC$2702),0,IF(AA1840>0.03*U$2703,0,$C1840/60)))","v":{"$error":"#VALUE!"}},{"$f":"IF(SUM(AK$1262:AK1839)>0,0,IF(MAX(AC1840:AC$2702)=MAX(AC$1262:AC$2702),0,IF(AA1840>0.01*U$2703,0,$C1840/60)))","v":{"$error":"#VALUE!"}},0,0,0,0,{"$error":"#VALUE!"},{"$error":"#VALUE!"},{"$error":"#VALUE!"},{"$error":"#VALUE!"},{"$error":"#VALUE!"},{"$error":"#VALUE!"},{"$error":"#VALUE!"},{"$error":"#VALUE!"},{"$error":"#VALUE!"},{"$error":"#VALUE!"},{"$error":"#VALUE!"},{"$f":"IF(SUM(BA$1262:BA1839)>0,0,IF(MAX(AT1840:AT$2702)=MAX(AT$1262:AT$2702),0,IF(AR1840>0.03*AL$2703,0,$C1840/60)))","v":{"$error":"#VALUE!"}},{"$f":"IF(SUM(BB$1262:BB1839)>0,0,IF(MAX(AT1840:AT$2702)=MAX(AT$1262:AT$2702),0,IF(AR1840>0.01*AL$2703,0,$C1840/60)))","v":{"$error":"#VALUE!"}},0,0,0,0,{"$error":"#VALUE!"},{"$error":"#VALUE!"},{"$error":"#VALUE!"},{"$error":"#VALUE!"},{"$error":"#VALUE!"},{"$error":"#VALUE!"},{"$error":"#VALUE!"},{"$error":"#VALUE!"},{"$error":"#VALUE!"},{"$error":"#VALUE!"},{"$error":"#VALUE!"},{"$f":"IF(SUM(BR$1262:BR1839)>0,0,IF(MAX(BK1840:BK$2702)=MAX(BK$1262:BK$2702),0,IF(BI1840>0.03*BC$2703,0,$C1840/60)))","v":{"$error":"#VALUE!"}},{"$f":"IF(SUM(BS$1262:BS1839)>0,0,IF(MAX(BK1840:BK$2702)=MAX(BK$1262:BK$2702),0,IF(BI1840>0.01*BC$2703,0,$C1840/60)))","v":{"$error":"#VALUE!"}},0,0,0,0,{"$error":"#VALUE!"},{"$error":"#VALUE!"},{"$error":"#VALUE!"},{"$error":"#VALUE!"},{"$error":"#VALUE!"},{"$error":"#VALUE!"},{"$error":"#VALUE!"},{"$error":"#VALUE!"},{"$error":"#VALUE!"},{"$error":"#VALUE!"},{"$error":"#VALUE!"},{"$f":"IF(SUM(CI$1262:CI1839)>0,0,IF(MAX(CB1840:CB$2702)=MAX(CB$1262:CB$2702),0,IF(BZ1840>0.03*BT$2703,0,$C1840/60)))","v":{"$error":"#VALUE!"}},{"$f":"IF(SUM(CJ$1262:CJ1839)>0,0,IF(MAX(CB1840:CB$2702)=MAX(CB$1262:CB$2702),0,IF(BZ1840>0.01*BT$2703,0,$C1840/60)))","v":{"$error":"#VALUE!"}},0,0,0,0,{"$error":"#VALUE!"},{"$error":"#VALUE!"},{"$error":"#VALUE!"},{"$error":"#VALUE!"},{"$f":"IF(CK$1263=\"\",0,ROUND((CY1840*CR1840+CX1840-CY1840*CW1840),7))","v":{"$error":"#VALUE!"}},{"$error":"#VALUE!"},{"$error":"#VALUE!"},{"$error":"#VALUE!"},{"$error":"#VALUE!"},{"$error":"#VALUE!"},{"$error":"#VALUE!"},{"$f":"IF(SUM(CZ$1262:CZ1839)>0,0,IF(MAX(CS1840:CS$2702)=MAX(CS$1262:CS$2702),0,IF(CQ1840>0.03*CK$2703,0,$C1840/60)))","v":{"$error":"#VALUE!"}},{"$f":"IF(SUM(DA$1262:DA1839)>0,0,IF(MAX(CS1840:CS$2702)=MAX(CS$1262:CS$2702),0,IF(CQ1840>0.01*CK$2703,0,$C1840/60)))","v":{"$error":"#VALUE!"}}]
[null,48.25,2895,0,0,0,0,0,0,0,0,0,{"$error":"#N/A"},{"$error":"#N/A"},{"$error":"#N/A"},{"$error":"#N/A"},{"$error":"#N/A"},{"$error":"#N/A"},{"$f":"IF(SUM(S$1262:S1840)>0,0,\nIF(MAX(L1841:L$2702)=MAX(L$1262:L$2702),0,\nIF(Hydrograph_Source_WQCV=\"USER\",IF(J1841>0.03*D$2703,0,$C1841/60),\nIF(J1841>0.03*J$2703,0,$C1841/60))))","v":0},{"$f":"IF(SUM(T$1262:T1840)>0,0,\nIF(MAX(L1841:L$2702)=MAX(L$1262:L$2702),0,\nIF(Hydrograph_Source_WQCV=\"USER\",IF(J1841>0.01*D$2703,0,$C1841/60),\nIF(J1841>0.01*J$2703,0,$C1841/60))))","v":0},0,0,0,0,{"$error":"#VALUE!"},{"$error":"#VALUE!"},{"$error":"#VALUE!"},{"$error":"#VALUE!"},{"$error":"#VALUE!"},{"$error":"#VALUE!"},{"$error":"#VALUE!"},{"$error":"#VALUE!"},{"$error":"#VALUE!"},{"$error":"#VALUE!"},{"$error":"#VALUE!"},{"$f":"IF(SUM(AJ$1262:AJ1840)>0,0,IF(MAX(AC1841:AC$2702)=MAX(AC$1262:AC$2702),0,IF(AA1841>0.03*U$2703,0,$C1841/60)))","v":{"$error":"#VALUE!"}},{"$f":"IF(SUM(AK$1262:AK1840)>0,0,IF(MAX(AC1841:AC$2702)=MAX(AC$1262:AC$2702),0,IF(AA1841>0.01*U$2703,0,$C1841/60)))","v":{"$error":"#VALUE!"}},0,0,0,0,{"$error":"#VALUE!"},{"$error":"#VALUE!"},{"$error":"#VALUE!"},{"$error":"#VALUE!"},{"$error":"#VALUE!"},{"$error":"#VALUE!"},{"$error":"#VALUE!"},{"$error":"#VALUE!"},{"$error":"#VALUE!"},{"$error":"#VALUE!"},{"$error":"#VALUE!"},{"$f":"IF(SUM(BA$1262:BA1840)>0,0,IF(MAX(AT1841:AT$2702)=MAX(AT$1262:AT$2702),0,IF(AR1841>0.03*AL$2703,0,$C1841/60)))","v":{"$error":"#VALUE!"}},{"$f":"IF(SUM(BB$1262:BB1840)>0,0,IF(MAX(AT1841:AT$2702)=MAX(AT$1262:AT$2702),0,IF(AR1841>0.01*AL$2703,0,$C1841/60)))","v":{"$error":"#VALUE!"}},0,0,0,0,{"$error":"#VALUE!"},{"$error":"#VALUE!"},{"$error":"#VALUE!"},{"$error":"#VALUE!"},{"$error":"#VALUE!"},{"$error":"#VALUE!"},{"$error":"#VALUE!"},{"$error":"#VALUE!"},{"$error":"#VALUE!"},{"$error":"#VALUE!"},{"$error":"#VALUE!"},{"$f":"IF(SUM(BR$1262:BR1840)>0,0,IF(MAX(BK1841:BK$2702)=MAX(BK$1262:BK$2702),0,IF(BI1841>0.03*BC$2703,0,$C1841/60)))","v":{"$error":"#VALUE!"}},{"$f":"IF(SUM(BS$1262:BS1840)>0,0,IF(MAX(BK1841:BK$2702)=MAX(BK$1262:BK$2702),0,IF(BI1841>0.01*BC$2703,0,$C1841/60)))","v":{"$error":"#VALUE!"}},0,0,0,0,{"$error":"#VALUE!"},{"$error":"#VALUE!"},{"$error":"#VALUE!"},{"$error":"#VALUE!"},{"$error":"#VALUE!"},{"$error":"#VALUE!"},{"$error":"#VALUE!"},{"$error":"#VALUE!"},{"$error":"#VALUE!"},{"$error":"#VALUE!"},{"$error":"#VALUE!"},{"$f":"IF(SUM(CI$1262:CI1840)>0,0,IF(MAX(CB1841:CB$2702)=MAX(CB$1262:CB$2702),0,IF(BZ1841>0.03*BT$2703,0,$C1841/60)))","v":{"$error":"#VALUE!"}},{"$f":"IF(SUM(CJ$1262:CJ1840)>0,0,IF(MAX(CB1841:CB$2702)=MAX(CB$1262:CB$2702),0,IF(BZ1841>0.01*BT$2703,0,$C1841/60)))","v":{"$error":"#VALUE!"}},0,0,0,0,{"$error":"#VALUE!"},{"$error":"#VALUE!"},{"$error":"#VALUE!"},{"$error":"#VALUE!"},{"$error":"#VALUE!"},{"$error":"#VALUE!"},{"$error":"#VALUE!"},{"$error":"#VALUE!"},{"$error":"#VALUE!"},{"$error":"#VALUE!"},{"$error":"#VALUE!"},{"$f":"IF(SUM(CZ$1262:CZ1840)>0,0,IF(MAX(CS1841:CS$2702)=MAX(CS$1262:CS$2702),0,IF(CQ1841>0.03*CK$2703,0,$C1841/60)))","v":{"$error":"#VALUE!"}},{"$f":"IF(SUM(DA$1262:DA1840)>0,0,IF(MAX(CS1841:CS$2702)=MAX(CS$1262:CS$2702),0,IF(CQ1841>0.01*CK$2703,0,$C1841/60)))","v":{"$error":"#VALUE!"}}]
[null,48.583333333333336,2915,0,0,0,0,0,0,0,0,0,{"$error":"#N/A"},{"$error":"#N/A"},{"$error":"#N/A"},{"$error":"#N/A"},{"$error":"#N/A"},{"$error":"#N/A"},{"$f":"IF(SUM(S$1262:S1844)>0,0,\nIF(MAX(L1845:L$2702)=MAX(L$1262:L$2702),0,\nIF(Hydrograph_Source_WQCV=\"USER\",IF(J1845>0.03*D$2703,0,$C1845/60),\nIF(J1845>0.03*J$2703,0,$C1845/60))))","v":0},{"$f":"IF(SUM(T$1262:T1844)>0,0,\nIF(MAX(L1845:L$2702)=MAX(L$1262:L$2702),0,\nIF(Hydrograph_Source_WQCV=\"USER\",IF(J1845>0.01*D$2703,0,$C1845/60),\nIF(J1845>0.01*J$2703,0,$C1845/60))))","v":0},0,0,0,0,{"$error":"#VALUE!"},{"$error":"#VALUE!"},{"$error":"#VALUE!"},{"$error":"#VALUE!"},{"$error":"#VALUE!"},{"$error":"#VALUE!"},{"$error":"#VALUE!"},{"$error":"#VALUE!"},{"$error":"#VALUE!"},{"$error":"#VALUE!"},{"$error":"#VALUE!"},{"$f":"IF(SUM(AJ$1262:AJ1844)>0,0,IF(MAX(AC1845:AC$2702)=MAX(AC$1262:AC$2702),0,IF(AA1845>0.03*U$2703,0,$C1845/60)))","v":{"$error":"#VALUE!"}},{"$f":"IF(SUM(AK$1262:AK1844)>0,0,IF(MAX(AC1845:AC$2702)=MAX(AC$1262:AC$2702),0,IF(AA1845>0.01*U$2703,0,$C1845/60)))","v":{"$error":"#VALUE!"}},0,0,0,0,{"$error":"#VALUE!"},{"$error":"#VALUE!"},{"$error":"#VALUE!"},{"$error":"#VALUE!"},{"$error":"#VALUE!"},{"$error":"#VALUE!"},{"$error":"#VALUE!"},{"$error":"#VALUE!"},{"$error":"#VALUE!"},{"$error":"#VALUE!"},{"$error":"#VALUE!"},{"$f":"IF(SUM(BA$1262:BA1844)>0,0,IF(MAX(AT1845:AT$2702)=MAX(AT$1262:AT$2702),0,IF(AR1845>0.03*AL$2703,0,$C1845/60)))","v":{"$error":"#VALUE!"}},{"$f":"IF(SUM(BB$1262:BB1844)>0,0,IF(MAX(AT1845:AT$2702)=MAX(AT$1262:AT$2702),0,IF(AR1845>0.01*AL$2703,0,$C1845/60)))","v":{"$error":"#VALUE!"}},0,0,0,0,{"$error":"#VALUE!"},{"$error":"#VALUE!"},{"$error":"#VALUE!"},{"$error":"#VALUE!"},{"$error":"#VALUE!"},{"$error":"#VALUE!"},{"$error":"#VALUE!"},{"$error":"#VALUE!"},{"$error":"#VALUE!"},{"$error":"#VALUE!"},{"$error":"#VALUE!"},{"$f":"IF(SUM(BR$1262:BR1844)>0,0,IF(MAX(BK1845:BK$2702)=MAX(BK$1262:BK$2702),0,IF(BI1845>0.03*BC$2703,0,$C1845/60)))","v":{"$error":"#VALUE!"}},{"$f":"IF(SUM(BS$1262:BS1844)>0,0,IF(MAX(BK1845:BK$2702)=MAX(BK$1262:BK$2702),0,IF(BI1845>0.01*BC$2703,0,$C1845/60)))","v":{"$error":"#VALUE!"}},0,0,0,0,{"$error":"#VALUE!"},{"$error":"#VALUE!"},{"$error":"#VALUE!"},{"$error":"#VALUE!"},{"$error":"#VALUE!"},{"$error":"#VALUE!"},{"$error":"#VALUE!"},{"$error":"#VALUE!"},{"$error":"#VALUE!"},{"$error":"#VALUE!"},{"$error":"#VALUE!"},{"$f":"IF(SUM(CI$1262:CI1844)>0,0,IF(MAX(CB1845:CB$2702)=MAX(CB$1262:CB$2702),0,IF(BZ1845>0.03*BT$2703,0,$C1845/60)))","v":{"$error":"#VALUE!"}},{"$f":"IF(SUM(CJ$1262:CJ1844)>0,0,IF(MAX(CB1845:CB$2702)=MAX(CB$1262:CB$2702),0,IF(BZ1845>0.01*BT$2703,0,$C1845/60)))","v":{"$error":"#VALUE!"}},0,0,0,0,{"$error":"#VALUE!"},{"$error":"#VALUE!"},{"$error":"#VALUE!"},{"$error":"#VALUE!"},{"$error":"#VALUE!"},{"$error":"#VALUE!"},{"$error":"#VALUE!"},{"$error":"#VALUE!"},{"$error":"#VALUE!"},{"$error":"#VALUE!"},{"$error":"#VALUE!"},{"$f":"IF(SUM(CZ$1262:CZ1844)>0,0,IF(MAX(CS1845:CS$2702)=MAX(CS$1262:CS$2702),0,IF(CQ1845>0.03*CK$2703,0,$C1845/60)))","v":{"$error":"#VALUE!"}},{"$f":"IF(SUM(DA$1262:DA1844)>0,0,IF(MAX(CS1845:CS$2702)=MAX(CS$1262:CS$2702),0,IF(CQ1845>0.01*CK$2703,0,$C1845/60)))","v":{"$error":"#VALUE!"}}]
[null,49.166666666666664,2950,0,0,0,0,0,0,0,0,0,{"$error":"#N/A"},{"$error":"#N/A"},{"$error":"#N/A"},{"$error":"#N/A"},{"$error":"#N/A"},{"$error":"#N/A"},{"$f":"IF(SUM(S$1262:S1851)>0,0,\nIF(MAX(L1852:L$2702)=MAX(L$1262:L$2702),0,\nIF(Hydrograph_Source_WQCV=\"USER\",IF(J1852>0.03*D$2703,0,$C1852/60),\nIF(J1852>0.03*J$2703,0,$C1852/60))))","v":0},{"$f":"IF(SUM(T$1262:T1851)>0,0,\nIF(MAX(L1852:L$2702)=MAX(L$1262:L$2702),0,\nIF(Hydrograph_Source_WQCV=\"USER\",IF(J1852>0.01*D$2703,0,$C1852/60),\nIF(J1852>0.01*J$2703,0,$C1852/60))))","v":0},0,0,0,0,{"$error":"#VALUE!"},{"$error":"#VALUE!"},{"$error":"#VALUE!"},{"$error":"#VALUE!"},{"$error":"#VALUE!"},{"$error":"#VALUE!"},{"$error":"#VALUE!"},{"$error":"#VALUE!"},{"$error":"#VALUE!"},{"$error":"#VALUE!"},{"$error":"#VALUE!"},{"$f":"IF(SUM(AJ$1262:AJ1851)>0,0,IF(MAX(AC1852:AC$2702)=MAX(AC$1262:AC$2702),0,IF(AA1852>0.03*U$2703,0,$C1852/60)))","v":{"$error":"#VALUE!"}},{"$f":"IF(SUM(AK$1262:AK1851)>0,0,IF(MAX(AC1852:AC$2702)=MAX(AC$1262:AC$2702),0,IF(AA1852>0.01*U$2703,0,$C1852/60)))","v":{"$error":"#VALUE!"}},0,0,0,0,{"$error":"#VALUE!"},{"$error":"#VALUE!"},{"$error":"#VALUE!"},{"$error":"#VALUE!"},{"$error":"#VALUE!"},{"$error":"#VALUE!"},{"$error":"#VALUE!"},{"$error":"#VALUE!"},{"$error":"#VALUE!"},{"$error":"#VALUE!"},{"$error":"#VALUE!"},{"$f":"IF(SUM(BA$1262:BA1851)>0,0,IF(MAX(AT1852:AT$2702)=MAX(AT$1262:AT$2702),0,IF(AR1852>0.03*AL$2703,0,$C1852/60)))","v":{"$error":"#VALUE!"}},{"$f":"IF(SUM(BB$1262:BB1851)>0,0,IF(MAX(AT1852:AT$2702)=MAX(AT$1262:AT$2702),0,IF(AR1852>0.01*AL$2703,0,$C1852/60)))","v":{"$error":"#VALUE!"}},0,0,0,0,{"$error":"#VALUE!"},{"$error":"#VALUE!"},{"$error":"#VALUE!"},{"$error":"#VALUE!"},{"$error":"#VALUE!"},{"$error":"#VALUE!"},{"$error":"#VALUE!"},{"$error":"#VALUE!"},{"$error":"#VALUE!"},{"$error":"#VALUE!"},{"$error":"#VALUE!"},{"$f":"IF(SUM(BR$1262:BR1851)>0,0,IF(MAX(BK1852:BK$2702)=MAX(BK$1262:BK$2702),0,IF(BI1852>0.03*BC$2703,0,$C1852/60)))","v":{"$error":"#VALUE!"}},{"$f":"IF(SUM(BS$1262:BS1851)>0,0,IF(MAX(BK1852:BK$2702)=MAX(BK$1262:BK$2702),0,IF(BI1852>0.01*BC$2703,0,$C1852/60)))","v":{"$error":"#VALUE!"}},0,0,0,0,{"$error":"#VALUE!"},{"$error":"#VALUE!"},{"$error":"#VALUE!"},{"$error":"#VALUE!"},{"$error":"#VALUE!"},{"$error":"#VALUE!"},{"$error":"#VALUE!"},{"$error":"#VALUE!"},{"$error":"#VALUE!"},{"$error":"#VALUE!"},{"$error":"#VALUE!"},{"$f":"IF(SUM(CI$1262:CI1851)>0,0,IF(MAX(CB1852:CB$2702)=MAX(CB$1262:CB$2702),0,IF(BZ1852>0.03*BT$2703,0,$C1852/60)))","v":{"$error":"#VALUE!"}},{"$f":"IF(SUM(CJ$1262:CJ1851)>0,0,IF(MAX(CB1852:CB$2702)=MAX(CB$1262:CB$2702),0,IF(BZ1852>0.01*BT$2703,0,$C1852/60)))","v":{"$error":"#VALUE!"}},0,0,0,0,{"$error":"#VALUE!"},{"$error":"#VALUE!"},{"$error":"#VALUE!"},{"$error":"#VALUE!"},{"$error":"#VALUE!"},{"$error":"#VALUE!"},{"$error":"#VALUE!"},{"$error":"#VALUE!"},{"$error":"#VALUE!"},{"$error":"#VALUE!"},{"$error":"#VALUE!"},{"$f":"IF(SUM(CZ$1262:CZ1851)>0,0,IF(MAX(CS1852:CS$2702)=MAX(CS$1262:CS$2702),0,IF(CQ1852>0.03*CK$2703,0,$C1852/60)))","v":{"$error":"#VALUE!"}},{"$f":"IF(SUM(DA$1262:DA1851)>0,0,IF(MAX(CS1852:CS$2702)=MAX(CS$1262:CS$2702),0,IF(CQ1852>0.01*CK$2703,0,$C1852/60)))","v":{"$error":"#VALUE!"}}]
[null,49.583333333333336,2975,0,0,0,0,0,0,0,0,0,{"$error":"#N/A"},{"$error":"#N/A"},{"$error":"#N/A"},{"$error":"#N/A"},{"$error":"#N/A"},{"$error":"#N/A"},{"$f":"IF(SUM(S$1262:S1856)>0,0,\nIF(MAX(L1857:L$2702)=MAX(L$1262:L$2702),0,\nIF(Hydrograph_Source_WQCV=\"USER\",IF(J1857>0.03*D$2703,0,$C1857/60),\nIF(J1857>0.03*J$2703,0,$C1857/60))))","v":0},{"$f":"IF(SUM(T$1262:T1856)>0,0,\nIF(MAX(L1857:L$2702)=MAX(L$1262:L$2702),0,\nIF(Hydrograph_Source_WQCV=\"USER\",IF(J1857>0.01*D$2703,0,$C1857/60),\nIF(J1857>0.01*J$2703,0,$C1857/60))))","v":0},0,0,0,0,{"$error":"#VALUE!"},{"$error":"#VALUE!"},{"$error":"#VALUE!"},{"$error":"#VALUE!"},{"$error":"#VALUE!"},{"$error":"#VALUE!"},{"$error":"#VALUE!"},{"$error":"#VALUE!"},{"$error":"#VALUE!"},{"$error":"#VALUE!"},{"$error":"#VALUE!"},{"$f":"IF(SUM(AJ$1262:AJ1856)>0,0,IF(MAX(AC1857:AC$2702)=MAX(AC$1262:AC$2702),0,IF(AA1857>0.03*U$2703,0,$C1857/60)))","v":{"$error":"#VALUE!"}},{"$f":"IF(SUM(AK$1262:AK1856)>0,0,IF(MAX(AC1857:AC$2702)=MAX(AC$1262:AC$2702),0,IF(AA1857>0.01*U$2703,0,$C1857/60)))","v":{"$error":"#VALUE!"}},0,0,0,0,{"$error":"#VALUE!"},{"$error":"#VALUE!"},{"$error":"#VALUE!"},{"$error":"#VALUE!"},{"$error":"#VALUE!"},{"$error":"#VALUE!"},{"$error":"#VALUE!"},{"$error":"#VALUE!"},{"$error":"#VALUE!"},{"$error":"#VALUE!"},{"$error":"#VALUE!"},{"$f":"IF(SUM(BA$1262:BA1856)>0,0,IF(MAX(AT1857:AT$2702)=MAX(AT$1262:AT$2702),0,IF(AR1857>0.03*AL$2703,0,$C1857/60)))","v":{"$error":"#VALUE!"}},{"$f":"IF(SUM(BB$1262:BB1856)>0,0,IF(MAX(AT1857:AT$2702)=MAX(AT$1262:AT$2702),0,IF(AR1857>0.01*AL$2703,0,$C1857/60)))","v":{"$error":"#VALUE!"}},0,0,0,0,{"$error":"#VALUE!"},{"$error":"#VALUE!"},{"$error":"#VALUE!"},{"$error":"#VALUE!"},{"$error":"#VALUE!"},{"$error":"#VALUE!"},{"$error":"#VALUE!"},{"$error":"#VALUE!"},{"$error":"#VALUE!"},{"$error":"#VALUE!"},{"$error":"#VALUE!"},{"$f":"IF(SUM(BR$1262:BR1856)>0,0,IF(MAX(BK1857:BK$2702)=MAX(BK$1262:BK$2702),0,IF(BI1857>0.03*BC$2703,0,$C1857/60)))","v":{"$error":"#VALUE!"}},{"$f":"IF(SUM(BS$1262:BS1856)>0,0,IF(MAX(BK1857:BK$2702)=MAX(BK$1262:BK$2702),0,IF(BI1857>0.01*BC$2703,0,$C1857/60)))","v":{"$error":"#VALUE!"}},0,0,0,0,{"$error":"#VALUE!"},{"$error":"#VALUE!"},{"$error":"#VALUE!"},{"$error":"#VALUE!"},{"$error":"#VALUE!"},{"$error":"#VALUE!"},{"$error":"#VALUE!"},{"$error":"#VALUE!"},{"$error":"#VALUE!"},{"$error":"#VALUE!"},{"$error":"#VALUE!"},{"$f":"IF(SUM(CI$1262:CI1856)>0,0,IF(MAX(CB1857:CB$2702)=MAX(CB$1262:CB$2702),0,IF(BZ1857>0.03*BT$2703,0,$C1857/60)))","v":{"$error":"#VALUE!"}},{"$f":"IF(SUM(CJ$1262:CJ1856)>0,0,IF(MAX(CB1857:CB$2702)=MAX(CB$1262:CB$2702),0,IF(BZ1857>0.01*BT$2703,0,$C1857/60)))","v":{"$error":"#VALUE!"}},0,0,0,0,{"$error":"#VALUE!"},{"$error":"#VALUE!"},{"$error":"#VALUE!"},{"$error":"#VALUE!"},{"$error":"#VALUE!"},{"$error":"#VALUE!"},{"$error":"#VALUE!"},{"$error":"#VALUE!"},{"$error":"#VALUE!"},{"$error":"#VALUE!"},{"$error":"#VALUE!"},{"$f":"IF(SUM(CZ$1262:CZ1856)>0,0,IF(MAX(CS1857:CS$2702)=MAX(CS$1262:CS$2702),0,IF(CQ1857>0.03*CK$2703,0,$C1857/60)))","v":{"$error":"#VALUE!"}},{"$f":"IF(SUM(DA$1262:DA1856)>0,0,IF(MAX(CS1857:CS$2702)=MAX(CS$1262:CS$2702),0,IF(CQ1857>0.01*CK$2703,0,$C1857/60)))","v":{"$error":"#VALUE!"}}]
[null,49.666666666666664,2980,0,0,0,0,0,0,0,0,0,{"$error":"#N/A"},{"$error":"#N/A"},{"$error":"#N/A"},{"$error":"#N/A"},{"$error":"#N/A"},{"$error":"#N/A"},{"$f":"IF(SUM(S$1262:S1857)>0,0,\nIF(MAX(L1858:L$2702)=MAX(L$1262:L$2702),0,\nIF(Hydrograph_Source_WQCV=\"USER\",IF(J1858>0.03*D$2703,0,$C1858/60),\nIF(J1858>0.03*J$2703,0,$C1858/60))))","v":0},{"$f":"IF(SUM(T$1262:T1857)>0,0,\nIF(MAX(L1858:L$2702)=MAX(L$1262:L$2702),0,\nIF(Hydrograph_Source_WQCV=\"USER\",IF(J1858>0.01*D$2703,0,$C1858/60),\nIF(J1858>0.01*J$2703,0,$C1858/60))))","v":0},0,0,0,0,{"$error":"#VALUE!"},{"$error":"#VALUE!"},{"$error":"#VALUE!"},{"$error":"#VALUE!"},{"$error":"#VALUE!"},{"$error":"#VALUE!"},{"$error":"#VALUE!"},{"$error":"#VALUE!"},{"$error":"#VALUE!"},{"$error":"#VALUE!"},{"$error":"#VALUE!"},{"$f":"IF(SUM(AJ$1262:AJ1857)>0,0,IF(MAX(AC1858:AC$2702)=MAX(AC$1262:AC$2702),0,IF(AA1858>0.03*U$2703,0,$C1858/60)))","v":{"$error":"#VALUE!"}},{"$f":"IF(SUM(AK$1262:AK1857)>0,0,IF(MAX(AC1858:AC$2702)=MAX(AC$1262:AC$2702),0,IF(AA1858>0.01*U$2703,0,$C1858/60)))","v":{"$error":"#VALUE!"}},0,0,0,0,{"$error":"#VALUE!"},{"$error":"#VALUE!"},{"$error":"#VALUE!"},{"$error":"#VALUE!"},{"$error":"#VALUE!"},{"$error":"#VALUE!"},{"$error":"#VALUE!"},{"$error":"#VALUE!"},{"$error":"#VALUE!"},{"$error":"#VALUE!"},{"$error":"#VALUE!"},{"$f":"IF(SUM(BA$1262:BA1857)>0,0,IF(MAX(AT1858:AT$2702)=MAX(AT$1262:AT$2702),0,IF(AR1858>0.03*AL$2703,0,$C1858/60)))","v":{"$error":"#VALUE!"}},{"$f":"IF(SUM(BB$1262:BB1857)>0,0,IF(MAX(AT1858:AT$2702)=MAX(AT$1262:AT$2702),0,IF(AR1858>0.01*AL$2703,0,$C1858/60)))","v":{"$error":"#VALUE!"}},0,0,0,0,{"$error":"#VALUE!"},{"$error":"#VALUE!"},{"$error":"#VALUE!"},{"$error":"#VALUE!"},{"$error":"#VALUE!"},{"$error":"#VALUE!"},{"$error":"#VALUE!"},{"$error":"#VALUE!"},{"$error":"#VALUE!"},{"$error":"#VALUE!"},{"$error":"#VALUE!"},{"$f":"IF(SUM(BR$1262:BR1857)>0,0,IF(MAX(BK1858:BK$2702)=MAX(BK$1262:BK$2702),0,IF(BI1858>0.03*BC$2703,0,$C1858/60)))","v":{"$error":"#VALUE!"}},{"$f":"IF(SUM(BS$1262:BS1857)>0,0,IF(MAX(BK1858:BK$2702)=MAX(BK$1262:BK$2702),0,IF(BI1858>0.01*BC$2703,0,$C1858/60)))","v":{"$error":"#VALUE!"}},0,0,0,0,{"$error":"#VALUE!"},{"$error":"#VALUE!"},{"$error":"#VALUE!"},{"$error":"#VALUE!"},{"$error":"#VALUE!"},{"$error":"#VALUE!"},{"$error":"#VALUE!"},{"$error":"#VALUE!"},{"$error":"#VALUE!"},{"$error":"#VALUE!"},{"$error":"#VALUE!"},{"$f":"IF(SUM(CI$1262:CI1857)>0,0,IF(MAX(CB1858:CB$2702)=MAX(CB$1262:CB$2702),0,IF(BZ1858>0.03*BT$2703,0,$C1858/60)))","v":{"$error":"#VALUE!"}},{"$f":"IF(SUM(CJ$1262:CJ1857)>0,0,IF(MAX(CB1858:CB$2702)=MAX(CB$1262:CB$2702),0,IF(BZ1858>0.01*BT$2703,0,$C1858/60)))","v":{"$error":"#VALUE!"}},0,0,0,0,{"$error":"#VALUE!"},{"$error":"#VALUE!"},{"$error":"#VALUE!"},{"$error":"#VALUE!"},{"$error":"#VALUE!"},{"$error":"#VALUE!"},{"$error":"#VALUE!"},{"$error":"#VALUE!"},{"$error":"#VALUE!"},{"$error":"#VALUE!"},{"$error":"#VALUE!"},{"$f":"IF(SUM(CZ$1262:CZ1857)>0,0,IF(MAX(CS1858:CS$2702)=MAX(CS$1262:CS$2702),0,IF(CQ1858>0.03*CK$2703,0,$C1858/60)))","v":{"$error":"#VALUE!"}},{"$f":"IF(SUM(DA$1262:DA1857)>0,0,IF(MAX(CS1858:CS$2702)=MAX(CS$1262:CS$2702),0,IF(CQ1858>0.01*CK$2703,0,$C1858/60)))","v":{"$error":"#VALUE!"}}]
[null,50.083333333333336,3005,0,0,0,0,0,0,0,0,0,{"$error":"#N/A"},{"$error":"#N/A"},{"$error":"#N/A"},{"$error":"#N/A"},{"$error":"#N/A"},{"$error":"#N/A"},{"$f":"IF(SUM(S$1262:S1862)>0,0,\nIF(MAX(L1863:L$2702)=MAX(L$1262:L$2702),0,\nIF(Hydrograph_Source_WQCV=\"USER\",IF(J1863>0.03*D$2703,0,$C1863/60),\nIF(J1863>0.03*J$2703,0,$C1863/60))))","v":0},{"$f":"IF(SUM(T$1262:T1862)>0,0,\nIF(MAX(L1863:L$2702)=MAX(L$1262:L$2702),0,\nIF(Hydrograph_Source_WQCV=\"USER\",IF(J1863>0.01*D$2703,0,$C1863/60),\nIF(J1863>0.01*J$2703,0,$C1863/60))))","v":0},0,0,0,0,{"$error":"#VALUE!"},{"$error":"#VALUE!"},{"$error":"#VALUE!"},{"$error":"#VALUE!"},{"$error":"#VALUE!"},{"$error":"#VALUE!"},{"$error":"#VALUE!"},{"$error":"#VALUE!"},{"$error":"#VALUE!"},{"$error":"#VALUE!"},{"$error":"#VALUE!"},{"$f":"IF(SUM(AJ$1262:AJ1862)>0,0,IF(MAX(AC1863:AC$2702)=MAX(AC$1262:AC$2702),0,IF(AA1863>0.03*U$2703,0,$C1863/60)))","v":{"$error":"#VALUE!"}},{"$f":"IF(SUM(AK$1262:AK1862)>0,0,IF(MAX(AC1863:AC$2702)=MAX(AC$1262:AC$2702),0,IF(AA1863>0.01*U$2703,0,$C1863/60)))","v":{"$error":"#VALUE!"}},0,0,0,0,{"$error":"#VALUE!"},{"$error":"#VALUE!"},{"$error":"#VALUE!"},{"$error":"#VALUE!"},{"$error":"#VALUE!"},{"$error":"#VALUE!"},{"$error":"#VALUE!"},{"$error":"#VALUE!"},{"$error":"#VALUE!"},{"$error":"#VALUE!"},{"$error":"#VALUE!"},{"$f":"IF(SUM(BA$1262:BA1862)>0,0,IF(MAX(AT1863:AT$2702)=MAX(AT$1262:AT$2702),0,IF(AR1863>0.03*AL$2703,0,$C1863/60)))","v":{"$error":"#VALUE!"}},{"$f":"IF(SUM(BB$1262:BB1862)>0,0,IF(MAX(AT1863:AT$2702)=MAX(AT$1262:AT$2702),0,IF(AR1863>0.01*AL$2703,0,$C1863/60)))","v":{"$error":"#VALUE!"}},0,0,0,0,{"$error":"#VALUE!"},{"$error":"#VALUE!"},{"$error":"#VALUE!"},{"$error":"#VALUE!"},{"$error":"#VALUE!"},{"$error":"#VALUE!"},{"$error":"#VALUE!"},{"$error":"#VALUE!"},{"$error":"#VALUE!"},{"$error":"#VALUE!"},{"$error":"#VALUE!"},{"$f":"IF(SUM(BR$1262:BR1862)>0,0,IF(MAX(BK1863:BK$2702)=MAX(BK$1262:BK$2702),0,IF(BI1863>0.03*BC$2703,0,$C1863/60)))","v":{"$error":"#VALUE!"}},{"$f":"IF(SUM(BS$1262:BS1862)>0,0,IF(MAX(BK1863:BK$2702)=MAX(BK$1262:BK$2702),0,IF(BI1863>0.01*BC$2703,0,$C1863/60)))","v":{"$error":"#VALUE!"}},0,0,0,0,{"$error":"#VALUE!"},{"$error":"#VALUE!"},{"$error":"#VALUE!"},{"$error":"#VALUE!"},{"$error":"#VALUE!"},{"$error":"#VALUE!"},{"$error":"#VALUE!"},{"$error":"#VALUE!"},{"$error":"#VALUE!"},{"$error":"#VALUE!"},{"$error":"#VALUE!"},{"$f":"IF(SUM(CI$1262:CI1862)>0,0,IF(MAX(CB1863:CB$2702)=MAX(CB$1262:CB$2702),0,IF(BZ1863>0.03*BT$2703,0,$C1863/60)))","v":{"$error":"#VALUE!"}},{"$f":"IF(SUM(CJ$1262:CJ1862)>0,0,IF(MAX(CB1863:CB$2702)=MAX(CB$1262:CB$2702),0,IF(BZ1863>0.01*BT$2703,0,$C1863/60)))","v":{"$error":"#VALUE!"}},0,0,0,0,{"$error":"#VALUE!"},{"$error":"#VALUE!"},{"$error":"#VALUE!"},{"$error":"#VALUE!"},{"$error":"#VALUE!"},{"$error":"#VALUE!"},{"$error":"#VALUE!"},{"$error":"#VALUE!"},{"$error":"#VALUE!"},{"$error":"#VALUE!"},{"$error":"#VALUE!"},{"$f":"IF(SUM(CZ$1262:CZ1862)>0,0,IF(MAX(CS1863:CS$2702)=MAX(CS$1262:CS$2702),0,IF(CQ1863>0.03*CK$2703,0,$C1863/60)))","v":{"$error":"#VALUE!"}},{"$f":"IF(SUM(DA$1262:DA1862)>0,0,IF(MAX(CS1863:CS$2702)=MAX(CS$1262:CS$2702),0,IF(CQ1863>0.01*CK$2703,0,$C1863/60)))","v":{"$error":"#VALUE!"}}]
[null,50.583333333333336,3035,0,0,0,0,0,0,0,0,0,{"$error":"#N/A"},{"$error":"#N/A"},{"$error":"#N/A"},{"$error":"#N/A"},{"$error":"#N/A"},{"$error":"#N/A"},{"$f":"IF(SUM(S$1262:S1868)>0,0,\nIF(MAX(L1869:L$2702)=MAX(L$1262:L$2702),0,\nIF(Hydrograph_Source_WQCV=\"USER\",IF(J1869>0.03*D$2703,0,$C1869/60),\nIF(J1869>0.03*J$2703,0,$C1869/60))))","v":0},{"$f":"IF(SUM(T$1262:T1868)>0,0,\nIF(MAX(L1869:L$2702)=MAX(L$1262:L$2702),0,\nIF(Hydrograph_Source_WQCV=\"USER\",IF(J1869>0.01*D$2703,0,$C1869/60),\nIF(J1869>0.01*J$2703,0,$C1869/60))))","v":0},0,0,0,0,{"$error":"#VALUE!"},{"$error":"#VALUE!"},{"$error":"#VALUE!"},{"$error":"#VALUE!"},{"$error":"#VALUE!"},{"$error":"#VALUE!"},{"$error":"#VALUE!"},{"$error":"#VALUE!"},{"$error":"#VALUE!"},{"$error":"#VALUE!"},{"$error":"#VALUE!"},{"$f":"IF(SUM(AJ$1262:AJ1868)>0,0,IF(MAX(AC1869:AC$2702)=MAX(AC$1262:AC$2702),0,IF(AA1869>0.03*U$2703,0,$C1869/60)))","v":{"$error":"#VALUE!"}},{"$f":"IF(SUM(AK$1262:AK1868)>0,0,IF(MAX(AC1869:AC$2702)=MAX(AC$1262:AC$2702),0,IF(AA1869>0.01*U$2703,0,$C1869/60)))","v":{"$error":"#VALUE!"}},0,0,0,0,{"$error":"#VALUE!"},{"$error":"#VALUE!"},{"$error":"#VALUE!"},{"$error":"#VALUE!"},{"$error":"#VALUE!"},{"$error":"#VALUE!"},{"$error":"#VALUE!"},{"$error":"#VALUE!"},{"$error":"#VALUE!"},{"$error":"#VALUE!"},{"$error":"#VALUE!"},{"$f":"IF(SUM(BA$1262:BA1868)>0,0,IF(MAX(AT1869:AT$2702)=MAX(AT$1262:AT$2702),0,IF(AR1869>0.03*AL$2703,0,$C1869/60)))","v":{"$error":"#VALUE!"}},{"$f":"IF(SUM(BB$1262:BB1868)>0,0,IF(MAX(AT1869:AT$2702)=MAX(AT$1262:AT$2702),0,IF(AR1869>0.01*AL$2703,0,$C1869/60)))","v":{"$error":"#VALUE!"}},0,0,0,0,{"$error":"#VALUE!"},{"$error":"#VALUE!"},{"$error":"#VALUE!"},{"$error":"#VALUE!"},{"$error":"#VALUE!"},{"$error":"#VALUE!"},{"$error":"#VALUE!"},{"$error":"#VALUE!"},{"$error":"#VALUE!"},{"$error":"#VALUE!"},{"$error":"#VALUE!"},{"$f":"IF(SUM(BR$1262:BR1868)>0,0,IF(MAX(BK1869:BK$2702)=MAX(BK$1262:BK$2702),0,IF(BI1869>0.03*BC$2703,0,$C1869/60)))","v":{"$error":"#VALUE!"}},{"$f":"IF(SUM(BS$1262:BS1868)>0,0,IF(MAX(BK1869:BK$2702)=MAX(BK$1262:BK$2702),0,IF(BI1869>0.01*BC$2703,0,$C1869/60)))","v":{"$error":"#VALUE!"}},0,0,0,0,{"$error":"#VALUE!"},{"$error":"#VALUE!"},{"$error":"#VALUE!"},{"$error":"#VALUE!"},{"$error":"#VALUE!"},{"$error":"#VALUE!"},{"$error":"#VALUE!"},{"$error":"#VALUE!"},{"$error":"#VALUE!"},{"$error":"#VALUE!"},{"$error":"#VALUE!"},{"$f":"IF(SUM(CI$1262:CI1868)>0,0,IF(MAX(CB1869:CB$2702)=MAX(CB$1262:CB$2702),0,IF(BZ1869>0.03*BT$2703,0,$C1869/60)))","v":{"$error":"#VALUE!"}},{"$f":"IF(SUM(CJ$1262:CJ1868)>0,0,IF(MAX(CB1869:CB$2702)=MAX(CB$1262:CB$2702),0,IF(BZ1869>0.01*BT$2703,0,$C1869/60)))","v":{"$error":"#VALUE!"}},0,0,0,0,{"$error":"#VALUE!"},{"$error":"#VALUE!"},{"$error":"#VALUE!"},{"$error":"#VALUE!"},{"$error":"#VALUE!"},{"$error":"#VALUE!"},{"$error":"#VALUE!"},{"$error":"#VALUE!"},{"$error":"#VALUE!"},{"$error":"#VALUE!"},{"$error":"#VALUE!"},{"$f":"IF(SUM(CZ$1262:CZ1868)>0,0,IF(MAX(CS1869:CS$2702)=MAX(CS$1262:CS$2702),0,IF(CQ1869>0.03*CK$2703,0,$C1869/60)))","v":{"$error":"#VALUE!"}},{"$f":"IF(SUM(DA$1262:DA1868)>0,0,IF(MAX(CS1869:CS$2702)=MAX(CS$1262:CS$2702),0,IF(CQ1869>0.01*CK$2703,0,$C1869/60)))","v":{"$error":"#VALUE!"}}]
[null,51,3060,0,0,0,0,0,0,0,0,0,{"$error":"#N/A"},{"$error":"#N/A"},{"$error":"#N/A"},{"$error":"#N/A"},{"$error":"#N/A"},{"$error":"#N/A"},{"$f":"IF(SUM(S$1262:S1873)>0,0,\nIF(MAX(L1874:L$2702)=MAX(L$1262:L$2702),0,\nIF(Hydrograph_Source_WQCV=\"USER\",IF(J1874>0.03*D$2703,0,$C1874/60),\nIF(J1874>0.03*J$2703,0,$C1874/60))))","v":0},{"$f":"IF(SUM(T$1262:T1873)>0,0,\nIF(MAX(L1874:L$2702)=MAX(L$1262:L$2702),0,\nIF(Hydrograph_Source_WQCV=\"USER\",IF(J1874>0.01*D$2703,0,$C1874/60),\nIF(J1874>0.01*J$2703,0,$C1874/60))))","v":0},0,0,0,0,{"$error":"#VALUE!"},{"$error":"#VALUE!"},{"$error":"#VALUE!"},{"$error":"#VALUE!"},{"$error":"#VALUE!"},{"$error":"#VALUE!"},{"$error":"#VALUE!"},{"$error":"#VALUE!"},{"$error":"#VALUE!"},{"$error":"#VALUE!"},{"$error":"#VALUE!"},{"$f":"IF(SUM(AJ$1262:AJ1873)>0,0,IF(MAX(AC1874:AC$2702)=MAX(AC$1262:AC$2702),0,IF(AA1874>0.03*U$2703,0,$C1874/60)))","v":{"$error":"#VALUE!"}},{"$f":"IF(SUM(AK$1262:AK1873)>0,0,IF(MAX(AC1874:AC$2702)=MAX(AC$1262:AC$2702),0,IF(AA1874>0.01*U$2703,0,$C1874/60)))","v":{"$error":"#VALUE!"}},0,0,0,0,{"$error":"#VALUE!"},{"$error":"#VALUE!"},{"$error":"#VALUE!"},{"$error":"#VALUE!"},{"$error":"#VALUE!"},{"$error":"#VALUE!"},{"$error":"#VALUE!"},{"$error":"#VALUE!"},{"$error":"#VALUE!"},{"$error":"#VALUE!"},{"$error":"#VALUE!"},{"$f":"IF(SUM(BA$1262:BA1873)>0,0,IF(MAX(AT1874:AT$2702)=MAX(AT$1262:AT$2702),0,IF(AR1874>0.03*AL$2703,0,$C1874/60)))","v":{"$error":"#VALUE!"}},{"$f":"IF(SUM(BB$1262:BB1873)>0,0,IF(MAX(AT1874:AT$2702)=MAX(AT$1262:AT$2702),0,IF(AR1874>0.01*AL$2703,0,$C1874/60)))","v":{"$error":"#VALUE!"}},0,0,0,0,{"$error":"#VALUE!"},{"$error":"#VALUE!"},{"$error":"#VALUE!"},{"$error":"#VALUE!"},{"$error":"#VALUE!"},{"$error":"#VALUE!"},{"$error":"#VALUE!"},{"$error":"#VALUE!"},{"$error":"#VALUE!"},{"$error":"#VALUE!"},{"$error":"#VALUE!"},{"$f":"IF(SUM(BR$1262:BR1873)>0,0,IF(MAX(BK1874:BK$2702)=MAX(BK$1262:BK$2702),0,IF(BI1874>0.03*BC$2703,0,$C1874/60)))","v":{"$error":"#VALUE!"}},{"$f":"IF(SUM(BS$1262:BS1873)>0,0,IF(MAX(BK1874:BK$2702)=MAX(BK$1262:BK$2702),0,IF(BI1874>0.01*BC$2703,0,$C1874/60)))","v":{"$error":"#VALUE!"}},0,0,0,0,{"$error":"#VALUE!"},{"$error":"#VALUE!"},{"$error":"#VALUE!"},{"$error":"#VALUE!"},{"$error":"#VALUE!"},{"$error":"#VALUE!"},{"$error":"#VALUE!"},{"$error":"#VALUE!"},{"$error":"#VALUE!"},{"$error":"#VALUE!"},{"$error":"#VALUE!"},{"$f":"IF(SUM(CI$1262:CI1873)>0,0,IF(MAX(CB1874:CB$2702)=MAX(CB$1262:CB$2702),0,IF(BZ1874>0.03*BT$2703,0,$C1874/60)))","v":{"$error":"#VALUE!"}},{"$f":"IF(SUM(CJ$1262:CJ1873)>0,0,IF(MAX(CB1874:CB$2702)=MAX(CB$1262:CB$2702),0,IF(BZ1874>0.01*BT$2703,0,$C1874/60)))","v":{"$error":"#VALUE!"}},0,0,0,0,{"$error":"#VALUE!"},{"$error":"#VALUE!"},{"$error":"#VALUE!"},{"$error":"#VALUE!"},{"$error":"#VALUE!"},{"$error":"#VALUE!"},{"$error":"#VALUE!"},{"$error":"#VALUE!"},{"$error":"#VALUE!"},{"$error":"#VALUE!"},{"$error":"#VALUE!"},{"$f":"IF(SUM(CZ$1262:CZ1873)>0,0,IF(MAX(CS1874:CS$2702)=MAX(CS$1262:CS$2702),0,IF(CQ1874>0.03*CK$2703,0,$C1874/60)))","v":{"$error":"#VALUE!"}},{"$f":"IF(SUM(DA$1262:DA1873)>0,0,IF(MAX(CS1874:CS$2702)=MAX(CS$1262:CS$2702),0,IF(CQ1874>0.01*CK$2703,0,$C1874/60)))","v":{"$error":"#VALUE!"}}]
[null,51.25,3075,0,0,0,0,0,0,0,0,0,{"$error":"#N/A"},{"$error":"#N/A"},{"$error":"#N/A"},{"$error":"#N/A"},{"$error":"#N/A"},{"$error":"#N/A"},{"$f":"IF(SUM(S$1262:S1876)>0,0,\nIF(MAX(L1877:L$2702)=MAX(L$1262:L$2702),0,\nIF(Hydrograph_Source_WQCV=\"USER\",IF(J1877>0.03*D$2703,0,$C1877/60),\nIF(J1877>0.03*J$2703,0,$C1877/60))))","v":0},{"$f":"IF(SUM(T$1262:T1876)>0,0,\nIF(MAX(L1877:L$2702)=MAX(L$1262:L$2702),0,\nIF(Hydrograph_Source_WQCV=\"USER\",IF(J1877>0.01*D$2703,0,$C1877/60),\nIF(J1877>0.01*J$2703,0,$C1877/60))))","v":0},0,0,0,0,{"$error":"#VALUE!"},{"$error":"#VALUE!"},{"$error":"#VALUE!"},{"$error":"#VALUE!"},{"$error":"#VALUE!"},{"$error":"#VALUE!"},{"$error":"#VALUE!"},{"$error":"#VALUE!"},{"$error":"#VALUE!"},{"$error":"#VALUE!"},{"$error":"#VALUE!"},{"$f":"IF(SUM(AJ$1262:AJ1876)>0,0,IF(MAX(AC1877:AC$2702)=MAX(AC$1262:AC$2702),0,IF(AA1877>0.03*U$2703,0,$C1877/60)))","v":{"$error":"#VALUE!"}},{"$f":"IF(SUM(AK$1262:AK1876)>0,0,IF(MAX(AC1877:AC$2702)=MAX(AC$1262:AC$2702),0,IF(AA1877>0.01*U$2703,0,$C1877/60)))","v":{"$error":"#VALUE!"}},0,0,0,0,{"$error":"#VALUE!"},{"$error":"#VALUE!"},{"$error":"#VALUE!"},{"$error":"#VALUE!"},{"$error":"#VALUE!"},{"$error":"#VALUE!"},{"$error":"#VALUE!"},{"$error":"#VALUE!"},{"$error":"#VALUE!"},{"$error":"#VALUE!"},{"$error":"#VALUE!"},{"$f":"IF(SUM(BA$1262:BA1876)>0,0,IF(MAX(AT1877:AT$2702)=MAX(AT$1262:AT$2702),0,IF(AR1877>0.03*AL$2703,0,$C1877/60)))","v":{"$error":"#VALUE!"}},{"$f":"IF(SUM(BB$1262:BB1876)>0,0,IF(MAX(AT1877:AT$2702)=MAX(AT$1262:AT$2702),0,IF(AR1877>0.01*AL$2703,0,$C1877/60)))","v":{"$error":"#VALUE!"}},0,0,0,0,{"$error":"#VALUE!"},{"$error":"#VALUE!"},{"$error":"#VALUE!"},{"$error":"#VALUE!"},{"$error":"#VALUE!"},{"$error":"#VALUE!"},{"$error":"#VALUE!"},{"$error":"#VALUE!"},{"$error":"#VALUE!"},{"$error":"#VALUE!"},{"$error":"#VALUE!"},{"$f":"IF(SUM(BR$1262:BR1876)>0,0,IF(MAX(BK1877:BK$2702)=MAX(BK$1262:BK$2702),0,IF(BI1877>0.03*BC$2703,0,$C1877/60)))","v":{"$error":"#VALUE!"}},{"$f":"IF(SUM(BS$1262:BS1876)>0,0,IF(MAX(BK1877:BK$2702)=MAX(BK$1262:BK$2702),0,IF(BI1877>0.01*BC$2703,0,$C1877/60)))","v":{"$error":"#VALUE!"}},0,0,0,0,{"$error":"#VALUE!"},{"$error":"#VALUE!"},{"$error":"#VALUE!"},{"$error":"#VALUE!"},{"$error":"#VALUE!"},{"$error":"#VALUE!"},{"$error":"#VALUE!"},{"$error":"#VALUE!"},{"$error":"#VALUE!"},{"$error":"#VALUE!"},{"$error":"#VALUE!"},{"$f":"IF(SUM(CI$1262:CI1876)>0,0,IF(MAX(CB1877:CB$2702)=MAX(CB$1262:CB$2702),0,IF(BZ1877>0.03*BT$2703,0,$C1877/60)))","v":{"$error":"#VALUE!"}},{"$f":"IF(SUM(CJ$1262:CJ1876)>0,0,IF(MAX(CB1877:CB$2702)=MAX(CB$1262:CB$2702),0,IF(BZ1877>0.01*BT$2703,0,$C1877/60)))","v":{"$error":"#VALUE!"}},0,0,0,0,{"$error":"#VALUE!"},{"$error":"#VALUE!"},{"$error":"#VALUE!"},{"$error":"#VALUE!"},{"$error":"#VALUE!"},{"$error":"#VALUE!"},{"$error":"#VALUE!"},{"$error":"#VALUE!"},{"$error":"#VALUE!"},{"$error":"#VALUE!"},{"$error":"#VALUE!"},{"$f":"IF(SUM(CZ$1262:CZ1876)>0,0,IF(MAX(CS1877:CS$2702)=MAX(CS$1262:CS$2702),0,IF(CQ1877>0.03*CK$2703,0,$C1877/60)))","v":{"$error":"#VALUE!"}},{"$f":"IF(SUM(DA$1262:DA1876)>0,0,IF(MAX(CS1877:CS$2702)=MAX(CS$1262:CS$2702),0,IF(CQ1877>0.01*CK$2703,0,$C1877/60)))","v":{"$error":"#VALUE!"}}]
[null,51.583333333333336,3095,0,0,0,0,0,0,0,0,0,{"$error":"#N/A"},{"$error":"#N/A"},{"$error":"#N/A"},{"$error":"#N/A"},{"$error":"#N/A"},{"$error":"#N/A"},{"$f":"IF(SUM(S$1262:S1880)>0,0,\nIF(MAX(L1881:L$2702)=MAX(L$1262:L$2702),0,\nIF(Hydrograph_Source_WQCV=\"USER\",IF(J1881>0.03*D$2703,0,$C1881/60),\nIF(J1881>0.03*J$2703,0,$C1881/60))))","v":0},{"$f":"IF(SUM(T$1262:T1880)>0,0,\nIF(MAX(L1881:L$2702)=MAX(L$1262:L$2702),0,\nIF(Hydrograph_Source_WQCV=\"USER\",IF(J1881>0.01*D$2703,0,$C1881/60),\nIF(J1881>0.01*J$2703,0,$C1881/60))))","v":0},0,0,0,0,{"$error":"#VALUE!"},{"$error":"#VALUE!"},{"$error":"#VALUE!"},{"$error":"#VALUE!"},{"$error":"#VALUE!"},{"$error":"#VALUE!"},{"$error":"#VALUE!"},{"$error":"#VALUE!"},{"$error":"#VALUE!"},{"$error":"#VALUE!"},{"$error":"#VALUE!"},{"$f":"IF(SUM(AJ$1262:AJ1880)>0,0,IF(MAX(AC1881:AC$2702)=MAX(AC$1262:AC$2702),0,IF(AA1881>0.03*U$2703,0,$C1881/60)))","v":{"$error":"#VALUE!"}},{"$f":"IF(SUM(AK$1262:AK1880)>0,0,IF(MAX(AC1881:AC$2702)=MAX(AC$1262:AC$2702),0,IF(AA1881>0.01*U$2703,0,$C1881/60)))","v":{"$error":"#VALUE!"}},0,0,0,0,{"$error":"#VALUE!"},{"$error":"#VALUE!"},{"$error":"#VALUE!"},{"$error":"#VALUE!"},{"$error":"#VALUE!"},{"$error":"#VALUE!"},{"$error":"#VALUE!"},{"$error":"#VALUE!"},{"$error":"#VALUE!"},{"$error":"#VALUE!"},{"$error":"#VALUE!"},{"$f":"IF(SUM(BA$1262:BA1880)>0,0,IF(MAX(AT1881:AT$2702)=MAX(AT$1262:AT$2702),0,IF(AR1881>0.03*AL$2703,0,$C1881/60)))","v":{"$error":"#VALUE!"}},{"$f":"IF(SUM(BB$1262:BB1880)>0,0,IF(MAX(AT1881:AT$2702)=MAX(AT$1262:AT$2702),0,IF(AR1881>0.01*AL$2703,0,$C1881/60)))","v":{"$error":"#VALUE!"}},0,0,0,0,{"$error":"#VALUE!"},{"$error":"#VALUE!"},{"$error":"#VALUE!"},{"$error":"#VALUE!"},{"$error":"#VALUE!"},{"$error":"#VALUE!"},{"$error":"#VALUE!"},{"$error":"#VALUE!"},{"$error":"#VALUE!"},{"$error":"#VALUE!"},{"$error":"#VALUE!"},{"$f":"IF(SUM(BR$1262:BR1880)>0,0,IF(MAX(BK1881:BK$2702)=MAX(BK$1262:BK$2702),0,IF(BI1881>0.03*BC$2703,0,$C1881/60)))","v":{"$error":"#VALUE!"}},{"$f":"IF(SUM(BS$1262:BS1880)>0,0,IF(MAX(BK1881:BK$2702)=MAX(BK$1262:BK$2702),0,IF(BI1881>0.01*BC$2703,0,$C1881/60)))","v":{"$error":"#VALUE!"}},0,0,0,0,{"$error":"#VALUE!"},{"$error":"#VALUE!"},{"$error":"#VALUE!"},{"$error":"#VALUE!"},{"$error":"#VALUE!"},{"$error":"#VALUE!"},{"$error":"#VALUE!"},{"$error":"#VALUE!"},{"$error":"#VALUE!"},{"$error":"#VALUE!"},{"$error":"#VALUE!"},{"$f":"IF(SUM(CI$1262:CI1880)>0,0,IF(MAX(CB1881:CB$2702)=MAX(CB$1262:CB$2702),0,IF(BZ1881>0.03*BT$2703,0,$C1881/60)))","v":{"$error":"#VALUE!"}},{"$f":"IF(SUM(CJ$1262:CJ1880)>0,0,IF(MAX(CB1881:CB$2702)=MAX(CB$1262:CB$2702),0,IF(BZ1881>0.01*BT$2703,0,$C1881/60)))","v":{"$error":"#VALUE!"}},0,0,0,0,{"$error":"#VALUE!"},{"$error":"#VALUE!"},{"$error":"#VALUE!"},{"$error":"#VALUE!"},{"$error":"#VALUE!"},{"$error":"#VALUE!"},{"$error":"#VALUE!"},{"$error":"#VALUE!"},{"$error":"#VALUE!"},{"$error":"#VALUE!"},{"$error":"#VALUE!"},{"$f":"IF(SUM(CZ$1262:CZ1880)>0,0,IF(MAX(CS1881:CS$2702)=MAX(CS$1262:CS$2702),0,IF(CQ1881>0.03*CK$2703,0,$C1881/60)))","v":{"$error":"#VALUE!"}},{"$f":"IF(SUM(DA$1262:DA1880)>0,0,IF(MAX(CS1881:CS$2702)=MAX(CS$1262:CS$2702),0,IF(CQ1881>0.01*CK$2703,0,$C1881/60)))","v":{"$error":"#VALUE!"}}]
[null,52,3120,0,0,0,0,0,0,0,0,0,{"$error":"#N/A"},{"$error":"#N/A"},{"$error":"#N/A"},{"$error":"#N/A"},{"$error":"#N/A"},{"$error":"#N/A"},{"$f":"IF(SUM(S$1262:S1885)>0,0,\nIF(MAX(L1886:L$2702)=MAX(L$1262:L$2702),0,\nIF(Hydrograph_Source_WQCV=\"USER\",IF(J1886>0.03*D$2703,0,$C1886/60),\nIF(J1886>0.03*J$2703,0,$C1886/60))))","v":0},{"$f":"IF(SUM(T$1262:T1885)>0,0,\nIF(MAX(L1886:L$2702)=MAX(L$1262:L$2702),0,\nIF(Hydrograph_Source_WQCV=\"USER\",IF(J1886>0.01*D$2703,0,$C1886/60),\nIF(J1886>0.01*J$2703,0,$C1886/60))))","v":0},0,0,0,0,{"$error":"#VALUE!"},{"$error":"#VALUE!"},{"$error":"#VALUE!"},{"$error":"#VALUE!"},{"$error":"#VALUE!"},{"$error":"#VALUE!"},{"$error":"#VALUE!"},{"$error":"#VALUE!"},{"$error":"#VALUE!"},{"$error":"#VALUE!"},{"$error":"#VALUE!"},{"$f":"IF(SUM(AJ$1262:AJ1885)>0,0,IF(MAX(AC1886:AC$2702)=MAX(AC$1262:AC$2702),0,IF(AA1886>0.03*U$2703,0,$C1886/60)))","v":{"$error":"#VALUE!"}},{"$f":"IF(SUM(AK$1262:AK1885)>0,0,IF(MAX(AC1886:AC$2702)=MAX(AC$1262:AC$2702),0,IF(AA1886>0.01*U$2703,0,$C1886/60)))","v":{"$error":"#VALUE!"}},0,0,0,0,{"$error":"#VALUE!"},{"$error":"#VALUE!"},{"$error":"#VALUE!"},{"$error":"#VALUE!"},{"$error":"#VALUE!"},{"$error":"#VALUE!"},{"$error":"#VALUE!"},{"$error":"#VALUE!"},{"$error":"#VALUE!"},{"$error":"#VALUE!"},{"$error":"#VALUE!"},{"$f":"IF(SUM(BA$1262:BA1885)>0,0,IF(MAX(AT1886:AT$2702)=MAX(AT$1262:AT$2702),0,IF(AR1886>0.03*AL$2703,0,$C1886/60)))","v":{"$error":"#VALUE!"}},{"$f":"IF(SUM(BB$1262:BB1885)>0,0,IF(MAX(AT1886:AT$2702)=MAX(AT$1262:AT$2702),0,IF(AR1886>0.01*AL$2703,0,$C1886/60)))","v":{"$error":"#VALUE!"}},0,0,0,0,{"$error":"#VALUE!"},{"$error":"#VALUE!"},{"$error":"#VALUE!"},{"$error":"#VALUE!"},{"$error":"#VALUE!"},{"$error":"#VALUE!"},{"$error":"#VALUE!"},{"$error":"#VALUE!"},{"$error":"#VALUE!"},{"$error":"#VALUE!"},{"$error":"#VALUE!"},{"$f":"IF(SUM(BR$1262:BR1885)>0,0,IF(MAX(BK1886:BK$2702)=MAX(BK$1262:BK$2702),0,IF(BI1886>0.03*BC$2703,0,$C1886/60)))","v":{"$error":"#VALUE!"}},{"$f":"IF(SUM(BS$1262:BS1885)>0,0,IF(MAX(BK1886:BK$2702)=MAX(BK$1262:BK$2702),0,IF(BI1886>0.01*BC$2703,0,$C1886/60)))","v":{"$error":"#VALUE!"}},0,0,0,0,{"$error":"#VALUE!"},{"$error":"#VALUE!"},{"$error":"#VALUE!"},{"$error":"#VALUE!"},{"$error":"#VALUE!"},{"$error":"#VALUE!"},{"$error":"#VALUE!"},{"$error":"#VALUE!"},{"$error":"#VALUE!"},{"$error":"#VALUE!"},{"$error":"#VALUE!"},{"$f":"IF(SUM(CI$1262:CI1885)>0,0,IF(MAX(CB1886:CB$2702)=MAX(CB$1262:CB$2702),0,IF(BZ1886>0.03*BT$2703,0,$C1886/60)))","v":{"$error":"#VALUE!"}},{"$f":"IF(SUM(CJ$1262:CJ1885)>0,0,IF(MAX(CB1886:CB$2702)=MAX(CB$1262:CB$2702),0,IF(BZ1886>0.01*BT$2703,0,$C1886/60)))","v":{"$error":"#VALUE!"}},0,0,0,0,{"$error":"#VALUE!"},{"$error":"#VALUE!"},{"$error":"#VALUE!"},{"$error":"#VALUE!"},{"$error":"#VALUE!"},{"$error":"#VALUE!"},{"$error":"#VALUE!"},{"$error":"#VALUE!"},{"$error":"#VALUE!"},{"$error":"#VALUE!"},{"$error":"#VALUE!"},{"$f":"IF(SUM(CZ$1262:CZ1885)>0,0,IF(MAX(CS1886:CS$2702)=MAX(CS$1262:CS$2702),0,IF(CQ1886>0.03*CK$2703,0,$C1886/60)))","v":{"$error":"#VALUE!"}},{"$f":"IF(SUM(DA$1262:DA1885)>0,0,IF(MAX(CS1886:CS$2702)=MAX(CS$1262:CS$2702),0,IF(CQ1886>0.01*CK$2703,0,$C1886/60)))","v":{"$error":"#VALUE!"}}]
[null,52.416666666666664,3145,0,0,0,0,0,0,0,0,0,{"$error":"#N/A"},{"$error":"#N/A"},{"$error":"#N/A"},{"$error":"#N/A"},{"$error":"#N/A"},{"$error":"#N/A"},{"$f":"IF(SUM(S$1262:S1890)>0,0,\nIF(MAX(L1891:L$2702)=MAX(L$1262:L$2702),0,\nIF(Hydrograph_Source_WQCV=\"USER\",IF(J1891>0.03*D$2703,0,$C1891/60),\nIF(J1891>0.03*J$2703,0,$C1891/60))))","v":0},{"$f":"IF(SUM(T$1262:T1890)>0,0,\nIF(MAX(L1891:L$2702)=MAX(L$1262:L$2702),0,\nIF(Hydrograph_Source_WQCV=\"USER\",IF(J1891>0.01*D$2703,0,$C1891/60),\nIF(J1891>0.01*J$2703,0,$C1891/60))))","v":0},0,0,0,0,{"$error":"#VALUE!"},{"$error":"#VALUE!"},{"$error":"#VALUE!"},{"$error":"#VALUE!"},{"$error":"#VALUE!"},{"$error":"#VALUE!"},{"$error":"#VALUE!"},{"$error":"#VALUE!"},{"$error":"#VALUE!"},{"$error":"#VALUE!"},{"$error":"#VALUE!"},{"$f":"IF(SUM(AJ$1262:AJ1890)>0,0,IF(MAX(AC1891:AC$2702)=MAX(AC$1262:AC$2702),0,IF(AA1891>0.03*U$2703,0,$C1891/60)))","v":{"$error":"#VALUE!"}},{"$f":"IF(SUM(AK$1262:AK1890)>0,0,IF(MAX(AC1891:AC$2702)=MAX(AC$1262:AC$2702),0,IF(AA1891>0.01*U$2703,0,$C1891/60)))","v":{"$error":"#VALUE!"}},0,0,0,0,{"$error":"#VALUE!"},{"$error":"#VALUE!"},{"$error":"#VALUE!"},{"$error":"#VALUE!"},{"$error":"#VALUE!"},{"$error":"#VALUE!"},{"$error":"#VALUE!"},{"$error":"#VALUE!"},{"$error":"#VALUE!"},{"$error":"#VALUE!"},{"$error":"#VALUE!"},{"$f":"IF(SUM(BA$1262:BA1890)>0,0,IF(MAX(AT1891:AT$2702)=MAX(AT$1262:AT$2702),0,IF(AR1891>0.03*AL$2703,0,$C1891/60)))","v":{"$error":"#VALUE!"}},{"$f":"IF(SUM(BB$1262:BB1890)>0,0,IF(MAX(AT1891:AT$2702)=MAX(AT$1262:AT$2702),0,IF(AR1891>0.01*AL$2703,0,$C1891/60)))","v":{"$error":"#VALUE!"}},0,0,0,0,{"$error":"#VALUE!"},{"$error":"#VALUE!"},{"$error":"#VALUE!"},{"$error":"#VALUE!"},{"$error":"#VALUE!"},{"$error":"#VALUE!"},{"$error":"#VALUE!"},{"$error":"#VALUE!"},{"$error":"#VALUE!"},{"$error":"#VALUE!"},{"$error":"#VALUE!"},{"$f":"IF(SUM(BR$1262:BR1890)>0,0,IF(MAX(BK1891:BK$2702)=MAX(BK$1262:BK$2702),0,IF(BI1891>0.03*BC$2703,0,$C1891/60)))","v":{"$error":"#VALUE!"}},{"$f":"IF(SUM(BS$1262:BS1890)>0,0,IF(MAX(BK1891:BK$2702)=MAX(BK$1262:BK$2702),0,IF(BI1891>0.01*BC$2703,0,$C1891/60)))","v":{"$error":"#VALUE!"}},0,0,0,0,{"$error":"#VALUE!"},{"$error":"#VALUE!"},{"$error":"#VALUE!"},{"$error":"#VALUE!"},{"$error":"#VALUE!"},{"$error":"#VALUE!"},{"$error":"#VALUE!"},{"$error":"#VALUE!"},{"$error":"#VALUE!"},{"$error":"#VALUE!"},{"$error":"#VALUE!"},{"$f":"IF(SUM(CI$1262:CI1890)>0,0,IF(MAX(CB1891:CB$2702)=MAX(CB$1262:CB$2702),0,IF(BZ1891>0.03*BT$2703,0,$C1891/60)))","v":{"$error":"#VALUE!"}},{"$f":"IF(SUM(CJ$1262:CJ1890)>0,0,IF(MAX(CB1891:CB$2702)=MAX(CB$1262:CB$2702),0,IF(BZ1891>0.01*BT$2703,0,$C1891/60)))","v":{"$error":"#VALUE!"}},0,0,0,0,{"$error":"#VALUE!"},{"$error":"#VALUE!"},{"$error":"#VALUE!"},{"$error":"#VALUE!"},{"$error":"#VALUE!"},{"$error":"#VALUE!"},{"$error":"#VALUE!"},{"$error":"#VALUE!"},{"$error":"#VALUE!"},{"$error":"#VALUE!"},{"$error":"#VALUE!"},{"$f":"IF(SUM(CZ$1262:CZ1890)>0,0,IF(MAX(CS1891:CS$2702)=MAX(CS$1262:CS$2702),0,IF(CQ1891>0.03*CK$2703,0,$C1891/60)))","v":{"$error":"#VALUE!"}},{"$f":"IF(SUM(DA$1262:DA1890)>0,0,IF(MAX(CS1891:CS$2702)=MAX(CS$1262:CS$2702),0,IF(CQ1891>0.01*CK$2703,0,$C1891/60)))","v":{"$error":"#VALUE!"}}]
[null,52.583333333333336,3155,0,0,0,0,0,0,0,0,0,{"$error":"#N/A"},{"$error":"#N/A"},{"$error":"#N/A"},{"$error":"#N/A"},{"$error":"#N/A"},{"$error":"#N/A"},{"$f":"IF(SUM(S$1262:S1892)>0,0,\nIF(MAX(L1893:L$2702)=MAX(L$1262:L$2702),0,\nIF(Hydrograph_Source_WQCV=\"USER\",IF(J1893>0.03*D$2703,0,$C1893/60),\nIF(J1893>0.03*J$2703,0,$C1893/60))))","v":0},{"$f":"IF(SUM(T$1262:T1892)>0,0,\nIF(MAX(L1893:L$2702)=MAX(L$1262:L$2702),0,\nIF(Hydrograph_Source_WQCV=\"USER\",IF(J1893>0.01*D$2703,0,$C1893/60),\nIF(J1893>0.01*J$2703,0,$C1893/60))))","v":0},0,0,0,0,{"$error":"#VALUE!"},{"$error":"#VALUE!"},{"$error":"#VALUE!"},{"$error":"#VALUE!"},{"$error":"#VALUE!"},{"$error":"#VALUE!"},{"$error":"#VALUE!"},{"$error":"#VALUE!"},{"$error":"#VALUE!"},{"$error":"#VALUE!"},{"$error":"#VALUE!"},{"$f":"IF(SUM(AJ$1262:AJ1892)>0,0,IF(MAX(AC1893:AC$2702)=MAX(AC$1262:AC$2702),0,IF(AA1893>0.03*U$2703,0,$C1893/60)))","v":{"$error":"#VALUE!"}},{"$f":"IF(SUM(AK$1262:AK1892)>0,0,IF(MAX(AC1893:AC$2702)=MAX(AC$1262:AC$2702),0,IF(AA1893>0.01*U$2703,0,$C1893/60)))","v":{"$error":"#VALUE!"}},0,0,0,0,{"$error":"#VALUE!"},{"$error":"#VALUE!"},{"$error":"#VALUE!"},{"$error":"#VALUE!"},{"$error":"#VALUE!"},{"$error":"#VALUE!"},{"$error":"#VALUE!"},{"$error":"#VALUE!"},{"$error":"#VALUE!"},{"$error":"#VALUE!"},{"$error":"#VALUE!"},{"$f":"IF(SUM(BA$1262:BA1892)>0,0,IF(MAX(AT1893:AT$2702)=MAX(AT$1262:AT$2702),0,IF(AR1893>0.03*AL$2703,0,$C1893/60)))","v":{"$error":"#VALUE!"}},{"$f":"IF(SUM(BB$1262:BB1892)>0,0,IF(MAX(AT1893:AT$2702)=MAX(AT$1262:AT$2702),0,IF(AR1893>0.01*AL$2703,0,$C1893/60)))","v":{"$error":"#VALUE!"}},0,0,0,0,{"$error":"#VALUE!"},{"$error":"#VALUE!"},{"$error":"#VALUE!"},{"$error":"#VALUE!"},{"$error":"#VALUE!"},{"$error":"#VALUE!"},{"$error":"#VALUE!"},{"$error":"#VALUE!"},{"$error":"#VALUE!"},{"$error":"#VALUE!"},{"$error":"#VALUE!"},{"$f":"IF(SUM(BR$1262:BR1892)>0,0,IF(MAX(BK1893:BK$2702)=MAX(BK$1262:BK$2702),0,IF(BI1893>0.03*BC$2703,0,$C1893/60)))","v":{"$error":"#VALUE!"}},{"$f":"IF(SUM(BS$1262:BS1892)>0,0,IF(MAX(BK1893:BK$2702)=MAX(BK$1262:BK$2702),0,IF(BI1893>0.01*BC$2703,0,$C1893/60)))","v":{"$error":"#VALUE!"}},0,0,0,0,{"$error":"#VALUE!"},{"$error":"#VALUE!"},{"$error":"#VALUE!"},{"$error":"#VALUE!"},{"$error":"#VALUE!"},{"$error":"#VALUE!"},{"$error":"#VALUE!"},{"$error":"#VALUE!"},{"$error":"#VALUE!"},{"$error":"#VALUE!"},{"$error":"#VALUE!"},{"$f":"IF(SUM(CI$1262:CI1892)>0,0,IF(MAX(CB1893:CB$2702)=MAX(CB$1262:CB$2702),0,IF(BZ1893>0.03*BT$2703,0,$C1893/60)))","v":{"$error":"#VALUE!"}},{"$f":"IF(SUM(CJ$1262:CJ1892)>0,0,IF(MAX(CB1893:CB$2702)=MAX(CB$1262:CB$2702),0,IF(BZ1893>0.01*BT$2703,0,$C1893/60)))","v":{"$error":"#VALUE!"}},0,0,0,0,{"$error":"#VALUE!"},{"$error":"#VALUE!"},{"$error":"#VALUE!"},{"$error":"#VALUE!"},{"$error":"#VALUE!"},{"$error":"#VALUE!"},{"$error":"#VALUE!"},{"$error":"#VALUE!"},{"$error":"#VALUE!"},{"$error":"#VALUE!"},{"$error":"#VALUE!"},{"$f":"IF(SUM(CZ$1262:CZ1892)>0,0,IF(MAX(CS1893:CS$2702)=MAX(CS$1262:CS$2702),0,IF(CQ1893>0.03*CK$2703,0,$C1893/60)))","v":{"$error":"#VALUE!"}},{"$f":"IF(SUM(DA$1262:DA1892)>0,0,IF(MAX(CS1893:CS$2702)=MAX(CS$1262:CS$2702),0,IF(CQ1893>0.01*CK$2703,0,$C1893/60)))","v":{"$error":"#VALUE!"}}]
[null,53,3180,0,0,0,0,0,0,0,0,0,{"$error":"#N/A"},{"$error":"#N/A"},{"$error":"#N/A"},{"$error":"#N/A"},{"$error":"#N/A"},{"$error":"#N/A"},{"$f":"IF(SUM(S$1262:S1897)>0,0,\nIF(MAX(L1898:L$2702)=MAX(L$1262:L$2702),0,\nIF(Hydrograph_Source_WQCV=\"USER\",IF(J1898>0.03*D$2703,0,$C1898/60),\nIF(J1898>0.03*J$2703,0,$C1898/60))))","v":0},{"$f":"IF(SUM(T$1262:T1897)>0,0,\nIF(MAX(L1898:L$2702)=MAX(L$1262:L$2702),0,\nIF(Hydrograph_Source_WQCV=\"USER\",IF(J1898>0.01*D$2703,0,$C1898/60),\nIF(J1898>0.01*J$2703,0,$C1898/60))))","v":0},0,0,0,0,{"$error":"#VALUE!"},{"$error":"#VALUE!"},{"$error":"#VALUE!"},{"$error":"#VALUE!"},{"$error":"#VALUE!"},{"$error":"#VALUE!"},{"$error":"#VALUE!"},{"$error":"#VALUE!"},{"$error":"#VALUE!"},{"$error":"#VALUE!"},{"$error":"#VALUE!"},{"$f":"IF(SUM(AJ$1262:AJ1897)>0,0,IF(MAX(AC1898:AC$2702)=MAX(AC$1262:AC$2702),0,IF(AA1898>0.03*U$2703,0,$C1898/60)))","v":{"$error":"#VALUE!"}},{"$f":"IF(SUM(AK$1262:AK1897)>0,0,IF(MAX(AC1898:AC$2702)=MAX(AC$1262:AC$2702),0,IF(AA1898>0.01*U$2703,0,$C1898/60)))","v":{"$error":"#VALUE!"}},0,0,0,0,{"$error":"#VALUE!"},{"$error":"#VALUE!"},{"$error":"#VALUE!"},{"$error":"#VALUE!"},{"$error":"#VALUE!"},{"$error":"#VALUE!"},{"$error":"#VALUE!"},{"$error":"#VALUE!"},{"$error":"#VALUE!"},{"$error":"#VALUE!"},{"$error":"#VALUE!"},{"$f":"IF(SUM(BA$1262:BA1897)>0,0,IF(MAX(AT1898:AT$2702)=MAX(AT$1262:AT$2702),0,IF(AR1898>0.03*AL$2703,0,$C1898/60)))","v":{"$error":"#VALUE!"}},{"$f":"IF(SUM(BB$1262:BB1897)>0,0,IF(MAX(AT1898:AT$2702)=MAX(AT$1262:AT$2702),0,IF(AR1898>0.01*AL$2703,0,$C1898/60)))","v":{"$error":"#VALUE!"}},0,0,0,0,{"$error":"#VALUE!"},{"$error":"#VALUE!"},{"$error":"#VALUE!"},{"$error":"#VALUE!"},{"$error":"#VALUE!"},{"$error":"#VALUE!"},{"$error":"#VALUE!"},{"$error":"#VALUE!"},{"$error":"#VALUE!"},{"$error":"#VALUE!"},{"$error":"#VALUE!"},{"$f":"IF(SUM(BR$1262:BR1897)>0,0,IF(MAX(BK1898:BK$2702)=MAX(BK$1262:BK$2702),0,IF(BI1898>0.03*BC$2703,0,$C1898/60)))","v":{"$error":"#VALUE!"}},{"$f":"IF(SUM(BS$1262:BS1897)>0,0,IF(MAX(BK1898:BK$2702)=MAX(BK$1262:BK$2702),0,IF(BI1898>0.01*BC$2703,0,$C1898/60)))","v":{"$error":"#VALUE!"}},0,0,0,0,{"$error":"#VALUE!"},{"$error":"#VALUE!"},{"$error":"#VALUE!"},{"$error":"#VALUE!"},{"$error":"#VALUE!"},{"$error":"#VALUE!"},{"$error":"#VALUE!"},{"$error":"#VALUE!"},{"$error":"#VALUE!"},{"$error":"#VALUE!"},{"$error":"#VALUE!"},{"$f":"IF(SUM(CI$1262:CI1897)>0,0,IF(MAX(CB1898:CB$2702)=MAX(CB$1262:CB$2702),0,IF(BZ1898>0.03*BT$2703,0,$C1898/60)))","v":{"$error":"#VALUE!"}},{"$f":"IF(SUM(CJ$1262:CJ1897)>0,0,IF(MAX(CB1898:CB$2702)=MAX(CB$1262:CB$2702),0,IF(BZ1898>0.01*BT$2703,0,$C1898/60)))","v":{"$error":"#VALUE!"}},0,0,0,0,{"$error":"#VALUE!"},{"$error":"#VALUE!"},{"$error":"#VALUE!"},{"$error":"#VALUE!"},{"$error":"#VALUE!"},{"$error":"#VALUE!"},{"$error":"#VALUE!"},{"$error":"#VALUE!"},{"$error":"#VALUE!"},{"$error":"#VALUE!"},{"$error":"#VALUE!"},{"$f":"IF(SUM(CZ$1262:CZ1897)>0,0,IF(MAX(CS1898:CS$2702)=MAX(CS$1262:CS$2702),0,IF(CQ1898>0.03*CK$2703,0,$C1898/60)))","v":{"$error":"#VALUE!"}},{"$f":"IF(SUM(DA$1262:DA1897)>0,0,IF(MAX(CS1898:CS$2702)=MAX(CS$1262:CS$2702),0,IF(CQ1898>0.01*CK$2703,0,$C1898/60)))","v":{"$error":"#VALUE!"}}]
[null,53.25,3195,0,0,0,0,0,0,0,0,0,{"$error":"#N/A"},{"$error":"#N/A"},{"$error":"#N/A"},{"$error":"#N/A"},{"$error":"#N/A"},{"$error":"#N/A"},{"$f":"IF(SUM(S$1262:S1900)>0,0,\nIF(MAX(L1901:L$2702)=MAX(L$1262:L$2702),0,\nIF(Hydrograph_Source_WQCV=\"USER\",IF(J1901>0.03*D$2703,0,$C1901/60),\nIF(J1901>0.03*J$2703,0,$C1901/60))))","v":0},{"$f":"IF(SUM(T$1262:T1900)>0,0,\nIF(MAX(L1901:L$2702)=MAX(L$1262:L$2702),0,\nIF(Hydrograph_Source_WQCV=\"USER\",IF(J1901>0.01*D$2703,0,$C1901/60),\nIF(J1901>0.01*J$2703,0,$C1901/60))))","v":0},0,0,0,0,{"$error":"#VALUE!"},{"$error":"#VALUE!"},{"$error":"#VALUE!"},{"$error":"#VALUE!"},{"$error":"#VALUE!"},{"$error":"#VALUE!"},{"$error":"#VALUE!"},{"$error":"#VALUE!"},{"$error":"#VALUE!"},{"$error":"#VALUE!"},{"$error":"#VALUE!"},{"$f":"IF(SUM(AJ$1262:AJ1900)>0,0,IF(MAX(AC1901:AC$2702)=MAX(AC$1262:AC$2702),0,IF(AA1901>0.03*U$2703,0,$C1901/60)))","v":{"$error":"#VALUE!"}},{"$f":"IF(SUM(AK$1262:AK1900)>0,0,IF(MAX(AC1901:AC$2702)=MAX(AC$1262:AC$2702),0,IF(AA1901>0.01*U$2703,0,$C1901/60)))","v":{"$error":"#VALUE!"}},0,0,0,0,{"$error":"#VALUE!"},{"$error":"#VALUE!"},{"$error":"#VALUE!"},{"$error":"#VALUE!"},{"$error":"#VALUE!"},{"$error":"#VALUE!"},{"$error":"#VALUE!"},{"$error":"#VALUE!"},{"$error":"#VALUE!"},{"$error":"#VALUE!"},{"$error":"#VALUE!"},{"$f":"IF(SUM(BA$1262:BA1900)>0,0,IF(MAX(AT1901:AT$2702)=MAX(AT$1262:AT$2702),0,IF(AR1901>0.03*AL$2703,0,$C1901/60)))","v":{"$error":"#VALUE!"}},{"$f":"IF(SUM(BB$1262:BB1900)>0,0,IF(MAX(AT1901:AT$2702)=MAX(AT$1262:AT$2702),0,IF(AR1901>0.01*AL$2703,0,$C1901/60)))","v":{"$error":"#VALUE!"}},0,0,0,0,{"$error":"#VALUE!"},{"$error":"#VALUE!"},{"$error":"#VALUE!"},{"$error":"#VALUE!"},{"$error":"#VALUE!"},{"$error":"#VALUE!"},{"$error":"#VALUE!"},{"$error":"#VALUE!"},{"$error":"#VALUE!"},{"$error":"#VALUE!"},{"$error":"#VALUE!"},{"$f":"IF(SUM(BR$1262:BR1900)>0,0,IF(MAX(BK1901:BK$2702)=MAX(BK$1262:BK$2702),0,IF(BI1901>0.03*BC$2703,0,$C1901/60)))","v":{"$error":"#VALUE!"}},{"$f":"IF(SUM(BS$1262:BS1900)>0,0,IF(MAX(BK1901:BK$2702)=MAX(BK$1262:BK$2702),0,IF(BI1901>0.01*BC$2703,0,$C1901/60)))","v":{"$error":"#VALUE!"}},0,0,0,0,{"$error":"#VALUE!"},{"$error":"#VALUE!"},{"$error":"#VALUE!"},{"$error":"#VALUE!"},{"$error":"#VALUE!"},{"$error":"#VALUE!"},{"$error":"#VALUE!"},{"$error":"#VALUE!"},{"$error":"#VALUE!"},{"$error":"#VALUE!"},{"$error":"#VALUE!"},{"$f":"IF(SUM(CI$1262:CI1900)>0,0,IF(MAX(CB1901:CB$2702)=MAX(CB$1262:CB$2702),0,IF(BZ1901>0.03*BT$2703,0,$C1901/60)))","v":{"$error":"#VALUE!"}},{"$f":"IF(SUM(CJ$1262:CJ1900)>0,0,IF(MAX(CB1901:CB$2702)=MAX(CB$1262:CB$2702),0,IF(BZ1901>0.01*BT$2703,0,$C1901/60)))","v":{"$error":"#VALUE!"}},0,0,0,0,{"$error":"#VALUE!"},{"$error":"#VALUE!"},{"$error":"#VALUE!"},{"$error":"#VALUE!"},{"$error":"#VALUE!"},{"$error":"#VALUE!"},{"$error":"#VALUE!"},{"$error":"#VALUE!"},{"$error":"#VALUE!"},{"$error":"#VALUE!"},{"$error":"#VALUE!"},{"$f":"IF(SUM(CZ$1262:CZ1900)>0,0,IF(MAX(CS1901:CS$2702)=MAX(CS$1262:CS$2702),0,IF(CQ1901>0.03*CK$2703,0,$C1901/60)))","v":{"$error":"#VALUE!"}},{"$f":"IF(SUM(DA$1262:DA1900)>0,0,IF(MAX(CS1901:CS$2702)=MAX(CS$1262:CS$2702),0,IF(CQ1901>0.01*CK$2703,0,$C1901/60)))","v":{"$error":"#VALUE!"}}]
[null,53.916666666666664,3235,0,0,0,0,0,0,0,0,0,{"$error":"#N/A"},{"$error":"#N/A"},{"$error":"#N/A"},{"$error":"#N/A"},{"$error":"#N/A"},{"$error":"#N/A"},{"$f":"IF(SUM(S$1262:S1908)>0,0,\nIF(MAX(L1909:L$2702)=MAX(L$1262:L$2702),0,\nIF(Hydrograph_Source_WQCV=\"USER\",IF(J1909>0.03*D$2703,0,$C1909/60),\nIF(J1909>0.03*J$2703,0,$C1909/60))))","v":0},{"$f":"IF(SUM(T$1262:T1908)>0,0,\nIF(MAX(L1909:L$2702)=MAX(L$1262:L$2702),0,\nIF(Hydrograph_Source_WQCV=\"USER\",IF(J1909>0.01*D$2703,0,$C1909/60),\nIF(J1909>0.01*J$2703,0,$C1909/60))))","v":0},0,0,0,0,{"$error":"#VALUE!"},{"$error":"#VALUE!"},{"$error":"#VALUE!"},{"$error":"#VALUE!"},{"$error":"#VALUE!"},{"$error":"#VALUE!"},{"$error":"#VALUE!"},{"$error":"#VALUE!"},{"$error":"#VALUE!"},{"$error":"#VALUE!"},{"$error":"#VALUE!"},{"$f":"IF(SUM(AJ$1262:AJ1908)>0,0,IF(MAX(AC1909:AC$2702)=MAX(AC$1262:AC$2702),0,IF(AA1909>0.03*U$2703,0,$C1909/60)))","v":{"$error":"#VALUE!"}},{"$f":"IF(SUM(AK$1262:AK1908)>0,0,IF(MAX(AC1909:AC$2702)=MAX(AC$1262:AC$2702),0,IF(AA1909>0.01*U$2703,0,$C1909/60)))","v":{"$error":"#VALUE!"}},0,0,0,0,{"$error":"#VALUE!"},{"$error":"#VALUE!"},{"$error":"#VALUE!"},{"$error":"#VALUE!"},{"$error":"#VALUE!"},{"$error":"#VALUE!"},{"$error":"#VALUE!"},{"$error":"#VALUE!"},{"$error":"#VALUE!"},{"$error":"#VALUE!"},{"$error":"#VALUE!"},{"$f":"IF(SUM(BA$1262:BA1908)>0,0,IF(MAX(AT1909:AT$2702)=MAX(AT$1262:AT$2702),0,IF(AR1909>0.03*AL$2703,0,$C1909/60)))","v":{"$error":"#VALUE!"}},{"$f":"IF(SUM(BB$1262:BB1908)>0,0,IF(MAX(AT1909:AT$2702)=MAX(AT$1262:AT$2702),0,IF(AR1909>0.01*AL$2703,0,$C1909/60)))","v":{"$error":"#VALUE!"}},0,0,0,0,{"$error":"#VALUE!"},{"$error":"#VALUE!"},{"$error":"#VALUE!"},{"$error":"#VALUE!"},{"$error":"#VALUE!"},{"$error":"#VALUE!"},{"$error":"#VALUE!"},{"$error":"#VALUE!"},{"$error":"#VALUE!"},{"$error":"#VALUE!"},{"$error":"#VALUE!"},{"$f":"IF(SUM(BR$1262:BR1908)>0,0,IF(MAX(BK1909:BK$2702)=MAX(BK$1262:BK$2702),0,IF(BI1909>0.03*BC$2703,0,$C1909/60)))","v":{"$error":"#VALUE!"}},{"$f":"IF(SUM(BS$1262:BS1908)>0,0,IF(MAX(BK1909:BK$2702)=MAX(BK$1262:BK$2702),0,IF(BI1909>0.01*BC$2703,0,$C1909/60)))","v":{"$error":"#VALUE!"}},0,0,0,0,{"$error":"#VALUE!"},{"$error":"#VALUE!"},{"$error":"#VALUE!"},{"$error":"#VALUE!"},{"$error":"#VALUE!"},{"$error":"#VALUE!"},{"$error":"#VALUE!"},{"$error":"#VALUE!"},{"$error":"#VALUE!"},{"$error":"#VALUE!"},{"$error":"#VALUE!"},{"$f":"IF(SUM(CI$1262:CI1908)>0,0,IF(MAX(CB1909:CB$2702)=MAX(CB$1262:CB$2702),0,IF(BZ1909>0.03*BT$2703,0,$C1909/60)))","v":{"$error":"#VALUE!"}},{"$f":"IF(SUM(CJ$1262:CJ1908)>0,0,IF(MAX(CB1909:CB$2702)=MAX(CB$1262:CB$2702),0,IF(BZ1909>0.01*BT$2703,0,$C1909/60)))","v":{"$error":"#VALUE!"}},0,0,0,0,{"$error":"#VALUE!"},{"$error":"#VALUE!"},{"$error":"#VALUE!"},{"$error":"#VALUE!"},{"$error":"#VALUE!"},{"$error":"#VALUE!"},{"$error":"#VALUE!"},{"$error":"#VALUE!"},{"$error":"#VALUE!"},{"$error":"#VALUE!"},{"$error":"#VALUE!"},{"$f":"IF(SUM(CZ$1262:CZ1908)>0,0,IF(MAX(CS1909:CS$2702)=MAX(CS$1262:CS$2702),0,IF(CQ1909>0.03*CK$2703,0,$C1909/60)))","v":{"$error":"#VALUE!"}},{"$f":"IF(SUM(DA$1262:DA1908)>0,0,IF(MAX(CS1909:CS$2702)=MAX(CS$1262:CS$2702),0,IF(CQ1909>0.01*CK$2703,0,$C1909/60)))","v":{"$error":"#VALUE!"}}]
[null,54,3240,0,0,0,0,0,0,0,0,0,{"$error":"#N/A"},{"$error":"#N/A"},{"$error":"#N/A"},{"$error":"#N/A"},{"$error":"#N/A"},{"$error":"#N/A"},{"$f":"IF(SUM(S$1262:S1909)>0,0,\nIF(MAX(L1910:L$2702)=MAX(L$1262:L$2702),0,\nIF(Hydrograph_Source_WQCV=\"USER\",IF(J1910>0.03*D$2703,0,$C1910/60),\nIF(J1910>0.03*J$2703,0,$C1910/60))))","v":0},{"$f":"IF(SUM(T$1262:T1909)>0,0,\nIF(MAX(L1910:L$2702)=MAX(L$1262:L$2702),0,\nIF(Hydrograph_Source_WQCV=\"USER\",IF(J1910>0.01*D$2703,0,$C1910/60),\nIF(J1910>0.01*J$2703,0,$C1910/60))))","v":0},0,0,0,0,{"$error":"#VALUE!"},{"$error":"#VALUE!"},{"$error":"#VALUE!"},{"$error":"#VALUE!"},{"$error":"#VALUE!"},{"$error":"#VALUE!"},{"$error":"#VALUE!"},{"$error":"#VALUE!"},{"$error":"#VALUE!"},{"$error":"#VALUE!"},{"$error":"#VALUE!"},{"$f":"IF(SUM(AJ$1262:AJ1909)>0,0,IF(MAX(AC1910:AC$2702)=MAX(AC$1262:AC$2702),0,IF(AA1910>0.03*U$2703,0,$C1910/60)))","v":{"$error":"#VALUE!"}},{"$f":"IF(SUM(AK$1262:AK1909)>0,0,IF(MAX(AC1910:AC$2702)=MAX(AC$1262:AC$2702),0,IF(AA1910>0.01*U$2703,0,$C1910/60)))","v":{"$error":"#VALUE!"}},0,0,0,0,{"$error":"#VALUE!"},{"$error":"#VALUE!"},{"$error":"#VALUE!"},{"$error":"#VALUE!"},{"$error":"#VALUE!"},{"$error":"#VALUE!"},{"$error":"#VALUE!"},{"$error":"#VALUE!"},{"$error":"#VALUE!"},{"$error":"#VALUE!"},{"$error":"#VALUE!"},{"$f":"IF(SUM(BA$1262:BA1909)>0,0,IF(MAX(AT1910:AT$2702)=MAX(AT$1262:AT$2702),0,IF(AR1910>0.03*AL$2703,0,$C1910/60)))","v":{"$error":"#VALUE!"}},{"$f":"IF(SUM(BB$1262:BB1909)>0,0,IF(MAX(AT1910:AT$2702)=MAX(AT$1262:AT$2702),0,IF(AR1910>0.01*AL$2703,0,$C1910/60)))","v":{"$error":"#VALUE!"}},0,0,0,0,{"$error":"#VALUE!"},{"$error":"#VALUE!"},{"$error":"#VALUE!"},{"$error":"#VALUE!"},{"$error":"#VALUE!"},{"$error":"#VALUE!"},{"$error":"#VALUE!"},{"$error":"#VALUE!"},{"$error":"#VALUE!"},{"$error":"#VALUE!"},{"$error":"#VALUE!"},{"$f":"IF(SUM(BR$1262:BR1909)>0,0,IF(MAX(BK1910:BK$2702)=MAX(BK$1262:BK$2702),0,IF(BI1910>0.03*BC$2703,0,$C1910/60)))","v":{"$error":"#VALUE!"}},{"$f":"IF(SUM(BS$1262:BS1909)>0,0,IF(MAX(BK1910:BK$2702)=MAX(BK$1262:BK$2702),0,IF(BI1910>0.01*BC$2703,0,$C1910/60)))","v":{"$error":"#VALUE!"}},0,0,0,0,{"$error":"#VALUE!"},{"$error":"#VALUE!"},{"$error":"#VALUE!"},{"$error":"#VALUE!"},{"$error":"#VALUE!"},{"$error":"#VALUE!"},{"$error":"#VALUE!"},{"$error":"#VALUE!"},{"$error":"#VALUE!"},{"$error":"#VALUE!"},{"$error":"#VALUE!"},{"$f":"IF(SUM(CI$1262:CI1909)>0,0,IF(MAX(CB1910:CB$2702)=MAX(CB$1262:CB$2702),0,IF(BZ1910>0.03*BT$2703,0,$C1910/60)))","v":{"$error":"#VALUE!"}},{"$f":"IF(SUM(CJ$1262:CJ1909)>0,0,IF(MAX(CB1910:CB$2702)=MAX(CB$1262:CB$2702),0,IF(BZ1910>0.01*BT$2703,0,$C1910/60)))","v":{"$error":"#VALUE!"}},0,0,0,0,{"$error":"#VALUE!"},{"$error":"#VALUE!"},{"$error":"#VALUE!"},{"$error":"#VALUE!"},{"$error":"#VALUE!"},{"$error":"#VALUE!"},{"$error":"#VALUE!"},{"$error":"#VALUE!"},{"$error":"#VALUE!"},{"$error":"#VALUE!"},{"$error":"#VALUE!"},{"$f":"IF(SUM(CZ$1262:CZ1909)>0,0,IF(MAX(CS1910:CS$2702)=MAX(CS$1262:CS$2702),0,IF(CQ1910>0.03*CK$2703,0,$C1910/60)))","v":{"$error":"#VALUE!"}},{"$f":"IF(SUM(DA$1262:DA1909)>0,0,IF(MAX(CS1910:CS$2702)=MAX(CS$1262:CS$2702),0,IF(CQ1910>0.01*CK$2703,0,$C1910/60)))","v":{"$error":"#VALUE!"}}]
[null,54.416666666666664,3265,0,0,0,0,0,0,0,0,0,{"$error":"#N/A"},{"$error":"#N/A"},{"$error":"#N/A"},{"$error":"#N/A"},{"$error":"#N/A"},{"$error":"#N/A"},{"$f":"IF(SUM(S$1262:S1914)>0,0,\nIF(MAX(L1915:L$2702)=MAX(L$1262:L$2702),0,\nIF(Hydrograph_Source_WQCV=\"USER\",IF(J1915>0.03*D$2703,0,$C1915/60),\nIF(J1915>0.03*J$2703,0,$C1915/60))))","v":0},{"$f":"IF(SUM(T$1262:T1914)>0,0,\nIF(MAX(L1915:L$2702)=MAX(L$1262:L$2702),0,\nIF(Hydrograph_Source_WQCV=\"USER\",IF(J1915>0.01*D$2703,0,$C1915/60),\nIF(J1915>0.01*J$2703,0,$C1915/60))))","v":0},0,0,0,0,{"$error":"#VALUE!"},{"$error":"#VALUE!"},{"$error":"#VALUE!"},{"$error":"#VALUE!"},{"$error":"#VALUE!"},{"$error":"#VALUE!"},{"$error":"#VALUE!"},{"$error":"#VALUE!"},{"$error":"#VALUE!"},{"$error":"#VALUE!"},{"$error":"#VALUE!"},{"$f":"IF(SUM(AJ$1262:AJ1914)>0,0,IF(MAX(AC1915:AC$2702)=MAX(AC$1262:AC$2702),0,IF(AA1915>0.03*U$2703,0,$C1915/60)))","v":{"$error":"#VALUE!"}},{"$f":"IF(SUM(AK$1262:AK1914)>0,0,IF(MAX(AC1915:AC$2702)=MAX(AC$1262:AC$2702),0,IF(AA1915>0.01*U$2703,0,$C1915/60)))","v":{"$error":"#VALUE!"}},0,0,0,0,{"$error":"#VALUE!"},{"$error":"#VALUE!"},{"$error":"#VALUE!"},{"$error":"#VALUE!"},{"$error":"#VALUE!"},{"$error":"#VALUE!"},{"$error":"#VALUE!"},{"$error":"#VALUE!"},{"$error":"#VALUE!"},{"$error":"#VALUE!"},{"$error":"#VALUE!"},{"$f":"IF(SUM(BA$1262:BA1914)>0,0,IF(MAX(AT1915:AT$2702)=MAX(AT$1262:AT$2702),0,IF(AR1915>0.03*AL$2703,0,$C1915/60)))","v":{"$error":"#VALUE!"}},{"$f":"IF(SUM(BB$1262:BB1914)>0,0,IF(MAX(AT1915:AT$2702)=MAX(AT$1262:AT$2702),0,IF(AR1915>0.01*AL$2703,0,$C1915/60)))","v":{"$error":"#VALUE!"}},0,0,0,0,{"$error":"#VALUE!"},{"$error":"#VALUE!"},{"$error":"#VALUE!"},{"$error":"#VALUE!"},{"$error":"#VALUE!"},{"$error":"#VALUE!"},{"$error":"#VALUE!"},{"$error":"#VALUE!"},{"$error":"#VALUE!"},{"$error":"#VALUE!"},{"$error":"#VALUE!"},{"$f":"IF(SUM(BR$1262:BR1914)>0,0,IF(MAX(BK1915:BK$2702)=MAX(BK$1262:BK$2702),0,IF(BI1915>0.03*BC$2703,0,$C1915/60)))","v":{"$error":"#VALUE!"}},{"$f":"IF(SUM(BS$1262:BS1914)>0,0,IF(MAX(BK1915:BK$2702)=MAX(BK$1262:BK$2702),0,IF(BI1915>0.01*BC$2703,0,$C1915/60)))","v":{"$error":"#VALUE!"}},0,0,0,0,{"$error":"#VALUE!"},{"$error":"#VALUE!"},{"$error":"#VALUE!"},{"$error":"#VALUE!"},{"$error":"#VALUE!"},{"$error":"#VALUE!"},{"$error":"#VALUE!"},{"$error":"#VALUE!"},{"$error":"#VALUE!"},{"$error":"#VALUE!"},{"$error":"#VALUE!"},{"$f":"IF(SUM(CI$1262:CI1914)>0,0,IF(MAX(CB1915:CB$2702)=MAX(CB$1262:CB$2702),0,IF(BZ1915>0.03*BT$2703,0,$C1915/60)))","v":{"$error":"#VALUE!"}},{"$f":"IF(SUM(CJ$1262:CJ1914)>0,0,IF(MAX(CB1915:CB$2702)=MAX(CB$1262:CB$2702),0,IF(BZ1915>0.01*BT$2703,0,$C1915/60)))","v":{"$error":"#VALUE!"}},0,0,0,0,{"$error":"#VALUE!"},{"$error":"#VALUE!"},{"$error":"#VALUE!"},{"$error":"#VALUE!"},{"$error":"#VALUE!"},{"$error":"#VALUE!"},{"$error":"#VALUE!"},{"$error":"#VALUE!"},{"$error":"#VALUE!"},{"$error":"#VALUE!"},{"$error":"#VALUE!"},{"$f":"IF(SUM(CZ$1262:CZ1914)>0,0,IF(MAX(CS1915:CS$2702)=MAX(CS$1262:CS$2702),0,IF(CQ1915>0.03*CK$2703,0,$C1915/60)))","v":{"$error":"#VALUE!"}},{"$f":"IF(SUM(DA$1262:DA1914)>0,0,IF(MAX(CS1915:CS$2702)=MAX(CS$1262:CS$2702),0,IF(CQ1915>0.01*CK$2703,0,$C1915/60)))","v":{"$error":"#VALUE!"}}]
[null,54.75,3285,0,0,0,0,0,0,0,0,0,{"$error":"#N/A"},{"$error":"#N/A"},{"$error":"#N/A"},{"$error":"#N/A"},{"$error":"#N/A"},{"$error":"#N/A"},{"$f":"IF(SUM(S$1262:S1918)>0,0,\nIF(MAX(L1919:L$2702)=MAX(L$1262:L$2702),0,\nIF(Hydrograph_Source_WQCV=\"USER\",IF(J1919>0.03*D$2703,0,$C1919/60),\nIF(J1919>0.03*J$2703,0,$C1919/60))))","v":0},{"$f":"IF(SUM(T$1262:T1918)>0,0,\nIF(MAX(L1919:L$2702)=MAX(L$1262:L$2702),0,\nIF(Hydrograph_Source_WQCV=\"USER\",IF(J1919>0.01*D$2703,0,$C1919/60),\nIF(J1919>0.01*J$2703,0,$C1919/60))))","v":0},0,0,0,0,{"$error":"#VALUE!"},{"$error":"#VALUE!"},{"$error":"#VALUE!"},{"$error":"#VALUE!"},{"$error":"#VALUE!"},{"$error":"#VALUE!"},{"$error":"#VALUE!"},{"$error":"#VALUE!"},{"$error":"#VALUE!"},{"$error":"#VALUE!"},{"$error":"#VALUE!"},{"$f":"IF(SUM(AJ$1262:AJ1918)>0,0,IF(MAX(AC1919:AC$2702)=MAX(AC$1262:AC$2702),0,IF(AA1919>0.03*U$2703,0,$C1919/60)))","v":{"$error":"#VALUE!"}},{"$f":"IF(SUM(AK$1262:AK1918)>0,0,IF(MAX(AC1919:AC$2702)=MAX(AC$1262:AC$2702),0,IF(AA1919>0.01*U$2703,0,$C1919/60)))","v":{"$error":"#VALUE!"}},0,0,0,0,{"$error":"#VALUE!"},{"$error":"#VALUE!"},{"$error":"#VALUE!"},{"$error":"#VALUE!"},{"$error":"#VALUE!"},{"$error":"#VALUE!"},{"$error":"#VALUE!"},{"$error":"#VALUE!"},{"$error":"#VALUE!"},{"$error":"#VALUE!"},{"$error":"#VALUE!"},{"$f":"IF(SUM(BA$1262:BA1918)>0,0,IF(MAX(AT1919:AT$2702)=MAX(AT$1262:AT$2702),0,IF(AR1919>0.03*AL$2703,0,$C1919/60)))","v":{"$error":"#VALUE!"}},{"$f":"IF(SUM(BB$1262:BB1918)>0,0,IF(MAX(AT1919:AT$2702)=MAX(AT$1262:AT$2702),0,IF(AR1919>0.01*AL$2703,0,$C1919/60)))","v":{"$error":"#VALUE!"}},0,0,0,0,{"$error":"#VALUE!"},{"$error":"#VALUE!"},{"$error":"#VALUE!"},{"$error":"#VALUE!"},{"$error":"#VALUE!"},{"$error":"#VALUE!"},{"$error":"#VALUE!"},{"$error":"#VALUE!"},{"$error":"#VALUE!"},{"$error":"#VALUE!"},{"$error":"#VALUE!"},{"$f":"IF(SUM(BR$1262:BR1918)>0,0,IF(MAX(BK1919:BK$2702)=MAX(BK$1262:BK$2702),0,IF(BI1919>0.03*BC$2703,0,$C1919/60)))","v":{"$error":"#VALUE!"}},{"$f":"IF(SUM(BS$1262:BS1918)>0,0,IF(MAX(BK1919:BK$2702)=MAX(BK$1262:BK$2702),0,IF(BI1919>0.01*BC$2703,0,$C1919/60)))","v":{"$error":"#VALUE!"}},0,0,0,0,{"$error":"#VALUE!"},{"$error":"#VALUE!"},{"$error":"#VALUE!"},{"$error":"#VALUE!"},{"$error":"#VALUE!"},{"$error":"#VALUE!"},{"$error":"#VALUE!"},{"$error":"#VALUE!"},{"$error":"#VALUE!"},{"$error":"#VALUE!"},{"$error":"#VALUE!"},{"$f":"IF(SUM(CI$1262:CI1918)>0,0,IF(MAX(CB1919:CB$2702)=MAX(CB$1262:CB$2702),0,IF(BZ1919>0.03*BT$2703,0,$C1919/60)))","v":{"$error":"#VALUE!"}},{"$f":"IF(SUM(CJ$1262:CJ1918)>0,0,IF(MAX(CB1919:CB$2702)=MAX(CB$1262:CB$2702),0,IF(BZ1919>0.01*BT$2703,0,$C1919/60)))","v":{"$error":"#VALUE!"}},0,0,0,0,{"$error":"#VALUE!"},{"$error":"#VALUE!"},{"$error":"#VALUE!"},{"$error":"#VALUE!"},{"$error":"#VALUE!"},{"$error":"#VALUE!"},{"$error":"#VALUE!"},{"$error":"#VALUE!"},{"$error":"#VALUE!"},{"$error":"#VALUE!"},{"$error":"#VALUE!"},{"$f":"IF(SUM(CZ$1262:CZ1918)>0,0,IF(MAX(CS1919:CS$2702)=MAX(CS$1262:CS$2702),0,IF(CQ1919>0.03*CK$2703,0,$C1919/60)))","v":{"$error":"#VALUE!"}},{"$f":"IF(SUM(DA$1262:DA1918)>0,0,IF(MAX(CS1919:CS$2702)=MAX(CS$1262:CS$2702),0,IF(CQ1919>0.01*CK$2703,0,$C1919/60)))","v":{"$error":"#VALUE!"}}]
[null,55.333333333333336,3320,0,0,0,0,0,0,0,0,0,{"$error":"#N/A"},{"$error":"#N/A"},{"$error":"#N/A"},{"$error":"#N/A"},{"$error":"#N/A"},{"$error":"#N/A"},{"$f":"IF(SUM(S$1262:S1925)>0,0,\nIF(MAX(L1926:L$2702)=MAX(L$1262:L$2702),0,\nIF(Hydrograph_Source_WQCV=\"USER\",IF(J1926>0.03*D$2703,0,$C1926/60),\nIF(J1926>0.03*J$2703,0,$C1926/60))))","v":0},{"$f":"IF(SUM(T$1262:T1925)>0,0,\nIF(MAX(L1926:L$2702)=MAX(L$1262:L$2702),0,\nIF(Hydrograph_Source_WQCV=\"USER\",IF(J1926>0.01*D$2703,0,$C1926/60),\nIF(J1926>0.01*J$2703,0,$C1926/60))))","v":0},0,0,0,0,{"$error":"#VALUE!"},{"$error":"#VALUE!"},{"$error":"#VALUE!"},{"$error":"#VALUE!"},{"$error":"#VALUE!"},{"$error":"#VALUE!"},{"$error":"#VALUE!"},{"$error":"#VALUE!"},{"$error":"#VALUE!"},{"$error":"#VALUE!"},{"$error":"#VALUE!"},{"$f":"IF(SUM(AJ$1262:AJ1925)>0,0,IF(MAX(AC1926:AC$2702)=MAX(AC$1262:AC$2702),0,IF(AA1926>0.03*U$2703,0,$C1926/60)))","v":{"$error":"#VALUE!"}},{"$f":"IF(SUM(AK$1262:AK1925)>0,0,IF(MAX(AC1926:AC$2702)=MAX(AC$1262:AC$2702),0,IF(AA1926>0.01*U$2703,0,$C1926/60)))","v":{"$error":"#VALUE!"}},0,0,0,0,{"$error":"#VALUE!"},{"$error":"#VALUE!"},{"$error":"#VALUE!"},{"$error":"#VALUE!"},{"$error":"#VALUE!"},{"$error":"#VALUE!"},{"$error":"#VALUE!"},{"$error":"#VALUE!"},{"$error":"#VALUE!"},{"$error":"#VALUE!"},{"$error":"#VALUE!"},{"$f":"IF(SUM(BA$1262:BA1925)>0,0,IF(MAX(AT1926:AT$2702)=MAX(AT$1262:AT$2702),0,IF(AR1926>0.03*AL$2703,0,$C1926/60)))","v":{"$error":"#VALUE!"}},{"$f":"IF(SUM(BB$1262:BB1925)>0,0,IF(MAX(AT1926:AT$2702)=MAX(AT$1262:AT$2702),0,IF(AR1926>0.01*AL$2703,0,$C1926/60)))","v":{"$error":"#VALUE!"}},0,0,0,0,{"$error":"#VALUE!"},{"$error":"#VALUE!"},{"$error":"#VALUE!"},{"$error":"#VALUE!"},{"$error":"#VALUE!"},{"$error":"#VALUE!"},{"$error":"#VALUE!"},{"$error":"#VALUE!"},{"$error":"#VALUE!"},{"$error":"#VALUE!"},{"$error":"#VALUE!"},{"$f":"IF(SUM(BR$1262:BR1925)>0,0,IF(MAX(BK1926:BK$2702)=MAX(BK$1262:BK$2702),0,IF(BI1926>0.03*BC$2703,0,$C1926/60)))","v":{"$error":"#VALUE!"}},{"$f":"IF(SUM(BS$1262:BS1925)>0,0,IF(MAX(BK1926:BK$2702)=MAX(BK$1262:BK$2702),0,IF(BI1926>0.01*BC$2703,0,$C1926/60)))","v":{"$error":"#VALUE!"}},0,0,0,0,{"$error":"#VALUE!"},{"$error":"#VALUE!"},{"$error":"#VALUE!"},{"$error":"#VALUE!"},{"$error":"#VALUE!"},{"$error":"#VALUE!"},{"$error":"#VALUE!"},{"$error":"#VALUE!"},{"$error":"#VALUE!"},{"$error":"#VALUE!"},{"$error":"#VALUE!"},{"$f":"IF(SUM(CI$1262:CI1925)>0,0,IF(MAX(CB1926:CB$2702)=MAX(CB$1262:CB$2702),0,IF(BZ1926>0.03*BT$2703,0,$C1926/60)))","v":{"$error":"#VALUE!"}},{"$f":"IF(SUM(CJ$1262:CJ1925)>0,0,IF(MAX(CB1926:CB$2702)=MAX(CB$1262:CB$2702),0,IF(BZ1926>0.01*BT$2703,0,$C1926/60)))","v":{"$error":"#VALUE!"}},0,0,0,0,{"$error":"#VALUE!"},{"$error":"#VALUE!"},{"$error":"#VALUE!"},{"$error":"#VALUE!"},{"$error":"#VALUE!"},{"$error":"#VALUE!"},{"$error":"#VALUE!"},{"$error":"#VALUE!"},{"$error":"#VALUE!"},{"$error":"#VALUE!"},{"$error":"#VALUE!"},{"$f":"IF(SUM(CZ$1262:CZ1925)>0,0,IF(MAX(CS1926:CS$2702)=MAX(CS$1262:CS$2702),0,IF(CQ1926>0.03*CK$2703,0,$C1926/60)))","v":{"$error":"#VALUE!"}},{"$f":"IF(SUM(DA$1262:DA1925)>0,0,IF(MAX(CS1926:CS$2702)=MAX(CS$1262:CS$2702),0,IF(CQ1926>0.01*CK$2703,0,$C1926/60)))","v":{"$error":"#VALUE!"}}]
[null,55.416666666666664,3325,0,0,0,0,0,0,0,0,0,{"$error":"#N/A"},{"$error":"#N/A"},{"$error":"#N/A"},{"$error":"#N/A"},{"$error":"#N/A"},{"$error":"#N/A"},{"$f":"IF(SUM(S$1262:S1926)>0,0,\nIF(MAX(L1927:L$2702)=MAX(L$1262:L$2702),0,\nIF(Hydrograph_Source_WQCV=\"USER\",IF(J1927>0.03*D$2703,0,$C1927/60),\nIF(J1927>0.03*J$2703,0,$C1927/60))))","v":0},{"$f":"IF(SUM(T$1262:T1926)>0,0,\nIF(MAX(L1927:L$2702)=MAX(L$1262:L$2702),0,\nIF(Hydrograph_Source_WQCV=\"USER\",IF(J1927>0.01*D$2703,0,$C1927/60),\nIF(J1927>0.01*J$2703,0,$C1927/60))))","v":0},0,0,0,0,{"$error":"#VALUE!"},{"$error":"#VALUE!"},{"$error":"#VALUE!"},{"$error":"#VALUE!"},{"$error":"#VALUE!"},{"$error":"#VALUE!"},{"$error":"#VALUE!"},{"$error":"#VALUE!"},{"$error":"#VALUE!"},{"$error":"#VALUE!"},{"$error":"#VALUE!"},{"$f":"IF(SUM(AJ$1262:AJ1926)>0,0,IF(MAX(AC1927:AC$2702)=MAX(AC$1262:AC$2702),0,IF(AA1927>0.03*U$2703,0,$C1927/60)))","v":{"$error":"#VALUE!"}},{"$f":"IF(SUM(AK$1262:AK1926)>0,0,IF(MAX(AC1927:AC$2702)=MAX(AC$1262:AC$2702),0,IF(AA1927>0.01*U$2703,0,$C1927/60)))","v":{"$error":"#VALUE!"}},0,0,0,0,{"$error":"#VALUE!"},{"$error":"#VALUE!"},{"$error":"#VALUE!"},{"$error":"#VALUE!"},{"$error":"#VALUE!"},{"$error":"#VALUE!"},{"$error":"#VALUE!"},{"$error":"#VALUE!"},{"$error":"#VALUE!"},{"$error":"#VALUE!"},{"$error":"#VALUE!"},{"$f":"IF(SUM(BA$1262:BA1926)>0,0,IF(MAX(AT1927:AT$2702)=MAX(AT$1262:AT$2702),0,IF(AR1927>0.03*AL$2703,0,$C1927/60)))","v":{"$error":"#VALUE!"}},{"$f":"IF(SUM(BB$1262:BB1926)>0,0,IF(MAX(AT1927:AT$2702)=MAX(AT$1262:AT$2702),0,IF(AR1927>0.01*AL$2703,0,$C1927/60)))","v":{"$error":"#VALUE!"}},0,0,0,0,{"$error":"#VALUE!"},{"$error":"#VALUE!"},{"$error":"#VALUE!"},{"$error":"#VALUE!"},{"$error":"#VALUE!"},{"$error":"#VALUE!"},{"$error":"#VALUE!"},{"$error":"#VALUE!"},{"$error":"#VALUE!"},{"$error":"#VALUE!"},{"$error":"#VALUE!"},{"$f":"IF(SUM(BR$1262:BR1926)>0,0,IF(MAX(BK1927:BK$2702)=MAX(BK$1262:BK$2702),0,IF(BI1927>0.03*BC$2703,0,$C1927/60)))","v":{"$error":"#VALUE!"}},{"$f":"IF(SUM(BS$1262:BS1926)>0,0,IF(MAX(BK1927:BK$2702)=MAX(BK$1262:BK$2702),0,IF(BI1927>0.01*BC$2703,0,$C1927/60)))","v":{"$error":"#VALUE!"}},0,0,0,0,{"$error":"#VALUE!"},{"$error":"#VALUE!"},{"$error":"#VALUE!"},{"$error":"#VALUE!"},{"$error":"#VALUE!"},{"$error":"#VALUE!"},{"$error":"#VALUE!"},{"$error":"#VALUE!"},{"$error":"#VALUE!"},{"$error":"#VALUE!"},{"$error":"#VALUE!"},{"$f":"IF(SUM(CI$1262:CI1926)>0,0,IF(MAX(CB1927:CB$2702)=MAX(CB$1262:CB$2702),0,IF(BZ1927>0.03*BT$2703,0,$C1927/60)))","v":{"$error":"#VALUE!"}},{"$f":"IF(SUM(CJ$1262:CJ1926)>0,0,IF(MAX(CB1927:CB$2702)=MAX(CB$1262:CB$2702),0,IF(BZ1927>0.01*BT$2703,0,$C1927/60)))","v":{"$error":"#VALUE!"}},0,0,0,0,{"$error":"#VALUE!"},{"$error":"#VALUE!"},{"$error":"#VALUE!"},{"$error":"#VALUE!"},{"$error":"#VALUE!"},{"$error":"#VALUE!"},{"$error":"#VALUE!"},{"$error":"#VALUE!"},{"$error":"#VALUE!"},{"$error":"#VALUE!"},{"$error":"#VALUE!"},{"$f":"IF(SUM(CZ$1262:CZ1926)>0,0,IF(MAX(CS1927:CS$2702)=MAX(CS$1262:CS$2702),0,IF(CQ1927>0.03*CK$2703,0,$C1927/60)))","v":{"$error":"#VALUE!"}},{"$f":"IF(SUM(DA$1262:DA1926)>0,0,IF(MAX(CS1927:CS$2702)=MAX(CS$1262:CS$2702),0,IF(CQ1927>0.01*CK$2703,0,$C1927/60)))","v":{"$error":"#VALUE!"}}]
[null,55.916666666666664,3355,0,0,0,0,0,0,0,0,0,{"$error":"#N/A"},{"$error":"#N/A"},{"$error":"#N/A"},{"$error":"#N/A"},{"$error":"#N/A"},{"$error":"#N/A"},{"$f":"IF(SUM(S$1262:S1932)>0,0,\nIF(MAX(L1933:L$2702)=MAX(L$1262:L$2702),0,\nIF(Hydrograph_Source_WQCV=\"USER\",IF(J1933>0.03*D$2703,0,$C1933/60),\nIF(J1933>0.03*J$2703,0,$C1933/60))))","v":0},{"$f":"IF(SUM(T$1262:T1932)>0,0,\nIF(MAX(L1933:L$2702)=MAX(L$1262:L$2702),0,\nIF(Hydrograph_Source_WQCV=\"USER\",IF(J1933>0.01*D$2703,0,$C1933/60),\nIF(J1933>0.01*J$2703,0,$C1933/60))))","v":0},0,0,0,0,{"$error":"#VALUE!"},{"$error":"#VALUE!"},{"$error":"#VALUE!"},{"$error":"#VALUE!"},{"$error":"#VALUE!"},{"$error":"#VALUE!"},{"$error":"#VALUE!"},{"$error":"#VALUE!"},{"$error":"#VALUE!"},{"$error":"#VALUE!"},{"$error":"#VALUE!"},{"$f":"IF(SUM(AJ$1262:AJ1932)>0,0,IF(MAX(AC1933:AC$2702)=MAX(AC$1262:AC$2702),0,IF(AA1933>0.03*U$2703,0,$C1933/60)))","v":{"$error":"#VALUE!"}},{"$f":"IF(SUM(AK$1262:AK1932)>0,0,IF(MAX(AC1933:AC$2702)=MAX(AC$1262:AC$2702),0,IF(AA1933>0.01*U$2703,0,$C1933/60)))","v":{"$error":"#VALUE!"}},0,0,0,0,{"$error":"#VALUE!"},{"$error":"#VALUE!"},{"$error":"#VALUE!"},{"$error":"#VALUE!"},{"$error":"#VALUE!"},{"$error":"#VALUE!"},{"$error":"#VALUE!"},{"$error":"#VALUE!"},{"$error":"#VALUE!"},{"$error":"#VALUE!"},{"$error":"#VALUE!"},{"$f":"IF(SUM(BA$1262:BA1932)>0,0,IF(MAX(AT1933:AT$2702)=MAX(AT$1262:AT$2702),0,IF(AR1933>0.03*AL$2703,0,$C1933/60)))","v":{"$error":"#VALUE!"}},{"$f":"IF(SUM(BB$1262:BB1932)>0,0,IF(MAX(AT1933:AT$2702)=MAX(AT$1262:AT$2702),0,IF(AR1933>0.01*AL$2703,0,$C1933/60)))","v":{"$error":"#VALUE!"}},0,0,0,0,{"$error":"#VALUE!"},{"$error":"#VALUE!"},{"$error":"#VALUE!"},{"$error":"#VALUE!"},{"$error":"#VALUE!"},{"$error":"#VALUE!"},{"$error":"#VALUE!"},{"$error":"#VALUE!"},{"$error":"#VALUE!"},{"$error":"#VALUE!"},{"$error":"#VALUE!"},{"$f":"IF(SUM(BR$1262:BR1932)>0,0,IF(MAX(BK1933:BK$2702)=MAX(BK$1262:BK$2702),0,IF(BI1933>0.03*BC$2703,0,$C1933/60)))","v":{"$error":"#VALUE!"}},{"$f":"IF(SUM(BS$1262:BS1932)>0,0,IF(MAX(BK1933:BK$2702)=MAX(BK$1262:BK$2702),0,IF(BI1933>0.01*BC$2703,0,$C1933/60)))","v":{"$error":"#VALUE!"}},0,0,0,0,{"$error":"#VALUE!"},{"$error":"#VALUE!"},{"$error":"#VALUE!"},{"$error":"#VALUE!"},{"$error":"#VALUE!"},{"$error":"#VALUE!"},{"$error":"#VALUE!"},{"$error":"#VALUE!"},{"$error":"#VALUE!"},{"$error":"#VALUE!"},{"$error":"#VALUE!"},{"$f":"IF(SUM(CI$1262:CI1932)>0,0,IF(MAX(CB1933:CB$2702)=MAX(CB$1262:CB$2702),0,IF(BZ1933>0.03*BT$2703,0,$C1933/60)))","v":{"$error":"#VALUE!"}},{"$f":"IF(SUM(CJ$1262:CJ1932)>0,0,IF(MAX(CB1933:CB$2702)=MAX(CB$1262:CB$2702),0,IF(BZ1933>0.01*BT$2703,0,$C1933/60)))","v":{"$error":"#VALUE!"}},0,0,0,0,{"$error":"#VALUE!"},{"$error":"#VALUE!"},{"$error":"#VALUE!"},{"$error":"#VALUE!"},{"$error":"#VALUE!"},{"$error":"#VALUE!"},{"$error":"#VALUE!"},{"$error":"#VALUE!"},{"$error":"#VALUE!"},{"$error":"#VALUE!"},{"$error":"#VALUE!"},{"$f":"IF(SUM(CZ$1262:CZ1932)>0,0,IF(MAX(CS1933:CS$2702)=MAX(CS$1262:CS$2702),0,IF(CQ1933>0.03*CK$2703,0,$C1933/60)))","v":{"$error":"#VALUE!"}},{"$f":"IF(SUM(DA$1262:DA1932)>0,0,IF(MAX(CS1933:CS$2702)=MAX(CS$1262:CS$2702),0,IF(CQ1933>0.01*CK$2703,0,$C1933/60)))","v":{"$error":"#VALUE!"}}]
[null,56.333333333333336,3380,0,0,0,0,0,0,0,0,0,{"$error":"#N/A"},{"$error":"#N/A"},{"$error":"#N/A"},{"$error":"#N/A"},{"$error":"#N/A"},{"$error":"#N/A"},{"$f":"IF(SUM(S$1262:S1937)>0,0,\nIF(MAX(L1938:L$2702)=MAX(L$1262:L$2702),0,\nIF(Hydrograph_Source_WQCV=\"USER\",IF(J1938>0.03*D$2703,0,$C1938/60),\nIF(J1938>0.03*J$2703,0,$C1938/60))))","v":0},{"$f":"IF(SUM(T$1262:T1937)>0,0,\nIF(MAX(L1938:L$2702)=MAX(L$1262:L$2702),0,\nIF(Hydrograph_Source_WQCV=\"USER\",IF(J1938>0.01*D$2703,0,$C1938/60),\nIF(J1938>0.01*J$2703,0,$C1938/60))))","v":0},0,0,0,0,{"$error":"#VALUE!"},{"$error":"#VALUE!"},{"$error":"#VALUE!"},{"$error":"#VALUE!"},{"$error":"#VALUE!"},{"$error":"#VALUE!"},{"$error":"#VALUE!"},{"$error":"#VALUE!"},{"$error":"#VALUE!"},{"$error":"#VALUE!"},{"$error":"#VALUE!"},{"$f":"IF(SUM(AJ$1262:AJ1937)>0,0,IF(MAX(AC1938:AC$2702)=MAX(AC$1262:AC$2702),0,IF(AA1938>0.03*U$2703,0,$C1938/60)))","v":{"$error":"#VALUE!"}},{"$f":"IF(SUM(AK$1262:AK1937)>0,0,IF(MAX(AC1938:AC$2702)=MAX(AC$1262:AC$2702),0,IF(AA1938>0.01*U$2703,0,$C1938/60)))","v":{"$error":"#VALUE!"}},0,0,0,0,{"$error":"#VALUE!"},{"$error":"#VALUE!"},{"$error":"#VALUE!"},{"$error":"#VALUE!"},{"$error":"#VALUE!"},{"$error":"#VALUE!"},{"$error":"#VALUE!"},{"$error":"#VALUE!"},{"$error":"#VALUE!"},{"$error":"#VALUE!"},{"$error":"#VALUE!"},{"$f":"IF(SUM(BA$1262:BA1937)>0,0,IF(MAX(AT1938:AT$2702)=MAX(AT$1262:AT$2702),0,IF(AR1938>0.03*AL$2703,0,$C1938/60)))","v":{"$error":"#VALUE!"}},{"$f":"IF(SUM(BB$1262:BB1937)>0,0,IF(MAX(AT1938:AT$2702)=MAX(AT$1262:AT$2702),0,IF(AR1938>0.01*AL$2703,0,$C1938/60)))","v":{"$error":"#VALUE!"}},0,0,0,0,{"$error":"#VALUE!"},{"$error":"#VALUE!"},{"$error":"#VALUE!"},{"$error":"#VALUE!"},{"$error":"#VALUE!"},{"$error":"#VALUE!"},{"$error":"#VALUE!"},{"$error":"#VALUE!"},{"$error":"#VALUE!"},{"$error":"#VALUE!"},{"$error":"#VALUE!"},{"$f":"IF(SUM(BR$1262:BR1937)>0,0,IF(MAX(BK1938:BK$2702)=MAX(BK$1262:BK$2702),0,IF(BI1938>0.03*BC$2703,0,$C1938/60)))","v":{"$error":"#VALUE!"}},{"$f":"IF(SUM(BS$1262:BS1937)>0,0,IF(MAX(BK1938:BK$2702)=MAX(BK$1262:BK$2702),0,IF(BI1938>0.01*BC$2703,0,$C1938/60)))","v":{"$error":"#VALUE!"}},0,0,0,0,{"$error":"#VALUE!"},{"$error":"#VALUE!"},{"$error":"#VALUE!"},{"$error":"#VALUE!"},{"$error":"#VALUE!"},{"$error":"#VALUE!"},{"$error":"#VALUE!"},{"$error":"#VALUE!"},{"$error":"#VALUE!"},{"$error":"#VALUE!"},{"$error":"#VALUE!"},{"$f":"IF(SUM(CI$1262:CI1937)>0,0,IF(MAX(CB1938:CB$2702)=MAX(CB$1262:CB$2702),0,IF(BZ1938>0.03*BT$2703,0,$C1938/60)))","v":{"$error":"#VALUE!"}},{"$f":"IF(SUM(CJ$1262:CJ1937)>0,0,IF(MAX(CB1938:CB$2702)=MAX(CB$1262:CB$2702),0,IF(BZ1938>0.01*BT$2703,0,$C1938/60)))","v":{"$error":"#VALUE!"}},0,0,0,0,{"$error":"#VALUE!"},{"$error":"#VALUE!"},{"$error":"#VALUE!"},{"$error":"#VALUE!"},{"$error":"#VALUE!"},{"$error":"#VALUE!"},{"$error":"#VALUE!"},{"$error":"#VALUE!"},{"$error":"#VALUE!"},{"$error":"#VALUE!"},{"$error":"#VALUE!"},{"$f":"IF(SUM(CZ$1262:CZ1937)>0,0,IF(MAX(CS1938:CS$2702)=MAX(CS$1262:CS$2702),0,IF(CQ1938>0.03*CK$2703,0,$C1938/60)))","v":{"$error":"#VALUE!"}},{"$f":"IF(SUM(DA$1262:DA1937)>0,0,IF(MAX(CS1938:CS$2702)=MAX(CS$1262:CS$2702),0,IF(CQ1938>0.01*CK$2703,0,$C1938/60)))","v":{"$error":"#VALUE!"}}]
[null,56.75,3405,0,0,0,0,0,0,0,0,0,{"$error":"#N/A"},{"$error":"#N/A"},{"$error":"#N/A"},{"$error":"#N/A"},{"$error":"#N/A"},{"$error":"#N/A"},{"$f":"IF(SUM(S$1262:S1942)>0,0,\nIF(MAX(L1943:L$2702)=MAX(L$1262:L$2702),0,\nIF(Hydrograph_Source_WQCV=\"USER\",IF(J1943>0.03*D$2703,0,$C1943/60),\nIF(J1943>0.03*J$2703,0,$C1943/60))))","v":0},{"$f":"IF(SUM(T$1262:T1942)>0,0,\nIF(MAX(L1943:L$2702)=MAX(L$1262:L$2702),0,\nIF(Hydrograph_Source_WQCV=\"USER\",IF(J1943>0.01*D$2703,0,$C1943/60),\nIF(J1943>0.01*J$2703,0,$C1943/60))))","v":0},0,0,0,0,{"$error":"#VALUE!"},{"$error":"#VALUE!"},{"$error":"#VALUE!"},{"$error":"#VALUE!"},{"$error":"#VALUE!"},{"$error":"#VALUE!"},{"$error":"#VALUE!"},{"$error":"#VALUE!"},{"$error":"#VALUE!"},{"$error":"#VALUE!"},{"$error":"#VALUE!"},{"$f":"IF(SUM(AJ$1262:AJ1942)>0,0,IF(MAX(AC1943:AC$2702)=MAX(AC$1262:AC$2702),0,IF(AA1943>0.03*U$2703,0,$C1943/60)))","v":{"$error":"#VALUE!"}},{"$f":"IF(SUM(AK$1262:AK1942)>0,0,IF(MAX(AC1943:AC$2702)=MAX(AC$1262:AC$2702),0,IF(AA1943>0.01*U$2703,0,$C1943/60)))","v":{"$error":"#VALUE!"}},0,0,0,0,{"$error":"#VALUE!"},{"$error":"#VALUE!"},{"$error":"#VALUE!"},{"$error":"#VALUE!"},{"$error":"#VALUE!"},{"$error":"#VALUE!"},{"$error":"#VALUE!"},{"$error":"#VALUE!"},{"$error":"#VALUE!"},{"$error":"#VALUE!"},{"$error":"#VALUE!"},{"$f":"IF(SUM(BA$1262:BA1942)>0,0,IF(MAX(AT1943:AT$2702)=MAX(AT$1262:AT$2702),0,IF(AR1943>0.03*AL$2703,0,$C1943/60)))","v":{"$error":"#VALUE!"}},{"$f":"IF(SUM(BB$1262:BB1942)>0,0,IF(MAX(AT1943:AT$2702)=MAX(AT$1262:AT$2702),0,IF(AR1943>0.01*AL$2703,0,$C1943/60)))","v":{"$error":"#VALUE!"}},0,0,0,0,{"$error":"#VALUE!"},{"$error":"#VALUE!"},{"$error":"#VALUE!"},{"$error":"#VALUE!"},{"$error":"#VALUE!"},{"$error":"#VALUE!"},{"$error":"#VALUE!"},{"$error":"#VALUE!"},{"$error":"#VALUE!"},{"$error":"#VALUE!"},{"$error":"#VALUE!"},{"$f":"IF(SUM(BR$1262:BR1942)>0,0,IF(MAX(BK1943:BK$2702)=MAX(BK$1262:BK$2702),0,IF(BI1943>0.03*BC$2703,0,$C1943/60)))","v":{"$error":"#VALUE!"}},{"$f":"IF(SUM(BS$1262:BS1942)>0,0,IF(MAX(BK1943:BK$2702)=MAX(BK$1262:BK$2702),0,IF(BI1943>0.01*BC$2703,0,$C1943/60)))","v":{"$error":"#VALUE!"}},0,0,0,0,{"$error":"#VALUE!"},{"$error":"#VALUE!"},{"$error":"#VALUE!"},{"$error":"#VALUE!"},{"$error":"#VALUE!"},{"$error":"#VALUE!"},{"$error":"#VALUE!"},{"$error":"#VALUE!"},{"$error":"#VALUE!"},{"$error":"#VALUE!"},{"$error":"#VALUE!"},{"$f":"IF(SUM(CI$1262:CI1942)>0,0,IF(MAX(CB1943:CB$2702)=MAX(CB$1262:CB$2702),0,IF(BZ1943>0.03*BT$2703,0,$C1943/60)))","v":{"$error":"#VALUE!"}},{"$f":"IF(SUM(CJ$1262:CJ1942)>0,0,IF(MAX(CB1943:CB$2702)=MAX(CB$1262:CB$2702),0,IF(BZ1943>0.01*BT$2703,0,$C1943/60)))","v":{"$error":"#VALUE!"}},0,0,0,0,{"$error":"#VALUE!"},{"$error":"#VALUE!"},{"$error":"#VALUE!"},{"$error":"#VALUE!"},{"$error":"#VALUE!"},{"$error":"#VALUE!"},{"$error":"#VALUE!"},{"$error":"#VALUE!"},{"$error":"#VALUE!"},{"$error":"#VALUE!"},{"$error":"#VALUE!"},{"$f":"IF(SUM(CZ$1262:CZ1942)>0,0,IF(MAX(CS1943:CS$2702)=MAX(CS$1262:CS$2702),0,IF(CQ1943>0.03*CK$2703,0,$C1943/60)))","v":{"$error":"#VALUE!"}},{"$f":"IF(SUM(DA$1262:DA1942)>0,0,IF(MAX(CS1943:CS$2702)=MAX(CS$1262:CS$2702),0,IF(CQ1943>0.01*CK$2703,0,$C1943/60)))","v":{"$error":"#VALUE!"}}]
[null,57.083333333333336,3425,0,0,0,0,0,0,0,0,0,{"$error":"#N/A"},{"$error":"#N/A"},{"$error":"#N/A"},{"$error":"#N/A"},{"$error":"#N/A"},{"$error":"#N/A"},{"$f":"IF(SUM(S$1262:S1946)>0,0,\nIF(MAX(L1947:L$2702)=MAX(L$1262:L$2702),0,\nIF(Hydrograph_Source_WQCV=\"USER\",IF(J1947>0.03*D$2703,0,$C1947/60),\nIF(J1947>0.03*J$2703,0,$C1947/60))))","v":0},{"$f":"IF(SUM(T$1262:T1946)>0,0,\nIF(MAX(L1947:L$2702)=MAX(L$1262:L$2702),0,\nIF(Hydrograph_Source_WQCV=\"USER\",IF(J1947>0.01*D$2703,0,$C1947/60),\nIF(J1947>0.01*J$2703,0,$C1947/60))))","v":0},0,0,0,0,{"$error":"#VALUE!"},{"$error":"#VALUE!"},{"$error":"#VALUE!"},{"$error":"#VALUE!"},{"$error":"#VALUE!"},{"$error":"#VALUE!"},{"$error":"#VALUE!"},{"$error":"#VALUE!"},{"$error":"#VALUE!"},{"$error":"#VALUE!"},{"$error":"#VALUE!"},{"$f":"IF(SUM(AJ$1262:AJ1946)>0,0,IF(MAX(AC1947:AC$2702)=MAX(AC$1262:AC$2702),0,IF(AA1947>0.03*U$2703,0,$C1947/60)))","v":{"$error":"#VALUE!"}},{"$f":"IF(SUM(AK$1262:AK1946)>0,0,IF(MAX(AC1947:AC$2702)=MAX(AC$1262:AC$2702),0,IF(AA1947>0.01*U$2703,0,$C1947/60)))","v":{"$error":"#VALUE!"}},0,0,0,0,{"$error":"#VALUE!"},{"$error":"#VALUE!"},{"$error":"#VALUE!"},{"$error":"#VALUE!"},{"$error":"#VALUE!"},{"$error":"#VALUE!"},{"$error":"#VALUE!"},{"$error":"#VALUE!"},{"$error":"#VALUE!"},{"$error":"#VALUE!"},{"$error":"#VALUE!"},{"$f":"IF(SUM(BA$1262:BA1946)>0,0,IF(MAX(AT1947:AT$2702)=MAX(AT$1262:AT$2702),0,IF(AR1947>0.03*AL$2703,0,$C1947/60)))","v":{"$error":"#VALUE!"}},{"$f":"IF(SUM(BB$1262:BB1946)>0,0,IF(MAX(AT1947:AT$2702)=MAX(AT$1262:AT$2702),0,IF(AR1947>0.01*AL$2703,0,$C1947/60)))","v":{"$error":"#VALUE!"}},0,0,0,0,{"$error":"#VALUE!"},{"$error":"#VALUE!"},{"$error":"#VALUE!"},{"$error":"#VALUE!"},{"$error":"#VALUE!"},{"$error":"#VALUE!"},{"$error":"#VALUE!"},{"$error":"#VALUE!"},{"$error":"#VALUE!"},{"$error":"#VALUE!"},{"$error":"#VALUE!"},{"$f":"IF(SUM(BR$1262:BR1946)>0,0,IF(MAX(BK1947:BK$2702)=MAX(BK$1262:BK$2702),0,IF(BI1947>0.03*BC$2703,0,$C1947/60)))","v":{"$error":"#VALUE!"}},{"$f":"IF(SUM(BS$1262:BS1946)>0,0,IF(MAX(BK1947:BK$2702)=MAX(BK$1262:BK$2702),0,IF(BI1947>0.01*BC$2703,0,$C1947/60)))","v":{"$error":"#VALUE!"}},0,0,0,0,{"$error":"#VALUE!"},{"$error":"#VALUE!"},{"$error":"#VALUE!"},{"$error":"#VALUE!"},{"$error":"#VALUE!"},{"$error":"#VALUE!"},{"$error":"#VALUE!"},{"$error":"#VALUE!"},{"$error":"#VALUE!"},{"$error":"#VALUE!"},{"$error":"#VALUE!"},{"$f":"IF(SUM(CI$1262:CI1946)>0,0,IF(MAX(CB1947:CB$2702)=MAX(CB$1262:CB$2702),0,IF(BZ1947>0.03*BT$2703,0,$C1947/60)))","v":{"$error":"#VALUE!"}},{"$f":"IF(SUM(CJ$1262:CJ1946)>0,0,IF(MAX(CB1947:CB$2702)=MAX(CB$1262:CB$2702),0,IF(BZ1947>0.01*BT$2703,0,$C1947/60)))","v":{"$error":"#VALUE!"}},0,0,0,0,{"$error":"#VALUE!"},{"$error":"#VALUE!"},{"$error":"#VALUE!"},{"$error":"#VALUE!"},{"$error":"#VALUE!"},{"$error":"#VALUE!"},{"$error":"#VALUE!"},{"$error":"#VALUE!"},{"$error":"#VALUE!"},{"$error":"#VALUE!"},{"$error":"#VALUE!"},{"$f":"IF(SUM(CZ$1262:CZ1946)>0,0,IF(MAX(CS1947:CS$2702)=MAX(CS$1262:CS$2702),0,IF(CQ1947>0.03*CK$2703,0,$C1947/60)))","v":{"$error":"#VALUE!"}},{"$f":"IF(SUM(DA$1262:DA1946)>0,0,IF(MAX(CS1947:CS$2702)=MAX(CS$1262:CS$2702),0,IF(CQ1947>0.01*CK$2703,0,$C1947/60)))","v":{"$error":"#VALUE!"}}]
[null,57.333333333333336,3440,0,0,0,0,0,0,0,0,0,{"$error":"#N/A"},{"$error":"#N/A"},{"$error":"#N/A"},{"$error":"#N/A"},{"$error":"#N/A"},{"$error":"#N/A"},{"$f":"IF(SUM(S$1262:S1949)>0,0,\nIF(MAX(L1950:L$2702)=MAX(L$1262:L$2702),0,\nIF(Hydrograph_Source_WQCV=\"USER\",IF(J1950>0.03*D$2703,0,$C1950/60),\nIF(J1950>0.03*J$2703,0,$C1950/60))))","v":0},{"$f":"IF(SUM(T$1262:T1949)>0,0,\nIF(MAX(L1950:L$2702)=MAX(L$1262:L$2702),0,\nIF(Hydrograph_Source_WQCV=\"USER\",IF(J1950>0.01*D$2703,0,$C1950/60),\nIF(J1950>0.01*J$2703,0,$C1950/60))))","v":0},0,0,0,0,{"$error":"#VALUE!"},{"$error":"#VALUE!"},{"$error":"#VALUE!"},{"$error":"#VALUE!"},{"$error":"#VALUE!"},{"$error":"#VALUE!"},{"$error":"#VALUE!"},{"$error":"#VALUE!"},{"$error":"#VALUE!"},{"$error":"#VALUE!"},{"$error":"#VALUE!"},{"$f":"IF(SUM(AJ$1262:AJ1949)>0,0,IF(MAX(AC1950:AC$2702)=MAX(AC$1262:AC$2702),0,IF(AA1950>0.03*U$2703,0,$C1950/60)))","v":{"$error":"#VALUE!"}},{"$f":"IF(SUM(AK$1262:AK1949)>0,0,IF(MAX(AC1950:AC$2702)=MAX(AC$1262:AC$2702),0,IF(AA1950>0.01*U$2703,0,$C1950/60)))","v":{"$error":"#VALUE!"}},0,0,0,0,{"$error":"#VALUE!"},{"$error":"#VALUE!"},{"$error":"#VALUE!"},{"$error":"#VALUE!"},{"$error":"#VALUE!"},{"$error":"#VALUE!"},{"$error":"#VALUE!"},{"$error":"#VALUE!"},{"$error":"#VALUE!"},{"$error":"#VALUE!"},{"$error":"#VALUE!"},{"$f":"IF(SUM(BA$1262:BA1949)>0,0,IF(MAX(AT1950:AT$2702)=MAX(AT$1262:AT$2702),0,IF(AR1950>0.03*AL$2703,0,$C1950/60)))","v":{"$error":"#VALUE!"}},{"$f":"IF(SUM(BB$1262:BB1949)>0,0,IF(MAX(AT1950:AT$2702)=MAX(AT$1262:AT$2702),0,IF(AR1950>0.01*AL$2703,0,$C1950/60)))","v":{"$error":"#VALUE!"}},0,0,0,0,{"$error":"#VALUE!"},{"$error":"#VALUE!"},{"$error":"#VALUE!"},{"$error":"#VALUE!"},{"$error":"#VALUE!"},{"$error":"#VALUE!"},{"$error":"#VALUE!"},{"$error":"#VALUE!"},{"$error":"#VALUE!"},{"$error":"#VALUE!"},{"$error":"#VALUE!"},{"$f":"IF(SUM(BR$1262:BR1949)>0,0,IF(MAX(BK1950:BK$2702)=MAX(BK$1262:BK$2702),0,IF(BI1950>0.03*BC$2703,0,$C1950/60)))","v":{"$error":"#VALUE!"}},{"$f":"IF(SUM(BS$1262:BS1949)>0,0,IF(MAX(BK1950:BK$2702)=MAX(BK$1262:BK$2702),0,IF(BI1950>0.01*BC$2703,0,$C1950/60)))","v":{"$error":"#VALUE!"}},0,0,0,0,{"$error":"#VALUE!"},{"$error":"#VALUE!"},{"$error":"#VALUE!"},{"$error":"#VALUE!"},{"$error":"#VALUE!"},{"$error":"#VALUE!"},{"$error":"#VALUE!"},{"$error":"#VALUE!"},{"$error":"#VALUE!"},{"$error":"#VALUE!"},{"$error":"#VALUE!"},{"$f":"IF(SUM(CI$1262:CI1949)>0,0,IF(MAX(CB1950:CB$2702)=MAX(CB$1262:CB$2702),0,IF(BZ1950>0.03*BT$2703,0,$C1950/60)))","v":{"$error":"#VALUE!"}},{"$f":"IF(SUM(CJ$1262:CJ1949)>0,0,IF(MAX(CB1950:CB$2702)=MAX(CB$1262:CB$2702),0,IF(BZ1950>0.01*BT$2703,0,$C1950/60)))","v":{"$error":"#VALUE!"}},0,0,0,0,{"$error":"#VALUE!"},{"$error":"#VALUE!"},{"$error":"#VALUE!"},{"$error":"#VALUE!"},{"$error":"#VALUE!"},{"$error":"#VALUE!"},{"$error":"#VALUE!"},{"$error":"#VALUE!"},{"$error":"#VALUE!"},{"$error":"#VALUE!"},{"$error":"#VALUE!"},{"$f":"IF(SUM(CZ$1262:CZ1949)>0,0,IF(MAX(CS1950:CS$2702)=MAX(CS$1262:CS$2702),0,IF(CQ1950>0.03*CK$2703,0,$C1950/60)))","v":{"$error":"#VALUE!"}},{"$f":"IF(SUM(DA$1262:DA1949)>0,0,IF(MAX(CS1950:CS$2702)=MAX(CS$1262:CS$2702),0,IF(CQ1950>0.01*CK$2703,0,$C1950/60)))","v":{"$error":"#VALUE!"}}]
[null,57.75,3465,0,0,0,0,0,0,0,0,0,{"$error":"#N/A"},{"$error":"#N/A"},{"$error":"#N/A"},{"$error":"#N/A"},{"$error":"#N/A"},{"$error":"#N/A"},{"$f":"IF(SUM(S$1262:S1954)>0,0,\nIF(MAX(L1955:L$2702)=MAX(L$1262:L$2702),0,\nIF(Hydrograph_Source_WQCV=\"USER\",IF(J1955>0.03*D$2703,0,$C1955/60),\nIF(J1955>0.03*J$2703,0,$C1955/60))))","v":0},{"$f":"IF(SUM(T$1262:T1954)>0,0,\nIF(MAX(L1955:L$2702)=MAX(L$1262:L$2702),0,\nIF(Hydrograph_Source_WQCV=\"USER\",IF(J1955>0.01*D$2703,0,$C1955/60),\nIF(J1955>0.01*J$2703,0,$C1955/60))))","v":0},0,0,0,0,{"$error":"#VALUE!"},{"$error":"#VALUE!"},{"$error":"#VALUE!"},{"$error":"#VALUE!"},{"$error":"#VALUE!"},{"$error":"#VALUE!"},{"$error":"#VALUE!"},{"$error":"#VALUE!"},{"$error":"#VALUE!"},{"$error":"#VALUE!"},{"$error":"#VALUE!"},{"$f":"IF(SUM(AJ$1262:AJ1954)>0,0,IF(MAX(AC1955:AC$2702)=MAX(AC$1262:AC$2702),0,IF(AA1955>0.03*U$2703,0,$C1955/60)))","v":{"$error":"#VALUE!"}},{"$f":"IF(SUM(AK$1262:AK1954)>0,0,IF(MAX(AC1955:AC$2702)=MAX(AC$1262:AC$2702),0,IF(AA1955>0.01*U$2703,0,$C1955/60)))","v":{"$error":"#VALUE!"}},0,0,0,0,{"$error":"#VALUE!"},{"$error":"#VALUE!"},{"$error":"#VALUE!"},{"$error":"#VALUE!"},{"$error":"#VALUE!"},{"$error":"#VALUE!"},{"$error":"#VALUE!"},{"$error":"#VALUE!"},{"$error":"#VALUE!"},{"$error":"#VALUE!"},{"$error":"#VALUE!"},{"$f":"IF(SUM(BA$1262:BA1954)>0,0,IF(MAX(AT1955:AT$2702)=MAX(AT$1262:AT$2702),0,IF(AR1955>0.03*AL$2703,0,$C1955/60)))","v":{"$error":"#VALUE!"}},{"$f":"IF(SUM(BB$1262:BB1954)>0,0,IF(MAX(AT1955:AT$2702)=MAX(AT$1262:AT$2702),0,IF(AR1955>0.01*AL$2703,0,$C1955/60)))","v":{"$error":"#VALUE!"}},0,0,0,0,{"$error":"#VALUE!"},{"$error":"#VALUE!"},{"$error":"#VALUE!"},{"$error":"#VALUE!"},{"$error":"#VALUE!"},{"$error":"#VALUE!"},{"$error":"#VALUE!"},{"$error":"#VALUE!"},{"$error":"#VALUE!"},{"$error":"#VALUE!"},{"$error":"#VALUE!"},{"$f":"IF(SUM(BR$1262:BR1954)>0,0,IF(MAX(BK1955:BK$2702)=MAX(BK$1262:BK$2702),0,IF(BI1955>0.03*BC$2703,0,$C1955/60)))","v":{"$error":"#VALUE!"}},{"$f":"IF(SUM(BS$1262:BS1954)>0,0,IF(MAX(BK1955:BK$2702)=MAX(BK$1262:BK$2702),0,IF(BI1955>0.01*BC$2703,0,$C1955/60)))","v":{"$error":"#VALUE!"}},0,0,0,0,{"$error":"#VALUE!"},{"$error":"#VALUE!"},{"$error":"#VALUE!"},{"$error":"#VALUE!"},{"$error":"#VALUE!"},{"$error":"#VALUE!"},{"$error":"#VALUE!"},{"$error":"#VALUE!"},{"$error":"#VALUE!"},{"$error":"#VALUE!"},{"$error":"#VALUE!"},{"$f":"IF(SUM(CI$1262:CI1954)>0,0,IF(MAX(CB1955:CB$2702)=MAX(CB$1262:CB$2702),0,IF(BZ1955>0.03*BT$2703,0,$C1955/60)))","v":{"$error":"#VALUE!"}},{"$f":"IF(SUM(CJ$1262:CJ1954)>0,0,IF(MAX(CB1955:CB$2702)=MAX(CB$1262:CB$2702),0,IF(BZ1955>0.01*BT$2703,0,$C1955/60)))","v":{"$error":"#VALUE!"}},0,0,0,0,{"$error":"#VALUE!"},{"$error":"#VALUE!"},{"$error":"#VALUE!"},{"$error":"#VALUE!"},{"$error":"#VALUE!"},{"$error":"#VALUE!"},{"$error":"#VALUE!"},{"$error":"#VALUE!"},{"$error":"#VALUE!"},{"$error":"#VALUE!"},{"$error":"#VALUE!"},{"$f":"IF(SUM(CZ$1262:CZ1954)>0,0,IF(MAX(CS1955:CS$2702)=MAX(CS$1262:CS$2702),0,IF(CQ1955>0.03*CK$2703,0,$C1955/60)))","v":{"$error":"#VALUE!"}},{"$f":"IF(SUM(DA$1262:DA1954)>0,0,IF(MAX(CS1955:CS$2702)=MAX(CS$1262:CS$2702),0,IF(CQ1955>0.01*CK$2703,0,$C1955/60)))","v":{"$error":"#VALUE!"}}]
[null,57.916666666666664,3475,0,0,0,0,0,0,0,0,0,{"$error":"#N/A"},{"$error":"#N/A"},{"$error":"#N/A"},{"$error":"#N/A"},{"$error":"#N/A"},{"$error":"#N/A"},{"$f":"IF(SUM(S$1262:S1956)>0,0,\nIF(MAX(L1957:L$2702)=MAX(L$1262:L$2702),0,\nIF(Hydrograph_Source_WQCV=\"USER\",IF(J1957>0.03*D$2703,0,$C1957/60),\nIF(J1957>0.03*J$2703,0,$C1957/60))))","v":0},{"$f":"IF(SUM(T$1262:T1956)>0,0,\nIF(MAX(L1957:L$2702)=MAX(L$1262:L$2702),0,\nIF(Hydrograph_Source_WQCV=\"USER\",IF(J1957>0.01*D$2703,0,$C1957/60),\nIF(J1957>0.01*J$2703,0,$C1957/60))))","v":0},0,0,0,0,{"$error":"#VALUE!"},{"$error":"#VALUE!"},{"$error":"#VALUE!"},{"$error":"#VALUE!"},{"$error":"#VALUE!"},{"$error":"#VALUE!"},{"$error":"#VALUE!"},{"$error":"#VALUE!"},{"$error":"#VALUE!"},{"$error":"#VALUE!"},{"$error":"#VALUE!"},{"$f":"IF(SUM(AJ$1262:AJ1956)>0,0,IF(MAX(AC1957:AC$2702)=MAX(AC$1262:AC$2702),0,IF(AA1957>0.03*U$2703,0,$C1957/60)))","v":{"$error":"#VALUE!"}},{"$f":"IF(SUM(AK$1262:AK1956)>0,0,IF(MAX(AC1957:AC$2702)=MAX(AC$1262:AC$2702),0,IF(AA1957>0.01*U$2703,0,$C1957/60)))","v":{"$error":"#VALUE!"}},0,0,0,0,{"$error":"#VALUE!"},{"$error":"#VALUE!"},{"$error":"#VALUE!"},{"$error":"#VALUE!"},{"$error":"#VALUE!"},{"$error":"#VALUE!"},{"$error":"#VALUE!"},{"$error":"#VALUE!"},{"$error":"#VALUE!"},{"$error":"#VALUE!"},{"$error":"#VALUE!"},{"$f":"IF(SUM(BA$1262:BA1956)>0,0,IF(MAX(AT1957:AT$2702)=MAX(AT$1262:AT$2702),0,IF(AR1957>0.03*AL$2703,0,$C1957/60)))","v":{"$error":"#VALUE!"}},{"$f":"IF(SUM(BB$1262:BB1956)>0,0,IF(MAX(AT1957:AT$2702)=MAX(AT$1262:AT$2702),0,IF(AR1957>0.01*AL$2703,0,$C1957/60)))","v":{"$error":"#VALUE!"}},0,0,0,0,{"$error":"#VALUE!"},{"$error":"#VALUE!"},{"$error":"#VALUE!"},{"$error":"#VALUE!"},{"$error":"#VALUE!"},{"$error":"#VALUE!"},{"$error":"#VALUE!"},{"$error":"#VALUE!"},{"$error":"#VALUE!"},{"$error":"#VALUE!"},{"$error":"#VALUE!"},{"$f":"IF(SUM(BR$1262:BR1956)>0,0,IF(MAX(BK1957:BK$2702)=MAX(BK$1262:BK$2702),0,IF(BI1957>0.03*BC$2703,0,$C1957/60)))","v":{"$error":"#VALUE!"}},{"$f":"IF(SUM(BS$1262:BS1956)>0,0,IF(MAX(BK1957:BK$2702)=MAX(BK$1262:BK$2702),0,IF(BI1957>0.01*BC$2703,0,$C1957/60)))","v":{"$error":"#VALUE!"}},0,0,0,0,{"$error":"#VALUE!"},{"$error":"#VALUE!"},{"$error":"#VALUE!"},{"$error":"#VALUE!"},{"$error":"#VALUE!"},{"$error":"#VALUE!"},{"$error":"#VALUE!"},{"$error":"#VALUE!"},{"$error":"#VALUE!"},{"$error":"#VALUE!"},{"$error":"#VALUE!"},{"$f":"IF(SUM(CI$1262:CI1956)>0,0,IF(MAX(CB1957:CB$2702)=MAX(CB$1262:CB$2702),0,IF(BZ1957>0.03*BT$2703,0,$C1957/60)))","v":{"$error":"#VALUE!"}},{"$f":"IF(SUM(CJ$1262:CJ1956)>0,0,IF(MAX(CB1957:CB$2702)=MAX(CB$1262:CB$2702),0,IF(BZ1957>0.01*BT$2703,0,$C1957/60)))","v":{"$error":"#VALUE!"}},0,0,0,0,{"$error":"#VALUE!"},{"$error":"#VALUE!"},{"$error":"#VALUE!"},{"$error":"#VALUE!"},{"$error":"#VALUE!"},{"$error":"#VALUE!"},{"$error":"#VALUE!"},{"$error":"#VALUE!"},{"$error":"#VALUE!"},{"$error":"#VALUE!"},{"$error":"#VALUE!"},{"$f":"IF(SUM(CZ$1262:CZ1956)>0,0,IF(MAX(CS1957:CS$2702)=MAX(CS$1262:CS$2702),0,IF(CQ1957>0.03*CK$2703,0,$C1957/60)))","v":{"$error":"#VALUE!"}},{"$f":"IF(SUM(DA$1262:DA1956)>0,0,IF(MAX(CS1957:CS$2702)=MAX(CS$1262:CS$2702),0,IF(CQ1957>0.01*CK$2703,0,$C1957/60)))","v":{"$error":"#VALUE!"}}]
[null,58.333333333333336,3500,0,0,0,0,0,0,0,0,0,{"$error":"#N/A"},{"$error":"#N/A"},{"$error":"#N/A"},{"$error":"#N/A"},{"$error":"#N/A"},{"$error":"#N/A"},{"$f":"IF(SUM(S$1262:S1961)>0,0,\nIF(MAX(L1962:L$2702)=MAX(L$1262:L$2702),0,\nIF(Hydrograph_Source_WQCV=\"USER\",IF(J1962>0.03*D$2703,0,$C1962/60),\nIF(J1962>0.03*J$2703,0,$C1962/60))))","v":0},{"$f":"IF(SUM(T$1262:T1961)>0,0,\nIF(MAX(L1962:L$2702)=MAX(L$1262:L$2702),0,\nIF(Hydrograph_Source_WQCV=\"USER\",IF(J1962>0.01*D$2703,0,$C1962/60),\nIF(J1962>0.01*J$2703,0,$C1962/60))))","v":0},0,0,0,0,{"$error":"#VALUE!"},{"$error":"#VALUE!"},{"$error":"#VALUE!"},{"$error":"#VALUE!"},{"$error":"#VALUE!"},{"$error":"#VALUE!"},{"$error":"#VALUE!"},{"$error":"#VALUE!"},{"$error":"#VALUE!"},{"$error":"#VALUE!"},{"$error":"#VALUE!"},{"$f":"IF(SUM(AJ$1262:AJ1961)>0,0,IF(MAX(AC1962:AC$2702)=MAX(AC$1262:AC$2702),0,IF(AA1962>0.03*U$2703,0,$C1962/60)))","v":{"$error":"#VALUE!"}},{"$f":"IF(SUM(AK$1262:AK1961)>0,0,IF(MAX(AC1962:AC$2702)=MAX(AC$1262:AC$2702),0,IF(AA1962>0.01*U$2703,0,$C1962/60)))","v":{"$error":"#VALUE!"}},0,0,0,0,{"$error":"#VALUE!"},{"$error":"#VALUE!"},{"$error":"#VALUE!"},{"$error":"#VALUE!"},{"$error":"#VALUE!"},{"$error":"#VALUE!"},{"$error":"#VALUE!"},{"$error":"#VALUE!"},{"$error":"#VALUE!"},{"$error":"#VALUE!"},{"$error":"#VALUE!"},{"$f":"IF(SUM(BA$1262:BA1961)>0,0,IF(MAX(AT1962:AT$2702)=MAX(AT$1262:AT$2702),0,IF(AR1962>0.03*AL$2703,0,$C1962/60)))","v":{"$error":"#VALUE!"}},{"$f":"IF(SUM(BB$1262:BB1961)>0,0,IF(MAX(AT1962:AT$2702)=MAX(AT$1262:AT$2702),0,IF(AR1962>0.01*AL$2703,0,$C1962/60)))","v":{"$error":"#VALUE!"}},0,0,0,0,{"$error":"#VALUE!"},{"$error":"#VALUE!"},{"$error":"#VALUE!"},{"$error":"#VALUE!"},{"$error":"#VALUE!"},{"$error":"#VALUE!"},{"$error":"#VALUE!"},{"$error":"#VALUE!"},{"$error":"#VALUE!"},{"$error":"#VALUE!"},{"$error":"#VALUE!"},{"$f":"IF(SUM(BR$1262:BR1961)>0,0,IF(MAX(BK1962:BK$2702)=MAX(BK$1262:BK$2702),0,IF(BI1962>0.03*BC$2703,0,$C1962/60)))","v":{"$error":"#VALUE!"}},{"$f":"IF(SUM(BS$1262:BS1961)>0,0,IF(MAX(BK1962:BK$2702)=MAX(BK$1262:BK$2702),0,IF(BI1962>0.01*BC$2703,0,$C1962/60)))","v":{"$error":"#VALUE!"}},0,0,0,0,{"$error":"#VALUE!"},{"$error":"#VALUE!"},{"$error":"#VALUE!"},{"$error":"#VALUE!"},{"$error":"#VALUE!"},{"$error":"#VALUE!"},{"$error":"#VALUE!"},{"$error":"#VALUE!"},{"$error":"#VALUE!"},{"$error":"#VALUE!"},{"$error":"#VALUE!"},{"$f":"IF(SUM(CI$1262:CI1961)>0,0,IF(MAX(CB1962:CB$2702)=MAX(CB$1262:CB$2702),0,IF(BZ1962>0.03*BT$2703,0,$C1962/60)))","v":{"$error":"#VALUE!"}},{"$f":"IF(SUM(CJ$1262:CJ1961)>0,0,IF(MAX(CB1962:CB$2702)=MAX(CB$1262:CB$2702),0,IF(BZ1962>0.01*BT$2703,0,$C1962/60)))","v":{"$error":"#VALUE!"}},0,0,0,0,{"$error":"#VALUE!"},{"$error":"#VALUE!"},{"$error":"#VALUE!"},{"$error":"#VALUE!"},{"$error":"#VALUE!"},{"$error":"#VALUE!"},{"$error":"#VALUE!"},{"$error":"#VALUE!"},{"$error":"#VALUE!"},{"$error":"#VALUE!"},{"$error":"#VALUE!"},{"$f":"IF(SUM(CZ$1262:CZ1961)>0,0,IF(MAX(CS1962:CS$2702)=MAX(CS$1262:CS$2702),0,IF(CQ1962>0.03*CK$2703,0,$C1962/60)))","v":{"$error":"#VALUE!"}},{"$f":"IF(SUM(DA$1262:DA1961)>0,0,IF(MAX(CS1962:CS$2702)=MAX(CS$1262:CS$2702),0,IF(CQ1962>0.01*CK$2703,0,$C1962/60)))","v":{"$error":"#VALUE!"}}]
[null,58.75,{"$f":"C1966+$C$1260","v":3525},0,0,{"$f":"G1966","v":0},0,{"$f":"I1966","v":0},0,0,0,{"$f":"IF($D$1263=\"\",0,ROUND((R1967*K1967+Q1967-R1967*P1967),7))","v":0},{"$error":"#N/A"},{"$error":"#N/A"},{"$error":"#N/A"},{"$error":"#N/A"},{"$error":"#N/A"},{"$error":"#N/A"},{"$f":"IF(SUM(S$1262:S1966)>0,0,\nIF(MAX(L1967:L$2702)=MAX(L$1262:L$2702),0,\nIF(Hydrograph_Source_WQCV=\"USER\",IF(J1967>0.03*D$2703,0,$C1967/60),\nIF(J1967>0.03*J$2703,0,$C1967/60))))","v":0},{"$f":"IF(SUM(T$1262:T1966)>0,0,\nIF(MAX(L1967:L$2702)=MAX(L$1262:L$2702),0,\nIF(Hydrograph_Source_WQCV=\"USER\",IF(J1967>0.01*D$2703,0,$C1967/60),\nIF(J1967>0.01*J$2703,0,$C1967/60))))","v":0},0,0,{"$f":"X1966","v":0},0,{"$f":"Z1966","v":{"$error":"#VALUE!"}},{"$error":"#VALUE!"},{"$error":"#VALUE!"},{"$error":"#VALUE!"},{"$f":"IF($U$1263=\"\",0,ROUND((AI1967*AB1967+AH1967-AI1967*AG1967),7))","v":{"$error":"#VALUE!"}},{"$error":"#VALUE!"},{"$error":"#VALUE!"},{"$error":"#VALUE!"},{"$error":"#VALUE!"},{"$error":"#VALUE!"},{"$error":"#VALUE!"},{"$f":"IF(SUM(AJ$1262:AJ1966)>0,0,IF(MAX(AC1967:AC$2702)=MAX(AC$1262:AC$2702),0,IF(AA1967>0.03*U$2703,0,$C1967/60)))","v":{"$error":"#VALUE!"}},{"$f":"IF(SUM(AK$1262:AK1966)>0,0,IF(MAX(AC1967:AC$2702)=MAX(AC$1262:AC$2702),0,IF(AA1967>0.01*U$2703,0,$C1967/60)))","v":{"$error":"#VALUE!"}},0,0,{"$f":"AO1966","v":0},0,{"$f":"AQ1966","v":{"$error":"#VALUE!"}},{"$error":"#VALUE!"},{"$error":"#VALUE!"},{"$error":"#VALUE!"},{"$f":"IF($AL$1263=\"\",0,ROUND((AZ1967*AS1967+AY1967-AZ1967*AX1967),7))","v":{"$error":"#VALUE!"}},{"$error":"#VALUE!"},{"$error":"#VALUE!"},{"$error":"#VALUE!"},{"$error":"#VALUE!"},{"$error":"#VALUE!"},{"$error":"#VALUE!"},{"$f":"IF(SUM(BA$1262:BA1966)>0,0,IF(MAX(AT1967:AT$2702)=MAX(AT$1262:AT$2702),0,IF(AR1967>0.03*AL$2703,0,$C1967/60)))","v":{"$error":"#VALUE!"}},{"$f":"IF(SUM(BB$1262:BB1966)>0,0,IF(MAX(AT1967:AT$2702)=MAX(AT$1262:AT$2702),0,IF(AR1967>0.01*AL$2703,0,$C1967/60)))","v":{"$error":"#VALUE!"}},0,0,{"$f":"BF1966","v":0},0,{"$f":"BH1966","v":{"$error":"#VALUE!"}},{"$error":"#VALUE!"},{"$error":"#VALUE!"},{"$error":"#VALUE!"},{"$f":"IF($BC$1263=\"\",0,ROUND((BQ1967*BJ1967+BP1967-BQ1967*BO1967),7))","v":{"$error":"#VALUE!"}},{"$error":"#VALUE!"},{"$error":"#VALUE!"},{"$error":"#VALUE!"},{"$error":"#VALUE!"},{"$error":"#VALUE!"},{"$error":"#VALUE!"},{"$f":"IF(SUM(BR$1262:BR1966)>0,0,IF(MAX(BK1967:BK$2702)=MAX(BK$1262:BK$2702),0,IF(BI1967>0.03*BC$2703,0,$C1967/60)))","v":{"$error":"#VALUE!"}},{"$f":"IF(SUM(BS$1262:BS1966)>0,0,IF(MAX(BK1967:BK$2702)=MAX(BK$1262:BK$2702),0,IF(BI1967>0.01*BC$2703,0,$C1967/60)))","v":{"$error":"#VALUE!"}},0,0,{"$f":"BW1966","v":0},0,{"$f":"BY1966","v":{"$error":"#VALUE!"}},{"$error":"#VALUE!"},{"$error":"#VALUE!"},{"$error":"#VALUE!"},{"$f":"IF($BT$1263=\"\",0,ROUND((CH1967*CA1967+CG1967-CH1967*CF1967),7))","v":{"$error":"#VALUE!"}},{"$error":"#VALUE!"},{"$error":"#VALUE!"},{"$error":"#VALUE!"},{"$error":"#VALUE!"},{"$error":"#VALUE!"},{"$error":"#VALUE!"},{"$f":"IF(SUM(CI$1262:CI1966)>0,0,IF(MAX(CB1967:CB$2702)=MAX(CB$1262:CB$2702),0,IF(BZ1967>0.03*BT$2703,0,$C1967/60)))","v":{"$error":"#VALUE!"}},{"$f":"IF(SUM(CJ$1262:CJ1966)>0,0,IF(MAX(CB1967:CB$2702)=MAX(CB$1262:CB$2702),0,IF(BZ1967>0.01*BT$2703,0,$C1967/60)))","v":{"$error":"#VALUE!"}},0,0,{"$f":"CN1966","v":0},0,{"$f":"CP1966","v":{"$error":"#VALUE!"}},{"$error":"#VALUE!"},{"$error":"#VALUE!"},{"$error":"#VALUE!"},{"$error":"#VALUE!"},{"$error":"#VALUE!"},{"$error":"#VALUE!"},{"$error":"#VALUE!"},{"$error":"#VALUE!"},{"$error":"#VALUE!"},{"$error":"#VALUE!"},{"$f":"IF(SUM(CZ$1262:CZ1966)>0,0,IF(MAX(CS1967:CS$2702)=MAX(CS$1262:CS$2702),0,IF(CQ1967>0.03*CK$2703,0,$C1967/60)))","v":{"$error":"#VALUE!"}},{"$f":"IF(SUM(DA$1262:DA1966)>0,0,IF(MAX(CS1967:CS$2702)=MAX(CS$1262:CS$2702),0,IF(CQ1967>0.01*CK$2703,0,$C1967/60)))","v":{"$error":"#VALUE!"}}]
[null,59.083333333333336,3545,0,0,0,0,0,0,0,0,0,{"$error":"#N/A"},{"$error":"#N/A"},{"$error":"#N/A"},{"$error":"#N/A"},{"$error":"#N/A"},{"$error":"#N/A"},{"$f":"IF(SUM(S$1262:S1970)>0,0,\nIF(MAX(L1971:L$2702)=MAX(L$1262:L$2702),0,\nIF(Hydrograph_Source_WQCV=\"USER\",IF(J1971>0.03*D$2703,0,$C1971/60),\nIF(J1971>0.03*J$2703,0,$C1971/60))))","v":0},{"$f":"IF(SUM(T$1262:T1970)>0,0,\nIF(MAX(L1971:L$2702)=MAX(L$1262:L$2702),0,\nIF(Hydrograph_Source_WQCV=\"USER\",IF(J1971>0.01*D$2703,0,$C1971/60),\nIF(J1971>0.01*J$2703,0,$C1971/60))))","v":0},0,0,0,0,{"$error":"#VALUE!"},{"$error":"#VALUE!"},{"$error":"#VALUE!"},{"$error":"#VALUE!"},{"$error":"#VALUE!"},{"$error":"#VALUE!"},{"$error":"#VALUE!"},{"$error":"#VALUE!"},{"$error":"#VALUE!"},{"$error":"#VALUE!"},{"$error":"#VALUE!"},{"$f":"IF(SUM(AJ$1262:AJ1970)>0,0,IF(MAX(AC1971:AC$2702)=MAX(AC$1262:AC$2702),0,IF(AA1971>0.03*U$2703,0,$C1971/60)))","v":{"$error":"#VALUE!"}},{"$f":"IF(SUM(AK$1262:AK1970)>0,0,IF(MAX(AC1971:AC$2702)=MAX(AC$1262:AC$2702),0,IF(AA1971>0.01*U$2703,0,$C1971/60)))","v":{"$error":"#VALUE!"}},0,0,0,0,{"$error":"#VALUE!"},{"$error":"#VALUE!"},{"$error":"#VALUE!"},{"$error":"#VALUE!"},{"$error":"#VALUE!"},{"$error":"#VALUE!"},{"$error":"#VALUE!"},{"$error":"#VALUE!"},{"$error":"#VALUE!"},{"$error":"#VALUE!"},{"$error":"#VALUE!"},{"$f":"IF(SUM(BA$1262:BA1970)>0,0,IF(MAX(AT1971:AT$2702)=MAX(AT$1262:AT$2702),0,IF(AR1971>0.03*AL$2703,0,$C1971/60)))","v":{"$error":"#VALUE!"}},{"$f":"IF(SUM(BB$1262:BB1970)>0,0,IF(MAX(AT1971:AT$2702)=MAX(AT$1262:AT$2702),0,IF(AR1971>0.01*AL$2703,0,$C1971/60)))","v":{"$error":"#VALUE!"}},0,0,0,0,{"$error":"#VALUE!"},{"$error":"#VALUE!"},{"$error":"#VALUE!"},{"$error":"#VALUE!"},{"$error":"#VALUE!"},{"$error":"#VALUE!"},{"$error":"#VALUE!"},{"$error":"#VALUE!"},{"$error":"#VALUE!"},{"$error":"#VALUE!"},{"$error":"#VALUE!"},{"$f":"IF(SUM(BR$1262:BR1970)>0,0,IF(MAX(BK1971:BK$2702)=MAX(BK$1262:BK$2702),0,IF(BI1971>0.03*BC$2703,0,$C1971/60)))","v":{"$error":"#VALUE!"}},{"$f":"IF(SUM(BS$1262:BS1970)>0,0,IF(MAX(BK1971:BK$2702)=MAX(BK$1262:BK$2702),0,IF(BI1971>0.01*BC$2703,0,$C1971/60)))","v":{"$error":"#VALUE!"}},0,0,0,0,{"$error":"#VALUE!"},{"$error":"#VALUE!"},{"$error":"#VALUE!"},{"$error":"#VALUE!"},{"$error":"#VALUE!"},{"$error":"#VALUE!"},{"$error":"#VALUE!"},{"$error":"#VALUE!"},{"$error":"#VALUE!"},{"$error":"#VALUE!"},{"$error":"#VALUE!"},{"$f":"IF(SUM(CI$1262:CI1970)>0,0,IF(MAX(CB1971:CB$2702)=MAX(CB$1262:CB$2702),0,IF(BZ1971>0.03*BT$2703,0,$C1971/60)))","v":{"$error":"#VALUE!"}},{"$f":"IF(SUM(CJ$1262:CJ1970)>0,0,IF(MAX(CB1971:CB$2702)=MAX(CB$1262:CB$2702),0,IF(BZ1971>0.01*BT$2703,0,$C1971/60)))","v":{"$error":"#VALUE!"}},0,0,0,0,{"$error":"#VALUE!"},{"$error":"#VALUE!"},{"$error":"#VALUE!"},{"$error":"#VALUE!"},{"$error":"#VALUE!"},{"$error":"#VALUE!"},{"$error":"#VALUE!"},{"$error":"#VALUE!"},{"$error":"#VALUE!"},{"$error":"#VALUE!"},{"$error":"#VALUE!"},{"$f":"IF(SUM(CZ$1262:CZ1970)>0,0,IF(MAX(CS1971:CS$2702)=MAX(CS$1262:CS$2702),0,IF(CQ1971>0.03*CK$2703,0,$C1971/60)))","v":{"$error":"#VALUE!"}},{"$f":"IF(SUM(DA$1262:DA1970)>0,0,IF(MAX(CS1971:CS$2702)=MAX(CS$1262:CS$2702),0,IF(CQ1971>0.01*CK$2703,0,$C1971/60)))","v":{"$error":"#VALUE!"}}]
[null,59.666666666666664,3580,0,0,0,0,0,0,0,0,0,{"$error":"#N/A"},{"$error":"#N/A"},{"$error":"#N/A"},{"$error":"#N/A"},{"$error":"#N/A"},{"$error":"#N/A"},{"$f":"IF(SUM(S$1262:S1977)>0,0,\nIF(MAX(L1978:L$2702)=MAX(L$1262:L$2702),0,\nIF(Hydrograph_Source_WQCV=\"USER\",IF(J1978>0.03*D$2703,0,$C1978/60),\nIF(J1978>0.03*J$2703,0,$C1978/60))))","v":0},{"$f":"IF(SUM(T$1262:T1977)>0,0,\nIF(MAX(L1978:L$2702)=MAX(L$1262:L$2702),0,\nIF(Hydrograph_Source_WQCV=\"USER\",IF(J1978>0.01*D$2703,0,$C1978/60),\nIF(J1978>0.01*J$2703,0,$C1978/60))))","v":0},0,0,0,0,{"$error":"#VALUE!"},{"$error":"#VALUE!"},{"$error":"#VALUE!"},{"$error":"#VALUE!"},{"$error":"#VALUE!"},{"$error":"#VALUE!"},{"$error":"#VALUE!"},{"$error":"#VALUE!"},{"$error":"#VALUE!"},{"$error":"#VALUE!"},{"$error":"#VALUE!"},{"$f":"IF(SUM(AJ$1262:AJ1977)>0,0,IF(MAX(AC1978:AC$2702)=MAX(AC$1262:AC$2702),0,IF(AA1978>0.03*U$2703,0,$C1978/60)))","v":{"$error":"#VALUE!"}},{"$f":"IF(SUM(AK$1262:AK1977)>0,0,IF(MAX(AC1978:AC$2702)=MAX(AC$1262:AC$2702),0,IF(AA1978>0.01*U$2703,0,$C1978/60)))","v":{"$error":"#VALUE!"}},0,0,0,0,{"$error":"#VALUE!"},{"$error":"#VALUE!"},{"$error":"#VALUE!"},{"$error":"#VALUE!"},{"$error":"#VALUE!"},{"$error":"#VALUE!"},{"$error":"#VALUE!"},{"$error":"#VALUE!"},{"$error":"#VALUE!"},{"$error":"#VALUE!"},{"$error":"#VALUE!"},{"$f":"IF(SUM(BA$1262:BA1977)>0,0,IF(MAX(AT1978:AT$2702)=MAX(AT$1262:AT$2702),0,IF(AR1978>0.03*AL$2703,0,$C1978/60)))","v":{"$error":"#VALUE!"}},{"$f":"IF(SUM(BB$1262:BB1977)>0,0,IF(MAX(AT1978:AT$2702)=MAX(AT$1262:AT$2702),0,IF(AR1978>0.01*AL$2703,0,$C1978/60)))","v":{"$error":"#VALUE!"}},0,0,0,0,{"$error":"#VALUE!"},{"$error":"#VALUE!"},{"$error":"#VALUE!"},{"$error":"#VALUE!"},{"$error":"#VALUE!"},{"$error":"#VALUE!"},{"$error":"#VALUE!"},{"$error":"#VALUE!"},{"$error":"#VALUE!"},{"$error":"#VALUE!"},{"$error":"#VALUE!"},{"$f":"IF(SUM(BR$1262:BR1977)>0,0,IF(MAX(BK1978:BK$2702)=MAX(BK$1262:BK$2702),0,IF(BI1978>0.03*BC$2703,0,$C1978/60)))","v":{"$error":"#VALUE!"}},{"$f":"IF(SUM(BS$1262:BS1977)>0,0,IF(MAX(BK1978:BK$2702)=MAX(BK$1262:BK$2702),0,IF(BI1978>0.01*BC$2703,0,$C1978/60)))","v":{"$error":"#VALUE!"}},0,0,0,0,{"$error":"#VALUE!"},{"$error":"#VALUE!"},{"$error":"#VALUE!"},{"$error":"#VALUE!"},{"$error":"#VALUE!"},{"$error":"#VALUE!"},{"$error":"#VALUE!"},{"$error":"#VALUE!"},{"$error":"#VALUE!"},{"$error":"#VALUE!"},{"$error":"#VALUE!"},{"$f":"IF(SUM(CI$1262:CI1977)>0,0,IF(MAX(CB1978:CB$2702)=MAX(CB$1262:CB$2702),0,IF(BZ1978>0.03*BT$2703,0,$C1978/60)))","v":{"$error":"#VALUE!"}},{"$f":"IF(SUM(CJ$1262:CJ1977)>0,0,IF(MAX(CB1978:CB$2702)=MAX(CB$1262:CB$2702),0,IF(BZ1978>0.01*BT$2703,0,$C1978/60)))","v":{"$error":"#VALUE!"}},0,0,0,0,{"$error":"#VALUE!"},{"$error":"#VALUE!"},{"$error":"#VALUE!"},{"$error":"#VALUE!"},{"$error":"#VALUE!"},{"$error":"#VALUE!"},{"$error":"#VALUE!"},{"$error":"#VALUE!"},{"$error":"#VALUE!"},{"$error":"#VALUE!"},{"$error":"#VALUE!"},{"$f":"IF(SUM(CZ$1262:CZ1977)>0,0,IF(MAX(CS1978:CS$2702)=MAX(CS$1262:CS$2702),0,IF(CQ1978>0.03*CK$2703,0,$C1978/60)))","v":{"$error":"#VALUE!"}},{"$f":"IF(SUM(DA$1262:DA1977)>0,0,IF(MAX(CS1978:CS$2702)=MAX(CS$1262:CS$2702),0,IF(CQ1978>0.01*CK$2703,0,$C1978/60)))","v":{"$error":"#VALUE!"}}]
[null,59.75,3585,0,0,0,0,0,0,0,0,0,{"$error":"#N/A"},{"$error":"#N/A"},{"$error":"#N/A"},{"$error":"#N/A"},{"$error":"#N/A"},{"$error":"#N/A"},{"$f":"IF(SUM(S$1262:S1978)>0,0,\nIF(MAX(L1979:L$2702)=MAX(L$1262:L$2702),0,\nIF(Hydrograph_Source_WQCV=\"USER\",IF(J1979>0.03*D$2703,0,$C1979/60),\nIF(J1979>0.03*J$2703,0,$C1979/60))))","v":0},{"$f":"IF(SUM(T$1262:T1978)>0,0,\nIF(MAX(L1979:L$2702)=MAX(L$1262:L$2702),0,\nIF(Hydrograph_Source_WQCV=\"USER\",IF(J1979>0.01*D$2703,0,$C1979/60),\nIF(J1979>0.01*J$2703,0,$C1979/60))))","v":0},0,0,0,0,{"$error":"#VALUE!"},{"$error":"#VALUE!"},{"$error":"#VALUE!"},{"$error":"#VALUE!"},{"$error":"#VALUE!"},{"$error":"#VALUE!"},{"$error":"#VALUE!"},{"$error":"#VALUE!"},{"$error":"#VALUE!"},{"$error":"#VALUE!"},{"$error":"#VALUE!"},{"$f":"IF(SUM(AJ$1262:AJ1978)>0,0,IF(MAX(AC1979:AC$2702)=MAX(AC$1262:AC$2702),0,IF(AA1979>0.03*U$2703,0,$C1979/60)))","v":{"$error":"#VALUE!"}},{"$f":"IF(SUM(AK$1262:AK1978)>0,0,IF(MAX(AC1979:AC$2702)=MAX(AC$1262:AC$2702),0,IF(AA1979>0.01*U$2703,0,$C1979/60)))","v":{"$error":"#VALUE!"}},0,0,0,0,{"$error":"#VALUE!"},{"$error":"#VALUE!"},{"$error":"#VALUE!"},{"$error":"#VALUE!"},{"$error":"#VALUE!"},{"$error":"#VALUE!"},{"$error":"#VALUE!"},{"$error":"#VALUE!"},{"$error":"#VALUE!"},{"$error":"#VALUE!"},{"$error":"#VALUE!"},{"$f":"IF(SUM(BA$1262:BA1978)>0,0,IF(MAX(AT1979:AT$2702)=MAX(AT$1262:AT$2702),0,IF(AR1979>0.03*AL$2703,0,$C1979/60)))","v":{"$error":"#VALUE!"}},{"$f":"IF(SUM(BB$1262:BB1978)>0,0,IF(MAX(AT1979:AT$2702)=MAX(AT$1262:AT$2702),0,IF(AR1979>0.01*AL$2703,0,$C1979/60)))","v":{"$error":"#VALUE!"}},0,0,0,0,{"$error":"#VALUE!"},{"$error":"#VALUE!"},{"$error":"#VALUE!"},{"$error":"#VALUE!"},{"$error":"#VALUE!"},{"$error":"#VALUE!"},{"$error":"#VALUE!"},{"$error":"#VALUE!"},{"$error":"#VALUE!"},{"$error":"#VALUE!"},{"$error":"#VALUE!"},{"$f":"IF(SUM(BR$1262:BR1978)>0,0,IF(MAX(BK1979:BK$2702)=MAX(BK$1262:BK$2702),0,IF(BI1979>0.03*BC$2703,0,$C1979/60)))","v":{"$error":"#VALUE!"}},{"$f":"IF(SUM(BS$1262:BS1978)>0,0,IF(MAX(BK1979:BK$2702)=MAX(BK$1262:BK$2702),0,IF(BI1979>0.01*BC$2703,0,$C1979/60)))","v":{"$error":"#VALUE!"}},0,0,0,0,{"$error":"#VALUE!"},{"$error":"#VALUE!"},{"$error":"#VALUE!"},{"$error":"#VALUE!"},{"$error":"#VALUE!"},{"$error":"#VALUE!"},{"$error":"#VALUE!"},{"$error":"#VALUE!"},{"$error":"#VALUE!"},{"$error":"#VALUE!"},{"$error":"#VALUE!"},{"$f":"IF(SUM(CI$1262:CI1978)>0,0,IF(MAX(CB1979:CB$2702)=MAX(CB$1262:CB$2702),0,IF(BZ1979>0.03*BT$2703,0,$C1979/60)))","v":{"$error":"#VALUE!"}},{"$f":"IF(SUM(CJ$1262:CJ1978)>0,0,IF(MAX(CB1979:CB$2702)=MAX(CB$1262:CB$2702),0,IF(BZ1979>0.01*BT$2703,0,$C1979/60)))","v":{"$error":"#VALUE!"}},0,0,0,0,{"$error":"#VALUE!"},{"$error":"#VALUE!"},{"$error":"#VALUE!"},{"$error":"#VALUE!"},{"$error":"#VALUE!"},{"$error":"#VALUE!"},{"$error":"#VALUE!"},{"$error":"#VALUE!"},{"$error":"#VALUE!"},{"$error":"#VALUE!"},{"$error":"#VALUE!"},{"$f":"IF(SUM(CZ$1262:CZ1978)>0,0,IF(MAX(CS1979:CS$2702)=MAX(CS$1262:CS$2702),0,IF(CQ1979>0.03*CK$2703,0,$C1979/60)))","v":{"$error":"#VALUE!"}},{"$f":"IF(SUM(DA$1262:DA1978)>0,0,IF(MAX(CS1979:CS$2702)=MAX(CS$1262:CS$2702),0,IF(CQ1979>0.01*CK$2703,0,$C1979/60)))","v":{"$error":"#VALUE!"}}]
[null,60.166666666666664,3610,0,0,0,0,0,0,0,0,0,{"$error":"#N/A"},{"$error":"#N/A"},{"$error":"#N/A"},{"$error":"#N/A"},{"$error":"#N/A"},{"$error":"#N/A"},{"$f":"IF(SUM(S$1262:S1983)>0,0,\nIF(MAX(L1984:L$2702)=MAX(L$1262:L$2702),0,\nIF(Hydrograph_Source_WQCV=\"USER\",IF(J1984>0.03*D$2703,0,$C1984/60),\nIF(J1984>0.03*J$2703,0,$C1984/60))))","v":0},{"$f":"IF(SUM(T$1262:T1983)>0,0,\nIF(MAX(L1984:L$2702)=MAX(L$1262:L$2702),0,\nIF(Hydrograph_Source_WQCV=\"USER\",IF(J1984>0.01*D$2703,0,$C1984/60),\nIF(J1984>0.01*J$2703,0,$C1984/60))))","v":0},0,0,0,0,{"$error":"#VALUE!"},{"$error":"#VALUE!"},{"$error":"#VALUE!"},{"$error":"#VALUE!"},{"$error":"#VALUE!"},{"$error":"#VALUE!"},{"$error":"#VALUE!"},{"$error":"#VALUE!"},{"$error":"#VALUE!"},{"$error":"#VALUE!"},{"$error":"#VALUE!"},{"$f":"IF(SUM(AJ$1262:AJ1983)>0,0,IF(MAX(AC1984:AC$2702)=MAX(AC$1262:AC$2702),0,IF(AA1984>0.03*U$2703,0,$C1984/60)))","v":{"$error":"#VALUE!"}},{"$f":"IF(SUM(AK$1262:AK1983)>0,0,IF(MAX(AC1984:AC$2702)=MAX(AC$1262:AC$2702),0,IF(AA1984>0.01*U$2703,0,$C1984/60)))","v":{"$error":"#VALUE!"}},0,0,0,0,{"$error":"#VALUE!"},{"$error":"#VALUE!"},{"$error":"#VALUE!"},{"$error":"#VALUE!"},{"$error":"#VALUE!"},{"$error":"#VALUE!"},{"$error":"#VALUE!"},{"$error":"#VALUE!"},{"$error":"#VALUE!"},{"$error":"#VALUE!"},{"$error":"#VALUE!"},{"$f":"IF(SUM(BA$1262:BA1983)>0,0,IF(MAX(AT1984:AT$2702)=MAX(AT$1262:AT$2702),0,IF(AR1984>0.03*AL$2703,0,$C1984/60)))","v":{"$error":"#VALUE!"}},{"$f":"IF(SUM(BB$1262:BB1983)>0,0,IF(MAX(AT1984:AT$2702)=MAX(AT$1262:AT$2702),0,IF(AR1984>0.01*AL$2703,0,$C1984/60)))","v":{"$error":"#VALUE!"}},0,0,0,0,{"$error":"#VALUE!"},{"$error":"#VALUE!"},{"$error":"#VALUE!"},{"$error":"#VALUE!"},{"$error":"#VALUE!"},{"$error":"#VALUE!"},{"$error":"#VALUE!"},{"$error":"#VALUE!"},{"$error":"#VALUE!"},{"$error":"#VALUE!"},{"$error":"#VALUE!"},{"$f":"IF(SUM(BR$1262:BR1983)>0,0,IF(MAX(BK1984:BK$2702)=MAX(BK$1262:BK$2702),0,IF(BI1984>0.03*BC$2703,0,$C1984/60)))","v":{"$error":"#VALUE!"}},{"$f":"IF(SUM(BS$1262:BS1983)>0,0,IF(MAX(BK1984:BK$2702)=MAX(BK$1262:BK$2702),0,IF(BI1984>0.01*BC$2703,0,$C1984/60)))","v":{"$error":"#VALUE!"}},0,0,0,0,{"$error":"#VALUE!"},{"$error":"#VALUE!"},{"$error":"#VALUE!"},{"$error":"#VALUE!"},{"$error":"#VALUE!"},{"$error":"#VALUE!"},{"$error":"#VALUE!"},{"$error":"#VALUE!"},{"$error":"#VALUE!"},{"$error":"#VALUE!"},{"$error":"#VALUE!"},{"$f":"IF(SUM(CI$1262:CI1983)>0,0,IF(MAX(CB1984:CB$2702)=MAX(CB$1262:CB$2702),0,IF(BZ1984>0.03*BT$2703,0,$C1984/60)))","v":{"$error":"#VALUE!"}},{"$f":"IF(SUM(CJ$1262:CJ1983)>0,0,IF(MAX(CB1984:CB$2702)=MAX(CB$1262:CB$2702),0,IF(BZ1984>0.01*BT$2703,0,$C1984/60)))","v":{"$error":"#VALUE!"}},0,0,0,0,{"$error":"#VALUE!"},{"$error":"#VALUE!"},{"$error":"#VALUE!"},{"$error":"#VALUE!"},{"$error":"#VALUE!"},{"$error":"#VALUE!"},{"$error":"#VALUE!"},{"$error":"#VALUE!"},{"$error":"#VALUE!"},{"$error":"#VALUE!"},{"$error":"#VALUE!"},{"$f":"IF(SUM(CZ$1262:CZ1983)>0,0,IF(MAX(CS1984:CS$2702)=MAX(CS$1262:CS$2702),0,IF(CQ1984>0.03*CK$2703,0,$C1984/60)))","v":{"$error":"#VALUE!"}},{"$f":"IF(SUM(DA$1262:DA1983)>0,0,IF(MAX(CS1984:CS$2702)=MAX(CS$1262:CS$2702),0,IF(CQ1984>0.01*CK$2703,0,$C1984/60)))","v":{"$error":"#VALUE!"}}]
[null,60.583333333333336,3635,0,0,0,0,0,0,0,0,0,{"$error":"#N/A"},{"$error":"#N/A"},{"$error":"#N/A"},{"$error":"#N/A"},{"$error":"#N/A"},{"$error":"#N/A"},{"$f":"IF(SUM(S$1262:S1988)>0,0,\nIF(MAX(L1989:L$2702)=MAX(L$1262:L$2702),0,\nIF(Hydrograph_Source_WQCV=\"USER\",IF(J1989>0.03*D$2703,0,$C1989/60),\nIF(J1989>0.03*J$2703,0,$C1989/60))))","v":0},{"$f":"IF(SUM(T$1262:T1988)>0,0,\nIF(MAX(L1989:L$2702)=MAX(L$1262:L$2702),0,\nIF(Hydrograph_Source_WQCV=\"USER\",IF(J1989>0.01*D$2703,0,$C1989/60),\nIF(J1989>0.01*J$2703,0,$C1989/60))))","v":0},0,0,0,0,{"$error":"#VALUE!"},{"$error":"#VALUE!"},{"$error":"#VALUE!"},{"$error":"#VALUE!"},{"$error":"#VALUE!"},{"$error":"#VALUE!"},{"$error":"#VALUE!"},{"$error":"#VALUE!"},{"$error":"#VALUE!"},{"$error":"#VALUE!"},{"$error":"#VALUE!"},{"$f":"IF(SUM(AJ$1262:AJ1988)>0,0,IF(MAX(AC1989:AC$2702)=MAX(AC$1262:AC$2702),0,IF(AA1989>0.03*U$2703,0,$C1989/60)))","v":{"$error":"#VALUE!"}},{"$f":"IF(SUM(AK$1262:AK1988)>0,0,IF(MAX(AC1989:AC$2702)=MAX(AC$1262:AC$2702),0,IF(AA1989>0.01*U$2703,0,$C1989/60)))","v":{"$error":"#VALUE!"}},0,0,0,0,{"$error":"#VALUE!"},{"$error":"#VALUE!"},{"$error":"#VALUE!"},{"$error":"#VALUE!"},{"$error":"#VALUE!"},{"$error":"#VALUE!"},{"$error":"#VALUE!"},{"$error":"#VALUE!"},{"$error":"#VALUE!"},{"$error":"#VALUE!"},{"$error":"#VALUE!"},{"$f":"IF(SUM(BA$1262:BA1988)>0,0,IF(MAX(AT1989:AT$2702)=MAX(AT$1262:AT$2702),0,IF(AR1989>0.03*AL$2703,0,$C1989/60)))","v":{"$error":"#VALUE!"}},{"$f":"IF(SUM(BB$1262:BB1988)>0,0,IF(MAX(AT1989:AT$2702)=MAX(AT$1262:AT$2702),0,IF(AR1989>0.01*AL$2703,0,$C1989/60)))","v":{"$error":"#VALUE!"}},0,0,0,0,{"$error":"#VALUE!"},{"$error":"#VALUE!"},{"$error":"#VALUE!"},{"$error":"#VALUE!"},{"$error":"#VALUE!"},{"$error":"#VALUE!"},{"$error":"#VALUE!"},{"$error":"#VALUE!"},{"$error":"#VALUE!"},{"$error":"#VALUE!"},{"$error":"#VALUE!"},{"$f":"IF(SUM(BR$1262:BR1988)>0,0,IF(MAX(BK1989:BK$2702)=MAX(BK$1262:BK$2702),0,IF(BI1989>0.03*BC$2703,0,$C1989/60)))","v":{"$error":"#VALUE!"}},{"$f":"IF(SUM(BS$1262:BS1988)>0,0,IF(MAX(BK1989:BK$2702)=MAX(BK$1262:BK$2702),0,IF(BI1989>0.01*BC$2703,0,$C1989/60)))","v":{"$error":"#VALUE!"}},0,0,0,0,{"$error":"#VALUE!"},{"$error":"#VALUE!"},{"$error":"#VALUE!"},{"$error":"#VALUE!"},{"$error":"#VALUE!"},{"$error":"#VALUE!"},{"$error":"#VALUE!"},{"$error":"#VALUE!"},{"$error":"#VALUE!"},{"$error":"#VALUE!"},{"$error":"#VALUE!"},{"$f":"IF(SUM(CI$1262:CI1988)>0,0,IF(MAX(CB1989:CB$2702)=MAX(CB$1262:CB$2702),0,IF(BZ1989>0.03*BT$2703,0,$C1989/60)))","v":{"$error":"#VALUE!"}},{"$f":"IF(SUM(CJ$1262:CJ1988)>0,0,IF(MAX(CB1989:CB$2702)=MAX(CB$1262:CB$2702),0,IF(BZ1989>0.01*BT$2703,0,$C1989/60)))","v":{"$error":"#VALUE!"}},0,0,0,0,{"$error":"#VALUE!"},{"$error":"#VALUE!"},{"$error":"#VALUE!"},{"$error":"#VALUE!"},{"$error":"#VALUE!"},{"$error":"#VALUE!"},{"$error":"#VALUE!"},{"$error":"#VALUE!"},{"$error":"#VALUE!"},{"$error":"#VALUE!"},{"$error":"#VALUE!"},{"$f":"IF(SUM(CZ$1262:CZ1988)>0,0,IF(MAX(CS1989:CS$2702)=MAX(CS$1262:CS$2702),0,IF(CQ1989>0.03*CK$2703,0,$C1989/60)))","v":{"$error":"#VALUE!"}},{"$f":"IF(SUM(DA$1262:DA1988)>0,0,IF(MAX(CS1989:CS$2702)=MAX(CS$1262:CS$2702),0,IF(CQ1989>0.01*CK$2703,0,$C1989/60)))","v":{"$error":"#VALUE!"}}]
[null,61.083333333333336,3665,0,0,0,0,0,0,0,0,0,{"$error":"#N/A"},{"$error":"#N/A"},{"$error":"#N/A"},{"$error":"#N/A"},{"$error":"#N/A"},{"$error":"#N/A"},{"$f":"IF(SUM(S$1262:S1994)>0,0,\nIF(MAX(L1995:L$2702)=MAX(L$1262:L$2702),0,\nIF(Hydrograph_Source_WQCV=\"USER\",IF(J1995>0.03*D$2703,0,$C1995/60),\nIF(J1995>0.03*J$2703,0,$C1995/60))))","v":0},{"$f":"IF(SUM(T$1262:T1994)>0,0,\nIF(MAX(L1995:L$2702)=MAX(L$1262:L$2702),0,\nIF(Hydrograph_Source_WQCV=\"USER\",IF(J1995>0.01*D$2703,0,$C1995/60),\nIF(J1995>0.01*J$2703,0,$C1995/60))))","v":0},0,0,0,0,{"$error":"#VALUE!"},{"$error":"#VALUE!"},{"$error":"#VALUE!"},{"$error":"#VALUE!"},{"$error":"#VALUE!"},{"$error":"#VALUE!"},{"$error":"#VALUE!"},{"$error":"#VALUE!"},{"$error":"#VALUE!"},{"$error":"#VALUE!"},{"$error":"#VALUE!"},{"$f":"IF(SUM(AJ$1262:AJ1994)>0,0,IF(MAX(AC1995:AC$2702)=MAX(AC$1262:AC$2702),0,IF(AA1995>0.03*U$2703,0,$C1995/60)))","v":{"$error":"#VALUE!"}},{"$f":"IF(SUM(AK$1262:AK1994)>0,0,IF(MAX(AC1995:AC$2702)=MAX(AC$1262:AC$2702),0,IF(AA1995>0.01*U$2703,0,$C1995/60)))","v":{"$error":"#VALUE!"}},0,0,0,0,{"$error":"#VALUE!"},{"$error":"#VALUE!"},{"$error":"#VALUE!"},{"$error":"#VALUE!"},{"$error":"#VALUE!"},{"$error":"#VALUE!"},{"$error":"#VALUE!"},{"$error":"#VALUE!"},{"$error":"#VALUE!"},{"$error":"#VALUE!"},{"$error":"#VALUE!"},{"$f":"IF(SUM(BA$1262:BA1994)>0,0,IF(MAX(AT1995:AT$2702)=MAX(AT$1262:AT$2702),0,IF(AR1995>0.03*AL$2703,0,$C1995/60)))","v":{"$error":"#VALUE!"}},{"$f":"IF(SUM(BB$1262:BB1994)>0,0,IF(MAX(AT1995:AT$2702)=MAX(AT$1262:AT$2702),0,IF(AR1995>0.01*AL$2703,0,$C1995/60)))","v":{"$error":"#VALUE!"}},0,0,0,0,{"$error":"#VALUE!"},{"$error":"#VALUE!"},{"$error":"#VALUE!"},{"$error":"#VALUE!"},{"$error":"#VALUE!"},{"$error":"#VALUE!"},{"$error":"#VALUE!"},{"$error":"#VALUE!"},{"$error":"#VALUE!"},{"$error":"#VALUE!"},{"$error":"#VALUE!"},{"$f":"IF(SUM(BR$1262:BR1994)>0,0,IF(MAX(BK1995:BK$2702)=MAX(BK$1262:BK$2702),0,IF(BI1995>0.03*BC$2703,0,$C1995/60)))","v":{"$error":"#VALUE!"}},{"$f":"IF(SUM(BS$1262:BS1994)>0,0,IF(MAX(BK1995:BK$2702)=MAX(BK$1262:BK$2702),0,IF(BI1995>0.01*BC$2703,0,$C1995/60)))","v":{"$error":"#VALUE!"}},0,0,0,0,{"$error":"#VALUE!"},{"$error":"#VALUE!"},{"$error":"#VALUE!"},{"$error":"#VALUE!"},{"$error":"#VALUE!"},{"$error":"#VALUE!"},{"$error":"#VALUE!"},{"$error":"#VALUE!"},{"$error":"#VALUE!"},{"$error":"#VALUE!"},{"$error":"#VALUE!"},{"$f":"IF(SUM(CI$1262:CI1994)>0,0,IF(MAX(CB1995:CB$2702)=MAX(CB$1262:CB$2702),0,IF(BZ1995>0.03*BT$2703,0,$C1995/60)))","v":{"$error":"#VALUE!"}},{"$f":"IF(SUM(CJ$1262:CJ1994)>0,0,IF(MAX(CB1995:CB$2702)=MAX(CB$1262:CB$2702),0,IF(BZ1995>0.01*BT$2703,0,$C1995/60)))","v":{"$error":"#VALUE!"}},0,0,0,0,{"$error":"#VALUE!"},{"$error":"#VALUE!"},{"$error":"#VALUE!"},{"$error":"#VALUE!"},{"$error":"#VALUE!"},{"$error":"#VALUE!"},{"$error":"#VALUE!"},{"$error":"#VALUE!"},{"$error":"#VALUE!"},{"$error":"#VALUE!"},{"$error":"#VALUE!"},{"$f":"IF(SUM(CZ$1262:CZ1994)>0,0,IF(MAX(CS1995:CS$2702)=MAX(CS$1262:CS$2702),0,IF(CQ1995>0.03*CK$2703,0,$C1995/60)))","v":{"$error":"#VALUE!"}},{"$f":"IF(SUM(DA$1262:DA1994)>0,0,IF(MAX(CS1995:CS$2702)=MAX(CS$1262:CS$2702),0,IF(CQ1995>0.01*CK$2703,0,$C1995/60)))","v":{"$error":"#VALUE!"}}]
[null,61.166666666666664,3670,0,0,0,0,0,0,0,0,0,{"$error":"#N/A"},{"$error":"#N/A"},{"$error":"#N/A"},{"$error":"#N/A"},{"$error":"#N/A"},{"$error":"#N/A"},{"$f":"IF(SUM(S$1262:S1995)>0,0,\nIF(MAX(L1996:L$2702)=MAX(L$1262:L$2702),0,\nIF(Hydrograph_Source_WQCV=\"USER\",IF(J1996>0.03*D$2703,0,$C1996/60),\nIF(J1996>0.03*J$2703,0,$C1996/60))))","v":0},{"$f":"IF(SUM(T$1262:T1995)>0,0,\nIF(MAX(L1996:L$2702)=MAX(L$1262:L$2702),0,\nIF(Hydrograph_Source_WQCV=\"USER\",IF(J1996>0.01*D$2703,0,$C1996/60),\nIF(J1996>0.01*J$2703,0,$C1996/60))))","v":0},0,0,0,0,{"$error":"#VALUE!"},{"$error":"#VALUE!"},{"$error":"#VALUE!"},{"$error":"#VALUE!"},{"$error":"#VALUE!"},{"$error":"#VALUE!"},{"$error":"#VALUE!"},{"$error":"#VALUE!"},{"$error":"#VALUE!"},{"$error":"#VALUE!"},{"$error":"#VALUE!"},{"$f":"IF(SUM(AJ$1262:AJ1995)>0,0,IF(MAX(AC1996:AC$2702)=MAX(AC$1262:AC$2702),0,IF(AA1996>0.03*U$2703,0,$C1996/60)))","v":{"$error":"#VALUE!"}},{"$f":"IF(SUM(AK$1262:AK1995)>0,0,IF(MAX(AC1996:AC$2702)=MAX(AC$1262:AC$2702),0,IF(AA1996>0.01*U$2703,0,$C1996/60)))","v":{"$error":"#VALUE!"}},0,0,0,0,{"$error":"#VALUE!"},{"$error":"#VALUE!"},{"$error":"#VALUE!"},{"$error":"#VALUE!"},{"$error":"#VALUE!"},{"$error":"#VALUE!"},{"$error":"#VALUE!"},{"$error":"#VALUE!"},{"$error":"#VALUE!"},{"$error":"#VALUE!"},{"$error":"#VALUE!"},{"$f":"IF(SUM(BA$1262:BA1995)>0,0,IF(MAX(AT1996:AT$2702)=MAX(AT$1262:AT$2702),0,IF(AR1996>0.03*AL$2703,0,$C1996/60)))","v":{"$error":"#VALUE!"}},{"$f":"IF(SUM(BB$1262:BB1995)>0,0,IF(MAX(AT1996:AT$2702)=MAX(AT$1262:AT$2702),0,IF(AR1996>0.01*AL$2703,0,$C1996/60)))","v":{"$error":"#VALUE!"}},0,0,0,0,{"$error":"#VALUE!"},{"$error":"#VALUE!"},{"$error":"#VALUE!"},{"$error":"#VALUE!"},{"$error":"#VALUE!"},{"$error":"#VALUE!"},{"$error":"#VALUE!"},{"$error":"#VALUE!"},{"$error":"#VALUE!"},{"$error":"#VALUE!"},{"$error":"#VALUE!"},{"$f":"IF(SUM(BR$1262:BR1995)>0,0,IF(MAX(BK1996:BK$2702)=MAX(BK$1262:BK$2702),0,IF(BI1996>0.03*BC$2703,0,$C1996/60)))","v":{"$error":"#VALUE!"}},{"$f":"IF(SUM(BS$1262:BS1995)>0,0,IF(MAX(BK1996:BK$2702)=MAX(BK$1262:BK$2702),0,IF(BI1996>0.01*BC$2703,0,$C1996/60)))","v":{"$error":"#VALUE!"}},0,0,0,0,{"$error":"#VALUE!"},{"$error":"#VALUE!"},{"$error":"#VALUE!"},{"$error":"#VALUE!"},{"$error":"#VALUE!"},{"$error":"#VALUE!"},{"$error":"#VALUE!"},{"$error":"#VALUE!"},{"$error":"#VALUE!"},{"$error":"#VALUE!"},{"$error":"#VALUE!"},{"$f":"IF(SUM(CI$1262:CI1995)>0,0,IF(MAX(CB1996:CB$2702)=MAX(CB$1262:CB$2702),0,IF(BZ1996>0.03*BT$2703,0,$C1996/60)))","v":{"$error":"#VALUE!"}},{"$f":"IF(SUM(CJ$1262:CJ1995)>0,0,IF(MAX(CB1996:CB$2702)=MAX(CB$1262:CB$2702),0,IF(BZ1996>0.01*BT$2703,0,$C1996/60)))","v":{"$error":"#VALUE!"}},0,0,0,0,{"$error":"#VALUE!"},{"$error":"#VALUE!"},{"$error":"#VALUE!"},{"$error":"#VALUE!"},{"$error":"#VALUE!"},{"$error":"#VALUE!"},{"$error":"#VALUE!"},{"$error":"#VALUE!"},{"$error":"#VALUE!"},{"$error":"#VALUE!"},{"$error":"#VALUE!"},{"$f":"IF(SUM(CZ$1262:CZ1995)>0,0,IF(MAX(CS1996:CS$2702)=MAX(CS$1262:CS$2702),0,IF(CQ1996>0.03*CK$2703,0,$C1996/60)))","v":{"$error":"#VALUE!"}},{"$f":"IF(SUM(DA$1262:DA1995)>0,0,IF(MAX(CS1996:CS$2702)=MAX(CS$1262:CS$2702),0,IF(CQ1996>0.01*CK$2703,0,$C1996/60)))","v":{"$error":"#VALUE!"}}]
[null,61.75,3705,0,0,0,0,0,0,0,0,0,{"$error":"#N/A"},{"$error":"#N/A"},{"$error":"#N/A"},{"$error":"#N/A"},{"$error":"#N/A"},{"$error":"#N/A"},{"$f":"IF(SUM(S$1262:S2002)>0,0,\nIF(MAX(L2003:L$2702)=MAX(L$1262:L$2702),0,\nIF(Hydrograph_Source_WQCV=\"USER\",IF(J2003>0.03*D$2703,0,$C2003/60),\nIF(J2003>0.03*J$2703,0,$C2003/60))))","v":0},{"$f":"IF(SUM(T$1262:T2002)>0,0,\nIF(MAX(L2003:L$2702)=MAX(L$1262:L$2702),0,\nIF(Hydrograph_Source_WQCV=\"USER\",IF(J2003>0.01*D$2703,0,$C2003/60),\nIF(J2003>0.01*J$2703,0,$C2003/60))))","v":0},0,0,0,0,{"$error":"#VALUE!"},{"$error":"#VALUE!"},{"$error":"#VALUE!"},{"$error":"#VALUE!"},{"$error":"#VALUE!"},{"$error":"#VALUE!"},{"$error":"#VALUE!"},{"$error":"#VALUE!"},{"$error":"#VALUE!"},{"$error":"#VALUE!"},{"$error":"#VALUE!"},{"$f":"IF(SUM(AJ$1262:AJ2002)>0,0,IF(MAX(AC2003:AC$2702)=MAX(AC$1262:AC$2702),0,IF(AA2003>0.03*U$2703,0,$C2003/60)))","v":{"$error":"#VALUE!"}},{"$f":"IF(SUM(AK$1262:AK2002)>0,0,IF(MAX(AC2003:AC$2702)=MAX(AC$1262:AC$2702),0,IF(AA2003>0.01*U$2703,0,$C2003/60)))","v":{"$error":"#VALUE!"}},0,0,0,0,{"$error":"#VALUE!"},{"$error":"#VALUE!"},{"$error":"#VALUE!"},{"$error":"#VALUE!"},{"$error":"#VALUE!"},{"$error":"#VALUE!"},{"$error":"#VALUE!"},{"$error":"#VALUE!"},{"$error":"#VALUE!"},{"$error":"#VALUE!"},{"$error":"#VALUE!"},{"$f":"IF(SUM(BA$1262:BA2002)>0,0,IF(MAX(AT2003:AT$2702)=MAX(AT$1262:AT$2702),0,IF(AR2003>0.03*AL$2703,0,$C2003/60)))","v":{"$error":"#VALUE!"}},{"$f":"IF(SUM(BB$1262:BB2002)>0,0,IF(MAX(AT2003:AT$2702)=MAX(AT$1262:AT$2702),0,IF(AR2003>0.01*AL$2703,0,$C2003/60)))","v":{"$error":"#VALUE!"}},0,0,0,0,{"$error":"#VALUE!"},{"$error":"#VALUE!"},{"$error":"#VALUE!"},{"$error":"#VALUE!"},{"$error":"#VALUE!"},{"$error":"#VALUE!"},{"$error":"#VALUE!"},{"$error":"#VALUE!"},{"$error":"#VALUE!"},{"$error":"#VALUE!"},{"$error":"#VALUE!"},{"$f":"IF(SUM(BR$1262:BR2002)>0,0,IF(MAX(BK2003:BK$2702)=MAX(BK$1262:BK$2702),0,IF(BI2003>0.03*BC$2703,0,$C2003/60)))","v":{"$error":"#VALUE!"}},{"$f":"IF(SUM(BS$1262:BS2002)>0,0,IF(MAX(BK2003:BK$2702)=MAX(BK$1262:BK$2702),0,IF(BI2003>0.01*BC$2703,0,$C2003/60)))","v":{"$error":"#VALUE!"}},0,0,0,0,{"$error":"#VALUE!"},{"$error":"#VALUE!"},{"$error":"#VALUE!"},{"$error":"#VALUE!"},{"$error":"#VALUE!"},{"$error":"#VALUE!"},{"$error":"#VALUE!"},{"$error":"#VALUE!"},{"$error":"#VALUE!"},{"$error":"#VALUE!"},{"$error":"#VALUE!"},{"$f":"IF(SUM(CI$1262:CI2002)>0,0,IF(MAX(CB2003:CB$2702)=MAX(CB$1262:CB$2702),0,IF(BZ2003>0.03*BT$2703,0,$C2003/60)))","v":{"$error":"#VALUE!"}},{"$f":"IF(SUM(CJ$1262:CJ2002)>0,0,IF(MAX(CB2003:CB$2702)=MAX(CB$1262:CB$2702),0,IF(BZ2003>0.01*BT$2703,0,$C2003/60)))","v":{"$error":"#VALUE!"}},0,0,0,0,{"$error":"#VALUE!"},{"$error":"#VALUE!"},{"$error":"#VALUE!"},{"$error":"#VALUE!"},{"$error":"#VALUE!"},{"$error":"#VALUE!"},{"$error":"#VALUE!"},{"$error":"#VALUE!"},{"$error":"#VALUE!"},{"$error":"#VALUE!"},{"$error":"#VALUE!"},{"$f":"IF(SUM(CZ$1262:CZ2002)>0,0,IF(MAX(CS2003:CS$2702)=MAX(CS$1262:CS$2702),0,IF(CQ2003>0.03*CK$2703,0,$C2003/60)))","v":{"$error":"#VALUE!"}},{"$f":"IF(SUM(DA$1262:DA2002)>0,0,IF(MAX(CS2003:CS$2702)=MAX(CS$1262:CS$2702),0,IF(CQ2003>0.01*CK$2703,0,$C2003/60)))","v":{"$error":"#VALUE!"}}]
[null,62.083333333333336,3725,0,0,0,0,0,0,0,0,0,{"$error":"#N/A"},{"$error":"#N/A"},{"$error":"#N/A"},{"$error":"#N/A"},{"$error":"#N/A"},{"$error":"#N/A"},{"$f":"IF(SUM(S$1262:S2006)>0,0,\nIF(MAX(L2007:L$2702)=MAX(L$1262:L$2702),0,\nIF(Hydrograph_Source_WQCV=\"USER\",IF(J2007>0.03*D$2703,0,$C2007/60),\nIF(J2007>0.03*J$2703,0,$C2007/60))))","v":0},{"$f":"IF(SUM(T$1262:T2006)>0,0,\nIF(MAX(L2007:L$2702)=MAX(L$1262:L$2702),0,\nIF(Hydrograph_Source_WQCV=\"USER\",IF(J2007>0.01*D$2703,0,$C2007/60),\nIF(J2007>0.01*J$2703,0,$C2007/60))))","v":0},0,0,0,0,{"$error":"#VALUE!"},{"$error":"#VALUE!"},{"$error":"#VALUE!"},{"$error":"#VALUE!"},{"$error":"#VALUE!"},{"$error":"#VALUE!"},{"$error":"#VALUE!"},{"$error":"#VALUE!"},{"$error":"#VALUE!"},{"$error":"#VALUE!"},{"$error":"#VALUE!"},{"$f":"IF(SUM(AJ$1262:AJ2006)>0,0,IF(MAX(AC2007:AC$2702)=MAX(AC$1262:AC$2702),0,IF(AA2007>0.03*U$2703,0,$C2007/60)))","v":{"$error":"#VALUE!"}},{"$f":"IF(SUM(AK$1262:AK2006)>0,0,IF(MAX(AC2007:AC$2702)=MAX(AC$1262:AC$2702),0,IF(AA2007>0.01*U$2703,0,$C2007/60)))","v":{"$error":"#VALUE!"}},0,0,0,0,{"$error":"#VALUE!"},{"$error":"#VALUE!"},{"$error":"#VALUE!"},{"$error":"#VALUE!"},{"$error":"#VALUE!"},{"$error":"#VALUE!"},{"$error":"#VALUE!"},{"$error":"#VALUE!"},{"$error":"#VALUE!"},{"$error":"#VALUE!"},{"$error":"#VALUE!"},{"$f":"IF(SUM(BA$1262:BA2006)>0,0,IF(MAX(AT2007:AT$2702)=MAX(AT$1262:AT$2702),0,IF(AR2007>0.03*AL$2703,0,$C2007/60)))","v":{"$error":"#VALUE!"}},{"$f":"IF(SUM(BB$1262:BB2006)>0,0,IF(MAX(AT2007:AT$2702)=MAX(AT$1262:AT$2702),0,IF(AR2007>0.01*AL$2703,0,$C2007/60)))","v":{"$error":"#VALUE!"}},0,0,0,0,{"$error":"#VALUE!"},{"$error":"#VALUE!"},{"$error":"#VALUE!"},{"$error":"#VALUE!"},{"$error":"#VALUE!"},{"$error":"#VALUE!"},{"$error":"#VALUE!"},{"$error":"#VALUE!"},{"$error":"#VALUE!"},{"$error":"#VALUE!"},{"$error":"#VALUE!"},{"$f":"IF(SUM(BR$1262:BR2006)>0,0,IF(MAX(BK2007:BK$2702)=MAX(BK$1262:BK$2702),0,IF(BI2007>0.03*BC$2703,0,$C2007/60)))","v":{"$error":"#VALUE!"}},{"$f":"IF(SUM(BS$1262:BS2006)>0,0,IF(MAX(BK2007:BK$2702)=MAX(BK$1262:BK$2702),0,IF(BI2007>0.01*BC$2703,0,$C2007/60)))","v":{"$error":"#VALUE!"}},0,0,0,0,{"$error":"#VALUE!"},{"$error":"#VALUE!"},{"$error":"#VALUE!"},{"$error":"#VALUE!"},{"$error":"#VALUE!"},{"$error":"#VALUE!"},{"$error":"#VALUE!"},{"$error":"#VALUE!"},{"$error":"#VALUE!"},{"$error":"#VALUE!"},{"$error":"#VALUE!"},{"$f":"IF(SUM(CI$1262:CI2006)>0,0,IF(MAX(CB2007:CB$2702)=MAX(CB$1262:CB$2702),0,IF(BZ2007>0.03*BT$2703,0,$C2007/60)))","v":{"$error":"#VALUE!"}},{"$f":"IF(SUM(CJ$1262:CJ2006)>0,0,IF(MAX(CB2007:CB$2702)=MAX(CB$1262:CB$2702),0,IF(BZ2007>0.01*BT$2703,0,$C2007/60)))","v":{"$error":"#VALUE!"}},0,0,0,0,{"$error":"#VALUE!"},{"$error":"#VALUE!"},{"$error":"#VALUE!"},{"$error":"#VALUE!"},{"$error":"#VALUE!"},{"$error":"#VALUE!"},{"$error":"#VALUE!"},{"$error":"#VALUE!"},{"$error":"#VALUE!"},{"$error":"#VALUE!"},{"$error":"#VALUE!"},{"$f":"IF(SUM(CZ$1262:CZ2006)>0,0,IF(MAX(CS2007:CS$2702)=MAX(CS$1262:CS$2702),0,IF(CQ2007>0.03*CK$2703,0,$C2007/60)))","v":{"$error":"#VALUE!"}},{"$f":"IF(SUM(DA$1262:DA2006)>0,0,IF(MAX(CS2007:CS$2702)=MAX(CS$1262:CS$2702),0,IF(CQ2007>0.01*CK$2703,0,$C2007/60)))","v":{"$error":"#VALUE!"}}]
[null,62.5,3750,0,0,0,0,0,0,0,0,0,{"$error":"#N/A"},{"$error":"#N/A"},{"$error":"#N/A"},{"$error":"#N/A"},{"$error":"#N/A"},{"$error":"#N/A"},{"$f":"IF(SUM(S$1262:S2011)>0,0,\nIF(MAX(L2012:L$2702)=MAX(L$1262:L$2702),0,\nIF(Hydrograph_Source_WQCV=\"USER\",IF(J2012>0.03*D$2703,0,$C2012/60),\nIF(J2012>0.03*J$2703,0,$C2012/60))))","v":0},{"$f":"IF(SUM(T$1262:T2011)>0,0,\nIF(MAX(L2012:L$2702)=MAX(L$1262:L$2702),0,\nIF(Hydrograph_Source_WQCV=\"USER\",IF(J2012>0.01*D$2703,0,$C2012/60),\nIF(J2012>0.01*J$2703,0,$C2012/60))))","v":0},0,0,0,0,{"$error":"#VALUE!"},{"$error":"#VALUE!"},{"$error":"#VALUE!"},{"$error":"#VALUE!"},{"$error":"#VALUE!"},{"$error":"#VALUE!"},{"$error":"#VALUE!"},{"$error":"#VALUE!"},{"$error":"#VALUE!"},{"$error":"#VALUE!"},{"$error":"#VALUE!"},{"$f":"IF(SUM(AJ$1262:AJ2011)>0,0,IF(MAX(AC2012:AC$2702)=MAX(AC$1262:AC$2702),0,IF(AA2012>0.03*U$2703,0,$C2012/60)))","v":{"$error":"#VALUE!"}},{"$f":"IF(SUM(AK$1262:AK2011)>0,0,IF(MAX(AC2012:AC$2702)=MAX(AC$1262:AC$2702),0,IF(AA2012>0.01*U$2703,0,$C2012/60)))","v":{"$error":"#VALUE!"}},0,0,0,0,{"$error":"#VALUE!"},{"$error":"#VALUE!"},{"$error":"#VALUE!"},{"$error":"#VALUE!"},{"$error":"#VALUE!"},{"$error":"#VALUE!"},{"$error":"#VALUE!"},{"$error":"#VALUE!"},{"$error":"#VALUE!"},{"$error":"#VALUE!"},{"$error":"#VALUE!"},{"$f":"IF(SUM(BA$1262:BA2011)>0,0,IF(MAX(AT2012:AT$2702)=MAX(AT$1262:AT$2702),0,IF(AR2012>0.03*AL$2703,0,$C2012/60)))","v":{"$error":"#VALUE!"}},{"$f":"IF(SUM(BB$1262:BB2011)>0,0,IF(MAX(AT2012:AT$2702)=MAX(AT$1262:AT$2702),0,IF(AR2012>0.01*AL$2703,0,$C2012/60)))","v":{"$error":"#VALUE!"}},0,0,0,0,{"$error":"#VALUE!"},{"$error":"#VALUE!"},{"$error":"#VALUE!"},{"$error":"#VALUE!"},{"$error":"#VALUE!"},{"$error":"#VALUE!"},{"$error":"#VALUE!"},{"$error":"#VALUE!"},{"$error":"#VALUE!"},{"$error":"#VALUE!"},{"$error":"#VALUE!"},{"$f":"IF(SUM(BR$1262:BR2011)>0,0,IF(MAX(BK2012:BK$2702)=MAX(BK$1262:BK$2702),0,IF(BI2012>0.03*BC$2703,0,$C2012/60)))","v":{"$error":"#VALUE!"}},{"$f":"IF(SUM(BS$1262:BS2011)>0,0,IF(MAX(BK2012:BK$2702)=MAX(BK$1262:BK$2702),0,IF(BI2012>0.01*BC$2703,0,$C2012/60)))","v":{"$error":"#VALUE!"}},0,0,0,0,{"$error":"#VALUE!"},{"$error":"#VALUE!"},{"$error":"#VALUE!"},{"$error":"#VALUE!"},{"$error":"#VALUE!"},{"$error":"#VALUE!"},{"$error":"#VALUE!"},{"$error":"#VALUE!"},{"$error":"#VALUE!"},{"$error":"#VALUE!"},{"$error":"#VALUE!"},{"$f":"IF(SUM(CI$1262:CI2011)>0,0,IF(MAX(CB2012:CB$2702)=MAX(CB$1262:CB$2702),0,IF(BZ2012>0.03*BT$2703,0,$C2012/60)))","v":{"$error":"#VALUE!"}},{"$f":"IF(SUM(CJ$1262:CJ2011)>0,0,IF(MAX(CB2012:CB$2702)=MAX(CB$1262:CB$2702),0,IF(BZ2012>0.01*BT$2703,0,$C2012/60)))","v":{"$error":"#VALUE!"}},0,0,0,0,{"$error":"#VALUE!"},{"$error":"#VALUE!"},{"$error":"#VALUE!"},{"$error":"#VALUE!"},{"$error":"#VALUE!"},{"$error":"#VALUE!"},{"$error":"#VALUE!"},{"$error":"#VALUE!"},{"$error":"#VALUE!"},{"$error":"#VALUE!"},{"$error":"#VALUE!"},{"$f":"IF(SUM(CZ$1262:CZ2011)>0,0,IF(MAX(CS2012:CS$2702)=MAX(CS$1262:CS$2702),0,IF(CQ2012>0.03*CK$2703,0,$C2012/60)))","v":{"$error":"#VALUE!"}},{"$f":"IF(SUM(DA$1262:DA2011)>0,0,IF(MAX(CS2012:CS$2702)=MAX(CS$1262:CS$2702),0,IF(CQ2012>0.01*CK$2703,0,$C2012/60)))","v":{"$error":"#VALUE!"}}]
[null,62.583333333333336,3755,0,0,0,0,0,0,0,0,0,{"$error":"#N/A"},{"$error":"#N/A"},{"$error":"#N/A"},{"$error":"#N/A"},{"$error":"#N/A"},{"$error":"#N/A"},{"$f":"IF(SUM(S$1262:S2012)>0,0,\nIF(MAX(L2013:L$2702)=MAX(L$1262:L$2702),0,\nIF(Hydrograph_Source_WQCV=\"USER\",IF(J2013>0.03*D$2703,0,$C2013/60),\nIF(J2013>0.03*J$2703,0,$C2013/60))))","v":0},{"$f":"IF(SUM(T$1262:T2012)>0,0,\nIF(MAX(L2013:L$2702)=MAX(L$1262:L$2702),0,\nIF(Hydrograph_Source_WQCV=\"USER\",IF(J2013>0.01*D$2703,0,$C2013/60),\nIF(J2013>0.01*J$2703,0,$C2013/60))))","v":0},0,0,0,0,{"$error":"#VALUE!"},{"$error":"#VALUE!"},{"$error":"#VALUE!"},{"$error":"#VALUE!"},{"$error":"#VALUE!"},{"$error":"#VALUE!"},{"$error":"#VALUE!"},{"$error":"#VALUE!"},{"$error":"#VALUE!"},{"$error":"#VALUE!"},{"$error":"#VALUE!"},{"$f":"IF(SUM(AJ$1262:AJ2012)>0,0,IF(MAX(AC2013:AC$2702)=MAX(AC$1262:AC$2702),0,IF(AA2013>0.03*U$2703,0,$C2013/60)))","v":{"$error":"#VALUE!"}},{"$f":"IF(SUM(AK$1262:AK2012)>0,0,IF(MAX(AC2013:AC$2702)=MAX(AC$1262:AC$2702),0,IF(AA2013>0.01*U$2703,0,$C2013/60)))","v":{"$error":"#VALUE!"}},0,0,0,0,{"$error":"#VALUE!"},{"$error":"#VALUE!"},{"$error":"#VALUE!"},{"$error":"#VALUE!"},{"$error":"#VALUE!"},{"$error":"#VALUE!"},{"$error":"#VALUE!"},{"$error":"#VALUE!"},{"$error":"#VALUE!"},{"$error":"#VALUE!"},{"$error":"#VALUE!"},{"$f":"IF(SUM(BA$1262:BA2012)>0,0,IF(MAX(AT2013:AT$2702)=MAX(AT$1262:AT$2702),0,IF(AR2013>0.03*AL$2703,0,$C2013/60)))","v":{"$error":"#VALUE!"}},{"$f":"IF(SUM(BB$1262:BB2012)>0,0,IF(MAX(AT2013:AT$2702)=MAX(AT$1262:AT$2702),0,IF(AR2013>0.01*AL$2703,0,$C2013/60)))","v":{"$error":"#VALUE!"}},0,0,0,0,{"$error":"#VALUE!"},{"$error":"#VALUE!"},{"$error":"#VALUE!"},{"$error":"#VALUE!"},{"$error":"#VALUE!"},{"$error":"#VALUE!"},{"$error":"#VALUE!"},{"$error":"#VALUE!"},{"$error":"#VALUE!"},{"$error":"#VALUE!"},{"$error":"#VALUE!"},{"$f":"IF(SUM(BR$1262:BR2012)>0,0,IF(MAX(BK2013:BK$2702)=MAX(BK$1262:BK$2702),0,IF(BI2013>0.03*BC$2703,0,$C2013/60)))","v":{"$error":"#VALUE!"}},{"$f":"IF(SUM(BS$1262:BS2012)>0,0,IF(MAX(BK2013:BK$2702)=MAX(BK$1262:BK$2702),0,IF(BI2013>0.01*BC$2703,0,$C2013/60)))","v":{"$error":"#VALUE!"}},0,0,0,0,{"$error":"#VALUE!"},{"$error":"#VALUE!"},{"$error":"#VALUE!"},{"$error":"#VALUE!"},{"$error":"#VALUE!"},{"$error":"#VALUE!"},{"$error":"#VALUE!"},{"$error":"#VALUE!"},{"$error":"#VALUE!"},{"$error":"#VALUE!"},{"$error":"#VALUE!"},{"$f":"IF(SUM(CI$1262:CI2012)>0,0,IF(MAX(CB2013:CB$2702)=MAX(CB$1262:CB$2702),0,IF(BZ2013>0.03*BT$2703,0,$C2013/60)))","v":{"$error":"#VALUE!"}},{"$f":"IF(SUM(CJ$1262:CJ2012)>0,0,IF(MAX(CB2013:CB$2702)=MAX(CB$1262:CB$2702),0,IF(BZ2013>0.01*BT$2703,0,$C2013/60)))","v":{"$error":"#VALUE!"}},0,0,0,0,{"$error":"#VALUE!"},{"$error":"#VALUE!"},{"$error":"#VALUE!"},{"$error":"#VALUE!"},{"$error":"#VALUE!"},{"$error":"#VALUE!"},{"$error":"#VALUE!"},{"$error":"#VALUE!"},{"$error":"#VALUE!"},{"$error":"#VALUE!"},{"$error":"#VALUE!"},{"$f":"IF(SUM(CZ$1262:CZ2012)>0,0,IF(MAX(CS2013:CS$2702)=MAX(CS$1262:CS$2702),0,IF(CQ2013>0.03*CK$2703,0,$C2013/60)))","v":{"$error":"#VALUE!"}},{"$f":"IF(SUM(DA$1262:DA2012)>0,0,IF(MAX(CS2013:CS$2702)=MAX(CS$1262:CS$2702),0,IF(CQ2013>0.01*CK$2703,0,$C2013/60)))","v":{"$error":"#VALUE!"}}]
[null,63.083333333333336,3785,0,0,0,0,0,0,0,0,0,{"$error":"#N/A"},{"$error":"#N/A"},{"$error":"#N/A"},{"$error":"#N/A"},{"$error":"#N/A"},{"$error":"#N/A"},{"$f":"IF(SUM(S$1262:S2018)>0,0,\nIF(MAX(L2019:L$2702)=MAX(L$1262:L$2702),0,\nIF(Hydrograph_Source_WQCV=\"USER\",IF(J2019>0.03*D$2703,0,$C2019/60),\nIF(J2019>0.03*J$2703,0,$C2019/60))))","v":0},{"$f":"IF(SUM(T$1262:T2018)>0,0,\nIF(MAX(L2019:L$2702)=MAX(L$1262:L$2702),0,\nIF(Hydrograph_Source_WQCV=\"USER\",IF(J2019>0.01*D$2703,0,$C2019/60),\nIF(J2019>0.01*J$2703,0,$C2019/60))))","v":0},0,0,0,0,{"$error":"#VALUE!"},{"$error":"#VALUE!"},{"$error":"#VALUE!"},{"$error":"#VALUE!"},{"$error":"#VALUE!"},{"$error":"#VALUE!"},{"$error":"#VALUE!"},{"$error":"#VALUE!"},{"$error":"#VALUE!"},{"$error":"#VALUE!"},{"$error":"#VALUE!"},{"$f":"IF(SUM(AJ$1262:AJ2018)>0,0,IF(MAX(AC2019:AC$2702)=MAX(AC$1262:AC$2702),0,IF(AA2019>0.03*U$2703,0,$C2019/60)))","v":{"$error":"#VALUE!"}},{"$f":"IF(SUM(AK$1262:AK2018)>0,0,IF(MAX(AC2019:AC$2702)=MAX(AC$1262:AC$2702),0,IF(AA2019>0.01*U$2703,0,$C2019/60)))","v":{"$error":"#VALUE!"}},0,0,0,0,{"$error":"#VALUE!"},{"$error":"#VALUE!"},{"$error":"#VALUE!"},{"$error":"#VALUE!"},{"$error":"#VALUE!"},{"$error":"#VALUE!"},{"$error":"#VALUE!"},{"$error":"#VALUE!"},{"$error":"#VALUE!"},{"$error":"#VALUE!"},{"$error":"#VALUE!"},{"$f":"IF(SUM(BA$1262:BA2018)>0,0,IF(MAX(AT2019:AT$2702)=MAX(AT$1262:AT$2702),0,IF(AR2019>0.03*AL$2703,0,$C2019/60)))","v":{"$error":"#VALUE!"}},{"$f":"IF(SUM(BB$1262:BB2018)>0,0,IF(MAX(AT2019:AT$2702)=MAX(AT$1262:AT$2702),0,IF(AR2019>0.01*AL$2703,0,$C2019/60)))","v":{"$error":"#VALUE!"}},0,0,0,0,{"$error":"#VALUE!"},{"$error":"#VALUE!"},{"$error":"#VALUE!"},{"$error":"#VALUE!"},{"$error":"#VALUE!"},{"$error":"#VALUE!"},{"$error":"#VALUE!"},{"$error":"#VALUE!"},{"$error":"#VALUE!"},{"$error":"#VALUE!"},{"$error":"#VALUE!"},{"$f":"IF(SUM(BR$1262:BR2018)>0,0,IF(MAX(BK2019:BK$2702)=MAX(BK$1262:BK$2702),0,IF(BI2019>0.03*BC$2703,0,$C2019/60)))","v":{"$error":"#VALUE!"}},{"$f":"IF(SUM(BS$1262:BS2018)>0,0,IF(MAX(BK2019:BK$2702)=MAX(BK$1262:BK$2702),0,IF(BI2019>0.01*BC$2703,0,$C2019/60)))","v":{"$error":"#VALUE!"}},0,0,0,0,{"$error":"#VALUE!"},{"$error":"#VALUE!"},{"$error":"#VALUE!"},{"$error":"#VALUE!"},{"$error":"#VALUE!"},{"$error":"#VALUE!"},{"$error":"#VALUE!"},{"$error":"#VALUE!"},{"$error":"#VALUE!"},{"$error":"#VALUE!"},{"$error":"#VALUE!"},{"$f":"IF(SUM(CI$1262:CI2018)>0,0,IF(MAX(CB2019:CB$2702)=MAX(CB$1262:CB$2702),0,IF(BZ2019>0.03*BT$2703,0,$C2019/60)))","v":{"$error":"#VALUE!"}},{"$f":"IF(SUM(CJ$1262:CJ2018)>0,0,IF(MAX(CB2019:CB$2702)=MAX(CB$1262:CB$2702),0,IF(BZ2019>0.01*BT$2703,0,$C2019/60)))","v":{"$error":"#VALUE!"}},0,0,0,0,{"$error":"#VALUE!"},{"$error":"#VALUE!"},{"$error":"#VALUE!"},{"$error":"#VALUE!"},{"$error":"#VALUE!"},{"$error":"#VALUE!"},{"$error":"#VALUE!"},{"$error":"#VALUE!"},{"$error":"#VALUE!"},{"$error":"#VALUE!"},{"$error":"#VALUE!"},{"$f":"IF(SUM(CZ$1262:CZ2018)>0,0,IF(MAX(CS2019:CS$2702)=MAX(CS$1262:CS$2702),0,IF(CQ2019>0.03*CK$2703,0,$C2019/60)))","v":{"$error":"#VALUE!"}},{"$f":"IF(SUM(DA$1262:DA2018)>0,0,IF(MAX(CS2019:CS$2702)=MAX(CS$1262:CS$2702),0,IF(CQ2019>0.01*CK$2703,0,$C2019/60)))","v":{"$error":"#VALUE!"}}]
[null,63.5,3810,0,0,0,0,0,0,0,0,0,{"$error":"#N/A"},{"$error":"#N/A"},{"$error":"#N/A"},{"$error":"#N/A"},{"$error":"#N/A"},{"$error":"#N/A"},{"$f":"IF(SUM(S$1262:S2023)>0,0,\nIF(MAX(L2024:L$2702)=MAX(L$1262:L$2702),0,\nIF(Hydrograph_Source_WQCV=\"USER\",IF(J2024>0.03*D$2703,0,$C2024/60),\nIF(J2024>0.03*J$2703,0,$C2024/60))))","v":0},{"$f":"IF(SUM(T$1262:T2023)>0,0,\nIF(MAX(L2024:L$2702)=MAX(L$1262:L$2702),0,\nIF(Hydrograph_Source_WQCV=\"USER\",IF(J2024>0.01*D$2703,0,$C2024/60),\nIF(J2024>0.01*J$2703,0,$C2024/60))))","v":0},0,0,0,0,{"$error":"#VALUE!"},{"$error":"#VALUE!"},{"$error":"#VALUE!"},{"$error":"#VALUE!"},{"$error":"#VALUE!"},{"$error":"#VALUE!"},{"$error":"#VALUE!"},{"$error":"#VALUE!"},{"$error":"#VALUE!"},{"$error":"#VALUE!"},{"$error":"#VALUE!"},{"$f":"IF(SUM(AJ$1262:AJ2023)>0,0,IF(MAX(AC2024:AC$2702)=MAX(AC$1262:AC$2702),0,IF(AA2024>0.03*U$2703,0,$C2024/60)))","v":{"$error":"#VALUE!"}},{"$f":"IF(SUM(AK$1262:AK2023)>0,0,IF(MAX(AC2024:AC$2702)=MAX(AC$1262:AC$2702),0,IF(AA2024>0.01*U$2703,0,$C2024/60)))","v":{"$error":"#VALUE!"}},0,0,0,0,{"$error":"#VALUE!"},{"$error":"#VALUE!"},{"$error":"#VALUE!"},{"$error":"#VALUE!"},{"$error":"#VALUE!"},{"$error":"#VALUE!"},{"$error":"#VALUE!"},{"$error":"#VALUE!"},{"$error":"#VALUE!"},{"$error":"#VALUE!"},{"$error":"#VALUE!"},{"$f":"IF(SUM(BA$1262:BA2023)>0,0,IF(MAX(AT2024:AT$2702)=MAX(AT$1262:AT$2702),0,IF(AR2024>0.03*AL$2703,0,$C2024/60)))","v":{"$error":"#VALUE!"}},{"$f":"IF(SUM(BB$1262:BB2023)>0,0,IF(MAX(AT2024:AT$2702)=MAX(AT$1262:AT$2702),0,IF(AR2024>0.01*AL$2703,0,$C2024/60)))","v":{"$error":"#VALUE!"}},0,0,0,0,{"$error":"#VALUE!"},{"$error":"#VALUE!"},{"$error":"#VALUE!"},{"$error":"#VALUE!"},{"$error":"#VALUE!"},{"$error":"#VALUE!"},{"$error":"#VALUE!"},{"$error":"#VALUE!"},{"$error":"#VALUE!"},{"$error":"#VALUE!"},{"$error":"#VALUE!"},{"$f":"IF(SUM(BR$1262:BR2023)>0,0,IF(MAX(BK2024:BK$2702)=MAX(BK$1262:BK$2702),0,IF(BI2024>0.03*BC$2703,0,$C2024/60)))","v":{"$error":"#VALUE!"}},{"$f":"IF(SUM(BS$1262:BS2023)>0,0,IF(MAX(BK2024:BK$2702)=MAX(BK$1262:BK$2702),0,IF(BI2024>0.01*BC$2703,0,$C2024/60)))","v":{"$error":"#VALUE!"}},0,0,0,0,{"$error":"#VALUE!"},{"$error":"#VALUE!"},{"$error":"#VALUE!"},{"$error":"#VALUE!"},{"$error":"#VALUE!"},{"$error":"#VALUE!"},{"$error":"#VALUE!"},{"$error":"#VALUE!"},{"$error":"#VALUE!"},{"$error":"#VALUE!"},{"$error":"#VALUE!"},{"$f":"IF(SUM(CI$1262:CI2023)>0,0,IF(MAX(CB2024:CB$2702)=MAX(CB$1262:CB$2702),0,IF(BZ2024>0.03*BT$2703,0,$C2024/60)))","v":{"$error":"#VALUE!"}},{"$f":"IF(SUM(CJ$1262:CJ2023)>0,0,IF(MAX(CB2024:CB$2702)=MAX(CB$1262:CB$2702),0,IF(BZ2024>0.01*BT$2703,0,$C2024/60)))","v":{"$error":"#VALUE!"}},0,0,0,0,{"$error":"#VALUE!"},{"$error":"#VALUE!"},{"$error":"#VALUE!"},{"$error":"#VALUE!"},{"$error":"#VALUE!"},{"$error":"#VALUE!"},{"$error":"#VALUE!"},{"$error":"#VALUE!"},{"$error":"#VALUE!"},{"$error":"#VALUE!"},{"$error":"#VALUE!"},{"$f":"IF(SUM(CZ$1262:CZ2023)>0,0,IF(MAX(CS2024:CS$2702)=MAX(CS$1262:CS$2702),0,IF(CQ2024>0.03*CK$2703,0,$C2024/60)))","v":{"$error":"#VALUE!"}},{"$f":"IF(SUM(DA$1262:DA2023)>0,0,IF(MAX(CS2024:CS$2702)=MAX(CS$1262:CS$2702),0,IF(CQ2024>0.01*CK$2703,0,$C2024/60)))","v":{"$error":"#VALUE!"}}]
[null,63.75,3825,0,0,0,0,0,0,0,0,0,{"$error":"#N/A"},{"$error":"#N/A"},{"$error":"#N/A"},{"$error":"#N/A"},{"$error":"#N/A"},{"$error":"#N/A"},{"$f":"IF(SUM(S$1262:S2026)>0,0,\nIF(MAX(L2027:L$2702)=MAX(L$1262:L$2702),0,\nIF(Hydrograph_Source_WQCV=\"USER\",IF(J2027>0.03*D$2703,0,$C2027/60),\nIF(J2027>0.03*J$2703,0,$C2027/60))))","v":0},{"$f":"IF(SUM(T$1262:T2026)>0,0,\nIF(MAX(L2027:L$2702)=MAX(L$1262:L$2702),0,\nIF(Hydrograph_Source_WQCV=\"USER\",IF(J2027>0.01*D$2703,0,$C2027/60),\nIF(J2027>0.01*J$2703,0,$C2027/60))))","v":0},0,0,0,0,{"$error":"#VALUE!"},{"$error":"#VALUE!"},{"$error":"#VALUE!"},{"$error":"#VALUE!"},{"$error":"#VALUE!"},{"$error":"#VALUE!"},{"$error":"#VALUE!"},{"$error":"#VALUE!"},{"$error":"#VALUE!"},{"$error":"#VALUE!"},{"$error":"#VALUE!"},{"$f":"IF(SUM(AJ$1262:AJ2026)>0,0,IF(MAX(AC2027:AC$2702)=MAX(AC$1262:AC$2702),0,IF(AA2027>0.03*U$2703,0,$C2027/60)))","v":{"$error":"#VALUE!"}},{"$f":"IF(SUM(AK$1262:AK2026)>0,0,IF(MAX(AC2027:AC$2702)=MAX(AC$1262:AC$2702),0,IF(AA2027>0.01*U$2703,0,$C2027/60)))","v":{"$error":"#VALUE!"}},0,0,0,0,{"$error":"#VALUE!"},{"$error":"#VALUE!"},{"$error":"#VALUE!"},{"$error":"#VALUE!"},{"$error":"#VALUE!"},{"$error":"#VALUE!"},{"$error":"#VALUE!"},{"$error":"#VALUE!"},{"$error":"#VALUE!"},{"$error":"#VALUE!"},{"$error":"#VALUE!"},{"$f":"IF(SUM(BA$1262:BA2026)>0,0,IF(MAX(AT2027:AT$2702)=MAX(AT$1262:AT$2702),0,IF(AR2027>0.03*AL$2703,0,$C2027/60)))","v":{"$error":"#VALUE!"}},{"$f":"IF(SUM(BB$1262:BB2026)>0,0,IF(MAX(AT2027:AT$2702)=MAX(AT$1262:AT$2702),0,IF(AR2027>0.01*AL$2703,0,$C2027/60)))","v":{"$error":"#VALUE!"}},0,0,0,0,{"$error":"#VALUE!"},{"$error":"#VALUE!"},{"$error":"#VALUE!"},{"$error":"#VALUE!"},{"$error":"#VALUE!"},{"$error":"#VALUE!"},{"$error":"#VALUE!"},{"$error":"#VALUE!"},{"$error":"#VALUE!"},{"$error":"#VALUE!"},{"$error":"#VALUE!"},{"$f":"IF(SUM(BR$1262:BR2026)>0,0,IF(MAX(BK2027:BK$2702)=MAX(BK$1262:BK$2702),0,IF(BI2027>0.03*BC$2703,0,$C2027/60)))","v":{"$error":"#VALUE!"}},{"$f":"IF(SUM(BS$1262:BS2026)>0,0,IF(MAX(BK2027:BK$2702)=MAX(BK$1262:BK$2702),0,IF(BI2027>0.01*BC$2703,0,$C2027/60)))","v":{"$error":"#VALUE!"}},0,0,0,0,{"$error":"#VALUE!"},{"$error":"#VALUE!"},{"$error":"#VALUE!"},{"$error":"#VALUE!"},{"$error":"#VALUE!"},{"$error":"#VALUE!"},{"$error":"#VALUE!"},{"$error":"#VALUE!"},{"$error":"#VALUE!"},{"$error":"#VALUE!"},{"$error":"#VALUE!"},{"$f":"IF(SUM(CI$1262:CI2026)>0,0,IF(MAX(CB2027:CB$2702)=MAX(CB$1262:CB$2702),0,IF(BZ2027>0.03*BT$2703,0,$C2027/60)))","v":{"$error":"#VALUE!"}},{"$f":"IF(SUM(CJ$1262:CJ2026)>0,0,IF(MAX(CB2027:CB$2702)=MAX(CB$1262:CB$2702),0,IF(BZ2027>0.01*BT$2703,0,$C2027/60)))","v":{"$error":"#VALUE!"}},0,0,0,0,{"$error":"#VALUE!"},{"$error":"#VALUE!"},{"$error":"#VALUE!"},{"$error":"#VALUE!"},{"$error":"#VALUE!"},{"$error":"#VALUE!"},{"$error":"#VALUE!"},{"$error":"#VALUE!"},{"$error":"#VALUE!"},{"$error":"#VALUE!"},{"$error":"#VALUE!"},{"$f":"IF(SUM(CZ$1262:CZ2026)>0,0,IF(MAX(CS2027:CS$2702)=MAX(CS$1262:CS$2702),0,IF(CQ2027>0.03*CK$2703,0,$C2027/60)))","v":{"$error":"#VALUE!"}},{"$f":"IF(SUM(DA$1262:DA2026)>0,0,IF(MAX(CS2027:CS$2702)=MAX(CS$1262:CS$2702),0,IF(CQ2027>0.01*CK$2703,0,$C2027/60)))","v":{"$error":"#VALUE!"}}]
[null,64.083333333333329,{"$f":"C2030+$C$1260","v":3845},0,0,{"$f":"G2030","v":0},0,{"$f":"I2030","v":0},0,0,0,{"$f":"IF($D$1263=\"\",0,ROUND((R2031*K2031+Q2031-R2031*P2031),7))","v":0},{"$error":"#N/A"},{"$error":"#N/A"},{"$error":"#N/A"},{"$error":"#N/A"},{"$error":"#N/A"},{"$error":"#N/A"},{"$f":"IF(SUM(S$1262:S2030)>0,0,\nIF(MAX(L2031:L$2702)=MAX(L$1262:L$2702),0,\nIF(Hydrograph_Source_WQCV=\"USER\",IF(J2031>0.03*D$2703,0,$C2031/60),\nIF(J2031>0.03*J$2703,0,$C2031/60))))","v":0},{"$f":"IF(SUM(T$1262:T2030)>0,0,\nIF(MAX(L2031:L$2702)=MAX(L$1262:L$2702),0,\nIF(Hydrograph_Source_WQCV=\"USER\",IF(J2031>0.01*D$2703,0,$C2031/60),\nIF(J2031>0.01*J$2703,0,$C2031/60))))","v":0},0,0,{"$f":"X2030","v":0},0,{"$f":"Z2030","v":{"$error":"#VALUE!"}},{"$error":"#VALUE!"},{"$error":"#VALUE!"},{"$error":"#VALUE!"},{"$f":"IF($U$1263=\"\",0,ROUND((AI2031*AB2031+AH2031-AI2031*AG2031),7))","v":{"$error":"#VALUE!"}},{"$error":"#VALUE!"},{"$error":"#VALUE!"},{"$error":"#VALUE!"},{"$error":"#VALUE!"},{"$error":"#VALUE!"},{"$error":"#VALUE!"},{"$f":"IF(SUM(AJ$1262:AJ2030)>0,0,IF(MAX(AC2031:AC$2702)=MAX(AC$1262:AC$2702),0,IF(AA2031>0.03*U$2703,0,$C2031/60)))","v":{"$error":"#VALUE!"}},{"$f":"IF(SUM(AK$1262:AK2030)>0,0,IF(MAX(AC2031:AC$2702)=MAX(AC$1262:AC$2702),0,IF(AA2031>0.01*U$2703,0,$C2031/60)))","v":{"$error":"#VALUE!"}},0,0,{"$f":"AO2030","v":0},0,{"$f":"AQ2030","v":{"$error":"#VALUE!"}},{"$error":"#VALUE!"},{"$error":"#VALUE!"},{"$error":"#VALUE!"},{"$f":"IF($AL$1263=\"\",0,ROUND((AZ2031*AS2031+AY2031-AZ2031*AX2031),7))","v":{"$error":"#VALUE!"}},{"$error":"#VALUE!"},{"$error":"#VALUE!"},{"$error":"#VALUE!"},{"$error":"#VALUE!"},{"$error":"#VALUE!"},{"$error":"#VALUE!"},{"$f":"IF(SUM(BA$1262:BA2030)>0,0,IF(MAX(AT2031:AT$2702)=MAX(AT$1262:AT$2702),0,IF(AR2031>0.03*AL$2703,0,$C2031/60)))","v":{"$error":"#VALUE!"}},{"$f":"IF(SUM(BB$1262:BB2030)>0,0,IF(MAX(AT2031:AT$2702)=MAX(AT$1262:AT$2702),0,IF(AR2031>0.01*AL$2703,0,$C2031/60)))","v":{"$error":"#VALUE!"}},0,0,{"$f":"BF2030","v":0},0,{"$f":"BH2030","v":{"$error":"#VALUE!"}},{"$error":"#VALUE!"},{"$error":"#VALUE!"},{"$error":"#VALUE!"},{"$f":"IF($BC$1263=\"\",0,ROUND((BQ2031*BJ2031+BP2031-BQ2031*BO2031),7))","v":{"$error":"#VALUE!"}},{"$error":"#VALUE!"},{"$error":"#VALUE!"},{"$error":"#VALUE!"},{"$error":"#VALUE!"},{"$error":"#VALUE!"},{"$error":"#VALUE!"},{"$f":"IF(SUM(BR$1262:BR2030)>0,0,IF(MAX(BK2031:BK$2702)=MAX(BK$1262:BK$2702),0,IF(BI2031>0.03*BC$2703,0,$C2031/60)))","v":{"$error":"#VALUE!"}},{"$f":"IF(SUM(BS$1262:BS2030)>0,0,IF(MAX(BK2031:BK$2702)=MAX(BK$1262:BK$2702),0,IF(BI2031>0.01*BC$2703,0,$C2031/60)))","v":{"$error":"#VALUE!"}},0,0,{"$f":"BW2030","v":0},0,{"$f":"BY2030","v":{"$error":"#VALUE!"}},{"$error":"#VALUE!"},{"$error":"#VALUE!"},{"$error":"#VALUE!"},{"$f":"IF($BT$1263=\"\",0,ROUND((CH2031*CA2031+CG2031-CH2031*CF2031),7))","v":{"$error":"#VALUE!"}},{"$error":"#VALUE!"},{"$error":"#VALUE!"},{"$error":"#VALUE!"},{"$error":"#VALUE!"},{"$error":"#VALUE!"},{"$error":"#VALUE!"},{"$f":"IF(SUM(CI$1262:CI2030)>0,0,IF(MAX(CB2031:CB$2702)=MAX(CB$1262:CB$2702),0,IF(BZ2031>0.03*BT$2703,0,$C2031/60)))","v":{"$error":"#VALUE!"}},{"$f":"IF(SUM(CJ$1262:CJ2030)>0,0,IF(MAX(CB2031:CB$2702)=MAX(CB$1262:CB$2702),0,IF(BZ2031>0.01*BT$2703,0,$C2031/60)))","v":{"$error":"#VALUE!"}},0,0,{"$f":"CN2030","v":0},0,{"$f":"CP2030","v":{"$error":"#VALUE!"}},{"$error":"#VALUE!"},{"$error":"#VALUE!"},{"$error":"#VALUE!"},{"$error":"#VALUE!"},{"$error":"#VALUE!"},{"$error":"#VALUE!"},{"$error":"#VALUE!"},{"$error":"#VALUE!"},{"$error":"#VALUE!"},{"$error":"#VALUE!"},{"$f":"IF(SUM(CZ$1262:CZ2030)>0,0,IF(MAX(CS2031:CS$2702)=MAX(CS$1262:CS$2702),0,IF(CQ2031>0.03*CK$2703,0,$C2031/60)))","v":{"$error":"#VALUE!"}},{"$f":"IF(SUM(DA$1262:DA2030)>0,0,IF(MAX(CS2031:CS$2702)=MAX(CS$1262:CS$2702),0,IF(CQ2031>0.01*CK$2703,0,$C2031/60)))","v":{"$error":"#VALUE!"}}]
[null,64.5,3870,0,0,0,0,0,0,0,0,0,{"$error":"#N/A"},{"$error":"#N/A"},{"$error":"#N/A"},{"$error":"#N/A"},{"$error":"#N/A"},{"$error":"#N/A"},{"$f":"IF(SUM(S$1262:S2035)>0,0,\nIF(MAX(L2036:L$2702)=MAX(L$1262:L$2702),0,\nIF(Hydrograph_Source_WQCV=\"USER\",IF(J2036>0.03*D$2703,0,$C2036/60),\nIF(J2036>0.03*J$2703,0,$C2036/60))))","v":0},{"$f":"IF(SUM(T$1262:T2035)>0,0,\nIF(MAX(L2036:L$2702)=MAX(L$1262:L$2702),0,\nIF(Hydrograph_Source_WQCV=\"USER\",IF(J2036>0.01*D$2703,0,$C2036/60),\nIF(J2036>0.01*J$2703,0,$C2036/60))))","v":0},0,0,0,0,{"$error":"#VALUE!"},{"$error":"#VALUE!"},{"$error":"#VALUE!"},{"$error":"#VALUE!"},{"$error":"#VALUE!"},{"$error":"#VALUE!"},{"$error":"#VALUE!"},{"$error":"#VALUE!"},{"$error":"#VALUE!"},{"$error":"#VALUE!"},{"$error":"#VALUE!"},{"$f":"IF(SUM(AJ$1262:AJ2035)>0,0,IF(MAX(AC2036:AC$2702)=MAX(AC$1262:AC$2702),0,IF(AA2036>0.03*U$2703,0,$C2036/60)))","v":{"$error":"#VALUE!"}},{"$f":"IF(SUM(AK$1262:AK2035)>0,0,IF(MAX(AC2036:AC$2702)=MAX(AC$1262:AC$2702),0,IF(AA2036>0.01*U$2703,0,$C2036/60)))","v":{"$error":"#VALUE!"}},0,0,0,0,{"$error":"#VALUE!"},{"$error":"#VALUE!"},{"$error":"#VALUE!"},{"$error":"#VALUE!"},{"$error":"#VALUE!"},{"$error":"#VALUE!"},{"$error":"#VALUE!"},{"$error":"#VALUE!"},{"$error":"#VALUE!"},{"$error":"#VALUE!"},{"$error":"#VALUE!"},{"$f":"IF(SUM(BA$1262:BA2035)>0,0,IF(MAX(AT2036:AT$2702)=MAX(AT$1262:AT$2702),0,IF(AR2036>0.03*AL$2703,0,$C2036/60)))","v":{"$error":"#VALUE!"}},{"$f":"IF(SUM(BB$1262:BB2035)>0,0,IF(MAX(AT2036:AT$2702)=MAX(AT$1262:AT$2702),0,IF(AR2036>0.01*AL$2703,0,$C2036/60)))","v":{"$error":"#VALUE!"}},0,0,0,0,{"$error":"#VALUE!"},{"$error":"#VALUE!"},{"$error":"#VALUE!"},{"$error":"#VALUE!"},{"$error":"#VALUE!"},{"$error":"#VALUE!"},{"$error":"#VALUE!"},{"$error":"#VALUE!"},{"$error":"#VALUE!"},{"$error":"#VALUE!"},{"$error":"#VALUE!"},{"$f":"IF(SUM(BR$1262:BR2035)>0,0,IF(MAX(BK2036:BK$2702)=MAX(BK$1262:BK$2702),0,IF(BI2036>0.03*BC$2703,0,$C2036/60)))","v":{"$error":"#VALUE!"}},{"$f":"IF(SUM(BS$1262:BS2035)>0,0,IF(MAX(BK2036:BK$2702)=MAX(BK$1262:BK$2702),0,IF(BI2036>0.01*BC$2703,0,$C2036/60)))","v":{"$error":"#VALUE!"}},0,0,0,0,{"$error":"#VALUE!"},{"$error":"#VALUE!"},{"$error":"#VALUE!"},{"$error":"#VALUE!"},{"$error":"#VALUE!"},{"$error":"#VALUE!"},{"$error":"#VALUE!"},{"$error":"#VALUE!"},{"$error":"#VALUE!"},{"$error":"#VALUE!"},{"$error":"#VALUE!"},{"$f":"IF(SUM(CI$1262:CI2035)>0,0,IF(MAX(CB2036:CB$2702)=MAX(CB$1262:CB$2702),0,IF(BZ2036>0.03*BT$2703,0,$C2036/60)))","v":{"$error":"#VALUE!"}},{"$f":"IF(SUM(CJ$1262:CJ2035)>0,0,IF(MAX(CB2036:CB$2702)=MAX(CB$1262:CB$2702),0,IF(BZ2036>0.01*BT$2703,0,$C2036/60)))","v":{"$error":"#VALUE!"}},0,0,0,0,{"$error":"#VALUE!"},{"$error":"#VALUE!"},{"$error":"#VALUE!"},{"$error":"#VALUE!"},{"$error":"#VALUE!"},{"$error":"#VALUE!"},{"$error":"#VALUE!"},{"$error":"#VALUE!"},{"$error":"#VALUE!"},{"$error":"#VALUE!"},{"$error":"#VALUE!"},{"$f":"IF(SUM(CZ$1262:CZ2035)>0,0,IF(MAX(CS2036:CS$2702)=MAX(CS$1262:CS$2702),0,IF(CQ2036>0.03*CK$2703,0,$C2036/60)))","v":{"$error":"#VALUE!"}},{"$f":"IF(SUM(DA$1262:DA2035)>0,0,IF(MAX(CS2036:CS$2702)=MAX(CS$1262:CS$2702),0,IF(CQ2036>0.01*CK$2703,0,$C2036/60)))","v":{"$error":"#VALUE!"}}]
[null,64.916666666666671,3895,0,0,0,0,0,0,0,0,0,{"$error":"#N/A"},{"$error":"#N/A"},{"$error":"#N/A"},{"$error":"#N/A"},{"$error":"#N/A"},{"$error":"#N/A"},{"$f":"IF(SUM(S$1262:S2040)>0,0,\nIF(MAX(L2041:L$2702)=MAX(L$1262:L$2702),0,\nIF(Hydrograph_Source_WQCV=\"USER\",IF(J2041>0.03*D$2703,0,$C2041/60),\nIF(J2041>0.03*J$2703,0,$C2041/60))))","v":0},{"$f":"IF(SUM(T$1262:T2040)>0,0,\nIF(MAX(L2041:L$2702)=MAX(L$1262:L$2702),0,\nIF(Hydrograph_Source_WQCV=\"USER\",IF(J2041>0.01*D$2703,0,$C2041/60),\nIF(J2041>0.01*J$2703,0,$C2041/60))))","v":0},0,0,0,0,{"$error":"#VALUE!"},{"$error":"#VALUE!"},{"$error":"#VALUE!"},{"$error":"#VALUE!"},{"$error":"#VALUE!"},{"$error":"#VALUE!"},{"$error":"#VALUE!"},{"$error":"#VALUE!"},{"$error":"#VALUE!"},{"$error":"#VALUE!"},{"$error":"#VALUE!"},{"$f":"IF(SUM(AJ$1262:AJ2040)>0,0,IF(MAX(AC2041:AC$2702)=MAX(AC$1262:AC$2702),0,IF(AA2041>0.03*U$2703,0,$C2041/60)))","v":{"$error":"#VALUE!"}},{"$f":"IF(SUM(AK$1262:AK2040)>0,0,IF(MAX(AC2041:AC$2702)=MAX(AC$1262:AC$2702),0,IF(AA2041>0.01*U$2703,0,$C2041/60)))","v":{"$error":"#VALUE!"}},0,0,0,0,{"$error":"#VALUE!"},{"$error":"#VALUE!"},{"$error":"#VALUE!"},{"$error":"#VALUE!"},{"$error":"#VALUE!"},{"$error":"#VALUE!"},{"$error":"#VALUE!"},{"$error":"#VALUE!"},{"$error":"#VALUE!"},{"$error":"#VALUE!"},{"$error":"#VALUE!"},{"$f":"IF(SUM(BA$1262:BA2040)>0,0,IF(MAX(AT2041:AT$2702)=MAX(AT$1262:AT$2702),0,IF(AR2041>0.03*AL$2703,0,$C2041/60)))","v":{"$error":"#VALUE!"}},{"$f":"IF(SUM(BB$1262:BB2040)>0,0,IF(MAX(AT2041:AT$2702)=MAX(AT$1262:AT$2702),0,IF(AR2041>0.01*AL$2703,0,$C2041/60)))","v":{"$error":"#VALUE!"}},0,0,0,0,{"$error":"#VALUE!"},{"$error":"#VALUE!"},{"$error":"#VALUE!"},{"$error":"#VALUE!"},{"$error":"#VALUE!"},{"$error":"#VALUE!"},{"$error":"#VALUE!"},{"$error":"#VALUE!"},{"$error":"#VALUE!"},{"$error":"#VALUE!"},{"$error":"#VALUE!"},{"$f":"IF(SUM(BR$1262:BR2040)>0,0,IF(MAX(BK2041:BK$2702)=MAX(BK$1262:BK$2702),0,IF(BI2041>0.03*BC$2703,0,$C2041/60)))","v":{"$error":"#VALUE!"}},{"$f":"IF(SUM(BS$1262:BS2040)>0,0,IF(MAX(BK2041:BK$2702)=MAX(BK$1262:BK$2702),0,IF(BI2041>0.01*BC$2703,0,$C2041/60)))","v":{"$error":"#VALUE!"}},0,0,0,0,{"$error":"#VALUE!"},{"$error":"#VALUE!"},{"$error":"#VALUE!"},{"$error":"#VALUE!"},{"$error":"#VALUE!"},{"$error":"#VALUE!"},{"$error":"#VALUE!"},{"$error":"#VALUE!"},{"$error":"#VALUE!"},{"$error":"#VALUE!"},{"$error":"#VALUE!"},{"$f":"IF(SUM(CI$1262:CI2040)>0,0,IF(MAX(CB2041:CB$2702)=MAX(CB$1262:CB$2702),0,IF(BZ2041>0.03*BT$2703,0,$C2041/60)))","v":{"$error":"#VALUE!"}},{"$f":"IF(SUM(CJ$1262:CJ2040)>0,0,IF(MAX(CB2041:CB$2702)=MAX(CB$1262:CB$2702),0,IF(BZ2041>0.01*BT$2703,0,$C2041/60)))","v":{"$error":"#VALUE!"}},0,0,0,0,{"$error":"#VALUE!"},{"$error":"#VALUE!"},{"$error":"#VALUE!"},{"$error":"#VALUE!"},{"$error":"#VALUE!"},{"$error":"#VALUE!"},{"$error":"#VALUE!"},{"$error":"#VALUE!"},{"$error":"#VALUE!"},{"$error":"#VALUE!"},{"$error":"#VALUE!"},{"$f":"IF(SUM(CZ$1262:CZ2040)>0,0,IF(MAX(CS2041:CS$2702)=MAX(CS$1262:CS$2702),0,IF(CQ2041>0.03*CK$2703,0,$C2041/60)))","v":{"$error":"#VALUE!"}},{"$f":"IF(SUM(DA$1262:DA2040)>0,0,IF(MAX(CS2041:CS$2702)=MAX(CS$1262:CS$2702),0,IF(CQ2041>0.01*CK$2703,0,$C2041/60)))","v":{"$error":"#VALUE!"}}]
[null,65.25,3915,0,0,0,0,0,0,0,0,0,{"$error":"#N/A"},{"$error":"#N/A"},{"$error":"#N/A"},{"$error":"#N/A"},{"$error":"#N/A"},{"$error":"#N/A"},{"$f":"IF(SUM(S$1262:S2044)>0,0,\nIF(MAX(L2045:L$2702)=MAX(L$1262:L$2702),0,\nIF(Hydrograph_Source_WQCV=\"USER\",IF(J2045>0.03*D$2703,0,$C2045/60),\nIF(J2045>0.03*J$2703,0,$C2045/60))))","v":0},{"$f":"IF(SUM(T$1262:T2044)>0,0,\nIF(MAX(L2045:L$2702)=MAX(L$1262:L$2702),0,\nIF(Hydrograph_Source_WQCV=\"USER\",IF(J2045>0.01*D$2703,0,$C2045/60),\nIF(J2045>0.01*J$2703,0,$C2045/60))))","v":0},0,0,0,0,{"$error":"#VALUE!"},{"$error":"#VALUE!"},{"$error":"#VALUE!"},{"$error":"#VALUE!"},{"$error":"#VALUE!"},{"$error":"#VALUE!"},{"$error":"#VALUE!"},{"$error":"#VALUE!"},{"$error":"#VALUE!"},{"$error":"#VALUE!"},{"$error":"#VALUE!"},{"$f":"IF(SUM(AJ$1262:AJ2044)>0,0,IF(MAX(AC2045:AC$2702)=MAX(AC$1262:AC$2702),0,IF(AA2045>0.03*U$2703,0,$C2045/60)))","v":{"$error":"#VALUE!"}},{"$f":"IF(SUM(AK$1262:AK2044)>0,0,IF(MAX(AC2045:AC$2702)=MAX(AC$1262:AC$2702),0,IF(AA2045>0.01*U$2703,0,$C2045/60)))","v":{"$error":"#VALUE!"}},0,0,0,0,{"$error":"#VALUE!"},{"$error":"#VALUE!"},{"$error":"#VALUE!"},{"$error":"#VALUE!"},{"$error":"#VALUE!"},{"$error":"#VALUE!"},{"$error":"#VALUE!"},{"$error":"#VALUE!"},{"$error":"#VALUE!"},{"$error":"#VALUE!"},{"$error":"#VALUE!"},{"$f":"IF(SUM(BA$1262:BA2044)>0,0,IF(MAX(AT2045:AT$2702)=MAX(AT$1262:AT$2702),0,IF(AR2045>0.03*AL$2703,0,$C2045/60)))","v":{"$error":"#VALUE!"}},{"$f":"IF(SUM(BB$1262:BB2044)>0,0,IF(MAX(AT2045:AT$2702)=MAX(AT$1262:AT$2702),0,IF(AR2045>0.01*AL$2703,0,$C2045/60)))","v":{"$error":"#VALUE!"}},0,0,0,0,{"$error":"#VALUE!"},{"$error":"#VALUE!"},{"$error":"#VALUE!"},{"$error":"#VALUE!"},{"$error":"#VALUE!"},{"$error":"#VALUE!"},{"$error":"#VALUE!"},{"$error":"#VALUE!"},{"$error":"#VALUE!"},{"$error":"#VALUE!"},{"$error":"#VALUE!"},{"$f":"IF(SUM(BR$1262:BR2044)>0,0,IF(MAX(BK2045:BK$2702)=MAX(BK$1262:BK$2702),0,IF(BI2045>0.03*BC$2703,0,$C2045/60)))","v":{"$error":"#VALUE!"}},{"$f":"IF(SUM(BS$1262:BS2044)>0,0,IF(MAX(BK2045:BK$2702)=MAX(BK$1262:BK$2702),0,IF(BI2045>0.01*BC$2703,0,$C2045/60)))","v":{"$error":"#VALUE!"}},0,0,0,0,{"$error":"#VALUE!"},{"$error":"#VALUE!"},{"$error":"#VALUE!"},{"$error":"#VALUE!"},{"$error":"#VALUE!"},{"$error":"#VALUE!"},{"$error":"#VALUE!"},{"$error":"#VALUE!"},{"$error":"#VALUE!"},{"$error":"#VALUE!"},{"$error":"#VALUE!"},{"$f":"IF(SUM(CI$1262:CI2044)>0,0,IF(MAX(CB2045:CB$2702)=MAX(CB$1262:CB$2702),0,IF(BZ2045>0.03*BT$2703,0,$C2045/60)))","v":{"$error":"#VALUE!"}},{"$f":"IF(SUM(CJ$1262:CJ2044)>0,0,IF(MAX(CB2045:CB$2702)=MAX(CB$1262:CB$2702),0,IF(BZ2045>0.01*BT$2703,0,$C2045/60)))","v":{"$error":"#VALUE!"}},0,0,0,0,{"$error":"#VALUE!"},{"$error":"#VALUE!"},{"$error":"#VALUE!"},{"$error":"#VALUE!"},{"$error":"#VALUE!"},{"$error":"#VALUE!"},{"$error":"#VALUE!"},{"$error":"#VALUE!"},{"$error":"#VALUE!"},{"$error":"#VALUE!"},{"$error":"#VALUE!"},{"$f":"IF(SUM(CZ$1262:CZ2044)>0,0,IF(MAX(CS2045:CS$2702)=MAX(CS$1262:CS$2702),0,IF(CQ2045>0.03*CK$2703,0,$C2045/60)))","v":{"$error":"#VALUE!"}},{"$f":"IF(SUM(DA$1262:DA2044)>0,0,IF(MAX(CS2045:CS$2702)=MAX(CS$1262:CS$2702),0,IF(CQ2045>0.01*CK$2703,0,$C2045/60)))","v":{"$error":"#VALUE!"}}]
[null,65.5,3930,0,0,0,0,0,0,0,0,0,{"$error":"#N/A"},{"$error":"#N/A"},{"$error":"#N/A"},{"$error":"#N/A"},{"$error":"#N/A"},{"$error":"#N/A"},{"$f":"IF(SUM(S$1262:S2047)>0,0,\nIF(MAX(L2048:L$2702)=MAX(L$1262:L$2702),0,\nIF(Hydrograph_Source_WQCV=\"USER\",IF(J2048>0.03*D$2703,0,$C2048/60),\nIF(J2048>0.03*J$2703,0,$C2048/60))))","v":0},{"$f":"IF(SUM(T$1262:T2047)>0,0,\nIF(MAX(L2048:L$2702)=MAX(L$1262:L$2702),0,\nIF(Hydrograph_Source_WQCV=\"USER\",IF(J2048>0.01*D$2703,0,$C2048/60),\nIF(J2048>0.01*J$2703,0,$C2048/60))))","v":0},0,0,0,0,{"$error":"#VALUE!"},{"$error":"#VALUE!"},{"$error":"#VALUE!"},{"$error":"#VALUE!"},{"$error":"#VALUE!"},{"$error":"#VALUE!"},{"$error":"#VALUE!"},{"$error":"#VALUE!"},{"$error":"#VALUE!"},{"$error":"#VALUE!"},{"$error":"#VALUE!"},{"$f":"IF(SUM(AJ$1262:AJ2047)>0,0,IF(MAX(AC2048:AC$2702)=MAX(AC$1262:AC$2702),0,IF(AA2048>0.03*U$2703,0,$C2048/60)))","v":{"$error":"#VALUE!"}},{"$f":"IF(SUM(AK$1262:AK2047)>0,0,IF(MAX(AC2048:AC$2702)=MAX(AC$1262:AC$2702),0,IF(AA2048>0.01*U$2703,0,$C2048/60)))","v":{"$error":"#VALUE!"}},0,0,0,0,{"$error":"#VALUE!"},{"$error":"#VALUE!"},{"$error":"#VALUE!"},{"$error":"#VALUE!"},{"$error":"#VALUE!"},{"$error":"#VALUE!"},{"$error":"#VALUE!"},{"$error":"#VALUE!"},{"$error":"#VALUE!"},{"$error":"#VALUE!"},{"$error":"#VALUE!"},{"$f":"IF(SUM(BA$1262:BA2047)>0,0,IF(MAX(AT2048:AT$2702)=MAX(AT$1262:AT$2702),0,IF(AR2048>0.03*AL$2703,0,$C2048/60)))","v":{"$error":"#VALUE!"}},{"$f":"IF(SUM(BB$1262:BB2047)>0,0,IF(MAX(AT2048:AT$2702)=MAX(AT$1262:AT$2702),0,IF(AR2048>0.01*AL$2703,0,$C2048/60)))","v":{"$error":"#VALUE!"}},0,0,0,0,{"$error":"#VALUE!"},{"$error":"#VALUE!"},{"$error":"#VALUE!"},{"$error":"#VALUE!"},{"$error":"#VALUE!"},{"$error":"#VALUE!"},{"$error":"#VALUE!"},{"$error":"#VALUE!"},{"$error":"#VALUE!"},{"$error":"#VALUE!"},{"$error":"#VALUE!"},{"$f":"IF(SUM(BR$1262:BR2047)>0,0,IF(MAX(BK2048:BK$2702)=MAX(BK$1262:BK$2702),0,IF(BI2048>0.03*BC$2703,0,$C2048/60)))","v":{"$error":"#VALUE!"}},{"$f":"IF(SUM(BS$1262:BS2047)>0,0,IF(MAX(BK2048:BK$2702)=MAX(BK$1262:BK$2702),0,IF(BI2048>0.01*BC$2703,0,$C2048/60)))","v":{"$error":"#VALUE!"}},0,0,0,0,{"$error":"#VALUE!"},{"$error":"#VALUE!"},{"$error":"#VALUE!"},{"$error":"#VALUE!"},{"$error":"#VALUE!"},{"$error":"#VALUE!"},{"$error":"#VALUE!"},{"$error":"#VALUE!"},{"$error":"#VALUE!"},{"$error":"#VALUE!"},{"$error":"#VALUE!"},{"$f":"IF(SUM(CI$1262:CI2047)>0,0,IF(MAX(CB2048:CB$2702)=MAX(CB$1262:CB$2702),0,IF(BZ2048>0.03*BT$2703,0,$C2048/60)))","v":{"$error":"#VALUE!"}},{"$f":"IF(SUM(CJ$1262:CJ2047)>0,0,IF(MAX(CB2048:CB$2702)=MAX(CB$1262:CB$2702),0,IF(BZ2048>0.01*BT$2703,0,$C2048/60)))","v":{"$error":"#VALUE!"}},0,0,0,0,{"$error":"#VALUE!"},{"$error":"#VALUE!"},{"$error":"#VALUE!"},{"$error":"#VALUE!"},{"$error":"#VALUE!"},{"$error":"#VALUE!"},{"$error":"#VALUE!"},{"$error":"#VALUE!"},{"$error":"#VALUE!"},{"$error":"#VALUE!"},{"$error":"#VALUE!"},{"$f":"IF(SUM(CZ$1262:CZ2047)>0,0,IF(MAX(CS2048:CS$2702)=MAX(CS$1262:CS$2702),0,IF(CQ2048>0.03*CK$2703,0,$C2048/60)))","v":{"$error":"#VALUE!"}},{"$f":"IF(SUM(DA$1262:DA2047)>0,0,IF(MAX(CS2048:CS$2702)=MAX(CS$1262:CS$2702),0,IF(CQ2048>0.01*CK$2703,0,$C2048/60)))","v":{"$error":"#VALUE!"}}]
[null,65.916666666666671,3955,0,0,0,0,0,0,0,0,0,{"$error":"#N/A"},{"$error":"#N/A"},{"$error":"#N/A"},{"$error":"#N/A"},{"$error":"#N/A"},{"$error":"#N/A"},{"$f":"IF(SUM(S$1262:S2052)>0,0,\nIF(MAX(L2053:L$2702)=MAX(L$1262:L$2702),0,\nIF(Hydrograph_Source_WQCV=\"USER\",IF(J2053>0.03*D$2703,0,$C2053/60),\nIF(J2053>0.03*J$2703,0,$C2053/60))))","v":0},{"$f":"IF(SUM(T$1262:T2052)>0,0,\nIF(MAX(L2053:L$2702)=MAX(L$1262:L$2702),0,\nIF(Hydrograph_Source_WQCV=\"USER\",IF(J2053>0.01*D$2703,0,$C2053/60),\nIF(J2053>0.01*J$2703,0,$C2053/60))))","v":0},0,0,0,0,{"$error":"#VALUE!"},{"$error":"#VALUE!"},{"$error":"#VALUE!"},{"$error":"#VALUE!"},{"$error":"#VALUE!"},{"$error":"#VALUE!"},{"$error":"#VALUE!"},{"$error":"#VALUE!"},{"$error":"#VALUE!"},{"$error":"#VALUE!"},{"$error":"#VALUE!"},{"$f":"IF(SUM(AJ$1262:AJ2052)>0,0,IF(MAX(AC2053:AC$2702)=MAX(AC$1262:AC$2702),0,IF(AA2053>0.03*U$2703,0,$C2053/60)))","v":{"$error":"#VALUE!"}},{"$f":"IF(SUM(AK$1262:AK2052)>0,0,IF(MAX(AC2053:AC$2702)=MAX(AC$1262:AC$2702),0,IF(AA2053>0.01*U$2703,0,$C2053/60)))","v":{"$error":"#VALUE!"}},0,0,0,0,{"$error":"#VALUE!"},{"$error":"#VALUE!"},{"$error":"#VALUE!"},{"$error":"#VALUE!"},{"$error":"#VALUE!"},{"$error":"#VALUE!"},{"$error":"#VALUE!"},{"$error":"#VALUE!"},{"$error":"#VALUE!"},{"$error":"#VALUE!"},{"$error":"#VALUE!"},{"$f":"IF(SUM(BA$1262:BA2052)>0,0,IF(MAX(AT2053:AT$2702)=MAX(AT$1262:AT$2702),0,IF(AR2053>0.03*AL$2703,0,$C2053/60)))","v":{"$error":"#VALUE!"}},{"$f":"IF(SUM(BB$1262:BB2052)>0,0,IF(MAX(AT2053:AT$2702)=MAX(AT$1262:AT$2702),0,IF(AR2053>0.01*AL$2703,0,$C2053/60)))","v":{"$error":"#VALUE!"}},0,0,0,0,{"$error":"#VALUE!"},{"$error":"#VALUE!"},{"$error":"#VALUE!"},{"$error":"#VALUE!"},{"$error":"#VALUE!"},{"$error":"#VALUE!"},{"$error":"#VALUE!"},{"$error":"#VALUE!"},{"$error":"#VALUE!"},{"$error":"#VALUE!"},{"$error":"#VALUE!"},{"$f":"IF(SUM(BR$1262:BR2052)>0,0,IF(MAX(BK2053:BK$2702)=MAX(BK$1262:BK$2702),0,IF(BI2053>0.03*BC$2703,0,$C2053/60)))","v":{"$error":"#VALUE!"}},{"$f":"IF(SUM(BS$1262:BS2052)>0,0,IF(MAX(BK2053:BK$2702)=MAX(BK$1262:BK$2702),0,IF(BI2053>0.01*BC$2703,0,$C2053/60)))","v":{"$error":"#VALUE!"}},0,0,0,0,{"$error":"#VALUE!"},{"$error":"#VALUE!"},{"$error":"#VALUE!"},{"$error":"#VALUE!"},{"$error":"#VALUE!"},{"$error":"#VALUE!"},{"$error":"#VALUE!"},{"$error":"#VALUE!"},{"$error":"#VALUE!"},{"$error":"#VALUE!"},{"$error":"#VALUE!"},{"$f":"IF(SUM(CI$1262:CI2052)>0,0,IF(MAX(CB2053:CB$2702)=MAX(CB$1262:CB$2702),0,IF(BZ2053>0.03*BT$2703,0,$C2053/60)))","v":{"$error":"#VALUE!"}},{"$f":"IF(SUM(CJ$1262:CJ2052)>0,0,IF(MAX(CB2053:CB$2702)=MAX(CB$1262:CB$2702),0,IF(BZ2053>0.01*BT$2703,0,$C2053/60)))","v":{"$error":"#VALUE!"}},0,0,0,0,{"$error":"#VALUE!"},{"$error":"#VALUE!"},{"$error":"#VALUE!"},{"$error":"#VALUE!"},{"$error":"#VALUE!"},{"$error":"#VALUE!"},{"$error":"#VALUE!"},{"$error":"#VALUE!"},{"$error":"#VALUE!"},{"$error":"#VALUE!"},{"$error":"#VALUE!"},{"$f":"IF(SUM(CZ$1262:CZ2052)>0,0,IF(MAX(CS2053:CS$2702)=MAX(CS$1262:CS$2702),0,IF(CQ2053>0.03*CK$2703,0,$C2053/60)))","v":{"$error":"#VALUE!"}},{"$f":"IF(SUM(DA$1262:DA2052)>0,0,IF(MAX(CS2053:CS$2702)=MAX(CS$1262:CS$2702),0,IF(CQ2053>0.01*CK$2703,0,$C2053/60)))","v":{"$error":"#VALUE!"}}]
[null,66.416666666666671,3985,0,0,0,0,0,0,0,0,0,{"$error":"#N/A"},{"$error":"#N/A"},{"$error":"#N/A"},{"$error":"#N/A"},{"$error":"#N/A"},{"$error":"#N/A"},{"$f":"IF(SUM(S$1262:S2058)>0,0,\nIF(MAX(L2059:L$2702)=MAX(L$1262:L$2702),0,\nIF(Hydrograph_Source_WQCV=\"USER\",IF(J2059>0.03*D$2703,0,$C2059/60),\nIF(J2059>0.03*J$2703,0,$C2059/60))))","v":0},{"$f":"IF(SUM(T$1262:T2058)>0,0,\nIF(MAX(L2059:L$2702)=MAX(L$1262:L$2702),0,\nIF(Hydrograph_Source_WQCV=\"USER\",IF(J2059>0.01*D$2703,0,$C2059/60),\nIF(J2059>0.01*J$2703,0,$C2059/60))))","v":0},0,0,0,0,{"$error":"#VALUE!"},{"$error":"#VALUE!"},{"$error":"#VALUE!"},{"$error":"#VALUE!"},{"$error":"#VALUE!"},{"$error":"#VALUE!"},{"$error":"#VALUE!"},{"$error":"#VALUE!"},{"$error":"#VALUE!"},{"$error":"#VALUE!"},{"$error":"#VALUE!"},{"$f":"IF(SUM(AJ$1262:AJ2058)>0,0,IF(MAX(AC2059:AC$2702)=MAX(AC$1262:AC$2702),0,IF(AA2059>0.03*U$2703,0,$C2059/60)))","v":{"$error":"#VALUE!"}},{"$f":"IF(SUM(AK$1262:AK2058)>0,0,IF(MAX(AC2059:AC$2702)=MAX(AC$1262:AC$2702),0,IF(AA2059>0.01*U$2703,0,$C2059/60)))","v":{"$error":"#VALUE!"}},0,0,0,0,{"$error":"#VALUE!"},{"$error":"#VALUE!"},{"$error":"#VALUE!"},{"$error":"#VALUE!"},{"$error":"#VALUE!"},{"$error":"#VALUE!"},{"$error":"#VALUE!"},{"$error":"#VALUE!"},{"$error":"#VALUE!"},{"$error":"#VALUE!"},{"$error":"#VALUE!"},{"$f":"IF(SUM(BA$1262:BA2058)>0,0,IF(MAX(AT2059:AT$2702)=MAX(AT$1262:AT$2702),0,IF(AR2059>0.03*AL$2703,0,$C2059/60)))","v":{"$error":"#VALUE!"}},{"$f":"IF(SUM(BB$1262:BB2058)>0,0,IF(MAX(AT2059:AT$2702)=MAX(AT$1262:AT$2702),0,IF(AR2059>0.01*AL$2703,0,$C2059/60)))","v":{"$error":"#VALUE!"}},0,0,0,0,{"$error":"#VALUE!"},{"$error":"#VALUE!"},{"$error":"#VALUE!"},{"$error":"#VALUE!"},{"$error":"#VALUE!"},{"$error":"#VALUE!"},{"$error":"#VALUE!"},{"$error":"#VALUE!"},{"$error":"#VALUE!"},{"$error":"#VALUE!"},{"$error":"#VALUE!"},{"$f":"IF(SUM(BR$1262:BR2058)>0,0,IF(MAX(BK2059:BK$2702)=MAX(BK$1262:BK$2702),0,IF(BI2059>0.03*BC$2703,0,$C2059/60)))","v":{"$error":"#VALUE!"}},{"$f":"IF(SUM(BS$1262:BS2058)>0,0,IF(MAX(BK2059:BK$2702)=MAX(BK$1262:BK$2702),0,IF(BI2059>0.01*BC$2703,0,$C2059/60)))","v":{"$error":"#VALUE!"}},0,0,0,0,{"$error":"#VALUE!"},{"$error":"#VALUE!"},{"$error":"#VALUE!"},{"$error":"#VALUE!"},{"$error":"#VALUE!"},{"$error":"#VALUE!"},{"$error":"#VALUE!"},{"$error":"#VALUE!"},{"$error":"#VALUE!"},{"$error":"#VALUE!"},{"$error":"#VALUE!"},{"$f":"IF(SUM(CI$1262:CI2058)>0,0,IF(MAX(CB2059:CB$2702)=MAX(CB$1262:CB$2702),0,IF(BZ2059>0.03*BT$2703,0,$C2059/60)))","v":{"$error":"#VALUE!"}},{"$f":"IF(SUM(CJ$1262:CJ2058)>0,0,IF(MAX(CB2059:CB$2702)=MAX(CB$1262:CB$2702),0,IF(BZ2059>0.01*BT$2703,0,$C2059/60)))","v":{"$error":"#VALUE!"}},0,0,0,0,{"$error":"#VALUE!"},{"$error":"#VALUE!"},{"$error":"#VALUE!"},{"$error":"#VALUE!"},{"$error":"#VALUE!"},{"$error":"#VALUE!"},{"$error":"#VALUE!"},{"$error":"#VALUE!"},{"$error":"#VALUE!"},{"$error":"#VALUE!"},{"$error":"#VALUE!"},{"$f":"IF(SUM(CZ$1262:CZ2058)>0,0,IF(MAX(CS2059:CS$2702)=MAX(CS$1262:CS$2702),0,IF(CQ2059>0.03*CK$2703,0,$C2059/60)))","v":{"$error":"#VALUE!"}},{"$f":"IF(SUM(DA$1262:DA2058)>0,0,IF(MAX(CS2059:CS$2702)=MAX(CS$1262:CS$2702),0,IF(CQ2059>0.01*CK$2703,0,$C2059/60)))","v":{"$error":"#VALUE!"}}]
[null,66.833333333333329,4010,0,0,0,0,0,0,0,0,0,{"$error":"#N/A"},{"$error":"#N/A"},{"$error":"#N/A"},{"$error":"#N/A"},{"$error":"#N/A"},{"$error":"#N/A"},{"$f":"IF(SUM(S$1262:S2063)>0,0,\nIF(MAX(L2064:L$2702)=MAX(L$1262:L$2702),0,\nIF(Hydrograph_Source_WQCV=\"USER\",IF(J2064>0.03*D$2703,0,$C2064/60),\nIF(J2064>0.03*J$2703,0,$C2064/60))))","v":0},{"$f":"IF(SUM(T$1262:T2063)>0,0,\nIF(MAX(L2064:L$2702)=MAX(L$1262:L$2702),0,\nIF(Hydrograph_Source_WQCV=\"USER\",IF(J2064>0.01*D$2703,0,$C2064/60),\nIF(J2064>0.01*J$2703,0,$C2064/60))))","v":0},0,0,0,0,{"$error":"#VALUE!"},{"$error":"#VALUE!"},{"$error":"#VALUE!"},{"$error":"#VALUE!"},{"$error":"#VALUE!"},{"$error":"#VALUE!"},{"$error":"#VALUE!"},{"$error":"#VALUE!"},{"$error":"#VALUE!"},{"$error":"#VALUE!"},{"$error":"#VALUE!"},{"$f":"IF(SUM(AJ$1262:AJ2063)>0,0,IF(MAX(AC2064:AC$2702)=MAX(AC$1262:AC$2702),0,IF(AA2064>0.03*U$2703,0,$C2064/60)))","v":{"$error":"#VALUE!"}},{"$f":"IF(SUM(AK$1262:AK2063)>0,0,IF(MAX(AC2064:AC$2702)=MAX(AC$1262:AC$2702),0,IF(AA2064>0.01*U$2703,0,$C2064/60)))","v":{"$error":"#VALUE!"}},0,0,0,0,{"$error":"#VALUE!"},{"$error":"#VALUE!"},{"$error":"#VALUE!"},{"$error":"#VALUE!"},{"$error":"#VALUE!"},{"$error":"#VALUE!"},{"$error":"#VALUE!"},{"$error":"#VALUE!"},{"$error":"#VALUE!"},{"$error":"#VALUE!"},{"$error":"#VALUE!"},{"$f":"IF(SUM(BA$1262:BA2063)>0,0,IF(MAX(AT2064:AT$2702)=MAX(AT$1262:AT$2702),0,IF(AR2064>0.03*AL$2703,0,$C2064/60)))","v":{"$error":"#VALUE!"}},{"$f":"IF(SUM(BB$1262:BB2063)>0,0,IF(MAX(AT2064:AT$2702)=MAX(AT$1262:AT$2702),0,IF(AR2064>0.01*AL$2703,0,$C2064/60)))","v":{"$error":"#VALUE!"}},0,0,0,0,{"$error":"#VALUE!"},{"$error":"#VALUE!"},{"$error":"#VALUE!"},{"$error":"#VALUE!"},{"$error":"#VALUE!"},{"$error":"#VALUE!"},{"$error":"#VALUE!"},{"$error":"#VALUE!"},{"$error":"#VALUE!"},{"$error":"#VALUE!"},{"$error":"#VALUE!"},{"$f":"IF(SUM(BR$1262:BR2063)>0,0,IF(MAX(BK2064:BK$2702)=MAX(BK$1262:BK$2702),0,IF(BI2064>0.03*BC$2703,0,$C2064/60)))","v":{"$error":"#VALUE!"}},{"$f":"IF(SUM(BS$1262:BS2063)>0,0,IF(MAX(BK2064:BK$2702)=MAX(BK$1262:BK$2702),0,IF(BI2064>0.01*BC$2703,0,$C2064/60)))","v":{"$error":"#VALUE!"}},0,0,0,0,{"$error":"#VALUE!"},{"$error":"#VALUE!"},{"$error":"#VALUE!"},{"$error":"#VALUE!"},{"$error":"#VALUE!"},{"$error":"#VALUE!"},{"$error":"#VALUE!"},{"$error":"#VALUE!"},{"$error":"#VALUE!"},{"$error":"#VALUE!"},{"$error":"#VALUE!"},{"$f":"IF(SUM(CI$1262:CI2063)>0,0,IF(MAX(CB2064:CB$2702)=MAX(CB$1262:CB$2702),0,IF(BZ2064>0.03*BT$2703,0,$C2064/60)))","v":{"$error":"#VALUE!"}},{"$f":"IF(SUM(CJ$1262:CJ2063)>0,0,IF(MAX(CB2064:CB$2702)=MAX(CB$1262:CB$2702),0,IF(BZ2064>0.01*BT$2703,0,$C2064/60)))","v":{"$error":"#VALUE!"}},0,0,0,0,{"$error":"#VALUE!"},{"$error":"#VALUE!"},{"$error":"#VALUE!"},{"$error":"#VALUE!"},{"$error":"#VALUE!"},{"$error":"#VALUE!"},{"$error":"#VALUE!"},{"$error":"#VALUE!"},{"$error":"#VALUE!"},{"$error":"#VALUE!"},{"$error":"#VALUE!"},{"$f":"IF(SUM(CZ$1262:CZ2063)>0,0,IF(MAX(CS2064:CS$2702)=MAX(CS$1262:CS$2702),0,IF(CQ2064>0.03*CK$2703,0,$C2064/60)))","v":{"$error":"#VALUE!"}},{"$f":"IF(SUM(DA$1262:DA2063)>0,0,IF(MAX(CS2064:CS$2702)=MAX(CS$1262:CS$2702),0,IF(CQ2064>0.01*CK$2703,0,$C2064/60)))","v":{"$error":"#VALUE!"}}]
[null,66.916666666666671,4015,0,0,0,0,0,0,0,0,0,{"$error":"#N/A"},{"$error":"#N/A"},{"$error":"#N/A"},{"$error":"#N/A"},{"$error":"#N/A"},{"$error":"#N/A"},{"$f":"IF(SUM(S$1262:S2064)>0,0,\nIF(MAX(L2065:L$2702)=MAX(L$1262:L$2702),0,\nIF(Hydrograph_Source_WQCV=\"USER\",IF(J2065>0.03*D$2703,0,$C2065/60),\nIF(J2065>0.03*J$2703,0,$C2065/60))))","v":0},{"$f":"IF(SUM(T$1262:T2064)>0,0,\nIF(MAX(L2065:L$2702)=MAX(L$1262:L$2702),0,\nIF(Hydrograph_Source_WQCV=\"USER\",IF(J2065>0.01*D$2703,0,$C2065/60),\nIF(J2065>0.01*J$2703,0,$C2065/60))))","v":0},0,0,0,0,{"$error":"#VALUE!"},{"$error":"#VALUE!"},{"$error":"#VALUE!"},{"$error":"#VALUE!"},{"$error":"#VALUE!"},{"$error":"#VALUE!"},{"$error":"#VALUE!"},{"$error":"#VALUE!"},{"$error":"#VALUE!"},{"$error":"#VALUE!"},{"$error":"#VALUE!"},{"$f":"IF(SUM(AJ$1262:AJ2064)>0,0,IF(MAX(AC2065:AC$2702)=MAX(AC$1262:AC$2702),0,IF(AA2065>0.03*U$2703,0,$C2065/60)))","v":{"$error":"#VALUE!"}},{"$f":"IF(SUM(AK$1262:AK2064)>0,0,IF(MAX(AC2065:AC$2702)=MAX(AC$1262:AC$2702),0,IF(AA2065>0.01*U$2703,0,$C2065/60)))","v":{"$error":"#VALUE!"}},0,0,0,0,{"$error":"#VALUE!"},{"$error":"#VALUE!"},{"$error":"#VALUE!"},{"$error":"#VALUE!"},{"$error":"#VALUE!"},{"$error":"#VALUE!"},{"$error":"#VALUE!"},{"$error":"#VALUE!"},{"$error":"#VALUE!"},{"$error":"#VALUE!"},{"$error":"#VALUE!"},{"$f":"IF(SUM(BA$1262:BA2064)>0,0,IF(MAX(AT2065:AT$2702)=MAX(AT$1262:AT$2702),0,IF(AR2065>0.03*AL$2703,0,$C2065/60)))","v":{"$error":"#VALUE!"}},{"$f":"IF(SUM(BB$1262:BB2064)>0,0,IF(MAX(AT2065:AT$2702)=MAX(AT$1262:AT$2702),0,IF(AR2065>0.01*AL$2703,0,$C2065/60)))","v":{"$error":"#VALUE!"}},0,0,0,0,{"$error":"#VALUE!"},{"$error":"#VALUE!"},{"$error":"#VALUE!"},{"$error":"#VALUE!"},{"$error":"#VALUE!"},{"$error":"#VALUE!"},{"$error":"#VALUE!"},{"$error":"#VALUE!"},{"$error":"#VALUE!"},{"$error":"#VALUE!"},{"$error":"#VALUE!"},{"$f":"IF(SUM(BR$1262:BR2064)>0,0,IF(MAX(BK2065:BK$2702)=MAX(BK$1262:BK$2702),0,IF(BI2065>0.03*BC$2703,0,$C2065/60)))","v":{"$error":"#VALUE!"}},{"$f":"IF(SUM(BS$1262:BS2064)>0,0,IF(MAX(BK2065:BK$2702)=MAX(BK$1262:BK$2702),0,IF(BI2065>0.01*BC$2703,0,$C2065/60)))","v":{"$error":"#VALUE!"}},0,0,0,0,{"$error":"#VALUE!"},{"$error":"#VALUE!"},{"$error":"#VALUE!"},{"$error":"#VALUE!"},{"$error":"#VALUE!"},{"$error":"#VALUE!"},{"$error":"#VALUE!"},{"$error":"#VALUE!"},{"$error":"#VALUE!"},{"$error":"#VALUE!"},{"$error":"#VALUE!"},{"$f":"IF(SUM(CI$1262:CI2064)>0,0,IF(MAX(CB2065:CB$2702)=MAX(CB$1262:CB$2702),0,IF(BZ2065>0.03*BT$2703,0,$C2065/60)))","v":{"$error":"#VALUE!"}},{"$f":"IF(SUM(CJ$1262:CJ2064)>0,0,IF(MAX(CB2065:CB$2702)=MAX(CB$1262:CB$2702),0,IF(BZ2065>0.01*BT$2703,0,$C2065/60)))","v":{"$error":"#VALUE!"}},0,0,0,0,{"$error":"#VALUE!"},{"$error":"#VALUE!"},{"$error":"#VALUE!"},{"$error":"#VALUE!"},{"$error":"#VALUE!"},{"$error":"#VALUE!"},{"$error":"#VALUE!"},{"$error":"#VALUE!"},{"$error":"#VALUE!"},{"$error":"#VALUE!"},{"$error":"#VALUE!"},{"$f":"IF(SUM(CZ$1262:CZ2064)>0,0,IF(MAX(CS2065:CS$2702)=MAX(CS$1262:CS$2702),0,IF(CQ2065>0.03*CK$2703,0,$C2065/60)))","v":{"$error":"#VALUE!"}},{"$f":"IF(SUM(DA$1262:DA2064)>0,0,IF(MAX(CS2065:CS$2702)=MAX(CS$1262:CS$2702),0,IF(CQ2065>0.01*CK$2703,0,$C2065/60)))","v":{"$error":"#VALUE!"}}]
[null,67.25,4035,0,0,0,0,0,0,0,0,0,{"$error":"#N/A"},{"$error":"#N/A"},{"$error":"#N/A"},{"$error":"#N/A"},{"$error":"#N/A"},{"$error":"#N/A"},{"$f":"IF(SUM(S$1262:S2068)>0,0,\nIF(MAX(L2069:L$2702)=MAX(L$1262:L$2702),0,\nIF(Hydrograph_Source_WQCV=\"USER\",IF(J2069>0.03*D$2703,0,$C2069/60),\nIF(J2069>0.03*J$2703,0,$C2069/60))))","v":0},{"$f":"IF(SUM(T$1262:T2068)>0,0,\nIF(MAX(L2069:L$2702)=MAX(L$1262:L$2702),0,\nIF(Hydrograph_Source_WQCV=\"USER\",IF(J2069>0.01*D$2703,0,$C2069/60),\nIF(J2069>0.01*J$2703,0,$C2069/60))))","v":0},0,0,0,0,{"$error":"#VALUE!"},{"$error":"#VALUE!"},{"$error":"#VALUE!"},{"$error":"#VALUE!"},{"$error":"#VALUE!"},{"$error":"#VALUE!"},{"$error":"#VALUE!"},{"$error":"#VALUE!"},{"$error":"#VALUE!"},{"$error":"#VALUE!"},{"$error":"#VALUE!"},{"$f":"IF(SUM(AJ$1262:AJ2068)>0,0,IF(MAX(AC2069:AC$2702)=MAX(AC$1262:AC$2702),0,IF(AA2069>0.03*U$2703,0,$C2069/60)))","v":{"$error":"#VALUE!"}},{"$f":"IF(SUM(AK$1262:AK2068)>0,0,IF(MAX(AC2069:AC$2702)=MAX(AC$1262:AC$2702),0,IF(AA2069>0.01*U$2703,0,$C2069/60)))","v":{"$error":"#VALUE!"}},0,0,0,0,{"$error":"#VALUE!"},{"$error":"#VALUE!"},{"$error":"#VALUE!"},{"$error":"#VALUE!"},{"$error":"#VALUE!"},{"$error":"#VALUE!"},{"$error":"#VALUE!"},{"$error":"#VALUE!"},{"$error":"#VALUE!"},{"$error":"#VALUE!"},{"$error":"#VALUE!"},{"$f":"IF(SUM(BA$1262:BA2068)>0,0,IF(MAX(AT2069:AT$2702)=MAX(AT$1262:AT$2702),0,IF(AR2069>0.03*AL$2703,0,$C2069/60)))","v":{"$error":"#VALUE!"}},{"$f":"IF(SUM(BB$1262:BB2068)>0,0,IF(MAX(AT2069:AT$2702)=MAX(AT$1262:AT$2702),0,IF(AR2069>0.01*AL$2703,0,$C2069/60)))","v":{"$error":"#VALUE!"}},0,0,0,0,{"$error":"#VALUE!"},{"$error":"#VALUE!"},{"$error":"#VALUE!"},{"$error":"#VALUE!"},{"$error":"#VALUE!"},{"$error":"#VALUE!"},{"$error":"#VALUE!"},{"$error":"#VALUE!"},{"$error":"#VALUE!"},{"$error":"#VALUE!"},{"$error":"#VALUE!"},{"$f":"IF(SUM(BR$1262:BR2068)>0,0,IF(MAX(BK2069:BK$2702)=MAX(BK$1262:BK$2702),0,IF(BI2069>0.03*BC$2703,0,$C2069/60)))","v":{"$error":"#VALUE!"}},{"$f":"IF(SUM(BS$1262:BS2068)>0,0,IF(MAX(BK2069:BK$2702)=MAX(BK$1262:BK$2702),0,IF(BI2069>0.01*BC$2703,0,$C2069/60)))","v":{"$error":"#VALUE!"}},0,0,0,0,{"$error":"#VALUE!"},{"$error":"#VALUE!"},{"$error":"#VALUE!"},{"$error":"#VALUE!"},{"$error":"#VALUE!"},{"$error":"#VALUE!"},{"$error":"#VALUE!"},{"$error":"#VALUE!"},{"$error":"#VALUE!"},{"$error":"#VALUE!"},{"$error":"#VALUE!"},{"$f":"IF(SUM(CI$1262:CI2068)>0,0,IF(MAX(CB2069:CB$2702)=MAX(CB$1262:CB$2702),0,IF(BZ2069>0.03*BT$2703,0,$C2069/60)))","v":{"$error":"#VALUE!"}},{"$f":"IF(SUM(CJ$1262:CJ2068)>0,0,IF(MAX(CB2069:CB$2702)=MAX(CB$1262:CB$2702),0,IF(BZ2069>0.01*BT$2703,0,$C2069/60)))","v":{"$error":"#VALUE!"}},0,0,0,0,{"$error":"#VALUE!"},{"$error":"#VALUE!"},{"$error":"#VALUE!"},{"$error":"#VALUE!"},{"$error":"#VALUE!"},{"$error":"#VALUE!"},{"$error":"#VALUE!"},{"$error":"#VALUE!"},{"$error":"#VALUE!"},{"$error":"#VALUE!"},{"$error":"#VALUE!"},{"$f":"IF(SUM(CZ$1262:CZ2068)>0,0,IF(MAX(CS2069:CS$2702)=MAX(CS$1262:CS$2702),0,IF(CQ2069>0.03*CK$2703,0,$C2069/60)))","v":{"$error":"#VALUE!"}},{"$f":"IF(SUM(DA$1262:DA2068)>0,0,IF(MAX(CS2069:CS$2702)=MAX(CS$1262:CS$2702),0,IF(CQ2069>0.01*CK$2703,0,$C2069/60)))","v":{"$error":"#VALUE!"}}]
[null,67.833333333333329,4070,0,0,0,0,0,0,0,0,0,{"$error":"#N/A"},{"$error":"#N/A"},{"$error":"#N/A"},{"$error":"#N/A"},{"$error":"#N/A"},{"$error":"#N/A"},{"$f":"IF(SUM(S$1262:S2075)>0,0,\nIF(MAX(L2076:L$2702)=MAX(L$1262:L$2702),0,\nIF(Hydrograph_Source_WQCV=\"USER\",IF(J2076>0.03*D$2703,0,$C2076/60),\nIF(J2076>0.03*J$2703,0,$C2076/60))))","v":0},{"$f":"IF(SUM(T$1262:T2075)>0,0,\nIF(MAX(L2076:L$2702)=MAX(L$1262:L$2702),0,\nIF(Hydrograph_Source_WQCV=\"USER\",IF(J2076>0.01*D$2703,0,$C2076/60),\nIF(J2076>0.01*J$2703,0,$C2076/60))))","v":0},0,0,0,0,{"$error":"#VALUE!"},{"$error":"#VALUE!"},{"$error":"#VALUE!"},{"$error":"#VALUE!"},{"$error":"#VALUE!"},{"$error":"#VALUE!"},{"$error":"#VALUE!"},{"$error":"#VALUE!"},{"$error":"#VALUE!"},{"$error":"#VALUE!"},{"$error":"#VALUE!"},{"$f":"IF(SUM(AJ$1262:AJ2075)>0,0,IF(MAX(AC2076:AC$2702)=MAX(AC$1262:AC$2702),0,IF(AA2076>0.03*U$2703,0,$C2076/60)))","v":{"$error":"#VALUE!"}},{"$f":"IF(SUM(AK$1262:AK2075)>0,0,IF(MAX(AC2076:AC$2702)=MAX(AC$1262:AC$2702),0,IF(AA2076>0.01*U$2703,0,$C2076/60)))","v":{"$error":"#VALUE!"}},0,0,0,0,{"$error":"#VALUE!"},{"$error":"#VALUE!"},{"$error":"#VALUE!"},{"$error":"#VALUE!"},{"$error":"#VALUE!"},{"$error":"#VALUE!"},{"$error":"#VALUE!"},{"$error":"#VALUE!"},{"$error":"#VALUE!"},{"$error":"#VALUE!"},{"$error":"#VALUE!"},{"$f":"IF(SUM(BA$1262:BA2075)>0,0,IF(MAX(AT2076:AT$2702)=MAX(AT$1262:AT$2702),0,IF(AR2076>0.03*AL$2703,0,$C2076/60)))","v":{"$error":"#VALUE!"}},{"$f":"IF(SUM(BB$1262:BB2075)>0,0,IF(MAX(AT2076:AT$2702)=MAX(AT$1262:AT$2702),0,IF(AR2076>0.01*AL$2703,0,$C2076/60)))","v":{"$error":"#VALUE!"}},0,0,0,0,{"$error":"#VALUE!"},{"$error":"#VALUE!"},{"$error":"#VALUE!"},{"$error":"#VALUE!"},{"$error":"#VALUE!"},{"$error":"#VALUE!"},{"$error":"#VALUE!"},{"$error":"#VALUE!"},{"$error":"#VALUE!"},{"$error":"#VALUE!"},{"$error":"#VALUE!"},{"$f":"IF(SUM(BR$1262:BR2075)>0,0,IF(MAX(BK2076:BK$2702)=MAX(BK$1262:BK$2702),0,IF(BI2076>0.03*BC$2703,0,$C2076/60)))","v":{"$error":"#VALUE!"}},{"$f":"IF(SUM(BS$1262:BS2075)>0,0,IF(MAX(BK2076:BK$2702)=MAX(BK$1262:BK$2702),0,IF(BI2076>0.01*BC$2703,0,$C2076/60)))","v":{"$error":"#VALUE!"}},0,0,0,0,{"$error":"#VALUE!"},{"$error":"#VALUE!"},{"$error":"#VALUE!"},{"$error":"#VALUE!"},{"$error":"#VALUE!"},{"$error":"#VALUE!"},{"$error":"#VALUE!"},{"$error":"#VALUE!"},{"$error":"#VALUE!"},{"$error":"#VALUE!"},{"$error":"#VALUE!"},{"$f":"IF(SUM(CI$1262:CI2075)>0,0,IF(MAX(CB2076:CB$2702)=MAX(CB$1262:CB$2702),0,IF(BZ2076>0.03*BT$2703,0,$C2076/60)))","v":{"$error":"#VALUE!"}},{"$f":"IF(SUM(CJ$1262:CJ2075)>0,0,IF(MAX(CB2076:CB$2702)=MAX(CB$1262:CB$2702),0,IF(BZ2076>0.01*BT$2703,0,$C2076/60)))","v":{"$error":"#VALUE!"}},0,0,0,0,{"$error":"#VALUE!"},{"$error":"#VALUE!"},{"$error":"#VALUE!"},{"$error":"#VALUE!"},{"$error":"#VALUE!"},{"$error":"#VALUE!"},{"$error":"#VALUE!"},{"$error":"#VALUE!"},{"$error":"#VALUE!"},{"$error":"#VALUE!"},{"$error":"#VALUE!"},{"$f":"IF(SUM(CZ$1262:CZ2075)>0,0,IF(MAX(CS2076:CS$2702)=MAX(CS$1262:CS$2702),0,IF(CQ2076>0.03*CK$2703,0,$C2076/60)))","v":{"$error":"#VALUE!"}},{"$f":"IF(SUM(DA$1262:DA2075)>0,0,IF(MAX(CS2076:CS$2702)=MAX(CS$1262:CS$2702),0,IF(CQ2076>0.01*CK$2703,0,$C2076/60)))","v":{"$error":"#VALUE!"}}]
[null,68.25,4095,0,0,0,0,0,0,0,0,0,{"$error":"#N/A"},{"$error":"#N/A"},{"$error":"#N/A"},{"$error":"#N/A"},{"$error":"#N/A"},{"$error":"#N/A"},{"$f":"IF(SUM(S$1262:S2080)>0,0,\nIF(MAX(L2081:L$2702)=MAX(L$1262:L$2702),0,\nIF(Hydrograph_Source_WQCV=\"USER\",IF(J2081>0.03*D$2703,0,$C2081/60),\nIF(J2081>0.03*J$2703,0,$C2081/60))))","v":0},{"$f":"IF(SUM(T$1262:T2080)>0,0,\nIF(MAX(L2081:L$2702)=MAX(L$1262:L$2702),0,\nIF(Hydrograph_Source_WQCV=\"USER\",IF(J2081>0.01*D$2703,0,$C2081/60),\nIF(J2081>0.01*J$2703,0,$C2081/60))))","v":0},0,0,0,0,{"$error":"#VALUE!"},{"$error":"#VALUE!"},{"$error":"#VALUE!"},{"$error":"#VALUE!"},{"$error":"#VALUE!"},{"$error":"#VALUE!"},{"$error":"#VALUE!"},{"$error":"#VALUE!"},{"$error":"#VALUE!"},{"$error":"#VALUE!"},{"$error":"#VALUE!"},{"$f":"IF(SUM(AJ$1262:AJ2080)>0,0,IF(MAX(AC2081:AC$2702)=MAX(AC$1262:AC$2702),0,IF(AA2081>0.03*U$2703,0,$C2081/60)))","v":{"$error":"#VALUE!"}},{"$f":"IF(SUM(AK$1262:AK2080)>0,0,IF(MAX(AC2081:AC$2702)=MAX(AC$1262:AC$2702),0,IF(AA2081>0.01*U$2703,0,$C2081/60)))","v":{"$error":"#VALUE!"}},0,0,0,0,{"$error":"#VALUE!"},{"$error":"#VALUE!"},{"$error":"#VALUE!"},{"$error":"#VALUE!"},{"$error":"#VALUE!"},{"$error":"#VALUE!"},{"$error":"#VALUE!"},{"$error":"#VALUE!"},{"$error":"#VALUE!"},{"$error":"#VALUE!"},{"$error":"#VALUE!"},{"$f":"IF(SUM(BA$1262:BA2080)>0,0,IF(MAX(AT2081:AT$2702)=MAX(AT$1262:AT$2702),0,IF(AR2081>0.03*AL$2703,0,$C2081/60)))","v":{"$error":"#VALUE!"}},{"$f":"IF(SUM(BB$1262:BB2080)>0,0,IF(MAX(AT2081:AT$2702)=MAX(AT$1262:AT$2702),0,IF(AR2081>0.01*AL$2703,0,$C2081/60)))","v":{"$error":"#VALUE!"}},0,0,0,0,{"$error":"#VALUE!"},{"$error":"#VALUE!"},{"$error":"#VALUE!"},{"$error":"#VALUE!"},{"$error":"#VALUE!"},{"$error":"#VALUE!"},{"$error":"#VALUE!"},{"$error":"#VALUE!"},{"$error":"#VALUE!"},{"$error":"#VALUE!"},{"$error":"#VALUE!"},{"$f":"IF(SUM(BR$1262:BR2080)>0,0,IF(MAX(BK2081:BK$2702)=MAX(BK$1262:BK$2702),0,IF(BI2081>0.03*BC$2703,0,$C2081/60)))","v":{"$error":"#VALUE!"}},{"$f":"IF(SUM(BS$1262:BS2080)>0,0,IF(MAX(BK2081:BK$2702)=MAX(BK$1262:BK$2702),0,IF(BI2081>0.01*BC$2703,0,$C2081/60)))","v":{"$error":"#VALUE!"}},0,0,0,0,{"$error":"#VALUE!"},{"$error":"#VALUE!"},{"$error":"#VALUE!"},{"$error":"#VALUE!"},{"$error":"#VALUE!"},{"$error":"#VALUE!"},{"$error":"#VALUE!"},{"$error":"#VALUE!"},{"$error":"#VALUE!"},{"$error":"#VALUE!"},{"$error":"#VALUE!"},{"$f":"IF(SUM(CI$1262:CI2080)>0,0,IF(MAX(CB2081:CB$2702)=MAX(CB$1262:CB$2702),0,IF(BZ2081>0.03*BT$2703,0,$C2081/60)))","v":{"$error":"#VALUE!"}},{"$f":"IF(SUM(CJ$1262:CJ2080)>0,0,IF(MAX(CB2081:CB$2702)=MAX(CB$1262:CB$2702),0,IF(BZ2081>0.01*BT$2703,0,$C2081/60)))","v":{"$error":"#VALUE!"}},0,0,0,0,{"$error":"#VALUE!"},{"$error":"#VALUE!"},{"$error":"#VALUE!"},{"$error":"#VALUE!"},{"$error":"#VALUE!"},{"$error":"#VALUE!"},{"$error":"#VALUE!"},{"$error":"#VALUE!"},{"$error":"#VALUE!"},{"$error":"#VALUE!"},{"$error":"#VALUE!"},{"$f":"IF(SUM(CZ$1262:CZ2080)>0,0,IF(MAX(CS2081:CS$2702)=MAX(CS$1262:CS$2702),0,IF(CQ2081>0.03*CK$2703,0,$C2081/60)))","v":{"$error":"#VALUE!"}},{"$f":"IF(SUM(DA$1262:DA2080)>0,0,IF(MAX(CS2081:CS$2702)=MAX(CS$1262:CS$2702),0,IF(CQ2081>0.01*CK$2703,0,$C2081/60)))","v":{"$error":"#VALUE!"}}]
[null,68.416666666666671,4105,0,0,0,0,0,0,0,0,0,{"$error":"#N/A"},{"$error":"#N/A"},{"$error":"#N/A"},{"$error":"#N/A"},{"$error":"#N/A"},{"$error":"#N/A"},{"$f":"IF(SUM(S$1262:S2082)>0,0,\nIF(MAX(L2083:L$2702)=MAX(L$1262:L$2702),0,\nIF(Hydrograph_Source_WQCV=\"USER\",IF(J2083>0.03*D$2703,0,$C2083/60),\nIF(J2083>0.03*J$2703,0,$C2083/60))))","v":0},{"$f":"IF(SUM(T$1262:T2082)>0,0,\nIF(MAX(L2083:L$2702)=MAX(L$1262:L$2702),0,\nIF(Hydrograph_Source_WQCV=\"USER\",IF(J2083>0.01*D$2703,0,$C2083/60),\nIF(J2083>0.01*J$2703,0,$C2083/60))))","v":0},0,0,0,0,{"$error":"#VALUE!"},{"$error":"#VALUE!"},{"$error":"#VALUE!"},{"$error":"#VALUE!"},{"$error":"#VALUE!"},{"$error":"#VALUE!"},{"$error":"#VALUE!"},{"$error":"#VALUE!"},{"$error":"#VALUE!"},{"$error":"#VALUE!"},{"$error":"#VALUE!"},{"$f":"IF(SUM(AJ$1262:AJ2082)>0,0,IF(MAX(AC2083:AC$2702)=MAX(AC$1262:AC$2702),0,IF(AA2083>0.03*U$2703,0,$C2083/60)))","v":{"$error":"#VALUE!"}},{"$f":"IF(SUM(AK$1262:AK2082)>0,0,IF(MAX(AC2083:AC$2702)=MAX(AC$1262:AC$2702),0,IF(AA2083>0.01*U$2703,0,$C2083/60)))","v":{"$error":"#VALUE!"}},0,0,0,0,{"$error":"#VALUE!"},{"$error":"#VALUE!"},{"$error":"#VALUE!"},{"$error":"#VALUE!"},{"$error":"#VALUE!"},{"$error":"#VALUE!"},{"$error":"#VALUE!"},{"$error":"#VALUE!"},{"$error":"#VALUE!"},{"$error":"#VALUE!"},{"$error":"#VALUE!"},{"$f":"IF(SUM(BA$1262:BA2082)>0,0,IF(MAX(AT2083:AT$2702)=MAX(AT$1262:AT$2702),0,IF(AR2083>0.03*AL$2703,0,$C2083/60)))","v":{"$error":"#VALUE!"}},{"$f":"IF(SUM(BB$1262:BB2082)>0,0,IF(MAX(AT2083:AT$2702)=MAX(AT$1262:AT$2702),0,IF(AR2083>0.01*AL$2703,0,$C2083/60)))","v":{"$error":"#VALUE!"}},0,0,0,0,{"$error":"#VALUE!"},{"$error":"#VALUE!"},{"$error":"#VALUE!"},{"$error":"#VALUE!"},{"$error":"#VALUE!"},{"$error":"#VALUE!"},{"$error":"#VALUE!"},{"$error":"#VALUE!"},{"$error":"#VALUE!"},{"$error":"#VALUE!"},{"$error":"#VALUE!"},{"$f":"IF(SUM(BR$1262:BR2082)>0,0,IF(MAX(BK2083:BK$2702)=MAX(BK$1262:BK$2702),0,IF(BI2083>0.03*BC$2703,0,$C2083/60)))","v":{"$error":"#VALUE!"}},{"$f":"IF(SUM(BS$1262:BS2082)>0,0,IF(MAX(BK2083:BK$2702)=MAX(BK$1262:BK$2702),0,IF(BI2083>0.01*BC$2703,0,$C2083/60)))","v":{"$error":"#VALUE!"}},0,0,0,0,{"$error":"#VALUE!"},{"$error":"#VALUE!"},{"$error":"#VALUE!"},{"$error":"#VALUE!"},{"$error":"#VALUE!"},{"$error":"#VALUE!"},{"$error":"#VALUE!"},{"$error":"#VALUE!"},{"$error":"#VALUE!"},{"$error":"#VALUE!"},{"$error":"#VALUE!"},{"$f":"IF(SUM(CI$1262:CI2082)>0,0,IF(MAX(CB2083:CB$2702)=MAX(CB$1262:CB$2702),0,IF(BZ2083>0.03*BT$2703,0,$C2083/60)))","v":{"$error":"#VALUE!"}},{"$f":"IF(SUM(CJ$1262:CJ2082)>0,0,IF(MAX(CB2083:CB$2702)=MAX(CB$1262:CB$2702),0,IF(BZ2083>0.01*BT$2703,0,$C2083/60)))","v":{"$error":"#VALUE!"}},0,0,0,0,{"$error":"#VALUE!"},{"$error":"#VALUE!"},{"$error":"#VALUE!"},{"$error":"#VALUE!"},{"$error":"#VALUE!"},{"$error":"#VALUE!"},{"$error":"#VALUE!"},{"$error":"#VALUE!"},{"$error":"#VALUE!"},{"$error":"#VALUE!"},{"$error":"#VALUE!"},{"$f":"IF(SUM(CZ$1262:CZ2082)>0,0,IF(MAX(CS2083:CS$2702)=MAX(CS$1262:CS$2702),0,IF(CQ2083>0.03*CK$2703,0,$C2083/60)))","v":{"$error":"#VALUE!"}},{"$f":"IF(SUM(DA$1262:DA2082)>0,0,IF(MAX(CS2083:CS$2702)=MAX(CS$1262:CS$2702),0,IF(CQ2083>0.01*CK$2703,0,$C2083/60)))","v":{"$error":"#VALUE!"}}]
[null,68.833333333333329,4130,0,0,0,0,0,0,0,0,0,{"$error":"#N/A"},{"$error":"#N/A"},{"$error":"#N/A"},{"$error":"#N/A"},{"$error":"#N/A"},{"$error":"#N/A"},{"$f":"IF(SUM(S$1262:S2087)>0,0,\nIF(MAX(L2088:L$2702)=MAX(L$1262:L$2702),0,\nIF(Hydrograph_Source_WQCV=\"USER\",IF(J2088>0.03*D$2703,0,$C2088/60),\nIF(J2088>0.03*J$2703,0,$C2088/60))))","v":0},{"$f":"IF(SUM(T$1262:T2087)>0,0,\nIF(MAX(L2088:L$2702)=MAX(L$1262:L$2702),0,\nIF(Hydrograph_Source_WQCV=\"USER\",IF(J2088>0.01*D$2703,0,$C2088/60),\nIF(J2088>0.01*J$2703,0,$C2088/60))))","v":0},0,0,0,0,{"$error":"#VALUE!"},{"$error":"#VALUE!"},{"$error":"#VALUE!"},{"$error":"#VALUE!"},{"$error":"#VALUE!"},{"$error":"#VALUE!"},{"$error":"#VALUE!"},{"$error":"#VALUE!"},{"$error":"#VALUE!"},{"$error":"#VALUE!"},{"$error":"#VALUE!"},{"$f":"IF(SUM(AJ$1262:AJ2087)>0,0,IF(MAX(AC2088:AC$2702)=MAX(AC$1262:AC$2702),0,IF(AA2088>0.03*U$2703,0,$C2088/60)))","v":{"$error":"#VALUE!"}},{"$f":"IF(SUM(AK$1262:AK2087)>0,0,IF(MAX(AC2088:AC$2702)=MAX(AC$1262:AC$2702),0,IF(AA2088>0.01*U$2703,0,$C2088/60)))","v":{"$error":"#VALUE!"}},0,0,0,0,{"$error":"#VALUE!"},{"$error":"#VALUE!"},{"$error":"#VALUE!"},{"$error":"#VALUE!"},{"$error":"#VALUE!"},{"$error":"#VALUE!"},{"$error":"#VALUE!"},{"$error":"#VALUE!"},{"$error":"#VALUE!"},{"$error":"#VALUE!"},{"$error":"#VALUE!"},{"$f":"IF(SUM(BA$1262:BA2087)>0,0,IF(MAX(AT2088:AT$2702)=MAX(AT$1262:AT$2702),0,IF(AR2088>0.03*AL$2703,0,$C2088/60)))","v":{"$error":"#VALUE!"}},{"$f":"IF(SUM(BB$1262:BB2087)>0,0,IF(MAX(AT2088:AT$2702)=MAX(AT$1262:AT$2702),0,IF(AR2088>0.01*AL$2703,0,$C2088/60)))","v":{"$error":"#VALUE!"}},0,0,0,0,{"$error":"#VALUE!"},{"$error":"#VALUE!"},{"$error":"#VALUE!"},{"$error":"#VALUE!"},{"$error":"#VALUE!"},{"$error":"#VALUE!"},{"$error":"#VALUE!"},{"$error":"#VALUE!"},{"$error":"#VALUE!"},{"$error":"#VALUE!"},{"$error":"#VALUE!"},{"$f":"IF(SUM(BR$1262:BR2087)>0,0,IF(MAX(BK2088:BK$2702)=MAX(BK$1262:BK$2702),0,IF(BI2088>0.03*BC$2703,0,$C2088/60)))","v":{"$error":"#VALUE!"}},{"$f":"IF(SUM(BS$1262:BS2087)>0,0,IF(MAX(BK2088:BK$2702)=MAX(BK$1262:BK$2702),0,IF(BI2088>0.01*BC$2703,0,$C2088/60)))","v":{"$error":"#VALUE!"}},0,0,0,0,{"$error":"#VALUE!"},{"$error":"#VALUE!"},{"$error":"#VALUE!"},{"$error":"#VALUE!"},{"$error":"#VALUE!"},{"$error":"#VALUE!"},{"$error":"#VALUE!"},{"$error":"#VALUE!"},{"$error":"#VALUE!"},{"$error":"#VALUE!"},{"$error":"#VALUE!"},{"$f":"IF(SUM(CI$1262:CI2087)>0,0,IF(MAX(CB2088:CB$2702)=MAX(CB$1262:CB$2702),0,IF(BZ2088>0.03*BT$2703,0,$C2088/60)))","v":{"$error":"#VALUE!"}},{"$f":"IF(SUM(CJ$1262:CJ2087)>0,0,IF(MAX(CB2088:CB$2702)=MAX(CB$1262:CB$2702),0,IF(BZ2088>0.01*BT$2703,0,$C2088/60)))","v":{"$error":"#VALUE!"}},0,0,0,0,{"$error":"#VALUE!"},{"$error":"#VALUE!"},{"$error":"#VALUE!"},{"$error":"#VALUE!"},{"$error":"#VALUE!"},{"$error":"#VALUE!"},{"$error":"#VALUE!"},{"$error":"#VALUE!"},{"$error":"#VALUE!"},{"$error":"#VALUE!"},{"$error":"#VALUE!"},{"$f":"IF(SUM(CZ$1262:CZ2087)>0,0,IF(MAX(CS2088:CS$2702)=MAX(CS$1262:CS$2702),0,IF(CQ2088>0.03*CK$2703,0,$C2088/60)))","v":{"$error":"#VALUE!"}},{"$f":"IF(SUM(DA$1262:DA2087)>0,0,IF(MAX(CS2088:CS$2702)=MAX(CS$1262:CS$2702),0,IF(CQ2088>0.01*CK$2703,0,$C2088/60)))","v":{"$error":"#VALUE!"}}]
[null,69.25,4155,0,0,0,0,0,0,0,0,0,{"$error":"#N/A"},{"$error":"#N/A"},{"$error":"#N/A"},{"$error":"#N/A"},{"$error":"#N/A"},{"$error":"#N/A"},{"$f":"IF(SUM(S$1262:S2092)>0,0,\nIF(MAX(L2093:L$2702)=MAX(L$1262:L$2702),0,\nIF(Hydrograph_Source_WQCV=\"USER\",IF(J2093>0.03*D$2703,0,$C2093/60),\nIF(J2093>0.03*J$2703,0,$C2093/60))))","v":0},{"$f":"IF(SUM(T$1262:T2092)>0,0,\nIF(MAX(L2093:L$2702)=MAX(L$1262:L$2702),0,\nIF(Hydrograph_Source_WQCV=\"USER\",IF(J2093>0.01*D$2703,0,$C2093/60),\nIF(J2093>0.01*J$2703,0,$C2093/60))))","v":0},0,0,0,0,{"$error":"#VALUE!"},{"$error":"#VALUE!"},{"$error":"#VALUE!"},{"$error":"#VALUE!"},{"$error":"#VALUE!"},{"$error":"#VALUE!"},{"$error":"#VALUE!"},{"$error":"#VALUE!"},{"$error":"#VALUE!"},{"$error":"#VALUE!"},{"$error":"#VALUE!"},{"$f":"IF(SUM(AJ$1262:AJ2092)>0,0,IF(MAX(AC2093:AC$2702)=MAX(AC$1262:AC$2702),0,IF(AA2093>0.03*U$2703,0,$C2093/60)))","v":{"$error":"#VALUE!"}},{"$f":"IF(SUM(AK$1262:AK2092)>0,0,IF(MAX(AC2093:AC$2702)=MAX(AC$1262:AC$2702),0,IF(AA2093>0.01*U$2703,0,$C2093/60)))","v":{"$error":"#VALUE!"}},0,0,0,0,{"$error":"#VALUE!"},{"$error":"#VALUE!"},{"$error":"#VALUE!"},{"$error":"#VALUE!"},{"$error":"#VALUE!"},{"$error":"#VALUE!"},{"$error":"#VALUE!"},{"$error":"#VALUE!"},{"$error":"#VALUE!"},{"$error":"#VALUE!"},{"$error":"#VALUE!"},{"$f":"IF(SUM(BA$1262:BA2092)>0,0,IF(MAX(AT2093:AT$2702)=MAX(AT$1262:AT$2702),0,IF(AR2093>0.03*AL$2703,0,$C2093/60)))","v":{"$error":"#VALUE!"}},{"$f":"IF(SUM(BB$1262:BB2092)>0,0,IF(MAX(AT2093:AT$2702)=MAX(AT$1262:AT$2702),0,IF(AR2093>0.01*AL$2703,0,$C2093/60)))","v":{"$error":"#VALUE!"}},0,0,0,0,{"$error":"#VALUE!"},{"$error":"#VALUE!"},{"$error":"#VALUE!"},{"$error":"#VALUE!"},{"$error":"#VALUE!"},{"$error":"#VALUE!"},{"$error":"#VALUE!"},{"$error":"#VALUE!"},{"$error":"#VALUE!"},{"$error":"#VALUE!"},{"$error":"#VALUE!"},{"$f":"IF(SUM(BR$1262:BR2092)>0,0,IF(MAX(BK2093:BK$2702)=MAX(BK$1262:BK$2702),0,IF(BI2093>0.03*BC$2703,0,$C2093/60)))","v":{"$error":"#VALUE!"}},{"$f":"IF(SUM(BS$1262:BS2092)>0,0,IF(MAX(BK2093:BK$2702)=MAX(BK$1262:BK$2702),0,IF(BI2093>0.01*BC$2703,0,$C2093/60)))","v":{"$error":"#VALUE!"}},0,0,0,0,{"$error":"#VALUE!"},{"$error":"#VALUE!"},{"$error":"#VALUE!"},{"$error":"#VALUE!"},{"$error":"#VALUE!"},{"$error":"#VALUE!"},{"$error":"#VALUE!"},{"$error":"#VALUE!"},{"$error":"#VALUE!"},{"$error":"#VALUE!"},{"$error":"#VALUE!"},{"$f":"IF(SUM(CI$1262:CI2092)>0,0,IF(MAX(CB2093:CB$2702)=MAX(CB$1262:CB$2702),0,IF(BZ2093>0.03*BT$2703,0,$C2093/60)))","v":{"$error":"#VALUE!"}},{"$f":"IF(SUM(CJ$1262:CJ2092)>0,0,IF(MAX(CB2093:CB$2702)=MAX(CB$1262:CB$2702),0,IF(BZ2093>0.01*BT$2703,0,$C2093/60)))","v":{"$error":"#VALUE!"}},0,0,0,0,{"$error":"#VALUE!"},{"$error":"#VALUE!"},{"$error":"#VALUE!"},{"$error":"#VALUE!"},{"$error":"#VALUE!"},{"$error":"#VALUE!"},{"$error":"#VALUE!"},{"$error":"#VALUE!"},{"$error":"#VALUE!"},{"$error":"#VALUE!"},{"$error":"#VALUE!"},{"$f":"IF(SUM(CZ$1262:CZ2092)>0,0,IF(MAX(CS2093:CS$2702)=MAX(CS$1262:CS$2702),0,IF(CQ2093>0.03*CK$2703,0,$C2093/60)))","v":{"$error":"#VALUE!"}},{"$f":"IF(SUM(DA$1262:DA2092)>0,0,IF(MAX(CS2093:CS$2702)=MAX(CS$1262:CS$2702),0,IF(CQ2093>0.01*CK$2703,0,$C2093/60)))","v":{"$error":"#VALUE!"}}]
[null,69.583333333333329,4175,0,0,0,0,0,0,0,0,0,{"$error":"#N/A"},{"$error":"#N/A"},{"$error":"#N/A"},{"$error":"#N/A"},{"$error":"#N/A"},{"$error":"#N/A"},{"$f":"IF(SUM(S$1262:S2096)>0,0,\nIF(MAX(L2097:L$2702)=MAX(L$1262:L$2702),0,\nIF(Hydrograph_Source_WQCV=\"USER\",IF(J2097>0.03*D$2703,0,$C2097/60),\nIF(J2097>0.03*J$2703,0,$C2097/60))))","v":0},{"$f":"IF(SUM(T$1262:T2096)>0,0,\nIF(MAX(L2097:L$2702)=MAX(L$1262:L$2702),0,\nIF(Hydrograph_Source_WQCV=\"USER\",IF(J2097>0.01*D$2703,0,$C2097/60),\nIF(J2097>0.01*J$2703,0,$C2097/60))))","v":0},0,0,0,0,{"$error":"#VALUE!"},{"$error":"#VALUE!"},{"$error":"#VALUE!"},{"$error":"#VALUE!"},{"$error":"#VALUE!"},{"$error":"#VALUE!"},{"$error":"#VALUE!"},{"$error":"#VALUE!"},{"$error":"#VALUE!"},{"$error":"#VALUE!"},{"$error":"#VALUE!"},{"$f":"IF(SUM(AJ$1262:AJ2096)>0,0,IF(MAX(AC2097:AC$2702)=MAX(AC$1262:AC$2702),0,IF(AA2097>0.03*U$2703,0,$C2097/60)))","v":{"$error":"#VALUE!"}},{"$f":"IF(SUM(AK$1262:AK2096)>0,0,IF(MAX(AC2097:AC$2702)=MAX(AC$1262:AC$2702),0,IF(AA2097>0.01*U$2703,0,$C2097/60)))","v":{"$error":"#VALUE!"}},0,0,0,0,{"$error":"#VALUE!"},{"$error":"#VALUE!"},{"$error":"#VALUE!"},{"$error":"#VALUE!"},{"$error":"#VALUE!"},{"$error":"#VALUE!"},{"$error":"#VALUE!"},{"$error":"#VALUE!"},{"$error":"#VALUE!"},{"$error":"#VALUE!"},{"$error":"#VALUE!"},{"$f":"IF(SUM(BA$1262:BA2096)>0,0,IF(MAX(AT2097:AT$2702)=MAX(AT$1262:AT$2702),0,IF(AR2097>0.03*AL$2703,0,$C2097/60)))","v":{"$error":"#VALUE!"}},{"$f":"IF(SUM(BB$1262:BB2096)>0,0,IF(MAX(AT2097:AT$2702)=MAX(AT$1262:AT$2702),0,IF(AR2097>0.01*AL$2703,0,$C2097/60)))","v":{"$error":"#VALUE!"}},0,0,0,0,{"$error":"#VALUE!"},{"$error":"#VALUE!"},{"$error":"#VALUE!"},{"$error":"#VALUE!"},{"$error":"#VALUE!"},{"$error":"#VALUE!"},{"$error":"#VALUE!"},{"$error":"#VALUE!"},{"$error":"#VALUE!"},{"$error":"#VALUE!"},{"$error":"#VALUE!"},{"$f":"IF(SUM(BR$1262:BR2096)>0,0,IF(MAX(BK2097:BK$2702)=MAX(BK$1262:BK$2702),0,IF(BI2097>0.03*BC$2703,0,$C2097/60)))","v":{"$error":"#VALUE!"}},{"$f":"IF(SUM(BS$1262:BS2096)>0,0,IF(MAX(BK2097:BK$2702)=MAX(BK$1262:BK$2702),0,IF(BI2097>0.01*BC$2703,0,$C2097/60)))","v":{"$error":"#VALUE!"}},0,0,0,0,{"$error":"#VALUE!"},{"$error":"#VALUE!"},{"$error":"#VALUE!"},{"$error":"#VALUE!"},{"$error":"#VALUE!"},{"$error":"#VALUE!"},{"$error":"#VALUE!"},{"$error":"#VALUE!"},{"$error":"#VALUE!"},{"$error":"#VALUE!"},{"$error":"#VALUE!"},{"$f":"IF(SUM(CI$1262:CI2096)>0,0,IF(MAX(CB2097:CB$2702)=MAX(CB$1262:CB$2702),0,IF(BZ2097>0.03*BT$2703,0,$C2097/60)))","v":{"$error":"#VALUE!"}},{"$f":"IF(SUM(CJ$1262:CJ2096)>0,0,IF(MAX(CB2097:CB$2702)=MAX(CB$1262:CB$2702),0,IF(BZ2097>0.01*BT$2703,0,$C2097/60)))","v":{"$error":"#VALUE!"}},0,0,0,0,{"$error":"#VALUE!"},{"$error":"#VALUE!"},{"$error":"#VALUE!"},{"$error":"#VALUE!"},{"$error":"#VALUE!"},{"$error":"#VALUE!"},{"$error":"#VALUE!"},{"$error":"#VALUE!"},{"$error":"#VALUE!"},{"$error":"#VALUE!"},{"$error":"#VALUE!"},{"$f":"IF(SUM(CZ$1262:CZ2096)>0,0,IF(MAX(CS2097:CS$2702)=MAX(CS$1262:CS$2702),0,IF(CQ2097>0.03*CK$2703,0,$C2097/60)))","v":{"$error":"#VALUE!"}},{"$f":"IF(SUM(DA$1262:DA2096)>0,0,IF(MAX(CS2097:CS$2702)=MAX(CS$1262:CS$2702),0,IF(CQ2097>0.01*CK$2703,0,$C2097/60)))","v":{"$error":"#VALUE!"}}]
[null,69.833333333333329,4190,0,0,0,0,0,0,0,0,0,{"$error":"#N/A"},{"$error":"#N/A"},{"$error":"#N/A"},{"$error":"#N/A"},{"$error":"#N/A"},{"$error":"#N/A"},{"$f":"IF(SUM(S$1262:S2099)>0,0,\nIF(MAX(L2100:L$2702)=MAX(L$1262:L$2702),0,\nIF(Hydrograph_Source_WQCV=\"USER\",IF(J2100>0.03*D$2703,0,$C2100/60),\nIF(J2100>0.03*J$2703,0,$C2100/60))))","v":0},{"$f":"IF(SUM(T$1262:T2099)>0,0,\nIF(MAX(L2100:L$2702)=MAX(L$1262:L$2702),0,\nIF(Hydrograph_Source_WQCV=\"USER\",IF(J2100>0.01*D$2703,0,$C2100/60),\nIF(J2100>0.01*J$2703,0,$C2100/60))))","v":0},0,0,0,0,{"$error":"#VALUE!"},{"$error":"#VALUE!"},{"$error":"#VALUE!"},{"$error":"#VALUE!"},{"$error":"#VALUE!"},{"$error":"#VALUE!"},{"$error":"#VALUE!"},{"$error":"#VALUE!"},{"$error":"#VALUE!"},{"$error":"#VALUE!"},{"$error":"#VALUE!"},{"$f":"IF(SUM(AJ$1262:AJ2099)>0,0,IF(MAX(AC2100:AC$2702)=MAX(AC$1262:AC$2702),0,IF(AA2100>0.03*U$2703,0,$C2100/60)))","v":{"$error":"#VALUE!"}},{"$f":"IF(SUM(AK$1262:AK2099)>0,0,IF(MAX(AC2100:AC$2702)=MAX(AC$1262:AC$2702),0,IF(AA2100>0.01*U$2703,0,$C2100/60)))","v":{"$error":"#VALUE!"}},0,0,0,0,{"$error":"#VALUE!"},{"$error":"#VALUE!"},{"$error":"#VALUE!"},{"$error":"#VALUE!"},{"$error":"#VALUE!"},{"$error":"#VALUE!"},{"$error":"#VALUE!"},{"$error":"#VALUE!"},{"$error":"#VALUE!"},{"$error":"#VALUE!"},{"$error":"#VALUE!"},{"$f":"IF(SUM(BA$1262:BA2099)>0,0,IF(MAX(AT2100:AT$2702)=MAX(AT$1262:AT$2702),0,IF(AR2100>0.03*AL$2703,0,$C2100/60)))","v":{"$error":"#VALUE!"}},{"$f":"IF(SUM(BB$1262:BB2099)>0,0,IF(MAX(AT2100:AT$2702)=MAX(AT$1262:AT$2702),0,IF(AR2100>0.01*AL$2703,0,$C2100/60)))","v":{"$error":"#VALUE!"}},0,0,0,0,{"$error":"#VALUE!"},{"$error":"#VALUE!"},{"$error":"#VALUE!"},{"$error":"#VALUE!"},{"$error":"#VALUE!"},{"$error":"#VALUE!"},{"$error":"#VALUE!"},{"$error":"#VALUE!"},{"$error":"#VALUE!"},{"$error":"#VALUE!"},{"$error":"#VALUE!"},{"$f":"IF(SUM(BR$1262:BR2099)>0,0,IF(MAX(BK2100:BK$2702)=MAX(BK$1262:BK$2702),0,IF(BI2100>0.03*BC$2703,0,$C2100/60)))","v":{"$error":"#VALUE!"}},{"$f":"IF(SUM(BS$1262:BS2099)>0,0,IF(MAX(BK2100:BK$2702)=MAX(BK$1262:BK$2702),0,IF(BI2100>0.01*BC$2703,0,$C2100/60)))","v":{"$error":"#VALUE!"}},0,0,0,0,{"$error":"#VALUE!"},{"$error":"#VALUE!"},{"$error":"#VALUE!"},{"$error":"#VALUE!"},{"$error":"#VALUE!"},{"$error":"#VALUE!"},{"$error":"#VALUE!"},{"$error":"#VALUE!"},{"$error":"#VALUE!"},{"$error":"#VALUE!"},{"$error":"#VALUE!"},{"$f":"IF(SUM(CI$1262:CI2099)>0,0,IF(MAX(CB2100:CB$2702)=MAX(CB$1262:CB$2702),0,IF(BZ2100>0.03*BT$2703,0,$C2100/60)))","v":{"$error":"#VALUE!"}},{"$f":"IF(SUM(CJ$1262:CJ2099)>0,0,IF(MAX(CB2100:CB$2702)=MAX(CB$1262:CB$2702),0,IF(BZ2100>0.01*BT$2703,0,$C2100/60)))","v":{"$error":"#VALUE!"}},0,0,0,0,{"$error":"#VALUE!"},{"$error":"#VALUE!"},{"$error":"#VALUE!"},{"$error":"#VALUE!"},{"$error":"#VALUE!"},{"$error":"#VALUE!"},{"$error":"#VALUE!"},{"$error":"#VALUE!"},{"$error":"#VALUE!"},{"$error":"#VALUE!"},{"$error":"#VALUE!"},{"$f":"IF(SUM(CZ$1262:CZ2099)>0,0,IF(MAX(CS2100:CS$2702)=MAX(CS$1262:CS$2702),0,IF(CQ2100>0.03*CK$2703,0,$C2100/60)))","v":{"$error":"#VALUE!"}},{"$f":"IF(SUM(DA$1262:DA2099)>0,0,IF(MAX(CS2100:CS$2702)=MAX(CS$1262:CS$2702),0,IF(CQ2100>0.01*CK$2703,0,$C2100/60)))","v":{"$error":"#VALUE!"}}]
[null,70.25,4215,0,0,0,0,0,0,0,0,0,{"$error":"#N/A"},{"$error":"#N/A"},{"$error":"#N/A"},{"$error":"#N/A"},{"$error":"#N/A"},{"$error":"#N/A"},{"$f":"IF(SUM(S$1262:S2104)>0,0,\nIF(MAX(L2105:L$2702)=MAX(L$1262:L$2702),0,\nIF(Hydrograph_Source_WQCV=\"USER\",IF(J2105>0.03*D$2703,0,$C2105/60),\nIF(J2105>0.03*J$2703,0,$C2105/60))))","v":0},{"$f":"IF(SUM(T$1262:T2104)>0,0,\nIF(MAX(L2105:L$2702)=MAX(L$1262:L$2702),0,\nIF(Hydrograph_Source_WQCV=\"USER\",IF(J2105>0.01*D$2703,0,$C2105/60),\nIF(J2105>0.01*J$2703,0,$C2105/60))))","v":0},0,0,0,0,{"$error":"#VALUE!"},{"$error":"#VALUE!"},{"$error":"#VALUE!"},{"$error":"#VALUE!"},{"$error":"#VALUE!"},{"$error":"#VALUE!"},{"$error":"#VALUE!"},{"$error":"#VALUE!"},{"$error":"#VALUE!"},{"$error":"#VALUE!"},{"$error":"#VALUE!"},{"$f":"IF(SUM(AJ$1262:AJ2104)>0,0,IF(MAX(AC2105:AC$2702)=MAX(AC$1262:AC$2702),0,IF(AA2105>0.03*U$2703,0,$C2105/60)))","v":{"$error":"#VALUE!"}},{"$f":"IF(SUM(AK$1262:AK2104)>0,0,IF(MAX(AC2105:AC$2702)=MAX(AC$1262:AC$2702),0,IF(AA2105>0.01*U$2703,0,$C2105/60)))","v":{"$error":"#VALUE!"}},0,0,0,0,{"$error":"#VALUE!"},{"$error":"#VALUE!"},{"$error":"#VALUE!"},{"$error":"#VALUE!"},{"$error":"#VALUE!"},{"$error":"#VALUE!"},{"$error":"#VALUE!"},{"$error":"#VALUE!"},{"$error":"#VALUE!"},{"$error":"#VALUE!"},{"$error":"#VALUE!"},{"$f":"IF(SUM(BA$1262:BA2104)>0,0,IF(MAX(AT2105:AT$2702)=MAX(AT$1262:AT$2702),0,IF(AR2105>0.03*AL$2703,0,$C2105/60)))","v":{"$error":"#VALUE!"}},{"$f":"IF(SUM(BB$1262:BB2104)>0,0,IF(MAX(AT2105:AT$2702)=MAX(AT$1262:AT$2702),0,IF(AR2105>0.01*AL$2703,0,$C2105/60)))","v":{"$error":"#VALUE!"}},0,0,0,0,{"$error":"#VALUE!"},{"$error":"#VALUE!"},{"$error":"#VALUE!"},{"$error":"#VALUE!"},{"$error":"#VALUE!"},{"$error":"#VALUE!"},{"$error":"#VALUE!"},{"$error":"#VALUE!"},{"$error":"#VALUE!"},{"$error":"#VALUE!"},{"$error":"#VALUE!"},{"$f":"IF(SUM(BR$1262:BR2104)>0,0,IF(MAX(BK2105:BK$2702)=MAX(BK$1262:BK$2702),0,IF(BI2105>0.03*BC$2703,0,$C2105/60)))","v":{"$error":"#VALUE!"}},{"$f":"IF(SUM(BS$1262:BS2104)>0,0,IF(MAX(BK2105:BK$2702)=MAX(BK$1262:BK$2702),0,IF(BI2105>0.01*BC$2703,0,$C2105/60)))","v":{"$error":"#VALUE!"}},0,0,0,0,{"$error":"#VALUE!"},{"$error":"#VALUE!"},{"$error":"#VALUE!"},{"$error":"#VALUE!"},{"$error":"#VALUE!"},{"$error":"#VALUE!"},{"$error":"#VALUE!"},{"$error":"#VALUE!"},{"$error":"#VALUE!"},{"$error":"#VALUE!"},{"$error":"#VALUE!"},{"$f":"IF(SUM(CI$1262:CI2104)>0,0,IF(MAX(CB2105:CB$2702)=MAX(CB$1262:CB$2702),0,IF(BZ2105>0.03*BT$2703,0,$C2105/60)))","v":{"$error":"#VALUE!"}},{"$f":"IF(SUM(CJ$1262:CJ2104)>0,0,IF(MAX(CB2105:CB$2702)=MAX(CB$1262:CB$2702),0,IF(BZ2105>0.01*BT$2703,0,$C2105/60)))","v":{"$error":"#VALUE!"}},0,0,0,0,{"$error":"#VALUE!"},{"$error":"#VALUE!"},{"$error":"#VALUE!"},{"$error":"#VALUE!"},{"$error":"#VALUE!"},{"$error":"#VALUE!"},{"$error":"#VALUE!"},{"$error":"#VALUE!"},{"$error":"#VALUE!"},{"$error":"#VALUE!"},{"$error":"#VALUE!"},{"$f":"IF(SUM(CZ$1262:CZ2104)>0,0,IF(MAX(CS2105:CS$2702)=MAX(CS$1262:CS$2702),0,IF(CQ2105>0.03*CK$2703,0,$C2105/60)))","v":{"$error":"#VALUE!"}},{"$f":"IF(SUM(DA$1262:DA2104)>0,0,IF(MAX(CS2105:CS$2702)=MAX(CS$1262:CS$2702),0,IF(CQ2105>0.01*CK$2703,0,$C2105/60)))","v":{"$error":"#VALUE!"}}]
[null,70.666666666666671,4240,0,0,0,0,0,0,0,0,0,{"$error":"#N/A"},{"$error":"#N/A"},{"$error":"#N/A"},{"$error":"#N/A"},{"$error":"#N/A"},{"$error":"#N/A"},{"$f":"IF(SUM(S$1262:S2109)>0,0,\nIF(MAX(L2110:L$2702)=MAX(L$1262:L$2702),0,\nIF(Hydrograph_Source_WQCV=\"USER\",IF(J2110>0.03*D$2703,0,$C2110/60),\nIF(J2110>0.03*J$2703,0,$C2110/60))))","v":0},{"$f":"IF(SUM(T$1262:T2109)>0,0,\nIF(MAX(L2110:L$2702)=MAX(L$1262:L$2702),0,\nIF(Hydrograph_Source_WQCV=\"USER\",IF(J2110>0.01*D$2703,0,$C2110/60),\nIF(J2110>0.01*J$2703,0,$C2110/60))))","v":0},0,0,0,0,{"$error":"#VALUE!"},{"$error":"#VALUE!"},{"$error":"#VALUE!"},{"$error":"#VALUE!"},{"$error":"#VALUE!"},{"$error":"#VALUE!"},{"$error":"#VALUE!"},{"$error":"#VALUE!"},{"$error":"#VALUE!"},{"$error":"#VALUE!"},{"$error":"#VALUE!"},{"$f":"IF(SUM(AJ$1262:AJ2109)>0,0,IF(MAX(AC2110:AC$2702)=MAX(AC$1262:AC$2702),0,IF(AA2110>0.03*U$2703,0,$C2110/60)))","v":{"$error":"#VALUE!"}},{"$f":"IF(SUM(AK$1262:AK2109)>0,0,IF(MAX(AC2110:AC$2702)=MAX(AC$1262:AC$2702),0,IF(AA2110>0.01*U$2703,0,$C2110/60)))","v":{"$error":"#VALUE!"}},0,0,0,0,{"$error":"#VALUE!"},{"$error":"#VALUE!"},{"$error":"#VALUE!"},{"$error":"#VALUE!"},{"$error":"#VALUE!"},{"$error":"#VALUE!"},{"$error":"#VALUE!"},{"$error":"#VALUE!"},{"$error":"#VALUE!"},{"$error":"#VALUE!"},{"$error":"#VALUE!"},{"$f":"IF(SUM(BA$1262:BA2109)>0,0,IF(MAX(AT2110:AT$2702)=MAX(AT$1262:AT$2702),0,IF(AR2110>0.03*AL$2703,0,$C2110/60)))","v":{"$error":"#VALUE!"}},{"$f":"IF(SUM(BB$1262:BB2109)>0,0,IF(MAX(AT2110:AT$2702)=MAX(AT$1262:AT$2702),0,IF(AR2110>0.01*AL$2703,0,$C2110/60)))","v":{"$error":"#VALUE!"}},0,0,0,0,{"$error":"#VALUE!"},{"$error":"#VALUE!"},{"$error":"#VALUE!"},{"$error":"#VALUE!"},{"$error":"#VALUE!"},{"$error":"#VALUE!"},{"$error":"#VALUE!"},{"$error":"#VALUE!"},{"$error":"#VALUE!"},{"$error":"#VALUE!"},{"$error":"#VALUE!"},{"$f":"IF(SUM(BR$1262:BR2109)>0,0,IF(MAX(BK2110:BK$2702)=MAX(BK$1262:BK$2702),0,IF(BI2110>0.03*BC$2703,0,$C2110/60)))","v":{"$error":"#VALUE!"}},{"$f":"IF(SUM(BS$1262:BS2109)>0,0,IF(MAX(BK2110:BK$2702)=MAX(BK$1262:BK$2702),0,IF(BI2110>0.01*BC$2703,0,$C2110/60)))","v":{"$error":"#VALUE!"}},0,0,0,0,{"$error":"#VALUE!"},{"$error":"#VALUE!"},{"$error":"#VALUE!"},{"$error":"#VALUE!"},{"$error":"#VALUE!"},{"$error":"#VALUE!"},{"$error":"#VALUE!"},{"$error":"#VALUE!"},{"$error":"#VALUE!"},{"$error":"#VALUE!"},{"$error":"#VALUE!"},{"$f":"IF(SUM(CI$1262:CI2109)>0,0,IF(MAX(CB2110:CB$2702)=MAX(CB$1262:CB$2702),0,IF(BZ2110>0.03*BT$2703,0,$C2110/60)))","v":{"$error":"#VALUE!"}},{"$f":"IF(SUM(CJ$1262:CJ2109)>0,0,IF(MAX(CB2110:CB$2702)=MAX(CB$1262:CB$2702),0,IF(BZ2110>0.01*BT$2703,0,$C2110/60)))","v":{"$error":"#VALUE!"}},0,0,0,0,{"$error":"#VALUE!"},{"$error":"#VALUE!"},{"$error":"#VALUE!"},{"$error":"#VALUE!"},{"$error":"#VALUE!"},{"$error":"#VALUE!"},{"$error":"#VALUE!"},{"$error":"#VALUE!"},{"$error":"#VALUE!"},{"$error":"#VALUE!"},{"$error":"#VALUE!"},{"$f":"IF(SUM(CZ$1262:CZ2109)>0,0,IF(MAX(CS2110:CS$2702)=MAX(CS$1262:CS$2702),0,IF(CQ2110>0.03*CK$2703,0,$C2110/60)))","v":{"$error":"#VALUE!"}},{"$f":"IF(SUM(DA$1262:DA2109)>0,0,IF(MAX(CS2110:CS$2702)=MAX(CS$1262:CS$2702),0,IF(CQ2110>0.01*CK$2703,0,$C2110/60)))","v":{"$error":"#VALUE!"}}]
[null,71.083333333333329,4265,0,0,0,0,0,0,0,0,0,{"$error":"#N/A"},{"$error":"#N/A"},{"$error":"#N/A"},{"$error":"#N/A"},{"$error":"#N/A"},{"$error":"#N/A"},{"$f":"IF(SUM(S$1262:S2114)>0,0,\nIF(MAX(L2115:L$2702)=MAX(L$1262:L$2702),0,\nIF(Hydrograph_Source_WQCV=\"USER\",IF(J2115>0.03*D$2703,0,$C2115/60),\nIF(J2115>0.03*J$2703,0,$C2115/60))))","v":0},{"$f":"IF(SUM(T$1262:T2114)>0,0,\nIF(MAX(L2115:L$2702)=MAX(L$1262:L$2702),0,\nIF(Hydrograph_Source_WQCV=\"USER\",IF(J2115>0.01*D$2703,0,$C2115/60),\nIF(J2115>0.01*J$2703,0,$C2115/60))))","v":0},0,0,0,0,{"$error":"#VALUE!"},{"$error":"#VALUE!"},{"$error":"#VALUE!"},{"$error":"#VALUE!"},{"$error":"#VALUE!"},{"$error":"#VALUE!"},{"$error":"#VALUE!"},{"$error":"#VALUE!"},{"$error":"#VALUE!"},{"$error":"#VALUE!"},{"$error":"#VALUE!"},{"$f":"IF(SUM(AJ$1262:AJ2114)>0,0,IF(MAX(AC2115:AC$2702)=MAX(AC$1262:AC$2702),0,IF(AA2115>0.03*U$2703,0,$C2115/60)))","v":{"$error":"#VALUE!"}},{"$f":"IF(SUM(AK$1262:AK2114)>0,0,IF(MAX(AC2115:AC$2702)=MAX(AC$1262:AC$2702),0,IF(AA2115>0.01*U$2703,0,$C2115/60)))","v":{"$error":"#VALUE!"}},0,0,0,0,{"$error":"#VALUE!"},{"$error":"#VALUE!"},{"$error":"#VALUE!"},{"$error":"#VALUE!"},{"$error":"#VALUE!"},{"$error":"#VALUE!"},{"$error":"#VALUE!"},{"$error":"#VALUE!"},{"$error":"#VALUE!"},{"$error":"#VALUE!"},{"$error":"#VALUE!"},{"$f":"IF(SUM(BA$1262:BA2114)>0,0,IF(MAX(AT2115:AT$2702)=MAX(AT$1262:AT$2702),0,IF(AR2115>0.03*AL$2703,0,$C2115/60)))","v":{"$error":"#VALUE!"}},{"$f":"IF(SUM(BB$1262:BB2114)>0,0,IF(MAX(AT2115:AT$2702)=MAX(AT$1262:AT$2702),0,IF(AR2115>0.01*AL$2703,0,$C2115/60)))","v":{"$error":"#VALUE!"}},0,0,0,0,{"$error":"#VALUE!"},{"$error":"#VALUE!"},{"$error":"#VALUE!"},{"$error":"#VALUE!"},{"$error":"#VALUE!"},{"$error":"#VALUE!"},{"$error":"#VALUE!"},{"$error":"#VALUE!"},{"$error":"#VALUE!"},{"$error":"#VALUE!"},{"$error":"#VALUE!"},{"$f":"IF(SUM(BR$1262:BR2114)>0,0,IF(MAX(BK2115:BK$2702)=MAX(BK$1262:BK$2702),0,IF(BI2115>0.03*BC$2703,0,$C2115/60)))","v":{"$error":"#VALUE!"}},{"$f":"IF(SUM(BS$1262:BS2114)>0,0,IF(MAX(BK2115:BK$2702)=MAX(BK$1262:BK$2702),0,IF(BI2115>0.01*BC$2703,0,$C2115/60)))","v":{"$error":"#VALUE!"}},0,0,0,0,{"$error":"#VALUE!"},{"$error":"#VALUE!"},{"$error":"#VALUE!"},{"$error":"#VALUE!"},{"$error":"#VALUE!"},{"$error":"#VALUE!"},{"$error":"#VALUE!"},{"$error":"#VALUE!"},{"$error":"#VALUE!"},{"$error":"#VALUE!"},{"$error":"#VALUE!"},{"$f":"IF(SUM(CI$1262:CI2114)>0,0,IF(MAX(CB2115:CB$2702)=MAX(CB$1262:CB$2702),0,IF(BZ2115>0.03*BT$2703,0,$C2115/60)))","v":{"$error":"#VALUE!"}},{"$f":"IF(SUM(CJ$1262:CJ2114)>0,0,IF(MAX(CB2115:CB$2702)=MAX(CB$1262:CB$2702),0,IF(BZ2115>0.01*BT$2703,0,$C2115/60)))","v":{"$error":"#VALUE!"}},0,0,0,0,{"$error":"#VALUE!"},{"$error":"#VALUE!"},{"$error":"#VALUE!"},{"$error":"#VALUE!"},{"$error":"#VALUE!"},{"$error":"#VALUE!"},{"$error":"#VALUE!"},{"$error":"#VALUE!"},{"$error":"#VALUE!"},{"$error":"#VALUE!"},{"$error":"#VALUE!"},{"$f":"IF(SUM(CZ$1262:CZ2114)>0,0,IF(MAX(CS2115:CS$2702)=MAX(CS$1262:CS$2702),0,IF(CQ2115>0.03*CK$2703,0,$C2115/60)))","v":{"$error":"#VALUE!"}},{"$f":"IF(SUM(DA$1262:DA2114)>0,0,IF(MAX(CS2115:CS$2702)=MAX(CS$1262:CS$2702),0,IF(CQ2115>0.01*CK$2703,0,$C2115/60)))","v":{"$error":"#VALUE!"}}]
[null,71.25,4275,0,0,0,0,0,0,0,0,0,{"$error":"#N/A"},{"$error":"#N/A"},{"$error":"#N/A"},{"$error":"#N/A"},{"$error":"#N/A"},{"$error":"#N/A"},{"$f":"IF(SUM(S$1262:S2116)>0,0,\nIF(MAX(L2117:L$2702)=MAX(L$1262:L$2702),0,\nIF(Hydrograph_Source_WQCV=\"USER\",IF(J2117>0.03*D$2703,0,$C2117/60),\nIF(J2117>0.03*J$2703,0,$C2117/60))))","v":0},{"$f":"IF(SUM(T$1262:T2116)>0,0,\nIF(MAX(L2117:L$2702)=MAX(L$1262:L$2702),0,\nIF(Hydrograph_Source_WQCV=\"USER\",IF(J2117>0.01*D$2703,0,$C2117/60),\nIF(J2117>0.01*J$2703,0,$C2117/60))))","v":0},0,0,0,0,{"$error":"#VALUE!"},{"$error":"#VALUE!"},{"$error":"#VALUE!"},{"$error":"#VALUE!"},{"$error":"#VALUE!"},{"$error":"#VALUE!"},{"$error":"#VALUE!"},{"$error":"#VALUE!"},{"$error":"#VALUE!"},{"$error":"#VALUE!"},{"$error":"#VALUE!"},{"$f":"IF(SUM(AJ$1262:AJ2116)>0,0,IF(MAX(AC2117:AC$2702)=MAX(AC$1262:AC$2702),0,IF(AA2117>0.03*U$2703,0,$C2117/60)))","v":{"$error":"#VALUE!"}},{"$f":"IF(SUM(AK$1262:AK2116)>0,0,IF(MAX(AC2117:AC$2702)=MAX(AC$1262:AC$2702),0,IF(AA2117>0.01*U$2703,0,$C2117/60)))","v":{"$error":"#VALUE!"}},0,0,0,0,{"$error":"#VALUE!"},{"$error":"#VALUE!"},{"$error":"#VALUE!"},{"$error":"#VALUE!"},{"$error":"#VALUE!"},{"$error":"#VALUE!"},{"$error":"#VALUE!"},{"$error":"#VALUE!"},{"$error":"#VALUE!"},{"$error":"#VALUE!"},{"$error":"#VALUE!"},{"$f":"IF(SUM(BA$1262:BA2116)>0,0,IF(MAX(AT2117:AT$2702)=MAX(AT$1262:AT$2702),0,IF(AR2117>0.03*AL$2703,0,$C2117/60)))","v":{"$error":"#VALUE!"}},{"$f":"IF(SUM(BB$1262:BB2116)>0,0,IF(MAX(AT2117:AT$2702)=MAX(AT$1262:AT$2702),0,IF(AR2117>0.01*AL$2703,0,$C2117/60)))","v":{"$error":"#VALUE!"}},0,0,0,0,{"$error":"#VALUE!"},{"$error":"#VALUE!"},{"$error":"#VALUE!"},{"$error":"#VALUE!"},{"$error":"#VALUE!"},{"$error":"#VALUE!"},{"$error":"#VALUE!"},{"$error":"#VALUE!"},{"$error":"#VALUE!"},{"$error":"#VALUE!"},{"$error":"#VALUE!"},{"$f":"IF(SUM(BR$1262:BR2116)>0,0,IF(MAX(BK2117:BK$2702)=MAX(BK$1262:BK$2702),0,IF(BI2117>0.03*BC$2703,0,$C2117/60)))","v":{"$error":"#VALUE!"}},{"$f":"IF(SUM(BS$1262:BS2116)>0,0,IF(MAX(BK2117:BK$2702)=MAX(BK$1262:BK$2702),0,IF(BI2117>0.01*BC$2703,0,$C2117/60)))","v":{"$error":"#VALUE!"}},0,0,0,0,{"$error":"#VALUE!"},{"$error":"#VALUE!"},{"$error":"#VALUE!"},{"$error":"#VALUE!"},{"$error":"#VALUE!"},{"$error":"#VALUE!"},{"$error":"#VALUE!"},{"$error":"#VALUE!"},{"$error":"#VALUE!"},{"$error":"#VALUE!"},{"$error":"#VALUE!"},{"$f":"IF(SUM(CI$1262:CI2116)>0,0,IF(MAX(CB2117:CB$2702)=MAX(CB$1262:CB$2702),0,IF(BZ2117>0.03*BT$2703,0,$C2117/60)))","v":{"$error":"#VALUE!"}},{"$f":"IF(SUM(CJ$1262:CJ2116)>0,0,IF(MAX(CB2117:CB$2702)=MAX(CB$1262:CB$2702),0,IF(BZ2117>0.01*BT$2703,0,$C2117/60)))","v":{"$error":"#VALUE!"}},0,0,0,0,{"$error":"#VALUE!"},{"$error":"#VALUE!"},{"$error":"#VALUE!"},{"$error":"#VALUE!"},{"$error":"#VALUE!"},{"$error":"#VALUE!"},{"$error":"#VALUE!"},{"$error":"#VALUE!"},{"$error":"#VALUE!"},{"$error":"#VALUE!"},{"$error":"#VALUE!"},{"$f":"IF(SUM(CZ$1262:CZ2116)>0,0,IF(MAX(CS2117:CS$2702)=MAX(CS$1262:CS$2702),0,IF(CQ2117>0.03*CK$2703,0,$C2117/60)))","v":{"$error":"#VALUE!"}},{"$f":"IF(SUM(DA$1262:DA2116)>0,0,IF(MAX(CS2117:CS$2702)=MAX(CS$1262:CS$2702),0,IF(CQ2117>0.01*CK$2703,0,$C2117/60)))","v":{"$error":"#VALUE!"}}]
[null,71.666666666666671,4300,0,0,0,0,0,0,0,0,0,{"$error":"#N/A"},{"$error":"#N/A"},{"$error":"#N/A"},{"$error":"#N/A"},{"$error":"#N/A"},{"$error":"#N/A"},{"$f":"IF(SUM(S$1262:S2121)>0,0,\nIF(MAX(L2122:L$2702)=MAX(L$1262:L$2702),0,\nIF(Hydrograph_Source_WQCV=\"USER\",IF(J2122>0.03*D$2703,0,$C2122/60),\nIF(J2122>0.03*J$2703,0,$C2122/60))))","v":0},{"$f":"IF(SUM(T$1262:T2121)>0,0,\nIF(MAX(L2122:L$2702)=MAX(L$1262:L$2702),0,\nIF(Hydrograph_Source_WQCV=\"USER\",IF(J2122>0.01*D$2703,0,$C2122/60),\nIF(J2122>0.01*J$2703,0,$C2122/60))))","v":0},0,0,0,0,{"$error":"#VALUE!"},{"$error":"#VALUE!"},{"$error":"#VALUE!"},{"$error":"#VALUE!"},{"$error":"#VALUE!"},{"$error":"#VALUE!"},{"$error":"#VALUE!"},{"$error":"#VALUE!"},{"$error":"#VALUE!"},{"$error":"#VALUE!"},{"$error":"#VALUE!"},{"$f":"IF(SUM(AJ$1262:AJ2121)>0,0,IF(MAX(AC2122:AC$2702)=MAX(AC$1262:AC$2702),0,IF(AA2122>0.03*U$2703,0,$C2122/60)))","v":{"$error":"#VALUE!"}},{"$f":"IF(SUM(AK$1262:AK2121)>0,0,IF(MAX(AC2122:AC$2702)=MAX(AC$1262:AC$2702),0,IF(AA2122>0.01*U$2703,0,$C2122/60)))","v":{"$error":"#VALUE!"}},0,0,0,0,{"$error":"#VALUE!"},{"$error":"#VALUE!"},{"$error":"#VALUE!"},{"$error":"#VALUE!"},{"$error":"#VALUE!"},{"$error":"#VALUE!"},{"$error":"#VALUE!"},{"$error":"#VALUE!"},{"$error":"#VALUE!"},{"$error":"#VALUE!"},{"$error":"#VALUE!"},{"$f":"IF(SUM(BA$1262:BA2121)>0,0,IF(MAX(AT2122:AT$2702)=MAX(AT$1262:AT$2702),0,IF(AR2122>0.03*AL$2703,0,$C2122/60)))","v":{"$error":"#VALUE!"}},{"$f":"IF(SUM(BB$1262:BB2121)>0,0,IF(MAX(AT2122:AT$2702)=MAX(AT$1262:AT$2702),0,IF(AR2122>0.01*AL$2703,0,$C2122/60)))","v":{"$error":"#VALUE!"}},0,0,0,0,{"$error":"#VALUE!"},{"$error":"#VALUE!"},{"$error":"#VALUE!"},{"$error":"#VALUE!"},{"$error":"#VALUE!"},{"$error":"#VALUE!"},{"$error":"#VALUE!"},{"$error":"#VALUE!"},{"$error":"#VALUE!"},{"$error":"#VALUE!"},{"$error":"#VALUE!"},{"$f":"IF(SUM(BR$1262:BR2121)>0,0,IF(MAX(BK2122:BK$2702)=MAX(BK$1262:BK$2702),0,IF(BI2122>0.03*BC$2703,0,$C2122/60)))","v":{"$error":"#VALUE!"}},{"$f":"IF(SUM(BS$1262:BS2121)>0,0,IF(MAX(BK2122:BK$2702)=MAX(BK$1262:BK$2702),0,IF(BI2122>0.01*BC$2703,0,$C2122/60)))","v":{"$error":"#VALUE!"}},0,0,0,0,{"$error":"#VALUE!"},{"$error":"#VALUE!"},{"$error":"#VALUE!"},{"$error":"#VALUE!"},{"$error":"#VALUE!"},{"$error":"#VALUE!"},{"$error":"#VALUE!"},{"$error":"#VALUE!"},{"$error":"#VALUE!"},{"$error":"#VALUE!"},{"$error":"#VALUE!"},{"$f":"IF(SUM(CI$1262:CI2121)>0,0,IF(MAX(CB2122:CB$2702)=MAX(CB$1262:CB$2702),0,IF(BZ2122>0.03*BT$2703,0,$C2122/60)))","v":{"$error":"#VALUE!"}},{"$f":"IF(SUM(CJ$1262:CJ2121)>0,0,IF(MAX(CB2122:CB$2702)=MAX(CB$1262:CB$2702),0,IF(BZ2122>0.01*BT$2703,0,$C2122/60)))","v":{"$error":"#VALUE!"}},0,0,0,0,{"$error":"#VALUE!"},{"$error":"#VALUE!"},{"$error":"#VALUE!"},{"$error":"#VALUE!"},{"$error":"#VALUE!"},{"$error":"#VALUE!"},{"$error":"#VALUE!"},{"$error":"#VALUE!"},{"$error":"#VALUE!"},{"$error":"#VALUE!"},{"$error":"#VALUE!"},{"$f":"IF(SUM(CZ$1262:CZ2121)>0,0,IF(MAX(CS2122:CS$2702)=MAX(CS$1262:CS$2702),0,IF(CQ2122>0.03*CK$2703,0,$C2122/60)))","v":{"$error":"#VALUE!"}},{"$f":"IF(SUM(DA$1262:DA2121)>0,0,IF(MAX(CS2122:CS$2702)=MAX(CS$1262:CS$2702),0,IF(CQ2122>0.01*CK$2703,0,$C2122/60)))","v":{"$error":"#VALUE!"}}]
[null,71.916666666666671,4315,0,0,0,0,0,0,0,0,0,{"$error":"#N/A"},{"$error":"#N/A"},{"$error":"#N/A"},{"$error":"#N/A"},{"$error":"#N/A"},{"$error":"#N/A"},{"$f":"IF(SUM(S$1262:S2124)>0,0,\nIF(MAX(L2125:L$2702)=MAX(L$1262:L$2702),0,\nIF(Hydrograph_Source_WQCV=\"USER\",IF(J2125>0.03*D$2703,0,$C2125/60),\nIF(J2125>0.03*J$2703,0,$C2125/60))))","v":0},{"$f":"IF(SUM(T$1262:T2124)>0,0,\nIF(MAX(L2125:L$2702)=MAX(L$1262:L$2702),0,\nIF(Hydrograph_Source_WQCV=\"USER\",IF(J2125>0.01*D$2703,0,$C2125/60),\nIF(J2125>0.01*J$2703,0,$C2125/60))))","v":0},0,0,0,0,{"$error":"#VALUE!"},{"$error":"#VALUE!"},{"$error":"#VALUE!"},{"$error":"#VALUE!"},{"$error":"#VALUE!"},{"$error":"#VALUE!"},{"$error":"#VALUE!"},{"$error":"#VALUE!"},{"$error":"#VALUE!"},{"$error":"#VALUE!"},{"$error":"#VALUE!"},{"$f":"IF(SUM(AJ$1262:AJ2124)>0,0,IF(MAX(AC2125:AC$2702)=MAX(AC$1262:AC$2702),0,IF(AA2125>0.03*U$2703,0,$C2125/60)))","v":{"$error":"#VALUE!"}},{"$f":"IF(SUM(AK$1262:AK2124)>0,0,IF(MAX(AC2125:AC$2702)=MAX(AC$1262:AC$2702),0,IF(AA2125>0.01*U$2703,0,$C2125/60)))","v":{"$error":"#VALUE!"}},0,0,0,0,{"$error":"#VALUE!"},{"$error":"#VALUE!"},{"$error":"#VALUE!"},{"$error":"#VALUE!"},{"$error":"#VALUE!"},{"$error":"#VALUE!"},{"$error":"#VALUE!"},{"$error":"#VALUE!"},{"$error":"#VALUE!"},{"$error":"#VALUE!"},{"$error":"#VALUE!"},{"$f":"IF(SUM(BA$1262:BA2124)>0,0,IF(MAX(AT2125:AT$2702)=MAX(AT$1262:AT$2702),0,IF(AR2125>0.03*AL$2703,0,$C2125/60)))","v":{"$error":"#VALUE!"}},{"$f":"IF(SUM(BB$1262:BB2124)>0,0,IF(MAX(AT2125:AT$2702)=MAX(AT$1262:AT$2702),0,IF(AR2125>0.01*AL$2703,0,$C2125/60)))","v":{"$error":"#VALUE!"}},0,0,0,0,{"$error":"#VALUE!"},{"$error":"#VALUE!"},{"$error":"#VALUE!"},{"$error":"#VALUE!"},{"$error":"#VALUE!"},{"$error":"#VALUE!"},{"$error":"#VALUE!"},{"$error":"#VALUE!"},{"$error":"#VALUE!"},{"$error":"#VALUE!"},{"$error":"#VALUE!"},{"$f":"IF(SUM(BR$1262:BR2124)>0,0,IF(MAX(BK2125:BK$2702)=MAX(BK$1262:BK$2702),0,IF(BI2125>0.03*BC$2703,0,$C2125/60)))","v":{"$error":"#VALUE!"}},{"$f":"IF(SUM(BS$1262:BS2124)>0,0,IF(MAX(BK2125:BK$2702)=MAX(BK$1262:BK$2702),0,IF(BI2125>0.01*BC$2703,0,$C2125/60)))","v":{"$error":"#VALUE!"}},0,0,0,0,{"$error":"#VALUE!"},{"$error":"#VALUE!"},{"$error":"#VALUE!"},{"$error":"#VALUE!"},{"$error":"#VALUE!"},{"$error":"#VALUE!"},{"$error":"#VALUE!"},{"$error":"#VALUE!"},{"$error":"#VALUE!"},{"$error":"#VALUE!"},{"$error":"#VALUE!"},{"$f":"IF(SUM(CI$1262:CI2124)>0,0,IF(MAX(CB2125:CB$2702)=MAX(CB$1262:CB$2702),0,IF(BZ2125>0.03*BT$2703,0,$C2125/60)))","v":{"$error":"#VALUE!"}},{"$f":"IF(SUM(CJ$1262:CJ2124)>0,0,IF(MAX(CB2125:CB$2702)=MAX(CB$1262:CB$2702),0,IF(BZ2125>0.01*BT$2703,0,$C2125/60)))","v":{"$error":"#VALUE!"}},0,0,0,0,{"$error":"#VALUE!"},{"$error":"#VALUE!"},{"$error":"#VALUE!"},{"$error":"#VALUE!"},{"$error":"#VALUE!"},{"$error":"#VALUE!"},{"$error":"#VALUE!"},{"$error":"#VALUE!"},{"$error":"#VALUE!"},{"$error":"#VALUE!"},{"$error":"#VALUE!"},{"$f":"IF(SUM(CZ$1262:CZ2124)>0,0,IF(MAX(CS2125:CS$2702)=MAX(CS$1262:CS$2702),0,IF(CQ2125>0.03*CK$2703,0,$C2125/60)))","v":{"$error":"#VALUE!"}},{"$f":"IF(SUM(DA$1262:DA2124)>0,0,IF(MAX(CS2125:CS$2702)=MAX(CS$1262:CS$2702),0,IF(CQ2125>0.01*CK$2703,0,$C2125/60)))","v":{"$error":"#VALUE!"}}]
[null,72.583333333333329,4355,0,0,0,0,0,0,0,0,0,{"$error":"#N/A"},{"$error":"#N/A"},{"$error":"#N/A"},{"$error":"#N/A"},{"$error":"#N/A"},{"$error":"#N/A"},{"$f":"IF(SUM(S$1262:S2132)>0,0,\nIF(MAX(L2133:L$2702)=MAX(L$1262:L$2702),0,\nIF(Hydrograph_Source_WQCV=\"USER\",IF(J2133>0.03*D$2703,0,$C2133/60),\nIF(J2133>0.03*J$2703,0,$C2133/60))))","v":0},{"$f":"IF(SUM(T$1262:T2132)>0,0,\nIF(MAX(L2133:L$2702)=MAX(L$1262:L$2702),0,\nIF(Hydrograph_Source_WQCV=\"USER\",IF(J2133>0.01*D$2703,0,$C2133/60),\nIF(J2133>0.01*J$2703,0,$C2133/60))))","v":0},0,0,0,0,{"$error":"#VALUE!"},{"$error":"#VALUE!"},{"$error":"#VALUE!"},{"$error":"#VALUE!"},{"$error":"#VALUE!"},{"$error":"#VALUE!"},{"$error":"#VALUE!"},{"$error":"#VALUE!"},{"$error":"#VALUE!"},{"$error":"#VALUE!"},{"$error":"#VALUE!"},{"$f":"IF(SUM(AJ$1262:AJ2132)>0,0,IF(MAX(AC2133:AC$2702)=MAX(AC$1262:AC$2702),0,IF(AA2133>0.03*U$2703,0,$C2133/60)))","v":{"$error":"#VALUE!"}},{"$f":"IF(SUM(AK$1262:AK2132)>0,0,IF(MAX(AC2133:AC$2702)=MAX(AC$1262:AC$2702),0,IF(AA2133>0.01*U$2703,0,$C2133/60)))","v":{"$error":"#VALUE!"}},0,0,0,0,{"$error":"#VALUE!"},{"$error":"#VALUE!"},{"$error":"#VALUE!"},{"$error":"#VALUE!"},{"$error":"#VALUE!"},{"$error":"#VALUE!"},{"$error":"#VALUE!"},{"$error":"#VALUE!"},{"$error":"#VALUE!"},{"$error":"#VALUE!"},{"$error":"#VALUE!"},{"$f":"IF(SUM(BA$1262:BA2132)>0,0,IF(MAX(AT2133:AT$2702)=MAX(AT$1262:AT$2702),0,IF(AR2133>0.03*AL$2703,0,$C2133/60)))","v":{"$error":"#VALUE!"}},{"$f":"IF(SUM(BB$1262:BB2132)>0,0,IF(MAX(AT2133:AT$2702)=MAX(AT$1262:AT$2702),0,IF(AR2133>0.01*AL$2703,0,$C2133/60)))","v":{"$error":"#VALUE!"}},0,0,0,0,{"$error":"#VALUE!"},{"$error":"#VALUE!"},{"$error":"#VALUE!"},{"$error":"#VALUE!"},{"$error":"#VALUE!"},{"$error":"#VALUE!"},{"$error":"#VALUE!"},{"$error":"#VALUE!"},{"$error":"#VALUE!"},{"$error":"#VALUE!"},{"$error":"#VALUE!"},{"$f":"IF(SUM(BR$1262:BR2132)>0,0,IF(MAX(BK2133:BK$2702)=MAX(BK$1262:BK$2702),0,IF(BI2133>0.03*BC$2703,0,$C2133/60)))","v":{"$error":"#VALUE!"}},{"$f":"IF(SUM(BS$1262:BS2132)>0,0,IF(MAX(BK2133:BK$2702)=MAX(BK$1262:BK$2702),0,IF(BI2133>0.01*BC$2703,0,$C2133/60)))","v":{"$error":"#VALUE!"}},0,0,0,0,{"$error":"#VALUE!"},{"$error":"#VALUE!"},{"$error":"#VALUE!"},{"$error":"#VALUE!"},{"$error":"#VALUE!"},{"$error":"#VALUE!"},{"$error":"#VALUE!"},{"$error":"#VALUE!"},{"$error":"#VALUE!"},{"$error":"#VALUE!"},{"$error":"#VALUE!"},{"$f":"IF(SUM(CI$1262:CI2132)>0,0,IF(MAX(CB2133:CB$2702)=MAX(CB$1262:CB$2702),0,IF(BZ2133>0.03*BT$2703,0,$C2133/60)))","v":{"$error":"#VALUE!"}},{"$f":"IF(SUM(CJ$1262:CJ2132)>0,0,IF(MAX(CB2133:CB$2702)=MAX(CB$1262:CB$2702),0,IF(BZ2133>0.01*BT$2703,0,$C2133/60)))","v":{"$error":"#VALUE!"}},0,0,0,0,{"$error":"#VALUE!"},{"$error":"#VALUE!"},{"$error":"#VALUE!"},{"$error":"#VALUE!"},{"$error":"#VALUE!"},{"$error":"#VALUE!"},{"$error":"#VALUE!"},{"$error":"#VALUE!"},{"$error":"#VALUE!"},{"$error":"#VALUE!"},{"$error":"#VALUE!"},{"$f":"IF(SUM(CZ$1262:CZ2132)>0,0,IF(MAX(CS2133:CS$2702)=MAX(CS$1262:CS$2702),0,IF(CQ2133>0.03*CK$2703,0,$C2133/60)))","v":{"$error":"#VALUE!"}},{"$f":"IF(SUM(DA$1262:DA2132)>0,0,IF(MAX(CS2133:CS$2702)=MAX(CS$1262:CS$2702),0,IF(CQ2133>0.01*CK$2703,0,$C2133/60)))","v":{"$error":"#VALUE!"}}]
[null,72.666666666666671,4360,0,0,0,0,0,0,0,0,0,{"$error":"#N/A"},{"$error":"#N/A"},{"$error":"#N/A"},{"$error":"#N/A"},{"$error":"#N/A"},{"$error":"#N/A"},{"$f":"IF(SUM(S$1262:S2133)>0,0,\nIF(MAX(L2134:L$2702)=MAX(L$1262:L$2702),0,\nIF(Hydrograph_Source_WQCV=\"USER\",IF(J2134>0.03*D$2703,0,$C2134/60),\nIF(J2134>0.03*J$2703,0,$C2134/60))))","v":0},{"$f":"IF(SUM(T$1262:T2133)>0,0,\nIF(MAX(L2134:L$2702)=MAX(L$1262:L$2702),0,\nIF(Hydrograph_Source_WQCV=\"USER\",IF(J2134>0.01*D$2703,0,$C2134/60),\nIF(J2134>0.01*J$2703,0,$C2134/60))))","v":0},0,0,0,0,{"$error":"#VALUE!"},{"$error":"#VALUE!"},{"$error":"#VALUE!"},{"$error":"#VALUE!"},{"$error":"#VALUE!"},{"$error":"#VALUE!"},{"$error":"#VALUE!"},{"$error":"#VALUE!"},{"$error":"#VALUE!"},{"$error":"#VALUE!"},{"$error":"#VALUE!"},{"$f":"IF(SUM(AJ$1262:AJ2133)>0,0,IF(MAX(AC2134:AC$2702)=MAX(AC$1262:AC$2702),0,IF(AA2134>0.03*U$2703,0,$C2134/60)))","v":{"$error":"#VALUE!"}},{"$f":"IF(SUM(AK$1262:AK2133)>0,0,IF(MAX(AC2134:AC$2702)=MAX(AC$1262:AC$2702),0,IF(AA2134>0.01*U$2703,0,$C2134/60)))","v":{"$error":"#VALUE!"}},0,0,0,0,{"$error":"#VALUE!"},{"$error":"#VALUE!"},{"$error":"#VALUE!"},{"$error":"#VALUE!"},{"$error":"#VALUE!"},{"$error":"#VALUE!"},{"$error":"#VALUE!"},{"$error":"#VALUE!"},{"$error":"#VALUE!"},{"$error":"#VALUE!"},{"$error":"#VALUE!"},{"$f":"IF(SUM(BA$1262:BA2133)>0,0,IF(MAX(AT2134:AT$2702)=MAX(AT$1262:AT$2702),0,IF(AR2134>0.03*AL$2703,0,$C2134/60)))","v":{"$error":"#VALUE!"}},{"$f":"IF(SUM(BB$1262:BB2133)>0,0,IF(MAX(AT2134:AT$2702)=MAX(AT$1262:AT$2702),0,IF(AR2134>0.01*AL$2703,0,$C2134/60)))","v":{"$error":"#VALUE!"}},0,0,0,0,{"$error":"#VALUE!"},{"$error":"#VALUE!"},{"$error":"#VALUE!"},{"$error":"#VALUE!"},{"$error":"#VALUE!"},{"$error":"#VALUE!"},{"$error":"#VALUE!"},{"$error":"#VALUE!"},{"$error":"#VALUE!"},{"$error":"#VALUE!"},{"$error":"#VALUE!"},{"$f":"IF(SUM(BR$1262:BR2133)>0,0,IF(MAX(BK2134:BK$2702)=MAX(BK$1262:BK$2702),0,IF(BI2134>0.03*BC$2703,0,$C2134/60)))","v":{"$error":"#VALUE!"}},{"$f":"IF(SUM(BS$1262:BS2133)>0,0,IF(MAX(BK2134:BK$2702)=MAX(BK$1262:BK$2702),0,IF(BI2134>0.01*BC$2703,0,$C2134/60)))","v":{"$error":"#VALUE!"}},0,0,0,0,{"$error":"#VALUE!"},{"$error":"#VALUE!"},{"$error":"#VALUE!"},{"$error":"#VALUE!"},{"$error":"#VALUE!"},{"$error":"#VALUE!"},{"$error":"#VALUE!"},{"$error":"#VALUE!"},{"$error":"#VALUE!"},{"$error":"#VALUE!"},{"$error":"#VALUE!"},{"$f":"IF(SUM(CI$1262:CI2133)>0,0,IF(MAX(CB2134:CB$2702)=MAX(CB$1262:CB$2702),0,IF(BZ2134>0.03*BT$2703,0,$C2134/60)))","v":{"$error":"#VALUE!"}},{"$f":"IF(SUM(CJ$1262:CJ2133)>0,0,IF(MAX(CB2134:CB$2702)=MAX(CB$1262:CB$2702),0,IF(BZ2134>0.01*BT$2703,0,$C2134/60)))","v":{"$error":"#VALUE!"}},0,0,0,0,{"$error":"#VALUE!"},{"$error":"#VALUE!"},{"$error":"#VALUE!"},{"$error":"#VALUE!"},{"$error":"#VALUE!"},{"$error":"#VALUE!"},{"$error":"#VALUE!"},{"$error":"#VALUE!"},{"$error":"#VALUE!"},{"$error":"#VALUE!"},{"$error":"#VALUE!"},{"$f":"IF(SUM(CZ$1262:CZ2133)>0,0,IF(MAX(CS2134:CS$2702)=MAX(CS$1262:CS$2702),0,IF(CQ2134>0.03*CK$2703,0,$C2134/60)))","v":{"$error":"#VALUE!"}},{"$f":"IF(SUM(DA$1262:DA2133)>0,0,IF(MAX(CS2134:CS$2702)=MAX(CS$1262:CS$2702),0,IF(CQ2134>0.01*CK$2703,0,$C2134/60)))","v":{"$error":"#VALUE!"}}]
[null,73.083333333333329,4385,0,0,0,0,0,0,0,0,0,{"$error":"#N/A"},{"$error":"#N/A"},{"$error":"#N/A"},{"$error":"#N/A"},{"$error":"#N/A"},{"$error":"#N/A"},{"$f":"IF(SUM(S$1262:S2138)>0,0,\nIF(MAX(L2139:L$2702)=MAX(L$1262:L$2702),0,\nIF(Hydrograph_Source_WQCV=\"USER\",IF(J2139>0.03*D$2703,0,$C2139/60),\nIF(J2139>0.03*J$2703,0,$C2139/60))))","v":0},{"$f":"IF(SUM(T$1262:T2138)>0,0,\nIF(MAX(L2139:L$2702)=MAX(L$1262:L$2702),0,\nIF(Hydrograph_Source_WQCV=\"USER\",IF(J2139>0.01*D$2703,0,$C2139/60),\nIF(J2139>0.01*J$2703,0,$C2139/60))))","v":0},0,0,0,0,{"$error":"#VALUE!"},{"$error":"#VALUE!"},{"$error":"#VALUE!"},{"$error":"#VALUE!"},{"$error":"#VALUE!"},{"$error":"#VALUE!"},{"$error":"#VALUE!"},{"$error":"#VALUE!"},{"$error":"#VALUE!"},{"$error":"#VALUE!"},{"$error":"#VALUE!"},{"$f":"IF(SUM(AJ$1262:AJ2138)>0,0,IF(MAX(AC2139:AC$2702)=MAX(AC$1262:AC$2702),0,IF(AA2139>0.03*U$2703,0,$C2139/60)))","v":{"$error":"#VALUE!"}},{"$f":"IF(SUM(AK$1262:AK2138)>0,0,IF(MAX(AC2139:AC$2702)=MAX(AC$1262:AC$2702),0,IF(AA2139>0.01*U$2703,0,$C2139/60)))","v":{"$error":"#VALUE!"}},0,0,0,0,{"$error":"#VALUE!"},{"$error":"#VALUE!"},{"$error":"#VALUE!"},{"$error":"#VALUE!"},{"$error":"#VALUE!"},{"$error":"#VALUE!"},{"$error":"#VALUE!"},{"$error":"#VALUE!"},{"$error":"#VALUE!"},{"$error":"#VALUE!"},{"$error":"#VALUE!"},{"$f":"IF(SUM(BA$1262:BA2138)>0,0,IF(MAX(AT2139:AT$2702)=MAX(AT$1262:AT$2702),0,IF(AR2139>0.03*AL$2703,0,$C2139/60)))","v":{"$error":"#VALUE!"}},{"$f":"IF(SUM(BB$1262:BB2138)>0,0,IF(MAX(AT2139:AT$2702)=MAX(AT$1262:AT$2702),0,IF(AR2139>0.01*AL$2703,0,$C2139/60)))","v":{"$error":"#VALUE!"}},0,0,0,0,{"$error":"#VALUE!"},{"$error":"#VALUE!"},{"$error":"#VALUE!"},{"$error":"#VALUE!"},{"$error":"#VALUE!"},{"$error":"#VALUE!"},{"$error":"#VALUE!"},{"$error":"#VALUE!"},{"$error":"#VALUE!"},{"$error":"#VALUE!"},{"$error":"#VALUE!"},{"$f":"IF(SUM(BR$1262:BR2138)>0,0,IF(MAX(BK2139:BK$2702)=MAX(BK$1262:BK$2702),0,IF(BI2139>0.03*BC$2703,0,$C2139/60)))","v":{"$error":"#VALUE!"}},{"$f":"IF(SUM(BS$1262:BS2138)>0,0,IF(MAX(BK2139:BK$2702)=MAX(BK$1262:BK$2702),0,IF(BI2139>0.01*BC$2703,0,$C2139/60)))","v":{"$error":"#VALUE!"}},0,0,0,0,{"$error":"#VALUE!"},{"$error":"#VALUE!"},{"$error":"#VALUE!"},{"$error":"#VALUE!"},{"$error":"#VALUE!"},{"$error":"#VALUE!"},{"$error":"#VALUE!"},{"$error":"#VALUE!"},{"$error":"#VALUE!"},{"$error":"#VALUE!"},{"$error":"#VALUE!"},{"$f":"IF(SUM(CI$1262:CI2138)>0,0,IF(MAX(CB2139:CB$2702)=MAX(CB$1262:CB$2702),0,IF(BZ2139>0.03*BT$2703,0,$C2139/60)))","v":{"$error":"#VALUE!"}},{"$f":"IF(SUM(CJ$1262:CJ2138)>0,0,IF(MAX(CB2139:CB$2702)=MAX(CB$1262:CB$2702),0,IF(BZ2139>0.01*BT$2703,0,$C2139/60)))","v":{"$error":"#VALUE!"}},0,0,0,0,{"$error":"#VALUE!"},{"$error":"#VALUE!"},{"$error":"#VALUE!"},{"$error":"#VALUE!"},{"$error":"#VALUE!"},{"$error":"#VALUE!"},{"$error":"#VALUE!"},{"$error":"#VALUE!"},{"$error":"#VALUE!"},{"$error":"#VALUE!"},{"$error":"#VALUE!"},{"$f":"IF(SUM(CZ$1262:CZ2138)>0,0,IF(MAX(CS2139:CS$2702)=MAX(CS$1262:CS$2702),0,IF(CQ2139>0.03*CK$2703,0,$C2139/60)))","v":{"$error":"#VALUE!"}},{"$f":"IF(SUM(DA$1262:DA2138)>0,0,IF(MAX(CS2139:CS$2702)=MAX(CS$1262:CS$2702),0,IF(CQ2139>0.01*CK$2703,0,$C2139/60)))","v":{"$error":"#VALUE!"}}]
[null,73.583333333333329,4415,0,0,0,0,0,0,0,0,0,{"$error":"#N/A"},{"$error":"#N/A"},{"$error":"#N/A"},{"$error":"#N/A"},{"$error":"#N/A"},{"$error":"#N/A"},{"$f":"IF(SUM(S$1262:S2144)>0,0,\nIF(MAX(L2145:L$2702)=MAX(L$1262:L$2702),0,\nIF(Hydrograph_Source_WQCV=\"USER\",IF(J2145>0.03*D$2703,0,$C2145/60),\nIF(J2145>0.03*J$2703,0,$C2145/60))))","v":0},{"$f":"IF(SUM(T$1262:T2144)>0,0,\nIF(MAX(L2145:L$2702)=MAX(L$1262:L$2702),0,\nIF(Hydrograph_Source_WQCV=\"USER\",IF(J2145>0.01*D$2703,0,$C2145/60),\nIF(J2145>0.01*J$2703,0,$C2145/60))))","v":0},0,0,0,0,{"$error":"#VALUE!"},{"$error":"#VALUE!"},{"$error":"#VALUE!"},{"$error":"#VALUE!"},{"$error":"#VALUE!"},{"$error":"#VALUE!"},{"$error":"#VALUE!"},{"$error":"#VALUE!"},{"$error":"#VALUE!"},{"$error":"#VALUE!"},{"$error":"#VALUE!"},{"$f":"IF(SUM(AJ$1262:AJ2144)>0,0,IF(MAX(AC2145:AC$2702)=MAX(AC$1262:AC$2702),0,IF(AA2145>0.03*U$2703,0,$C2145/60)))","v":{"$error":"#VALUE!"}},{"$f":"IF(SUM(AK$1262:AK2144)>0,0,IF(MAX(AC2145:AC$2702)=MAX(AC$1262:AC$2702),0,IF(AA2145>0.01*U$2703,0,$C2145/60)))","v":{"$error":"#VALUE!"}},0,0,0,0,{"$error":"#VALUE!"},{"$error":"#VALUE!"},{"$error":"#VALUE!"},{"$error":"#VALUE!"},{"$error":"#VALUE!"},{"$error":"#VALUE!"},{"$error":"#VALUE!"},{"$error":"#VALUE!"},{"$error":"#VALUE!"},{"$error":"#VALUE!"},{"$error":"#VALUE!"},{"$f":"IF(SUM(BA$1262:BA2144)>0,0,IF(MAX(AT2145:AT$2702)=MAX(AT$1262:AT$2702),0,IF(AR2145>0.03*AL$2703,0,$C2145/60)))","v":{"$error":"#VALUE!"}},{"$f":"IF(SUM(BB$1262:BB2144)>0,0,IF(MAX(AT2145:AT$2702)=MAX(AT$1262:AT$2702),0,IF(AR2145>0.01*AL$2703,0,$C2145/60)))","v":{"$error":"#VALUE!"}},0,0,0,0,{"$error":"#VALUE!"},{"$error":"#VALUE!"},{"$error":"#VALUE!"},{"$error":"#VALUE!"},{"$error":"#VALUE!"},{"$error":"#VALUE!"},{"$error":"#VALUE!"},{"$error":"#VALUE!"},{"$error":"#VALUE!"},{"$error":"#VALUE!"},{"$error":"#VALUE!"},{"$f":"IF(SUM(BR$1262:BR2144)>0,0,IF(MAX(BK2145:BK$2702)=MAX(BK$1262:BK$2702),0,IF(BI2145>0.03*BC$2703,0,$C2145/60)))","v":{"$error":"#VALUE!"}},{"$f":"IF(SUM(BS$1262:BS2144)>0,0,IF(MAX(BK2145:BK$2702)=MAX(BK$1262:BK$2702),0,IF(BI2145>0.01*BC$2703,0,$C2145/60)))","v":{"$error":"#VALUE!"}},0,0,0,0,{"$error":"#VALUE!"},{"$error":"#VALUE!"},{"$error":"#VALUE!"},{"$error":"#VALUE!"},{"$error":"#VALUE!"},{"$error":"#VALUE!"},{"$error":"#VALUE!"},{"$error":"#VALUE!"},{"$error":"#VALUE!"},{"$error":"#VALUE!"},{"$error":"#VALUE!"},{"$f":"IF(SUM(CI$1262:CI2144)>0,0,IF(MAX(CB2145:CB$2702)=MAX(CB$1262:CB$2702),0,IF(BZ2145>0.03*BT$2703,0,$C2145/60)))","v":{"$error":"#VALUE!"}},{"$f":"IF(SUM(CJ$1262:CJ2144)>0,0,IF(MAX(CB2145:CB$2702)=MAX(CB$1262:CB$2702),0,IF(BZ2145>0.01*BT$2703,0,$C2145/60)))","v":{"$error":"#VALUE!"}},0,0,0,0,{"$error":"#VALUE!"},{"$error":"#VALUE!"},{"$error":"#VALUE!"},{"$error":"#VALUE!"},{"$error":"#VALUE!"},{"$error":"#VALUE!"},{"$error":"#VALUE!"},{"$error":"#VALUE!"},{"$error":"#VALUE!"},{"$error":"#VALUE!"},{"$error":"#VALUE!"},{"$f":"IF(SUM(CZ$1262:CZ2144)>0,0,IF(MAX(CS2145:CS$2702)=MAX(CS$1262:CS$2702),0,IF(CQ2145>0.03*CK$2703,0,$C2145/60)))","v":{"$error":"#VALUE!"}},{"$f":"IF(SUM(DA$1262:DA2144)>0,0,IF(MAX(CS2145:CS$2702)=MAX(CS$1262:CS$2702),0,IF(CQ2145>0.01*CK$2703,0,$C2145/60)))","v":{"$error":"#VALUE!"}}]
[null,74,4440,0,0,0,0,0,0,0,0,0,{"$error":"#N/A"},{"$error":"#N/A"},{"$error":"#N/A"},{"$error":"#N/A"},{"$error":"#N/A"},{"$error":"#N/A"},{"$f":"IF(SUM(S$1262:S2149)>0,0,\nIF(MAX(L2150:L$2702)=MAX(L$1262:L$2702),0,\nIF(Hydrograph_Source_WQCV=\"USER\",IF(J2150>0.03*D$2703,0,$C2150/60),\nIF(J2150>0.03*J$2703,0,$C2150/60))))","v":0},{"$f":"IF(SUM(T$1262:T2149)>0,0,\nIF(MAX(L2150:L$2702)=MAX(L$1262:L$2702),0,\nIF(Hydrograph_Source_WQCV=\"USER\",IF(J2150>0.01*D$2703,0,$C2150/60),\nIF(J2150>0.01*J$2703,0,$C2150/60))))","v":0},0,0,0,0,{"$error":"#VALUE!"},{"$error":"#VALUE!"},{"$error":"#VALUE!"},{"$error":"#VALUE!"},{"$error":"#VALUE!"},{"$error":"#VALUE!"},{"$error":"#VALUE!"},{"$error":"#VALUE!"},{"$error":"#VALUE!"},{"$error":"#VALUE!"},{"$error":"#VALUE!"},{"$f":"IF(SUM(AJ$1262:AJ2149)>0,0,IF(MAX(AC2150:AC$2702)=MAX(AC$1262:AC$2702),0,IF(AA2150>0.03*U$2703,0,$C2150/60)))","v":{"$error":"#VALUE!"}},{"$f":"IF(SUM(AK$1262:AK2149)>0,0,IF(MAX(AC2150:AC$2702)=MAX(AC$1262:AC$2702),0,IF(AA2150>0.01*U$2703,0,$C2150/60)))","v":{"$error":"#VALUE!"}},0,0,0,0,{"$error":"#VALUE!"},{"$error":"#VALUE!"},{"$error":"#VALUE!"},{"$error":"#VALUE!"},{"$error":"#VALUE!"},{"$error":"#VALUE!"},{"$error":"#VALUE!"},{"$error":"#VALUE!"},{"$error":"#VALUE!"},{"$error":"#VALUE!"},{"$error":"#VALUE!"},{"$f":"IF(SUM(BA$1262:BA2149)>0,0,IF(MAX(AT2150:AT$2702)=MAX(AT$1262:AT$2702),0,IF(AR2150>0.03*AL$2703,0,$C2150/60)))","v":{"$error":"#VALUE!"}},{"$f":"IF(SUM(BB$1262:BB2149)>0,0,IF(MAX(AT2150:AT$2702)=MAX(AT$1262:AT$2702),0,IF(AR2150>0.01*AL$2703,0,$C2150/60)))","v":{"$error":"#VALUE!"}},0,0,0,0,{"$error":"#VALUE!"},{"$error":"#VALUE!"},{"$error":"#VALUE!"},{"$error":"#VALUE!"},{"$error":"#VALUE!"},{"$error":"#VALUE!"},{"$error":"#VALUE!"},{"$error":"#VALUE!"},{"$error":"#VALUE!"},{"$error":"#VALUE!"},{"$error":"#VALUE!"},{"$f":"IF(SUM(BR$1262:BR2149)>0,0,IF(MAX(BK2150:BK$2702)=MAX(BK$1262:BK$2702),0,IF(BI2150>0.03*BC$2703,0,$C2150/60)))","v":{"$error":"#VALUE!"}},{"$f":"IF(SUM(BS$1262:BS2149)>0,0,IF(MAX(BK2150:BK$2702)=MAX(BK$1262:BK$2702),0,IF(BI2150>0.01*BC$2703,0,$C2150/60)))","v":{"$error":"#VALUE!"}},0,0,0,0,{"$error":"#VALUE!"},{"$error":"#VALUE!"},{"$error":"#VALUE!"},{"$error":"#VALUE!"},{"$error":"#VALUE!"},{"$error":"#VALUE!"},{"$error":"#VALUE!"},{"$error":"#VALUE!"},{"$error":"#VALUE!"},{"$error":"#VALUE!"},{"$error":"#VALUE!"},{"$f":"IF(SUM(CI$1262:CI2149)>0,0,IF(MAX(CB2150:CB$2702)=MAX(CB$1262:CB$2702),0,IF(BZ2150>0.03*BT$2703,0,$C2150/60)))","v":{"$error":"#VALUE!"}},{"$f":"IF(SUM(CJ$1262:CJ2149)>0,0,IF(MAX(CB2150:CB$2702)=MAX(CB$1262:CB$2702),0,IF(BZ2150>0.01*BT$2703,0,$C2150/60)))","v":{"$error":"#VALUE!"}},0,0,0,0,{"$error":"#VALUE!"},{"$error":"#VALUE!"},{"$error":"#VALUE!"},{"$error":"#VALUE!"},{"$error":"#VALUE!"},{"$error":"#VALUE!"},{"$error":"#VALUE!"},{"$error":"#VALUE!"},{"$error":"#VALUE!"},{"$error":"#VALUE!"},{"$error":"#VALUE!"},{"$f":"IF(SUM(CZ$1262:CZ2149)>0,0,IF(MAX(CS2150:CS$2702)=MAX(CS$1262:CS$2702),0,IF(CQ2150>0.03*CK$2703,0,$C2150/60)))","v":{"$error":"#VALUE!"}},{"$f":"IF(SUM(DA$1262:DA2149)>0,0,IF(MAX(CS2150:CS$2702)=MAX(CS$1262:CS$2702),0,IF(CQ2150>0.01*CK$2703,0,$C2150/60)))","v":{"$error":"#VALUE!"}}]
[null,74.25,4455,0,0,0,0,0,0,0,0,0,{"$error":"#N/A"},{"$error":"#N/A"},{"$error":"#N/A"},{"$error":"#N/A"},{"$error":"#N/A"},{"$error":"#N/A"},{"$f":"IF(SUM(S$1262:S2152)>0,0,\nIF(MAX(L2153:L$2702)=MAX(L$1262:L$2702),0,\nIF(Hydrograph_Source_WQCV=\"USER\",IF(J2153>0.03*D$2703,0,$C2153/60),\nIF(J2153>0.03*J$2703,0,$C2153/60))))","v":0},{"$f":"IF(SUM(T$1262:T2152)>0,0,\nIF(MAX(L2153:L$2702)=MAX(L$1262:L$2702),0,\nIF(Hydrograph_Source_WQCV=\"USER\",IF(J2153>0.01*D$2703,0,$C2153/60),\nIF(J2153>0.01*J$2703,0,$C2153/60))))","v":0},0,0,0,0,{"$error":"#VALUE!"},{"$error":"#VALUE!"},{"$error":"#VALUE!"},{"$error":"#VALUE!"},{"$error":"#VALUE!"},{"$error":"#VALUE!"},{"$error":"#VALUE!"},{"$error":"#VALUE!"},{"$error":"#VALUE!"},{"$error":"#VALUE!"},{"$error":"#VALUE!"},{"$f":"IF(SUM(AJ$1262:AJ2152)>0,0,IF(MAX(AC2153:AC$2702)=MAX(AC$1262:AC$2702),0,IF(AA2153>0.03*U$2703,0,$C2153/60)))","v":{"$error":"#VALUE!"}},{"$f":"IF(SUM(AK$1262:AK2152)>0,0,IF(MAX(AC2153:AC$2702)=MAX(AC$1262:AC$2702),0,IF(AA2153>0.01*U$2703,0,$C2153/60)))","v":{"$error":"#VALUE!"}},0,0,0,0,{"$error":"#VALUE!"},{"$error":"#VALUE!"},{"$error":"#VALUE!"},{"$error":"#VALUE!"},{"$error":"#VALUE!"},{"$error":"#VALUE!"},{"$error":"#VALUE!"},{"$error":"#VALUE!"},{"$error":"#VALUE!"},{"$error":"#VALUE!"},{"$error":"#VALUE!"},{"$f":"IF(SUM(BA$1262:BA2152)>0,0,IF(MAX(AT2153:AT$2702)=MAX(AT$1262:AT$2702),0,IF(AR2153>0.03*AL$2703,0,$C2153/60)))","v":{"$error":"#VALUE!"}},{"$f":"IF(SUM(BB$1262:BB2152)>0,0,IF(MAX(AT2153:AT$2702)=MAX(AT$1262:AT$2702),0,IF(AR2153>0.01*AL$2703,0,$C2153/60)))","v":{"$error":"#VALUE!"}},0,0,0,0,{"$error":"#VALUE!"},{"$error":"#VALUE!"},{"$error":"#VALUE!"},{"$error":"#VALUE!"},{"$error":"#VALUE!"},{"$error":"#VALUE!"},{"$error":"#VALUE!"},{"$error":"#VALUE!"},{"$error":"#VALUE!"},{"$error":"#VALUE!"},{"$error":"#VALUE!"},{"$f":"IF(SUM(BR$1262:BR2152)>0,0,IF(MAX(BK2153:BK$2702)=MAX(BK$1262:BK$2702),0,IF(BI2153>0.03*BC$2703,0,$C2153/60)))","v":{"$error":"#VALUE!"}},{"$f":"IF(SUM(BS$1262:BS2152)>0,0,IF(MAX(BK2153:BK$2702)=MAX(BK$1262:BK$2702),0,IF(BI2153>0.01*BC$2703,0,$C2153/60)))","v":{"$error":"#VALUE!"}},0,0,0,0,{"$error":"#VALUE!"},{"$error":"#VALUE!"},{"$error":"#VALUE!"},{"$error":"#VALUE!"},{"$error":"#VALUE!"},{"$error":"#VALUE!"},{"$error":"#VALUE!"},{"$error":"#VALUE!"},{"$error":"#VALUE!"},{"$error":"#VALUE!"},{"$error":"#VALUE!"},{"$f":"IF(SUM(CI$1262:CI2152)>0,0,IF(MAX(CB2153:CB$2702)=MAX(CB$1262:CB$2702),0,IF(BZ2153>0.03*BT$2703,0,$C2153/60)))","v":{"$error":"#VALUE!"}},{"$f":"IF(SUM(CJ$1262:CJ2152)>0,0,IF(MAX(CB2153:CB$2702)=MAX(CB$1262:CB$2702),0,IF(BZ2153>0.01*BT$2703,0,$C2153/60)))","v":{"$error":"#VALUE!"}},0,0,0,0,{"$error":"#VALUE!"},{"$error":"#VALUE!"},{"$error":"#VALUE!"},{"$error":"#VALUE!"},{"$error":"#VALUE!"},{"$error":"#VALUE!"},{"$error":"#VALUE!"},{"$error":"#VALUE!"},{"$error":"#VALUE!"},{"$error":"#VALUE!"},{"$error":"#VALUE!"},{"$f":"IF(SUM(CZ$1262:CZ2152)>0,0,IF(MAX(CS2153:CS$2702)=MAX(CS$1262:CS$2702),0,IF(CQ2153>0.03*CK$2703,0,$C2153/60)))","v":{"$error":"#VALUE!"}},{"$f":"IF(SUM(DA$1262:DA2152)>0,0,IF(MAX(CS2153:CS$2702)=MAX(CS$1262:CS$2702),0,IF(CQ2153>0.01*CK$2703,0,$C2153/60)))","v":{"$error":"#VALUE!"}}]
[null,74.583333333333329,4475,0,0,0,0,0,0,0,0,0,{"$error":"#N/A"},{"$error":"#N/A"},{"$error":"#N/A"},{"$error":"#N/A"},{"$error":"#N/A"},{"$error":"#N/A"},{"$f":"IF(SUM(S$1262:S2156)>0,0,\nIF(MAX(L2157:L$2702)=MAX(L$1262:L$2702),0,\nIF(Hydrograph_Source_WQCV=\"USER\",IF(J2157>0.03*D$2703,0,$C2157/60),\nIF(J2157>0.03*J$2703,0,$C2157/60))))","v":0},{"$f":"IF(SUM(T$1262:T2156)>0,0,\nIF(MAX(L2157:L$2702)=MAX(L$1262:L$2702),0,\nIF(Hydrograph_Source_WQCV=\"USER\",IF(J2157>0.01*D$2703,0,$C2157/60),\nIF(J2157>0.01*J$2703,0,$C2157/60))))","v":0},0,0,0,0,{"$error":"#VALUE!"},{"$error":"#VALUE!"},{"$error":"#VALUE!"},{"$error":"#VALUE!"},{"$error":"#VALUE!"},{"$error":"#VALUE!"},{"$error":"#VALUE!"},{"$error":"#VALUE!"},{"$error":"#VALUE!"},{"$error":"#VALUE!"},{"$error":"#VALUE!"},{"$f":"IF(SUM(AJ$1262:AJ2156)>0,0,IF(MAX(AC2157:AC$2702)=MAX(AC$1262:AC$2702),0,IF(AA2157>0.03*U$2703,0,$C2157/60)))","v":{"$error":"#VALUE!"}},{"$f":"IF(SUM(AK$1262:AK2156)>0,0,IF(MAX(AC2157:AC$2702)=MAX(AC$1262:AC$2702),0,IF(AA2157>0.01*U$2703,0,$C2157/60)))","v":{"$error":"#VALUE!"}},0,0,0,0,{"$error":"#VALUE!"},{"$error":"#VALUE!"},{"$error":"#VALUE!"},{"$error":"#VALUE!"},{"$error":"#VALUE!"},{"$error":"#VALUE!"},{"$error":"#VALUE!"},{"$error":"#VALUE!"},{"$error":"#VALUE!"},{"$error":"#VALUE!"},{"$error":"#VALUE!"},{"$f":"IF(SUM(BA$1262:BA2156)>0,0,IF(MAX(AT2157:AT$2702)=MAX(AT$1262:AT$2702),0,IF(AR2157>0.03*AL$2703,0,$C2157/60)))","v":{"$error":"#VALUE!"}},{"$f":"IF(SUM(BB$1262:BB2156)>0,0,IF(MAX(AT2157:AT$2702)=MAX(AT$1262:AT$2702),0,IF(AR2157>0.01*AL$2703,0,$C2157/60)))","v":{"$error":"#VALUE!"}},0,0,0,0,{"$error":"#VALUE!"},{"$error":"#VALUE!"},{"$error":"#VALUE!"},{"$error":"#VALUE!"},{"$error":"#VALUE!"},{"$error":"#VALUE!"},{"$error":"#VALUE!"},{"$error":"#VALUE!"},{"$error":"#VALUE!"},{"$error":"#VALUE!"},{"$error":"#VALUE!"},{"$f":"IF(SUM(BR$1262:BR2156)>0,0,IF(MAX(BK2157:BK$2702)=MAX(BK$1262:BK$2702),0,IF(BI2157>0.03*BC$2703,0,$C2157/60)))","v":{"$error":"#VALUE!"}},{"$f":"IF(SUM(BS$1262:BS2156)>0,0,IF(MAX(BK2157:BK$2702)=MAX(BK$1262:BK$2702),0,IF(BI2157>0.01*BC$2703,0,$C2157/60)))","v":{"$error":"#VALUE!"}},0,0,0,0,{"$error":"#VALUE!"},{"$error":"#VALUE!"},{"$error":"#VALUE!"},{"$error":"#VALUE!"},{"$error":"#VALUE!"},{"$error":"#VALUE!"},{"$error":"#VALUE!"},{"$error":"#VALUE!"},{"$error":"#VALUE!"},{"$error":"#VALUE!"},{"$error":"#VALUE!"},{"$f":"IF(SUM(CI$1262:CI2156)>0,0,IF(MAX(CB2157:CB$2702)=MAX(CB$1262:CB$2702),0,IF(BZ2157>0.03*BT$2703,0,$C2157/60)))","v":{"$error":"#VALUE!"}},{"$f":"IF(SUM(CJ$1262:CJ2156)>0,0,IF(MAX(CB2157:CB$2702)=MAX(CB$1262:CB$2702),0,IF(BZ2157>0.01*BT$2703,0,$C2157/60)))","v":{"$error":"#VALUE!"}},0,0,0,0,{"$error":"#VALUE!"},{"$error":"#VALUE!"},{"$error":"#VALUE!"},{"$error":"#VALUE!"},{"$error":"#VALUE!"},{"$error":"#VALUE!"},{"$error":"#VALUE!"},{"$error":"#VALUE!"},{"$error":"#VALUE!"},{"$error":"#VALUE!"},{"$error":"#VALUE!"},{"$f":"IF(SUM(CZ$1262:CZ2156)>0,0,IF(MAX(CS2157:CS$2702)=MAX(CS$1262:CS$2702),0,IF(CQ2157>0.03*CK$2703,0,$C2157/60)))","v":{"$error":"#VALUE!"}},{"$f":"IF(SUM(DA$1262:DA2156)>0,0,IF(MAX(CS2157:CS$2702)=MAX(CS$1262:CS$2702),0,IF(CQ2157>0.01*CK$2703,0,$C2157/60)))","v":{"$error":"#VALUE!"}}]
[null,75,4500,0,0,0,0,0,0,0,0,0,{"$error":"#N/A"},{"$error":"#N/A"},{"$error":"#N/A"},{"$error":"#N/A"},{"$error":"#N/A"},{"$error":"#N/A"},{"$f":"IF(SUM(S$1262:S2161)>0,0,\nIF(MAX(L2162:L$2702)=MAX(L$1262:L$2702),0,\nIF(Hydrograph_Source_WQCV=\"USER\",IF(J2162>0.03*D$2703,0,$C2162/60),\nIF(J2162>0.03*J$2703,0,$C2162/60))))","v":0},{"$f":"IF(SUM(T$1262:T2161)>0,0,\nIF(MAX(L2162:L$2702)=MAX(L$1262:L$2702),0,\nIF(Hydrograph_Source_WQCV=\"USER\",IF(J2162>0.01*D$2703,0,$C2162/60),\nIF(J2162>0.01*J$2703,0,$C2162/60))))","v":0},0,0,0,0,{"$error":"#VALUE!"},{"$error":"#VALUE!"},{"$error":"#VALUE!"},{"$error":"#VALUE!"},{"$error":"#VALUE!"},{"$error":"#VALUE!"},{"$error":"#VALUE!"},{"$error":"#VALUE!"},{"$error":"#VALUE!"},{"$error":"#VALUE!"},{"$error":"#VALUE!"},{"$f":"IF(SUM(AJ$1262:AJ2161)>0,0,IF(MAX(AC2162:AC$2702)=MAX(AC$1262:AC$2702),0,IF(AA2162>0.03*U$2703,0,$C2162/60)))","v":{"$error":"#VALUE!"}},{"$f":"IF(SUM(AK$1262:AK2161)>0,0,IF(MAX(AC2162:AC$2702)=MAX(AC$1262:AC$2702),0,IF(AA2162>0.01*U$2703,0,$C2162/60)))","v":{"$error":"#VALUE!"}},0,0,0,0,{"$error":"#VALUE!"},{"$error":"#VALUE!"},{"$error":"#VALUE!"},{"$error":"#VALUE!"},{"$error":"#VALUE!"},{"$error":"#VALUE!"},{"$error":"#VALUE!"},{"$error":"#VALUE!"},{"$error":"#VALUE!"},{"$error":"#VALUE!"},{"$error":"#VALUE!"},{"$f":"IF(SUM(BA$1262:BA2161)>0,0,IF(MAX(AT2162:AT$2702)=MAX(AT$1262:AT$2702),0,IF(AR2162>0.03*AL$2703,0,$C2162/60)))","v":{"$error":"#VALUE!"}},{"$f":"IF(SUM(BB$1262:BB2161)>0,0,IF(MAX(AT2162:AT$2702)=MAX(AT$1262:AT$2702),0,IF(AR2162>0.01*AL$2703,0,$C2162/60)))","v":{"$error":"#VALUE!"}},0,0,0,0,{"$error":"#VALUE!"},{"$error":"#VALUE!"},{"$error":"#VALUE!"},{"$error":"#VALUE!"},{"$error":"#VALUE!"},{"$error":"#VALUE!"},{"$error":"#VALUE!"},{"$error":"#VALUE!"},{"$error":"#VALUE!"},{"$error":"#VALUE!"},{"$error":"#VALUE!"},{"$f":"IF(SUM(BR$1262:BR2161)>0,0,IF(MAX(BK2162:BK$2702)=MAX(BK$1262:BK$2702),0,IF(BI2162>0.03*BC$2703,0,$C2162/60)))","v":{"$error":"#VALUE!"}},{"$f":"IF(SUM(BS$1262:BS2161)>0,0,IF(MAX(BK2162:BK$2702)=MAX(BK$1262:BK$2702),0,IF(BI2162>0.01*BC$2703,0,$C2162/60)))","v":{"$error":"#VALUE!"}},0,0,0,0,{"$error":"#VALUE!"},{"$error":"#VALUE!"},{"$error":"#VALUE!"},{"$error":"#VALUE!"},{"$error":"#VALUE!"},{"$error":"#VALUE!"},{"$error":"#VALUE!"},{"$error":"#VALUE!"},{"$error":"#VALUE!"},{"$error":"#VALUE!"},{"$error":"#VALUE!"},{"$f":"IF(SUM(CI$1262:CI2161)>0,0,IF(MAX(CB2162:CB$2702)=MAX(CB$1262:CB$2702),0,IF(BZ2162>0.03*BT$2703,0,$C2162/60)))","v":{"$error":"#VALUE!"}},{"$f":"IF(SUM(CJ$1262:CJ2161)>0,0,IF(MAX(CB2162:CB$2702)=MAX(CB$1262:CB$2702),0,IF(BZ2162>0.01*BT$2703,0,$C2162/60)))","v":{"$error":"#VALUE!"}},0,0,0,0,{"$error":"#VALUE!"},{"$error":"#VALUE!"},{"$error":"#VALUE!"},{"$error":"#VALUE!"},{"$error":"#VALUE!"},{"$error":"#VALUE!"},{"$error":"#VALUE!"},{"$error":"#VALUE!"},{"$error":"#VALUE!"},{"$error":"#VALUE!"},{"$error":"#VALUE!"},{"$f":"IF(SUM(CZ$1262:CZ2161)>0,0,IF(MAX(CS2162:CS$2702)=MAX(CS$1262:CS$2702),0,IF(CQ2162>0.03*CK$2703,0,$C2162/60)))","v":{"$error":"#VALUE!"}},{"$f":"IF(SUM(DA$1262:DA2161)>0,0,IF(MAX(CS2162:CS$2702)=MAX(CS$1262:CS$2702),0,IF(CQ2162>0.01*CK$2703,0,$C2162/60)))","v":{"$error":"#VALUE!"}}]
[null,75.416666666666671,4525,0,0,0,0,0,0,0,0,0,{"$error":"#N/A"},{"$error":"#N/A"},{"$error":"#N/A"},{"$error":"#N/A"},{"$error":"#N/A"},{"$error":"#N/A"},{"$f":"IF(SUM(S$1262:S2166)>0,0,\nIF(MAX(L2167:L$2702)=MAX(L$1262:L$2702),0,\nIF(Hydrograph_Source_WQCV=\"USER\",IF(J2167>0.03*D$2703,0,$C2167/60),\nIF(J2167>0.03*J$2703,0,$C2167/60))))","v":0},{"$f":"IF(SUM(T$1262:T2166)>0,0,\nIF(MAX(L2167:L$2702)=MAX(L$1262:L$2702),0,\nIF(Hydrograph_Source_WQCV=\"USER\",IF(J2167>0.01*D$2703,0,$C2167/60),\nIF(J2167>0.01*J$2703,0,$C2167/60))))","v":0},0,0,0,0,{"$error":"#VALUE!"},{"$error":"#VALUE!"},{"$error":"#VALUE!"},{"$error":"#VALUE!"},{"$error":"#VALUE!"},{"$error":"#VALUE!"},{"$error":"#VALUE!"},{"$error":"#VALUE!"},{"$error":"#VALUE!"},{"$error":"#VALUE!"},{"$error":"#VALUE!"},{"$f":"IF(SUM(AJ$1262:AJ2166)>0,0,IF(MAX(AC2167:AC$2702)=MAX(AC$1262:AC$2702),0,IF(AA2167>0.03*U$2703,0,$C2167/60)))","v":{"$error":"#VALUE!"}},{"$f":"IF(SUM(AK$1262:AK2166)>0,0,IF(MAX(AC2167:AC$2702)=MAX(AC$1262:AC$2702),0,IF(AA2167>0.01*U$2703,0,$C2167/60)))","v":{"$error":"#VALUE!"}},0,0,0,0,{"$error":"#VALUE!"},{"$error":"#VALUE!"},{"$error":"#VALUE!"},{"$error":"#VALUE!"},{"$error":"#VALUE!"},{"$error":"#VALUE!"},{"$error":"#VALUE!"},{"$error":"#VALUE!"},{"$error":"#VALUE!"},{"$error":"#VALUE!"},{"$error":"#VALUE!"},{"$f":"IF(SUM(BA$1262:BA2166)>0,0,IF(MAX(AT2167:AT$2702)=MAX(AT$1262:AT$2702),0,IF(AR2167>0.03*AL$2703,0,$C2167/60)))","v":{"$error":"#VALUE!"}},{"$f":"IF(SUM(BB$1262:BB2166)>0,0,IF(MAX(AT2167:AT$2702)=MAX(AT$1262:AT$2702),0,IF(AR2167>0.01*AL$2703,0,$C2167/60)))","v":{"$error":"#VALUE!"}},0,0,0,0,{"$error":"#VALUE!"},{"$error":"#VALUE!"},{"$error":"#VALUE!"},{"$error":"#VALUE!"},{"$error":"#VALUE!"},{"$error":"#VALUE!"},{"$error":"#VALUE!"},{"$error":"#VALUE!"},{"$error":"#VALUE!"},{"$error":"#VALUE!"},{"$error":"#VALUE!"},{"$f":"IF(SUM(BR$1262:BR2166)>0,0,IF(MAX(BK2167:BK$2702)=MAX(BK$1262:BK$2702),0,IF(BI2167>0.03*BC$2703,0,$C2167/60)))","v":{"$error":"#VALUE!"}},{"$f":"IF(SUM(BS$1262:BS2166)>0,0,IF(MAX(BK2167:BK$2702)=MAX(BK$1262:BK$2702),0,IF(BI2167>0.01*BC$2703,0,$C2167/60)))","v":{"$error":"#VALUE!"}},0,0,0,0,{"$error":"#VALUE!"},{"$error":"#VALUE!"},{"$error":"#VALUE!"},{"$error":"#VALUE!"},{"$error":"#VALUE!"},{"$error":"#VALUE!"},{"$error":"#VALUE!"},{"$error":"#VALUE!"},{"$error":"#VALUE!"},{"$error":"#VALUE!"},{"$error":"#VALUE!"},{"$f":"IF(SUM(CI$1262:CI2166)>0,0,IF(MAX(CB2167:CB$2702)=MAX(CB$1262:CB$2702),0,IF(BZ2167>0.03*BT$2703,0,$C2167/60)))","v":{"$error":"#VALUE!"}},{"$f":"IF(SUM(CJ$1262:CJ2166)>0,0,IF(MAX(CB2167:CB$2702)=MAX(CB$1262:CB$2702),0,IF(BZ2167>0.01*BT$2703,0,$C2167/60)))","v":{"$error":"#VALUE!"}},0,0,0,0,{"$error":"#VALUE!"},{"$error":"#VALUE!"},{"$error":"#VALUE!"},{"$error":"#VALUE!"},{"$error":"#VALUE!"},{"$error":"#VALUE!"},{"$error":"#VALUE!"},{"$error":"#VALUE!"},{"$error":"#VALUE!"},{"$error":"#VALUE!"},{"$error":"#VALUE!"},{"$f":"IF(SUM(CZ$1262:CZ2166)>0,0,IF(MAX(CS2167:CS$2702)=MAX(CS$1262:CS$2702),0,IF(CQ2167>0.03*CK$2703,0,$C2167/60)))","v":{"$error":"#VALUE!"}},{"$f":"IF(SUM(DA$1262:DA2166)>0,0,IF(MAX(CS2167:CS$2702)=MAX(CS$1262:CS$2702),0,IF(CQ2167>0.01*CK$2703,0,$C2167/60)))","v":{"$error":"#VALUE!"}}]
[null,75.75,4545,0,0,0,0,0,0,0,0,0,{"$error":"#N/A"},{"$error":"#N/A"},{"$error":"#N/A"},{"$error":"#N/A"},{"$error":"#N/A"},{"$error":"#N/A"},{"$f":"IF(SUM(S$1262:S2170)>0,0,\nIF(MAX(L2171:L$2702)=MAX(L$1262:L$2702),0,\nIF(Hydrograph_Source_WQCV=\"USER\",IF(J2171>0.03*D$2703,0,$C2171/60),\nIF(J2171>0.03*J$2703,0,$C2171/60))))","v":0},{"$f":"IF(SUM(T$1262:T2170)>0,0,\nIF(MAX(L2171:L$2702)=MAX(L$1262:L$2702),0,\nIF(Hydrograph_Source_WQCV=\"USER\",IF(J2171>0.01*D$2703,0,$C2171/60),\nIF(J2171>0.01*J$2703,0,$C2171/60))))","v":0},0,0,0,0,{"$error":"#VALUE!"},{"$error":"#VALUE!"},{"$error":"#VALUE!"},{"$error":"#VALUE!"},{"$error":"#VALUE!"},{"$error":"#VALUE!"},{"$error":"#VALUE!"},{"$error":"#VALUE!"},{"$error":"#VALUE!"},{"$error":"#VALUE!"},{"$error":"#VALUE!"},{"$f":"IF(SUM(AJ$1262:AJ2170)>0,0,IF(MAX(AC2171:AC$2702)=MAX(AC$1262:AC$2702),0,IF(AA2171>0.03*U$2703,0,$C2171/60)))","v":{"$error":"#VALUE!"}},{"$f":"IF(SUM(AK$1262:AK2170)>0,0,IF(MAX(AC2171:AC$2702)=MAX(AC$1262:AC$2702),0,IF(AA2171>0.01*U$2703,0,$C2171/60)))","v":{"$error":"#VALUE!"}},0,0,0,0,{"$error":"#VALUE!"},{"$error":"#VALUE!"},{"$error":"#VALUE!"},{"$error":"#VALUE!"},{"$error":"#VALUE!"},{"$error":"#VALUE!"},{"$error":"#VALUE!"},{"$error":"#VALUE!"},{"$error":"#VALUE!"},{"$error":"#VALUE!"},{"$error":"#VALUE!"},{"$f":"IF(SUM(BA$1262:BA2170)>0,0,IF(MAX(AT2171:AT$2702)=MAX(AT$1262:AT$2702),0,IF(AR2171>0.03*AL$2703,0,$C2171/60)))","v":{"$error":"#VALUE!"}},{"$f":"IF(SUM(BB$1262:BB2170)>0,0,IF(MAX(AT2171:AT$2702)=MAX(AT$1262:AT$2702),0,IF(AR2171>0.01*AL$2703,0,$C2171/60)))","v":{"$error":"#VALUE!"}},0,0,0,0,{"$error":"#VALUE!"},{"$error":"#VALUE!"},{"$error":"#VALUE!"},{"$error":"#VALUE!"},{"$error":"#VALUE!"},{"$error":"#VALUE!"},{"$error":"#VALUE!"},{"$error":"#VALUE!"},{"$error":"#VALUE!"},{"$error":"#VALUE!"},{"$error":"#VALUE!"},{"$f":"IF(SUM(BR$1262:BR2170)>0,0,IF(MAX(BK2171:BK$2702)=MAX(BK$1262:BK$2702),0,IF(BI2171>0.03*BC$2703,0,$C2171/60)))","v":{"$error":"#VALUE!"}},{"$f":"IF(SUM(BS$1262:BS2170)>0,0,IF(MAX(BK2171:BK$2702)=MAX(BK$1262:BK$2702),0,IF(BI2171>0.01*BC$2703,0,$C2171/60)))","v":{"$error":"#VALUE!"}},0,0,0,0,{"$error":"#VALUE!"},{"$error":"#VALUE!"},{"$error":"#VALUE!"},{"$error":"#VALUE!"},{"$error":"#VALUE!"},{"$error":"#VALUE!"},{"$error":"#VALUE!"},{"$error":"#VALUE!"},{"$error":"#VALUE!"},{"$error":"#VALUE!"},{"$error":"#VALUE!"},{"$f":"IF(SUM(CI$1262:CI2170)>0,0,IF(MAX(CB2171:CB$2702)=MAX(CB$1262:CB$2702),0,IF(BZ2171>0.03*BT$2703,0,$C2171/60)))","v":{"$error":"#VALUE!"}},{"$f":"IF(SUM(CJ$1262:CJ2170)>0,0,IF(MAX(CB2171:CB$2702)=MAX(CB$1262:CB$2702),0,IF(BZ2171>0.01*BT$2703,0,$C2171/60)))","v":{"$error":"#VALUE!"}},0,0,0,0,{"$error":"#VALUE!"},{"$error":"#VALUE!"},{"$error":"#VALUE!"},{"$error":"#VALUE!"},{"$error":"#VALUE!"},{"$error":"#VALUE!"},{"$error":"#VALUE!"},{"$error":"#VALUE!"},{"$error":"#VALUE!"},{"$error":"#VALUE!"},{"$error":"#VALUE!"},{"$f":"IF(SUM(CZ$1262:CZ2170)>0,0,IF(MAX(CS2171:CS$2702)=MAX(CS$1262:CS$2702),0,IF(CQ2171>0.03*CK$2703,0,$C2171/60)))","v":{"$error":"#VALUE!"}},{"$f":"IF(SUM(DA$1262:DA2170)>0,0,IF(MAX(CS2171:CS$2702)=MAX(CS$1262:CS$2702),0,IF(CQ2171>0.01*CK$2703,0,$C2171/60)))","v":{"$error":"#VALUE!"}}]
[null,76,4560,0,0,0,0,0,0,0,0,0,{"$error":"#N/A"},{"$error":"#N/A"},{"$error":"#N/A"},{"$error":"#N/A"},{"$error":"#N/A"},{"$error":"#N/A"},{"$f":"IF(SUM(S$1262:S2173)>0,0,\nIF(MAX(L2174:L$2702)=MAX(L$1262:L$2702),0,\nIF(Hydrograph_Source_WQCV=\"USER\",IF(J2174>0.03*D$2703,0,$C2174/60),\nIF(J2174>0.03*J$2703,0,$C2174/60))))","v":0},{"$f":"IF(SUM(T$1262:T2173)>0,0,\nIF(MAX(L2174:L$2702)=MAX(L$1262:L$2702),0,\nIF(Hydrograph_Source_WQCV=\"USER\",IF(J2174>0.01*D$2703,0,$C2174/60),\nIF(J2174>0.01*J$2703,0,$C2174/60))))","v":0},0,0,0,0,{"$error":"#VALUE!"},{"$error":"#VALUE!"},{"$error":"#VALUE!"},{"$error":"#VALUE!"},{"$error":"#VALUE!"},{"$error":"#VALUE!"},{"$error":"#VALUE!"},{"$error":"#VALUE!"},{"$error":"#VALUE!"},{"$error":"#VALUE!"},{"$error":"#VALUE!"},{"$f":"IF(SUM(AJ$1262:AJ2173)>0,0,IF(MAX(AC2174:AC$2702)=MAX(AC$1262:AC$2702),0,IF(AA2174>0.03*U$2703,0,$C2174/60)))","v":{"$error":"#VALUE!"}},{"$f":"IF(SUM(AK$1262:AK2173)>0,0,IF(MAX(AC2174:AC$2702)=MAX(AC$1262:AC$2702),0,IF(AA2174>0.01*U$2703,0,$C2174/60)))","v":{"$error":"#VALUE!"}},0,0,0,0,{"$error":"#VALUE!"},{"$error":"#VALUE!"},{"$error":"#VALUE!"},{"$error":"#VALUE!"},{"$error":"#VALUE!"},{"$error":"#VALUE!"},{"$error":"#VALUE!"},{"$error":"#VALUE!"},{"$error":"#VALUE!"},{"$error":"#VALUE!"},{"$error":"#VALUE!"},{"$f":"IF(SUM(BA$1262:BA2173)>0,0,IF(MAX(AT2174:AT$2702)=MAX(AT$1262:AT$2702),0,IF(AR2174>0.03*AL$2703,0,$C2174/60)))","v":{"$error":"#VALUE!"}},{"$f":"IF(SUM(BB$1262:BB2173)>0,0,IF(MAX(AT2174:AT$2702)=MAX(AT$1262:AT$2702),0,IF(AR2174>0.01*AL$2703,0,$C2174/60)))","v":{"$error":"#VALUE!"}},0,0,0,0,{"$error":"#VALUE!"},{"$error":"#VALUE!"},{"$error":"#VALUE!"},{"$error":"#VALUE!"},{"$error":"#VALUE!"},{"$error":"#VALUE!"},{"$error":"#VALUE!"},{"$error":"#VALUE!"},{"$error":"#VALUE!"},{"$error":"#VALUE!"},{"$error":"#VALUE!"},{"$f":"IF(SUM(BR$1262:BR2173)>0,0,IF(MAX(BK2174:BK$2702)=MAX(BK$1262:BK$2702),0,IF(BI2174>0.03*BC$2703,0,$C2174/60)))","v":{"$error":"#VALUE!"}},{"$f":"IF(SUM(BS$1262:BS2173)>0,0,IF(MAX(BK2174:BK$2702)=MAX(BK$1262:BK$2702),0,IF(BI2174>0.01*BC$2703,0,$C2174/60)))","v":{"$error":"#VALUE!"}},0,0,0,0,{"$error":"#VALUE!"},{"$error":"#VALUE!"},{"$error":"#VALUE!"},{"$error":"#VALUE!"},{"$error":"#VALUE!"},{"$error":"#VALUE!"},{"$error":"#VALUE!"},{"$error":"#VALUE!"},{"$error":"#VALUE!"},{"$error":"#VALUE!"},{"$error":"#VALUE!"},{"$f":"IF(SUM(CI$1262:CI2173)>0,0,IF(MAX(CB2174:CB$2702)=MAX(CB$1262:CB$2702),0,IF(BZ2174>0.03*BT$2703,0,$C2174/60)))","v":{"$error":"#VALUE!"}},{"$f":"IF(SUM(CJ$1262:CJ2173)>0,0,IF(MAX(CB2174:CB$2702)=MAX(CB$1262:CB$2702),0,IF(BZ2174>0.01*BT$2703,0,$C2174/60)))","v":{"$error":"#VALUE!"}},0,0,0,0,{"$error":"#VALUE!"},{"$error":"#VALUE!"},{"$error":"#VALUE!"},{"$error":"#VALUE!"},{"$error":"#VALUE!"},{"$error":"#VALUE!"},{"$error":"#VALUE!"},{"$error":"#VALUE!"},{"$error":"#VALUE!"},{"$error":"#VALUE!"},{"$error":"#VALUE!"},{"$f":"IF(SUM(CZ$1262:CZ2173)>0,0,IF(MAX(CS2174:CS$2702)=MAX(CS$1262:CS$2702),0,IF(CQ2174>0.03*CK$2703,0,$C2174/60)))","v":{"$error":"#VALUE!"}},{"$f":"IF(SUM(DA$1262:DA2173)>0,0,IF(MAX(CS2174:CS$2702)=MAX(CS$1262:CS$2702),0,IF(CQ2174>0.01*CK$2703,0,$C2174/60)))","v":{"$error":"#VALUE!"}}]
[null,76.416666666666671,4585,0,0,0,0,0,0,0,0,0,{"$error":"#N/A"},{"$error":"#N/A"},{"$error":"#N/A"},{"$error":"#N/A"},{"$error":"#N/A"},{"$error":"#N/A"},{"$f":"IF(SUM(S$1262:S2178)>0,0,\nIF(MAX(L2179:L$2702)=MAX(L$1262:L$2702),0,\nIF(Hydrograph_Source_WQCV=\"USER\",IF(J2179>0.03*D$2703,0,$C2179/60),\nIF(J2179>0.03*J$2703,0,$C2179/60))))","v":0},{"$f":"IF(SUM(T$1262:T2178)>0,0,\nIF(MAX(L2179:L$2702)=MAX(L$1262:L$2702),0,\nIF(Hydrograph_Source_WQCV=\"USER\",IF(J2179>0.01*D$2703,0,$C2179/60),\nIF(J2179>0.01*J$2703,0,$C2179/60))))","v":0},0,0,0,0,{"$error":"#VALUE!"},{"$error":"#VALUE!"},{"$error":"#VALUE!"},{"$error":"#VALUE!"},{"$error":"#VALUE!"},{"$error":"#VALUE!"},{"$error":"#VALUE!"},{"$error":"#VALUE!"},{"$error":"#VALUE!"},{"$error":"#VALUE!"},{"$error":"#VALUE!"},{"$f":"IF(SUM(AJ$1262:AJ2178)>0,0,IF(MAX(AC2179:AC$2702)=MAX(AC$1262:AC$2702),0,IF(AA2179>0.03*U$2703,0,$C2179/60)))","v":{"$error":"#VALUE!"}},{"$f":"IF(SUM(AK$1262:AK2178)>0,0,IF(MAX(AC2179:AC$2702)=MAX(AC$1262:AC$2702),0,IF(AA2179>0.01*U$2703,0,$C2179/60)))","v":{"$error":"#VALUE!"}},0,0,0,0,{"$error":"#VALUE!"},{"$error":"#VALUE!"},{"$error":"#VALUE!"},{"$error":"#VALUE!"},{"$error":"#VALUE!"},{"$error":"#VALUE!"},{"$error":"#VALUE!"},{"$error":"#VALUE!"},{"$error":"#VALUE!"},{"$error":"#VALUE!"},{"$error":"#VALUE!"},{"$f":"IF(SUM(BA$1262:BA2178)>0,0,IF(MAX(AT2179:AT$2702)=MAX(AT$1262:AT$2702),0,IF(AR2179>0.03*AL$2703,0,$C2179/60)))","v":{"$error":"#VALUE!"}},{"$f":"IF(SUM(BB$1262:BB2178)>0,0,IF(MAX(AT2179:AT$2702)=MAX(AT$1262:AT$2702),0,IF(AR2179>0.01*AL$2703,0,$C2179/60)))","v":{"$error":"#VALUE!"}},0,0,0,0,{"$error":"#VALUE!"},{"$error":"#VALUE!"},{"$error":"#VALUE!"},{"$error":"#VALUE!"},{"$error":"#VALUE!"},{"$error":"#VALUE!"},{"$error":"#VALUE!"},{"$error":"#VALUE!"},{"$error":"#VALUE!"},{"$error":"#VALUE!"},{"$error":"#VALUE!"},{"$f":"IF(SUM(BR$1262:BR2178)>0,0,IF(MAX(BK2179:BK$2702)=MAX(BK$1262:BK$2702),0,IF(BI2179>0.03*BC$2703,0,$C2179/60)))","v":{"$error":"#VALUE!"}},{"$f":"IF(SUM(BS$1262:BS2178)>0,0,IF(MAX(BK2179:BK$2702)=MAX(BK$1262:BK$2702),0,IF(BI2179>0.01*BC$2703,0,$C2179/60)))","v":{"$error":"#VALUE!"}},0,0,0,0,{"$error":"#VALUE!"},{"$error":"#VALUE!"},{"$error":"#VALUE!"},{"$error":"#VALUE!"},{"$error":"#VALUE!"},{"$error":"#VALUE!"},{"$error":"#VALUE!"},{"$error":"#VALUE!"},{"$error":"#VALUE!"},{"$error":"#VALUE!"},{"$error":"#VALUE!"},{"$f":"IF(SUM(CI$1262:CI2178)>0,0,IF(MAX(CB2179:CB$2702)=MAX(CB$1262:CB$2702),0,IF(BZ2179>0.03*BT$2703,0,$C2179/60)))","v":{"$error":"#VALUE!"}},{"$f":"IF(SUM(CJ$1262:CJ2178)>0,0,IF(MAX(CB2179:CB$2702)=MAX(CB$1262:CB$2702),0,IF(BZ2179>0.01*BT$2703,0,$C2179/60)))","v":{"$error":"#VALUE!"}},0,0,0,0,{"$error":"#VALUE!"},{"$error":"#VALUE!"},{"$error":"#VALUE!"},{"$error":"#VALUE!"},{"$error":"#VALUE!"},{"$error":"#VALUE!"},{"$error":"#VALUE!"},{"$error":"#VALUE!"},{"$error":"#VALUE!"},{"$error":"#VALUE!"},{"$error":"#VALUE!"},{"$f":"IF(SUM(CZ$1262:CZ2178)>0,0,IF(MAX(CS2179:CS$2702)=MAX(CS$1262:CS$2702),0,IF(CQ2179>0.03*CK$2703,0,$C2179/60)))","v":{"$error":"#VALUE!"}},{"$f":"IF(SUM(DA$1262:DA2178)>0,0,IF(MAX(CS2179:CS$2702)=MAX(CS$1262:CS$2702),0,IF(CQ2179>0.01*CK$2703,0,$C2179/60)))","v":{"$error":"#VALUE!"}}]
[null,76.916666666666671,4615,0,0,0,0,0,0,0,0,0,{"$error":"#N/A"},{"$error":"#N/A"},{"$error":"#N/A"},{"$error":"#N/A"},{"$error":"#N/A"},{"$error":"#N/A"},{"$f":"IF(SUM(S$1262:S2184)>0,0,\nIF(MAX(L2185:L$2702)=MAX(L$1262:L$2702),0,\nIF(Hydrograph_Source_WQCV=\"USER\",IF(J2185>0.03*D$2703,0,$C2185/60),\nIF(J2185>0.03*J$2703,0,$C2185/60))))","v":0},{"$f":"IF(SUM(T$1262:T2184)>0,0,\nIF(MAX(L2185:L$2702)=MAX(L$1262:L$2702),0,\nIF(Hydrograph_Source_WQCV=\"USER\",IF(J2185>0.01*D$2703,0,$C2185/60),\nIF(J2185>0.01*J$2703,0,$C2185/60))))","v":0},0,0,0,0,{"$error":"#VALUE!"},{"$error":"#VALUE!"},{"$error":"#VALUE!"},{"$error":"#VALUE!"},{"$error":"#VALUE!"},{"$error":"#VALUE!"},{"$error":"#VALUE!"},{"$error":"#VALUE!"},{"$error":"#VALUE!"},{"$error":"#VALUE!"},{"$error":"#VALUE!"},{"$f":"IF(SUM(AJ$1262:AJ2184)>0,0,IF(MAX(AC2185:AC$2702)=MAX(AC$1262:AC$2702),0,IF(AA2185>0.03*U$2703,0,$C2185/60)))","v":{"$error":"#VALUE!"}},{"$f":"IF(SUM(AK$1262:AK2184)>0,0,IF(MAX(AC2185:AC$2702)=MAX(AC$1262:AC$2702),0,IF(AA2185>0.01*U$2703,0,$C2185/60)))","v":{"$error":"#VALUE!"}},0,0,0,0,{"$error":"#VALUE!"},{"$error":"#VALUE!"},{"$error":"#VALUE!"},{"$error":"#VALUE!"},{"$error":"#VALUE!"},{"$error":"#VALUE!"},{"$error":"#VALUE!"},{"$error":"#VALUE!"},{"$error":"#VALUE!"},{"$error":"#VALUE!"},{"$error":"#VALUE!"},{"$f":"IF(SUM(BA$1262:BA2184)>0,0,IF(MAX(AT2185:AT$2702)=MAX(AT$1262:AT$2702),0,IF(AR2185>0.03*AL$2703,0,$C2185/60)))","v":{"$error":"#VALUE!"}},{"$f":"IF(SUM(BB$1262:BB2184)>0,0,IF(MAX(AT2185:AT$2702)=MAX(AT$1262:AT$2702),0,IF(AR2185>0.01*AL$2703,0,$C2185/60)))","v":{"$error":"#VALUE!"}},0,0,0,0,{"$error":"#VALUE!"},{"$error":"#VALUE!"},{"$error":"#VALUE!"},{"$error":"#VALUE!"},{"$error":"#VALUE!"},{"$error":"#VALUE!"},{"$error":"#VALUE!"},{"$error":"#VALUE!"},{"$error":"#VALUE!"},{"$error":"#VALUE!"},{"$error":"#VALUE!"},{"$f":"IF(SUM(BR$1262:BR2184)>0,0,IF(MAX(BK2185:BK$2702)=MAX(BK$1262:BK$2702),0,IF(BI2185>0.03*BC$2703,0,$C2185/60)))","v":{"$error":"#VALUE!"}},{"$f":"IF(SUM(BS$1262:BS2184)>0,0,IF(MAX(BK2185:BK$2702)=MAX(BK$1262:BK$2702),0,IF(BI2185>0.01*BC$2703,0,$C2185/60)))","v":{"$error":"#VALUE!"}},0,0,0,0,{"$error":"#VALUE!"},{"$error":"#VALUE!"},{"$error":"#VALUE!"},{"$error":"#VALUE!"},{"$error":"#VALUE!"},{"$error":"#VALUE!"},{"$error":"#VALUE!"},{"$error":"#VALUE!"},{"$error":"#VALUE!"},{"$error":"#VALUE!"},{"$error":"#VALUE!"},{"$f":"IF(SUM(CI$1262:CI2184)>0,0,IF(MAX(CB2185:CB$2702)=MAX(CB$1262:CB$2702),0,IF(BZ2185>0.03*BT$2703,0,$C2185/60)))","v":{"$error":"#VALUE!"}},{"$f":"IF(SUM(CJ$1262:CJ2184)>0,0,IF(MAX(CB2185:CB$2702)=MAX(CB$1262:CB$2702),0,IF(BZ2185>0.01*BT$2703,0,$C2185/60)))","v":{"$error":"#VALUE!"}},0,0,0,0,{"$error":"#VALUE!"},{"$error":"#VALUE!"},{"$error":"#VALUE!"},{"$error":"#VALUE!"},{"$error":"#VALUE!"},{"$error":"#VALUE!"},{"$error":"#VALUE!"},{"$error":"#VALUE!"},{"$error":"#VALUE!"},{"$error":"#VALUE!"},{"$error":"#VALUE!"},{"$f":"IF(SUM(CZ$1262:CZ2184)>0,0,IF(MAX(CS2185:CS$2702)=MAX(CS$1262:CS$2702),0,IF(CQ2185>0.03*CK$2703,0,$C2185/60)))","v":{"$error":"#VALUE!"}},{"$f":"IF(SUM(DA$1262:DA2184)>0,0,IF(MAX(CS2185:CS$2702)=MAX(CS$1262:CS$2702),0,IF(CQ2185>0.01*CK$2703,0,$C2185/60)))","v":{"$error":"#VALUE!"}}]
[null,77,4620,0,0,0,0,0,0,0,0,0,{"$error":"#N/A"},{"$error":"#N/A"},{"$error":"#N/A"},{"$error":"#N/A"},{"$error":"#N/A"},{"$error":"#N/A"},{"$f":"IF(SUM(S$1262:S2185)>0,0,\nIF(MAX(L2186:L$2702)=MAX(L$1262:L$2702),0,\nIF(Hydrograph_Source_WQCV=\"USER\",IF(J2186>0.03*D$2703,0,$C2186/60),\nIF(J2186>0.03*J$2703,0,$C2186/60))))","v":0},{"$f":"IF(SUM(T$1262:T2185)>0,0,\nIF(MAX(L2186:L$2702)=MAX(L$1262:L$2702),0,\nIF(Hydrograph_Source_WQCV=\"USER\",IF(J2186>0.01*D$2703,0,$C2186/60),\nIF(J2186>0.01*J$2703,0,$C2186/60))))","v":0},0,0,0,0,{"$error":"#VALUE!"},{"$error":"#VALUE!"},{"$error":"#VALUE!"},{"$error":"#VALUE!"},{"$error":"#VALUE!"},{"$error":"#VALUE!"},{"$error":"#VALUE!"},{"$error":"#VALUE!"},{"$error":"#VALUE!"},{"$error":"#VALUE!"},{"$error":"#VALUE!"},{"$f":"IF(SUM(AJ$1262:AJ2185)>0,0,IF(MAX(AC2186:AC$2702)=MAX(AC$1262:AC$2702),0,IF(AA2186>0.03*U$2703,0,$C2186/60)))","v":{"$error":"#VALUE!"}},{"$f":"IF(SUM(AK$1262:AK2185)>0,0,IF(MAX(AC2186:AC$2702)=MAX(AC$1262:AC$2702),0,IF(AA2186>0.01*U$2703,0,$C2186/60)))","v":{"$error":"#VALUE!"}},0,0,0,0,{"$error":"#VALUE!"},{"$error":"#VALUE!"},{"$error":"#VALUE!"},{"$error":"#VALUE!"},{"$error":"#VALUE!"},{"$error":"#VALUE!"},{"$error":"#VALUE!"},{"$error":"#VALUE!"},{"$error":"#VALUE!"},{"$error":"#VALUE!"},{"$error":"#VALUE!"},{"$f":"IF(SUM(BA$1262:BA2185)>0,0,IF(MAX(AT2186:AT$2702)=MAX(AT$1262:AT$2702),0,IF(AR2186>0.03*AL$2703,0,$C2186/60)))","v":{"$error":"#VALUE!"}},{"$f":"IF(SUM(BB$1262:BB2185)>0,0,IF(MAX(AT2186:AT$2702)=MAX(AT$1262:AT$2702),0,IF(AR2186>0.01*AL$2703,0,$C2186/60)))","v":{"$error":"#VALUE!"}},0,0,0,0,{"$error":"#VALUE!"},{"$error":"#VALUE!"},{"$error":"#VALUE!"},{"$error":"#VALUE!"},{"$error":"#VALUE!"},{"$error":"#VALUE!"},{"$error":"#VALUE!"},{"$error":"#VALUE!"},{"$error":"#VALUE!"},{"$error":"#VALUE!"},{"$error":"#VALUE!"},{"$f":"IF(SUM(BR$1262:BR2185)>0,0,IF(MAX(BK2186:BK$2702)=MAX(BK$1262:BK$2702),0,IF(BI2186>0.03*BC$2703,0,$C2186/60)))","v":{"$error":"#VALUE!"}},{"$f":"IF(SUM(BS$1262:BS2185)>0,0,IF(MAX(BK2186:BK$2702)=MAX(BK$1262:BK$2702),0,IF(BI2186>0.01*BC$2703,0,$C2186/60)))","v":{"$error":"#VALUE!"}},0,0,0,0,{"$error":"#VALUE!"},{"$error":"#VALUE!"},{"$error":"#VALUE!"},{"$error":"#VALUE!"},{"$error":"#VALUE!"},{"$error":"#VALUE!"},{"$error":"#VALUE!"},{"$error":"#VALUE!"},{"$error":"#VALUE!"},{"$error":"#VALUE!"},{"$error":"#VALUE!"},{"$f":"IF(SUM(CI$1262:CI2185)>0,0,IF(MAX(CB2186:CB$2702)=MAX(CB$1262:CB$2702),0,IF(BZ2186>0.03*BT$2703,0,$C2186/60)))","v":{"$error":"#VALUE!"}},{"$f":"IF(SUM(CJ$1262:CJ2185)>0,0,IF(MAX(CB2186:CB$2702)=MAX(CB$1262:CB$2702),0,IF(BZ2186>0.01*BT$2703,0,$C2186/60)))","v":{"$error":"#VALUE!"}},0,0,0,0,{"$error":"#VALUE!"},{"$error":"#VALUE!"},{"$error":"#VALUE!"},{"$error":"#VALUE!"},{"$error":"#VALUE!"},{"$error":"#VALUE!"},{"$error":"#VALUE!"},{"$error":"#VALUE!"},{"$error":"#VALUE!"},{"$error":"#VALUE!"},{"$error":"#VALUE!"},{"$f":"IF(SUM(CZ$1262:CZ2185)>0,0,IF(MAX(CS2186:CS$2702)=MAX(CS$1262:CS$2702),0,IF(CQ2186>0.03*CK$2703,0,$C2186/60)))","v":{"$error":"#VALUE!"}},{"$f":"IF(SUM(DA$1262:DA2185)>0,0,IF(MAX(CS2186:CS$2702)=MAX(CS$1262:CS$2702),0,IF(CQ2186>0.01*CK$2703,0,$C2186/60)))","v":{"$error":"#VALUE!"}}]
[null,77.416666666666671,4645,0,0,0,0,0,0,0,0,0,{"$error":"#N/A"},{"$error":"#N/A"},{"$error":"#N/A"},{"$error":"#N/A"},{"$error":"#N/A"},{"$error":"#N/A"},{"$f":"IF(SUM(S$1262:S2190)>0,0,\nIF(MAX(L2191:L$2702)=MAX(L$1262:L$2702),0,\nIF(Hydrograph_Source_WQCV=\"USER\",IF(J2191>0.03*D$2703,0,$C2191/60),\nIF(J2191>0.03*J$2703,0,$C2191/60))))","v":0},{"$f":"IF(SUM(T$1262:T2190)>0,0,\nIF(MAX(L2191:L$2702)=MAX(L$1262:L$2702),0,\nIF(Hydrograph_Source_WQCV=\"USER\",IF(J2191>0.01*D$2703,0,$C2191/60),\nIF(J2191>0.01*J$2703,0,$C2191/60))))","v":0},0,0,0,0,{"$error":"#VALUE!"},{"$error":"#VALUE!"},{"$error":"#VALUE!"},{"$error":"#VALUE!"},{"$error":"#VALUE!"},{"$error":"#VALUE!"},{"$error":"#VALUE!"},{"$error":"#VALUE!"},{"$error":"#VALUE!"},{"$error":"#VALUE!"},{"$error":"#VALUE!"},{"$f":"IF(SUM(AJ$1262:AJ2190)>0,0,IF(MAX(AC2191:AC$2702)=MAX(AC$1262:AC$2702),0,IF(AA2191>0.03*U$2703,0,$C2191/60)))","v":{"$error":"#VALUE!"}},{"$f":"IF(SUM(AK$1262:AK2190)>0,0,IF(MAX(AC2191:AC$2702)=MAX(AC$1262:AC$2702),0,IF(AA2191>0.01*U$2703,0,$C2191/60)))","v":{"$error":"#VALUE!"}},0,0,0,0,{"$error":"#VALUE!"},{"$error":"#VALUE!"},{"$error":"#VALUE!"},{"$error":"#VALUE!"},{"$error":"#VALUE!"},{"$error":"#VALUE!"},{"$error":"#VALUE!"},{"$error":"#VALUE!"},{"$error":"#VALUE!"},{"$error":"#VALUE!"},{"$error":"#VALUE!"},{"$f":"IF(SUM(BA$1262:BA2190)>0,0,IF(MAX(AT2191:AT$2702)=MAX(AT$1262:AT$2702),0,IF(AR2191>0.03*AL$2703,0,$C2191/60)))","v":{"$error":"#VALUE!"}},{"$f":"IF(SUM(BB$1262:BB2190)>0,0,IF(MAX(AT2191:AT$2702)=MAX(AT$1262:AT$2702),0,IF(AR2191>0.01*AL$2703,0,$C2191/60)))","v":{"$error":"#VALUE!"}},0,0,0,0,{"$error":"#VALUE!"},{"$error":"#VALUE!"},{"$error":"#VALUE!"},{"$error":"#VALUE!"},{"$error":"#VALUE!"},{"$error":"#VALUE!"},{"$error":"#VALUE!"},{"$error":"#VALUE!"},{"$error":"#VALUE!"},{"$error":"#VALUE!"},{"$error":"#VALUE!"},{"$f":"IF(SUM(BR$1262:BR2190)>0,0,IF(MAX(BK2191:BK$2702)=MAX(BK$1262:BK$2702),0,IF(BI2191>0.03*BC$2703,0,$C2191/60)))","v":{"$error":"#VALUE!"}},{"$f":"IF(SUM(BS$1262:BS2190)>0,0,IF(MAX(BK2191:BK$2702)=MAX(BK$1262:BK$2702),0,IF(BI2191>0.01*BC$2703,0,$C2191/60)))","v":{"$error":"#VALUE!"}},0,0,0,0,{"$error":"#VALUE!"},{"$error":"#VALUE!"},{"$error":"#VALUE!"},{"$error":"#VALUE!"},{"$error":"#VALUE!"},{"$error":"#VALUE!"},{"$error":"#VALUE!"},{"$error":"#VALUE!"},{"$error":"#VALUE!"},{"$error":"#VALUE!"},{"$error":"#VALUE!"},{"$f":"IF(SUM(CI$1262:CI2190)>0,0,IF(MAX(CB2191:CB$2702)=MAX(CB$1262:CB$2702),0,IF(BZ2191>0.03*BT$2703,0,$C2191/60)))","v":{"$error":"#VALUE!"}},{"$f":"IF(SUM(CJ$1262:CJ2190)>0,0,IF(MAX(CB2191:CB$2702)=MAX(CB$1262:CB$2702),0,IF(BZ2191>0.01*BT$2703,0,$C2191/60)))","v":{"$error":"#VALUE!"}},0,0,0,0,{"$error":"#VALUE!"},{"$error":"#VALUE!"},{"$error":"#VALUE!"},{"$error":"#VALUE!"},{"$error":"#VALUE!"},{"$error":"#VALUE!"},{"$error":"#VALUE!"},{"$error":"#VALUE!"},{"$error":"#VALUE!"},{"$error":"#VALUE!"},{"$error":"#VALUE!"},{"$f":"IF(SUM(CZ$1262:CZ2190)>0,0,IF(MAX(CS2191:CS$2702)=MAX(CS$1262:CS$2702),0,IF(CQ2191>0.03*CK$2703,0,$C2191/60)))","v":{"$error":"#VALUE!"}},{"$f":"IF(SUM(DA$1262:DA2190)>0,0,IF(MAX(CS2191:CS$2702)=MAX(CS$1262:CS$2702),0,IF(CQ2191>0.01*CK$2703,0,$C2191/60)))","v":{"$error":"#VALUE!"}}]
[null,77.75,4665,0,0,0,0,0,0,0,0,0,{"$error":"#N/A"},{"$error":"#N/A"},{"$error":"#N/A"},{"$error":"#N/A"},{"$error":"#N/A"},{"$error":"#N/A"},{"$f":"IF(SUM(S$1262:S2194)>0,0,\nIF(MAX(L2195:L$2702)=MAX(L$1262:L$2702),0,\nIF(Hydrograph_Source_WQCV=\"USER\",IF(J2195>0.03*D$2703,0,$C2195/60),\nIF(J2195>0.03*J$2703,0,$C2195/60))))","v":0},{"$f":"IF(SUM(T$1262:T2194)>0,0,\nIF(MAX(L2195:L$2702)=MAX(L$1262:L$2702),0,\nIF(Hydrograph_Source_WQCV=\"USER\",IF(J2195>0.01*D$2703,0,$C2195/60),\nIF(J2195>0.01*J$2703,0,$C2195/60))))","v":0},0,0,0,0,{"$error":"#VALUE!"},{"$error":"#VALUE!"},{"$error":"#VALUE!"},{"$error":"#VALUE!"},{"$error":"#VALUE!"},{"$error":"#VALUE!"},{"$error":"#VALUE!"},{"$error":"#VALUE!"},{"$error":"#VALUE!"},{"$error":"#VALUE!"},{"$error":"#VALUE!"},{"$f":"IF(SUM(AJ$1262:AJ2194)>0,0,IF(MAX(AC2195:AC$2702)=MAX(AC$1262:AC$2702),0,IF(AA2195>0.03*U$2703,0,$C2195/60)))","v":{"$error":"#VALUE!"}},{"$f":"IF(SUM(AK$1262:AK2194)>0,0,IF(MAX(AC2195:AC$2702)=MAX(AC$1262:AC$2702),0,IF(AA2195>0.01*U$2703,0,$C2195/60)))","v":{"$error":"#VALUE!"}},0,0,0,0,{"$error":"#VALUE!"},{"$error":"#VALUE!"},{"$error":"#VALUE!"},{"$error":"#VALUE!"},{"$error":"#VALUE!"},{"$error":"#VALUE!"},{"$error":"#VALUE!"},{"$error":"#VALUE!"},{"$error":"#VALUE!"},{"$error":"#VALUE!"},{"$error":"#VALUE!"},{"$f":"IF(SUM(BA$1262:BA2194)>0,0,IF(MAX(AT2195:AT$2702)=MAX(AT$1262:AT$2702),0,IF(AR2195>0.03*AL$2703,0,$C2195/60)))","v":{"$error":"#VALUE!"}},{"$f":"IF(SUM(BB$1262:BB2194)>0,0,IF(MAX(AT2195:AT$2702)=MAX(AT$1262:AT$2702),0,IF(AR2195>0.01*AL$2703,0,$C2195/60)))","v":{"$error":"#VALUE!"}},0,0,0,0,{"$error":"#VALUE!"},{"$error":"#VALUE!"},{"$error":"#VALUE!"},{"$error":"#VALUE!"},{"$error":"#VALUE!"},{"$error":"#VALUE!"},{"$error":"#VALUE!"},{"$error":"#VALUE!"},{"$error":"#VALUE!"},{"$error":"#VALUE!"},{"$error":"#VALUE!"},{"$f":"IF(SUM(BR$1262:BR2194)>0,0,IF(MAX(BK2195:BK$2702)=MAX(BK$1262:BK$2702),0,IF(BI2195>0.03*BC$2703,0,$C2195/60)))","v":{"$error":"#VALUE!"}},{"$f":"IF(SUM(BS$1262:BS2194)>0,0,IF(MAX(BK2195:BK$2702)=MAX(BK$1262:BK$2702),0,IF(BI2195>0.01*BC$2703,0,$C2195/60)))","v":{"$error":"#VALUE!"}},0,0,0,0,{"$error":"#VALUE!"},{"$error":"#VALUE!"},{"$error":"#VALUE!"},{"$error":"#VALUE!"},{"$error":"#VALUE!"},{"$error":"#VALUE!"},{"$error":"#VALUE!"},{"$error":"#VALUE!"},{"$error":"#VALUE!"},{"$error":"#VALUE!"},{"$error":"#VALUE!"},{"$f":"IF(SUM(CI$1262:CI2194)>0,0,IF(MAX(CB2195:CB$2702)=MAX(CB$1262:CB$2702),0,IF(BZ2195>0.03*BT$2703,0,$C2195/60)))","v":{"$error":"#VALUE!"}},{"$f":"IF(SUM(CJ$1262:CJ2194)>0,0,IF(MAX(CB2195:CB$2702)=MAX(CB$1262:CB$2702),0,IF(BZ2195>0.01*BT$2703,0,$C2195/60)))","v":{"$error":"#VALUE!"}},0,0,0,0,{"$error":"#VALUE!"},{"$error":"#VALUE!"},{"$error":"#VALUE!"},{"$error":"#VALUE!"},{"$error":"#VALUE!"},{"$error":"#VALUE!"},{"$error":"#VALUE!"},{"$error":"#VALUE!"},{"$error":"#VALUE!"},{"$error":"#VALUE!"},{"$error":"#VALUE!"},{"$f":"IF(SUM(CZ$1262:CZ2194)>0,0,IF(MAX(CS2195:CS$2702)=MAX(CS$1262:CS$2702),0,IF(CQ2195>0.03*CK$2703,0,$C2195/60)))","v":{"$error":"#VALUE!"}},{"$f":"IF(SUM(DA$1262:DA2194)>0,0,IF(MAX(CS2195:CS$2702)=MAX(CS$1262:CS$2702),0,IF(CQ2195>0.01*CK$2703,0,$C2195/60)))","v":{"$error":"#VALUE!"}}]
[null,78.333333333333329,4700,0,0,0,0,0,0,0,0,0,{"$error":"#N/A"},{"$error":"#N/A"},{"$error":"#N/A"},{"$error":"#N/A"},{"$error":"#N/A"},{"$error":"#N/A"},{"$f":"IF(SUM(S$1262:S2201)>0,0,\nIF(MAX(L2202:L$2702)=MAX(L$1262:L$2702),0,\nIF(Hydrograph_Source_WQCV=\"USER\",IF(J2202>0.03*D$2703,0,$C2202/60),\nIF(J2202>0.03*J$2703,0,$C2202/60))))","v":0},{"$f":"IF(SUM(T$1262:T2201)>0,0,\nIF(MAX(L2202:L$2702)=MAX(L$1262:L$2702),0,\nIF(Hydrograph_Source_WQCV=\"USER\",IF(J2202>0.01*D$2703,0,$C2202/60),\nIF(J2202>0.01*J$2703,0,$C2202/60))))","v":0},0,0,0,0,{"$error":"#VALUE!"},{"$error":"#VALUE!"},{"$error":"#VALUE!"},{"$error":"#VALUE!"},{"$error":"#VALUE!"},{"$error":"#VALUE!"},{"$error":"#VALUE!"},{"$error":"#VALUE!"},{"$error":"#VALUE!"},{"$error":"#VALUE!"},{"$error":"#VALUE!"},{"$f":"IF(SUM(AJ$1262:AJ2201)>0,0,IF(MAX(AC2202:AC$2702)=MAX(AC$1262:AC$2702),0,IF(AA2202>0.03*U$2703,0,$C2202/60)))","v":{"$error":"#VALUE!"}},{"$f":"IF(SUM(AK$1262:AK2201)>0,0,IF(MAX(AC2202:AC$2702)=MAX(AC$1262:AC$2702),0,IF(AA2202>0.01*U$2703,0,$C2202/60)))","v":{"$error":"#VALUE!"}},0,0,0,0,{"$error":"#VALUE!"},{"$error":"#VALUE!"},{"$error":"#VALUE!"},{"$error":"#VALUE!"},{"$error":"#VALUE!"},{"$error":"#VALUE!"},{"$error":"#VALUE!"},{"$error":"#VALUE!"},{"$error":"#VALUE!"},{"$error":"#VALUE!"},{"$error":"#VALUE!"},{"$f":"IF(SUM(BA$1262:BA2201)>0,0,IF(MAX(AT2202:AT$2702)=MAX(AT$1262:AT$2702),0,IF(AR2202>0.03*AL$2703,0,$C2202/60)))","v":{"$error":"#VALUE!"}},{"$f":"IF(SUM(BB$1262:BB2201)>0,0,IF(MAX(AT2202:AT$2702)=MAX(AT$1262:AT$2702),0,IF(AR2202>0.01*AL$2703,0,$C2202/60)))","v":{"$error":"#VALUE!"}},0,0,0,0,{"$error":"#VALUE!"},{"$error":"#VALUE!"},{"$error":"#VALUE!"},{"$error":"#VALUE!"},{"$error":"#VALUE!"},{"$error":"#VALUE!"},{"$error":"#VALUE!"},{"$error":"#VALUE!"},{"$error":"#VALUE!"},{"$error":"#VALUE!"},{"$error":"#VALUE!"},{"$f":"IF(SUM(BR$1262:BR2201)>0,0,IF(MAX(BK2202:BK$2702)=MAX(BK$1262:BK$2702),0,IF(BI2202>0.03*BC$2703,0,$C2202/60)))","v":{"$error":"#VALUE!"}},{"$f":"IF(SUM(BS$1262:BS2201)>0,0,IF(MAX(BK2202:BK$2702)=MAX(BK$1262:BK$2702),0,IF(BI2202>0.01*BC$2703,0,$C2202/60)))","v":{"$error":"#VALUE!"}},0,0,0,0,{"$error":"#VALUE!"},{"$error":"#VALUE!"},{"$error":"#VALUE!"},{"$error":"#VALUE!"},{"$error":"#VALUE!"},{"$error":"#VALUE!"},{"$error":"#VALUE!"},{"$error":"#VALUE!"},{"$error":"#VALUE!"},{"$error":"#VALUE!"},{"$error":"#VALUE!"},{"$f":"IF(SUM(CI$1262:CI2201)>0,0,IF(MAX(CB2202:CB$2702)=MAX(CB$1262:CB$2702),0,IF(BZ2202>0.03*BT$2703,0,$C2202/60)))","v":{"$error":"#VALUE!"}},{"$f":"IF(SUM(CJ$1262:CJ2201)>0,0,IF(MAX(CB2202:CB$2702)=MAX(CB$1262:CB$2702),0,IF(BZ2202>0.01*BT$2703,0,$C2202/60)))","v":{"$error":"#VALUE!"}},0,0,0,0,{"$error":"#VALUE!"},{"$error":"#VALUE!"},{"$error":"#VALUE!"},{"$error":"#VALUE!"},{"$error":"#VALUE!"},{"$error":"#VALUE!"},{"$error":"#VALUE!"},{"$error":"#VALUE!"},{"$error":"#VALUE!"},{"$error":"#VALUE!"},{"$error":"#VALUE!"},{"$f":"IF(SUM(CZ$1262:CZ2201)>0,0,IF(MAX(CS2202:CS$2702)=MAX(CS$1262:CS$2702),0,IF(CQ2202>0.03*CK$2703,0,$C2202/60)))","v":{"$error":"#VALUE!"}},{"$f":"IF(SUM(DA$1262:DA2201)>0,0,IF(MAX(CS2202:CS$2702)=MAX(CS$1262:CS$2702),0,IF(CQ2202>0.01*CK$2703,0,$C2202/60)))","v":{"$error":"#VALUE!"}}]
[null,78.416666666666671,4705,0,0,0,0,0,0,0,0,0,{"$error":"#N/A"},{"$error":"#N/A"},{"$error":"#N/A"},{"$error":"#N/A"},{"$error":"#N/A"},{"$error":"#N/A"},{"$f":"IF(SUM(S$1262:S2202)>0,0,\nIF(MAX(L2203:L$2702)=MAX(L$1262:L$2702),0,\nIF(Hydrograph_Source_WQCV=\"USER\",IF(J2203>0.03*D$2703,0,$C2203/60),\nIF(J2203>0.03*J$2703,0,$C2203/60))))","v":0},{"$f":"IF(SUM(T$1262:T2202)>0,0,\nIF(MAX(L2203:L$2702)=MAX(L$1262:L$2702),0,\nIF(Hydrograph_Source_WQCV=\"USER\",IF(J2203>0.01*D$2703,0,$C2203/60),\nIF(J2203>0.01*J$2703,0,$C2203/60))))","v":0},0,0,0,0,{"$error":"#VALUE!"},{"$error":"#VALUE!"},{"$error":"#VALUE!"},{"$error":"#VALUE!"},{"$error":"#VALUE!"},{"$error":"#VALUE!"},{"$error":"#VALUE!"},{"$error":"#VALUE!"},{"$error":"#VALUE!"},{"$error":"#VALUE!"},{"$error":"#VALUE!"},{"$f":"IF(SUM(AJ$1262:AJ2202)>0,0,IF(MAX(AC2203:AC$2702)=MAX(AC$1262:AC$2702),0,IF(AA2203>0.03*U$2703,0,$C2203/60)))","v":{"$error":"#VALUE!"}},{"$f":"IF(SUM(AK$1262:AK2202)>0,0,IF(MAX(AC2203:AC$2702)=MAX(AC$1262:AC$2702),0,IF(AA2203>0.01*U$2703,0,$C2203/60)))","v":{"$error":"#VALUE!"}},0,0,0,0,{"$error":"#VALUE!"},{"$error":"#VALUE!"},{"$error":"#VALUE!"},{"$error":"#VALUE!"},{"$error":"#VALUE!"},{"$error":"#VALUE!"},{"$error":"#VALUE!"},{"$error":"#VALUE!"},{"$error":"#VALUE!"},{"$error":"#VALUE!"},{"$error":"#VALUE!"},{"$f":"IF(SUM(BA$1262:BA2202)>0,0,IF(MAX(AT2203:AT$2702)=MAX(AT$1262:AT$2702),0,IF(AR2203>0.03*AL$2703,0,$C2203/60)))","v":{"$error":"#VALUE!"}},{"$f":"IF(SUM(BB$1262:BB2202)>0,0,IF(MAX(AT2203:AT$2702)=MAX(AT$1262:AT$2702),0,IF(AR2203>0.01*AL$2703,0,$C2203/60)))","v":{"$error":"#VALUE!"}},0,0,0,0,{"$error":"#VALUE!"},{"$error":"#VALUE!"},{"$error":"#VALUE!"},{"$error":"#VALUE!"},{"$error":"#VALUE!"},{"$error":"#VALUE!"},{"$error":"#VALUE!"},{"$error":"#VALUE!"},{"$error":"#VALUE!"},{"$error":"#VALUE!"},{"$error":"#VALUE!"},{"$f":"IF(SUM(BR$1262:BR2202)>0,0,IF(MAX(BK2203:BK$2702)=MAX(BK$1262:BK$2702),0,IF(BI2203>0.03*BC$2703,0,$C2203/60)))","v":{"$error":"#VALUE!"}},{"$f":"IF(SUM(BS$1262:BS2202)>0,0,IF(MAX(BK2203:BK$2702)=MAX(BK$1262:BK$2702),0,IF(BI2203>0.01*BC$2703,0,$C2203/60)))","v":{"$error":"#VALUE!"}},0,0,0,0,{"$error":"#VALUE!"},{"$error":"#VALUE!"},{"$error":"#VALUE!"},{"$error":"#VALUE!"},{"$error":"#VALUE!"},{"$error":"#VALUE!"},{"$error":"#VALUE!"},{"$error":"#VALUE!"},{"$error":"#VALUE!"},{"$error":"#VALUE!"},{"$error":"#VALUE!"},{"$f":"IF(SUM(CI$1262:CI2202)>0,0,IF(MAX(CB2203:CB$2702)=MAX(CB$1262:CB$2702),0,IF(BZ2203>0.03*BT$2703,0,$C2203/60)))","v":{"$error":"#VALUE!"}},{"$f":"IF(SUM(CJ$1262:CJ2202)>0,0,IF(MAX(CB2203:CB$2702)=MAX(CB$1262:CB$2702),0,IF(BZ2203>0.01*BT$2703,0,$C2203/60)))","v":{"$error":"#VALUE!"}},0,0,0,0,{"$error":"#VALUE!"},{"$error":"#VALUE!"},{"$error":"#VALUE!"},{"$error":"#VALUE!"},{"$error":"#VALUE!"},{"$error":"#VALUE!"},{"$error":"#VALUE!"},{"$error":"#VALUE!"},{"$error":"#VALUE!"},{"$error":"#VALUE!"},{"$error":"#VALUE!"},{"$f":"IF(SUM(CZ$1262:CZ2202)>0,0,IF(MAX(CS2203:CS$2702)=MAX(CS$1262:CS$2702),0,IF(CQ2203>0.03*CK$2703,0,$C2203/60)))","v":{"$error":"#VALUE!"}},{"$f":"IF(SUM(DA$1262:DA2202)>0,0,IF(MAX(CS2203:CS$2702)=MAX(CS$1262:CS$2702),0,IF(CQ2203>0.01*CK$2703,0,$C2203/60)))","v":{"$error":"#VALUE!"}}]
[null,78.916666666666671,4735,0,0,0,0,0,0,0,0,0,{"$error":"#N/A"},{"$error":"#N/A"},{"$error":"#N/A"},{"$error":"#N/A"},{"$error":"#N/A"},{"$error":"#N/A"},{"$f":"IF(SUM(S$1262:S2208)>0,0,\nIF(MAX(L2209:L$2702)=MAX(L$1262:L$2702),0,\nIF(Hydrograph_Source_WQCV=\"USER\",IF(J2209>0.03*D$2703,0,$C2209/60),\nIF(J2209>0.03*J$2703,0,$C2209/60))))","v":0},{"$f":"IF(SUM(T$1262:T2208)>0,0,\nIF(MAX(L2209:L$2702)=MAX(L$1262:L$2702),0,\nIF(Hydrograph_Source_WQCV=\"USER\",IF(J2209>0.01*D$2703,0,$C2209/60),\nIF(J2209>0.01*J$2703,0,$C2209/60))))","v":0},0,0,0,0,{"$error":"#VALUE!"},{"$error":"#VALUE!"},{"$error":"#VALUE!"},{"$error":"#VALUE!"},{"$error":"#VALUE!"},{"$error":"#VALUE!"},{"$error":"#VALUE!"},{"$error":"#VALUE!"},{"$error":"#VALUE!"},{"$error":"#VALUE!"},{"$error":"#VALUE!"},{"$f":"IF(SUM(AJ$1262:AJ2208)>0,0,IF(MAX(AC2209:AC$2702)=MAX(AC$1262:AC$2702),0,IF(AA2209>0.03*U$2703,0,$C2209/60)))","v":{"$error":"#VALUE!"}},{"$f":"IF(SUM(AK$1262:AK2208)>0,0,IF(MAX(AC2209:AC$2702)=MAX(AC$1262:AC$2702),0,IF(AA2209>0.01*U$2703,0,$C2209/60)))","v":{"$error":"#VALUE!"}},0,0,0,0,{"$error":"#VALUE!"},{"$error":"#VALUE!"},{"$error":"#VALUE!"},{"$error":"#VALUE!"},{"$error":"#VALUE!"},{"$error":"#VALUE!"},{"$error":"#VALUE!"},{"$error":"#VALUE!"},{"$error":"#VALUE!"},{"$error":"#VALUE!"},{"$error":"#VALUE!"},{"$f":"IF(SUM(BA$1262:BA2208)>0,0,IF(MAX(AT2209:AT$2702)=MAX(AT$1262:AT$2702),0,IF(AR2209>0.03*AL$2703,0,$C2209/60)))","v":{"$error":"#VALUE!"}},{"$f":"IF(SUM(BB$1262:BB2208)>0,0,IF(MAX(AT2209:AT$2702)=MAX(AT$1262:AT$2702),0,IF(AR2209>0.01*AL$2703,0,$C2209/60)))","v":{"$error":"#VALUE!"}},0,0,0,0,{"$error":"#VALUE!"},{"$error":"#VALUE!"},{"$error":"#VALUE!"},{"$error":"#VALUE!"},{"$error":"#VALUE!"},{"$error":"#VALUE!"},{"$error":"#VALUE!"},{"$error":"#VALUE!"},{"$error":"#VALUE!"},{"$error":"#VALUE!"},{"$error":"#VALUE!"},{"$f":"IF(SUM(BR$1262:BR2208)>0,0,IF(MAX(BK2209:BK$2702)=MAX(BK$1262:BK$2702),0,IF(BI2209>0.03*BC$2703,0,$C2209/60)))","v":{"$error":"#VALUE!"}},{"$f":"IF(SUM(BS$1262:BS2208)>0,0,IF(MAX(BK2209:BK$2702)=MAX(BK$1262:BK$2702),0,IF(BI2209>0.01*BC$2703,0,$C2209/60)))","v":{"$error":"#VALUE!"}},0,0,0,0,{"$error":"#VALUE!"},{"$error":"#VALUE!"},{"$error":"#VALUE!"},{"$error":"#VALUE!"},{"$error":"#VALUE!"},{"$error":"#VALUE!"},{"$error":"#VALUE!"},{"$error":"#VALUE!"},{"$error":"#VALUE!"},{"$error":"#VALUE!"},{"$error":"#VALUE!"},{"$f":"IF(SUM(CI$1262:CI2208)>0,0,IF(MAX(CB2209:CB$2702)=MAX(CB$1262:CB$2702),0,IF(BZ2209>0.03*BT$2703,0,$C2209/60)))","v":{"$error":"#VALUE!"}},{"$f":"IF(SUM(CJ$1262:CJ2208)>0,0,IF(MAX(CB2209:CB$2702)=MAX(CB$1262:CB$2702),0,IF(BZ2209>0.01*BT$2703,0,$C2209/60)))","v":{"$error":"#VALUE!"}},0,0,0,0,{"$error":"#VALUE!"},{"$error":"#VALUE!"},{"$error":"#VALUE!"},{"$error":"#VALUE!"},{"$error":"#VALUE!"},{"$error":"#VALUE!"},{"$error":"#VALUE!"},{"$error":"#VALUE!"},{"$error":"#VALUE!"},{"$error":"#VALUE!"},{"$error":"#VALUE!"},{"$f":"IF(SUM(CZ$1262:CZ2208)>0,0,IF(MAX(CS2209:CS$2702)=MAX(CS$1262:CS$2702),0,IF(CQ2209>0.03*CK$2703,0,$C2209/60)))","v":{"$error":"#VALUE!"}},{"$f":"IF(SUM(DA$1262:DA2208)>0,0,IF(MAX(CS2209:CS$2702)=MAX(CS$1262:CS$2702),0,IF(CQ2209>0.01*CK$2703,0,$C2209/60)))","v":{"$error":"#VALUE!"}}]
[null,79.333333333333329,4760,0,0,0,0,0,0,0,0,0,{"$error":"#N/A"},{"$error":"#N/A"},{"$error":"#N/A"},{"$error":"#N/A"},{"$error":"#N/A"},{"$error":"#N/A"},{"$f":"IF(SUM(S$1262:S2213)>0,0,\nIF(MAX(L2214:L$2702)=MAX(L$1262:L$2702),0,\nIF(Hydrograph_Source_WQCV=\"USER\",IF(J2214>0.03*D$2703,0,$C2214/60),\nIF(J2214>0.03*J$2703,0,$C2214/60))))","v":0},{"$f":"IF(SUM(T$1262:T2213)>0,0,\nIF(MAX(L2214:L$2702)=MAX(L$1262:L$2702),0,\nIF(Hydrograph_Source_WQCV=\"USER\",IF(J2214>0.01*D$2703,0,$C2214/60),\nIF(J2214>0.01*J$2703,0,$C2214/60))))","v":0},0,0,0,0,{"$error":"#VALUE!"},{"$error":"#VALUE!"},{"$error":"#VALUE!"},{"$error":"#VALUE!"},{"$error":"#VALUE!"},{"$error":"#VALUE!"},{"$error":"#VALUE!"},{"$error":"#VALUE!"},{"$error":"#VALUE!"},{"$error":"#VALUE!"},{"$error":"#VALUE!"},{"$f":"IF(SUM(AJ$1262:AJ2213)>0,0,IF(MAX(AC2214:AC$2702)=MAX(AC$1262:AC$2702),0,IF(AA2214>0.03*U$2703,0,$C2214/60)))","v":{"$error":"#VALUE!"}},{"$f":"IF(SUM(AK$1262:AK2213)>0,0,IF(MAX(AC2214:AC$2702)=MAX(AC$1262:AC$2702),0,IF(AA2214>0.01*U$2703,0,$C2214/60)))","v":{"$error":"#VALUE!"}},0,0,0,0,{"$error":"#VALUE!"},{"$error":"#VALUE!"},{"$error":"#VALUE!"},{"$error":"#VALUE!"},{"$error":"#VALUE!"},{"$error":"#VALUE!"},{"$error":"#VALUE!"},{"$error":"#VALUE!"},{"$error":"#VALUE!"},{"$error":"#VALUE!"},{"$error":"#VALUE!"},{"$f":"IF(SUM(BA$1262:BA2213)>0,0,IF(MAX(AT2214:AT$2702)=MAX(AT$1262:AT$2702),0,IF(AR2214>0.03*AL$2703,0,$C2214/60)))","v":{"$error":"#VALUE!"}},{"$f":"IF(SUM(BB$1262:BB2213)>0,0,IF(MAX(AT2214:AT$2702)=MAX(AT$1262:AT$2702),0,IF(AR2214>0.01*AL$2703,0,$C2214/60)))","v":{"$error":"#VALUE!"}},0,0,0,0,{"$error":"#VALUE!"},{"$error":"#VALUE!"},{"$error":"#VALUE!"},{"$error":"#VALUE!"},{"$error":"#VALUE!"},{"$error":"#VALUE!"},{"$error":"#VALUE!"},{"$error":"#VALUE!"},{"$error":"#VALUE!"},{"$error":"#VALUE!"},{"$error":"#VALUE!"},{"$f":"IF(SUM(BR$1262:BR2213)>0,0,IF(MAX(BK2214:BK$2702)=MAX(BK$1262:BK$2702),0,IF(BI2214>0.03*BC$2703,0,$C2214/60)))","v":{"$error":"#VALUE!"}},{"$f":"IF(SUM(BS$1262:BS2213)>0,0,IF(MAX(BK2214:BK$2702)=MAX(BK$1262:BK$2702),0,IF(BI2214>0.01*BC$2703,0,$C2214/60)))","v":{"$error":"#VALUE!"}},0,0,0,0,{"$error":"#VALUE!"},{"$error":"#VALUE!"},{"$error":"#VALUE!"},{"$error":"#VALUE!"},{"$error":"#VALUE!"},{"$error":"#VALUE!"},{"$error":"#VALUE!"},{"$error":"#VALUE!"},{"$error":"#VALUE!"},{"$error":"#VALUE!"},{"$error":"#VALUE!"},{"$f":"IF(SUM(CI$1262:CI2213)>0,0,IF(MAX(CB2214:CB$2702)=MAX(CB$1262:CB$2702),0,IF(BZ2214>0.03*BT$2703,0,$C2214/60)))","v":{"$error":"#VALUE!"}},{"$f":"IF(SUM(CJ$1262:CJ2213)>0,0,IF(MAX(CB2214:CB$2702)=MAX(CB$1262:CB$2702),0,IF(BZ2214>0.01*BT$2703,0,$C2214/60)))","v":{"$error":"#VALUE!"}},0,0,0,0,{"$error":"#VALUE!"},{"$error":"#VALUE!"},{"$error":"#VALUE!"},{"$error":"#VALUE!"},{"$error":"#VALUE!"},{"$error":"#VALUE!"},{"$error":"#VALUE!"},{"$error":"#VALUE!"},{"$error":"#VALUE!"},{"$error":"#VALUE!"},{"$error":"#VALUE!"},{"$f":"IF(SUM(CZ$1262:CZ2213)>0,0,IF(MAX(CS2214:CS$2702)=MAX(CS$1262:CS$2702),0,IF(CQ2214>0.03*CK$2703,0,$C2214/60)))","v":{"$error":"#VALUE!"}},{"$f":"IF(SUM(DA$1262:DA2213)>0,0,IF(MAX(CS2214:CS$2702)=MAX(CS$1262:CS$2702),0,IF(CQ2214>0.01*CK$2703,0,$C2214/60)))","v":{"$error":"#VALUE!"}}]
[null,79.75,4785,0,0,0,0,0,0,0,0,0,{"$error":"#N/A"},{"$error":"#N/A"},{"$error":"#N/A"},{"$error":"#N/A"},{"$error":"#N/A"},{"$error":"#N/A"},{"$f":"IF(SUM(S$1262:S2218)>0,0,\nIF(MAX(L2219:L$2702)=MAX(L$1262:L$2702),0,\nIF(Hydrograph_Source_WQCV=\"USER\",IF(J2219>0.03*D$2703,0,$C2219/60),\nIF(J2219>0.03*J$2703,0,$C2219/60))))","v":0},{"$f":"IF(SUM(T$1262:T2218)>0,0,\nIF(MAX(L2219:L$2702)=MAX(L$1262:L$2702),0,\nIF(Hydrograph_Source_WQCV=\"USER\",IF(J2219>0.01*D$2703,0,$C2219/60),\nIF(J2219>0.01*J$2703,0,$C2219/60))))","v":0},0,0,0,0,{"$error":"#VALUE!"},{"$error":"#VALUE!"},{"$error":"#VALUE!"},{"$error":"#VALUE!"},{"$error":"#VALUE!"},{"$error":"#VALUE!"},{"$error":"#VALUE!"},{"$error":"#VALUE!"},{"$error":"#VALUE!"},{"$error":"#VALUE!"},{"$error":"#VALUE!"},{"$f":"IF(SUM(AJ$1262:AJ2218)>0,0,IF(MAX(AC2219:AC$2702)=MAX(AC$1262:AC$2702),0,IF(AA2219>0.03*U$2703,0,$C2219/60)))","v":{"$error":"#VALUE!"}},{"$f":"IF(SUM(AK$1262:AK2218)>0,0,IF(MAX(AC2219:AC$2702)=MAX(AC$1262:AC$2702),0,IF(AA2219>0.01*U$2703,0,$C2219/60)))","v":{"$error":"#VALUE!"}},0,0,0,0,{"$error":"#VALUE!"},{"$error":"#VALUE!"},{"$error":"#VALUE!"},{"$error":"#VALUE!"},{"$error":"#VALUE!"},{"$error":"#VALUE!"},{"$error":"#VALUE!"},{"$error":"#VALUE!"},{"$error":"#VALUE!"},{"$error":"#VALUE!"},{"$error":"#VALUE!"},{"$f":"IF(SUM(BA$1262:BA2218)>0,0,IF(MAX(AT2219:AT$2702)=MAX(AT$1262:AT$2702),0,IF(AR2219>0.03*AL$2703,0,$C2219/60)))","v":{"$error":"#VALUE!"}},{"$f":"IF(SUM(BB$1262:BB2218)>0,0,IF(MAX(AT2219:AT$2702)=MAX(AT$1262:AT$2702),0,IF(AR2219>0.01*AL$2703,0,$C2219/60)))","v":{"$error":"#VALUE!"}},0,0,0,0,{"$error":"#VALUE!"},{"$error":"#VALUE!"},{"$error":"#VALUE!"},{"$error":"#VALUE!"},{"$error":"#VALUE!"},{"$error":"#VALUE!"},{"$error":"#VALUE!"},{"$error":"#VALUE!"},{"$error":"#VALUE!"},{"$error":"#VALUE!"},{"$error":"#VALUE!"},{"$f":"IF(SUM(BR$1262:BR2218)>0,0,IF(MAX(BK2219:BK$2702)=MAX(BK$1262:BK$2702),0,IF(BI2219>0.03*BC$2703,0,$C2219/60)))","v":{"$error":"#VALUE!"}},{"$f":"IF(SUM(BS$1262:BS2218)>0,0,IF(MAX(BK2219:BK$2702)=MAX(BK$1262:BK$2702),0,IF(BI2219>0.01*BC$2703,0,$C2219/60)))","v":{"$error":"#VALUE!"}},0,0,0,0,{"$error":"#VALUE!"},{"$error":"#VALUE!"},{"$error":"#VALUE!"},{"$error":"#VALUE!"},{"$error":"#VALUE!"},{"$error":"#VALUE!"},{"$error":"#VALUE!"},{"$error":"#VALUE!"},{"$error":"#VALUE!"},{"$error":"#VALUE!"},{"$error":"#VALUE!"},{"$f":"IF(SUM(CI$1262:CI2218)>0,0,IF(MAX(CB2219:CB$2702)=MAX(CB$1262:CB$2702),0,IF(BZ2219>0.03*BT$2703,0,$C2219/60)))","v":{"$error":"#VALUE!"}},{"$f":"IF(SUM(CJ$1262:CJ2218)>0,0,IF(MAX(CB2219:CB$2702)=MAX(CB$1262:CB$2702),0,IF(BZ2219>0.01*BT$2703,0,$C2219/60)))","v":{"$error":"#VALUE!"}},0,0,0,0,{"$error":"#VALUE!"},{"$error":"#VALUE!"},{"$error":"#VALUE!"},{"$error":"#VALUE!"},{"$error":"#VALUE!"},{"$error":"#VALUE!"},{"$error":"#VALUE!"},{"$error":"#VALUE!"},{"$error":"#VALUE!"},{"$error":"#VALUE!"},{"$error":"#VALUE!"},{"$f":"IF(SUM(CZ$1262:CZ2218)>0,0,IF(MAX(CS2219:CS$2702)=MAX(CS$1262:CS$2702),0,IF(CQ2219>0.03*CK$2703,0,$C2219/60)))","v":{"$error":"#VALUE!"}},{"$f":"IF(SUM(DA$1262:DA2218)>0,0,IF(MAX(CS2219:CS$2702)=MAX(CS$1262:CS$2702),0,IF(CQ2219>0.01*CK$2703,0,$C2219/60)))","v":{"$error":"#VALUE!"}}]
[null,80.083333333333329,{"$f":"C2222+$C$1260","v":4805},0,0,{"$f":"G2222","v":0},0,{"$f":"I2222","v":0},0,0,0,{"$f":"IF($D$1263=\"\",0,ROUND((R2223*K2223+Q2223-R2223*P2223),7))","v":0},{"$error":"#N/A"},{"$error":"#N/A"},{"$error":"#N/A"},{"$error":"#N/A"},{"$error":"#N/A"},{"$error":"#N/A"},{"$f":"IF(SUM(S$1262:S2222)>0,0,\nIF(MAX(L2223:L$2702)=MAX(L$1262:L$2702),0,\nIF(Hydrograph_Source_WQCV=\"USER\",IF(J2223>0.03*D$2703,0,$C2223/60),\nIF(J2223>0.03*J$2703,0,$C2223/60))))","v":0},{"$f":"IF(SUM(T$1262:T2222)>0,0,\nIF(MAX(L2223:L$2702)=MAX(L$1262:L$2702),0,\nIF(Hydrograph_Source_WQCV=\"USER\",IF(J2223>0.01*D$2703,0,$C2223/60),\nIF(J2223>0.01*J$2703,0,$C2223/60))))","v":0},0,0,{"$f":"X2222","v":0},0,{"$f":"Z2222","v":{"$error":"#VALUE!"}},{"$error":"#VALUE!"},{"$error":"#VALUE!"},{"$error":"#VALUE!"},{"$f":"IF($U$1263=\"\",0,ROUND((AI2223*AB2223+AH2223-AI2223*AG2223),7))","v":{"$error":"#VALUE!"}},{"$error":"#VALUE!"},{"$error":"#VALUE!"},{"$error":"#VALUE!"},{"$error":"#VALUE!"},{"$error":"#VALUE!"},{"$error":"#VALUE!"},{"$f":"IF(SUM(AJ$1262:AJ2222)>0,0,IF(MAX(AC2223:AC$2702)=MAX(AC$1262:AC$2702),0,IF(AA2223>0.03*U$2703,0,$C2223/60)))","v":{"$error":"#VALUE!"}},{"$f":"IF(SUM(AK$1262:AK2222)>0,0,IF(MAX(AC2223:AC$2702)=MAX(AC$1262:AC$2702),0,IF(AA2223>0.01*U$2703,0,$C2223/60)))","v":{"$error":"#VALUE!"}},0,0,{"$f":"AO2222","v":0},0,{"$f":"AQ2222","v":{"$error":"#VALUE!"}},{"$error":"#VALUE!"},{"$error":"#VALUE!"},{"$error":"#VALUE!"},{"$f":"IF($AL$1263=\"\",0,ROUND((AZ2223*AS2223+AY2223-AZ2223*AX2223),7))","v":{"$error":"#VALUE!"}},{"$error":"#VALUE!"},{"$error":"#VALUE!"},{"$error":"#VALUE!"},{"$error":"#VALUE!"},{"$error":"#VALUE!"},{"$error":"#VALUE!"},{"$f":"IF(SUM(BA$1262:BA2222)>0,0,IF(MAX(AT2223:AT$2702)=MAX(AT$1262:AT$2702),0,IF(AR2223>0.03*AL$2703,0,$C2223/60)))","v":{"$error":"#VALUE!"}},{"$f":"IF(SUM(BB$1262:BB2222)>0,0,IF(MAX(AT2223:AT$2702)=MAX(AT$1262:AT$2702),0,IF(AR2223>0.01*AL$2703,0,$C2223/60)))","v":{"$error":"#VALUE!"}},0,0,{"$f":"BF2222","v":0},0,{"$f":"BH2222","v":{"$error":"#VALUE!"}},{"$error":"#VALUE!"},{"$error":"#VALUE!"},{"$error":"#VALUE!"},{"$f":"IF($BC$1263=\"\",0,ROUND((BQ2223*BJ2223+BP2223-BQ2223*BO2223),7))","v":{"$error":"#VALUE!"}},{"$error":"#VALUE!"},{"$error":"#VALUE!"},{"$error":"#VALUE!"},{"$error":"#VALUE!"},{"$error":"#VALUE!"},{"$error":"#VALUE!"},{"$f":"IF(SUM(BR$1262:BR2222)>0,0,IF(MAX(BK2223:BK$2702)=MAX(BK$1262:BK$2702),0,IF(BI2223>0.03*BC$2703,0,$C2223/60)))","v":{"$error":"#VALUE!"}},{"$f":"IF(SUM(BS$1262:BS2222)>0,0,IF(MAX(BK2223:BK$2702)=MAX(BK$1262:BK$2702),0,IF(BI2223>0.01*BC$2703,0,$C2223/60)))","v":{"$error":"#VALUE!"}},0,0,{"$f":"BW2222","v":0},0,{"$f":"BY2222","v":{"$error":"#VALUE!"}},{"$error":"#VALUE!"},{"$error":"#VALUE!"},{"$error":"#VALUE!"},{"$f":"IF($BT$1263=\"\",0,ROUND((CH2223*CA2223+CG2223-CH2223*CF2223),7))","v":{"$error":"#VALUE!"}},{"$error":"#VALUE!"},{"$error":"#VALUE!"},{"$error":"#VALUE!"},{"$error":"#VALUE!"},{"$error":"#VALUE!"},{"$error":"#VALUE!"},{"$f":"IF(SUM(CI$1262:CI2222)>0,0,IF(MAX(CB2223:CB$2702)=MAX(CB$1262:CB$2702),0,IF(BZ2223>0.03*BT$2703,0,$C2223/60)))","v":{"$error":"#VALUE!"}},{"$f":"IF(SUM(CJ$1262:CJ2222)>0,0,IF(MAX(CB2223:CB$2702)=MAX(CB$1262:CB$2702),0,IF(BZ2223>0.01*BT$2703,0,$C2223/60)))","v":{"$error":"#VALUE!"}},0,0,{"$f":"CN2222","v":0},0,{"$f":"CP2222","v":{"$error":"#VALUE!"}},{"$error":"#VALUE!"},{"$error":"#VALUE!"},{"$error":"#VALUE!"},{"$error":"#VALUE!"},{"$error":"#VALUE!"},{"$error":"#VALUE!"},{"$error":"#VALUE!"},{"$error":"#VALUE!"},{"$error":"#VALUE!"},{"$error":"#VALUE!"},{"$f":"IF(SUM(CZ$1262:CZ2222)>0,0,IF(MAX(CS2223:CS$2702)=MAX(CS$1262:CS$2702),0,IF(CQ2223>0.03*CK$2703,0,$C2223/60)))","v":{"$error":"#VALUE!"}},{"$f":"IF(SUM(DA$1262:DA2222)>0,0,IF(MAX(CS2223:CS$2702)=MAX(CS$1262:CS$2702),0,IF(CQ2223>0.01*CK$2703,0,$C2223/60)))","v":{"$error":"#VALUE!"}}]
[null,80.333333333333329,4820,0,0,0,0,0,0,0,0,0,{"$error":"#N/A"},{"$error":"#N/A"},{"$error":"#N/A"},{"$error":"#N/A"},{"$error":"#N/A"},{"$error":"#N/A"},{"$f":"IF(SUM(S$1262:S2225)>0,0,\nIF(MAX(L2226:L$2702)=MAX(L$1262:L$2702),0,\nIF(Hydrograph_Source_WQCV=\"USER\",IF(J2226>0.03*D$2703,0,$C2226/60),\nIF(J2226>0.03*J$2703,0,$C2226/60))))","v":0},{"$f":"IF(SUM(T$1262:T2225)>0,0,\nIF(MAX(L2226:L$2702)=MAX(L$1262:L$2702),0,\nIF(Hydrograph_Source_WQCV=\"USER\",IF(J2226>0.01*D$2703,0,$C2226/60),\nIF(J2226>0.01*J$2703,0,$C2226/60))))","v":0},0,0,0,0,{"$error":"#VALUE!"},{"$error":"#VALUE!"},{"$error":"#VALUE!"},{"$error":"#VALUE!"},{"$error":"#VALUE!"},{"$error":"#VALUE!"},{"$error":"#VALUE!"},{"$error":"#VALUE!"},{"$error":"#VALUE!"},{"$error":"#VALUE!"},{"$error":"#VALUE!"},{"$f":"IF(SUM(AJ$1262:AJ2225)>0,0,IF(MAX(AC2226:AC$2702)=MAX(AC$1262:AC$2702),0,IF(AA2226>0.03*U$2703,0,$C2226/60)))","v":{"$error":"#VALUE!"}},{"$f":"IF(SUM(AK$1262:AK2225)>0,0,IF(MAX(AC2226:AC$2702)=MAX(AC$1262:AC$2702),0,IF(AA2226>0.01*U$2703,0,$C2226/60)))","v":{"$error":"#VALUE!"}},0,0,0,0,{"$error":"#VALUE!"},{"$error":"#VALUE!"},{"$error":"#VALUE!"},{"$error":"#VALUE!"},{"$error":"#VALUE!"},{"$error":"#VALUE!"},{"$error":"#VALUE!"},{"$error":"#VALUE!"},{"$error":"#VALUE!"},{"$error":"#VALUE!"},{"$error":"#VALUE!"},{"$f":"IF(SUM(BA$1262:BA2225)>0,0,IF(MAX(AT2226:AT$2702)=MAX(AT$1262:AT$2702),0,IF(AR2226>0.03*AL$2703,0,$C2226/60)))","v":{"$error":"#VALUE!"}},{"$f":"IF(SUM(BB$1262:BB2225)>0,0,IF(MAX(AT2226:AT$2702)=MAX(AT$1262:AT$2702),0,IF(AR2226>0.01*AL$2703,0,$C2226/60)))","v":{"$error":"#VALUE!"}},0,0,0,0,{"$error":"#VALUE!"},{"$error":"#VALUE!"},{"$error":"#VALUE!"},{"$error":"#VALUE!"},{"$error":"#VALUE!"},{"$error":"#VALUE!"},{"$error":"#VALUE!"},{"$error":"#VALUE!"},{"$error":"#VALUE!"},{"$error":"#VALUE!"},{"$error":"#VALUE!"},{"$f":"IF(SUM(BR$1262:BR2225)>0,0,IF(MAX(BK2226:BK$2702)=MAX(BK$1262:BK$2702),0,IF(BI2226>0.03*BC$2703,0,$C2226/60)))","v":{"$error":"#VALUE!"}},{"$f":"IF(SUM(BS$1262:BS2225)>0,0,IF(MAX(BK2226:BK$2702)=MAX(BK$1262:BK$2702),0,IF(BI2226>0.01*BC$2703,0,$C2226/60)))","v":{"$error":"#VALUE!"}},0,0,0,0,{"$error":"#VALUE!"},{"$error":"#VALUE!"},{"$error":"#VALUE!"},{"$error":"#VALUE!"},{"$error":"#VALUE!"},{"$error":"#VALUE!"},{"$error":"#VALUE!"},{"$error":"#VALUE!"},{"$error":"#VALUE!"},{"$error":"#VALUE!"},{"$error":"#VALUE!"},{"$f":"IF(SUM(CI$1262:CI2225)>0,0,IF(MAX(CB2226:CB$2702)=MAX(CB$1262:CB$2702),0,IF(BZ2226>0.03*BT$2703,0,$C2226/60)))","v":{"$error":"#VALUE!"}},{"$f":"IF(SUM(CJ$1262:CJ2225)>0,0,IF(MAX(CB2226:CB$2702)=MAX(CB$1262:CB$2702),0,IF(BZ2226>0.01*BT$2703,0,$C2226/60)))","v":{"$error":"#VALUE!"}},0,0,0,0,{"$error":"#VALUE!"},{"$error":"#VALUE!"},{"$error":"#VALUE!"},{"$error":"#VALUE!"},{"$error":"#VALUE!"},{"$error":"#VALUE!"},{"$error":"#VALUE!"},{"$error":"#VALUE!"},{"$error":"#VALUE!"},{"$error":"#VALUE!"},{"$error":"#VALUE!"},{"$f":"IF(SUM(CZ$1262:CZ2225)>0,0,IF(MAX(CS2226:CS$2702)=MAX(CS$1262:CS$2702),0,IF(CQ2226>0.03*CK$2703,0,$C2226/60)))","v":{"$error":"#VALUE!"}},{"$f":"IF(SUM(DA$1262:DA2225)>0,0,IF(MAX(CS2226:CS$2702)=MAX(CS$1262:CS$2702),0,IF(CQ2226>0.01*CK$2703,0,$C2226/60)))","v":{"$error":"#VALUE!"}}]
[null,80.75,4845,0,0,0,0,0,0,0,0,0,{"$error":"#N/A"},{"$error":"#N/A"},{"$error":"#N/A"},{"$error":"#N/A"},{"$error":"#N/A"},{"$error":"#N/A"},{"$f":"IF(SUM(S$1262:S2230)>0,0,\nIF(MAX(L2231:L$2702)=MAX(L$1262:L$2702),0,\nIF(Hydrograph_Source_WQCV=\"USER\",IF(J2231>0.03*D$2703,0,$C2231/60),\nIF(J2231>0.03*J$2703,0,$C2231/60))))","v":0},{"$f":"IF(SUM(T$1262:T2230)>0,0,\nIF(MAX(L2231:L$2702)=MAX(L$1262:L$2702),0,\nIF(Hydrograph_Source_WQCV=\"USER\",IF(J2231>0.01*D$2703,0,$C2231/60),\nIF(J2231>0.01*J$2703,0,$C2231/60))))","v":0},0,0,0,0,{"$error":"#VALUE!"},{"$error":"#VALUE!"},{"$error":"#VALUE!"},{"$error":"#VALUE!"},{"$error":"#VALUE!"},{"$error":"#VALUE!"},{"$error":"#VALUE!"},{"$error":"#VALUE!"},{"$error":"#VALUE!"},{"$error":"#VALUE!"},{"$error":"#VALUE!"},{"$f":"IF(SUM(AJ$1262:AJ2230)>0,0,IF(MAX(AC2231:AC$2702)=MAX(AC$1262:AC$2702),0,IF(AA2231>0.03*U$2703,0,$C2231/60)))","v":{"$error":"#VALUE!"}},{"$f":"IF(SUM(AK$1262:AK2230)>0,0,IF(MAX(AC2231:AC$2702)=MAX(AC$1262:AC$2702),0,IF(AA2231>0.01*U$2703,0,$C2231/60)))","v":{"$error":"#VALUE!"}},0,0,0,0,{"$error":"#VALUE!"},{"$error":"#VALUE!"},{"$error":"#VALUE!"},{"$error":"#VALUE!"},{"$error":"#VALUE!"},{"$error":"#VALUE!"},{"$error":"#VALUE!"},{"$error":"#VALUE!"},{"$error":"#VALUE!"},{"$error":"#VALUE!"},{"$error":"#VALUE!"},{"$f":"IF(SUM(BA$1262:BA2230)>0,0,IF(MAX(AT2231:AT$2702)=MAX(AT$1262:AT$2702),0,IF(AR2231>0.03*AL$2703,0,$C2231/60)))","v":{"$error":"#VALUE!"}},{"$f":"IF(SUM(BB$1262:BB2230)>0,0,IF(MAX(AT2231:AT$2702)=MAX(AT$1262:AT$2702),0,IF(AR2231>0.01*AL$2703,0,$C2231/60)))","v":{"$error":"#VALUE!"}},0,0,0,0,{"$error":"#VALUE!"},{"$error":"#VALUE!"},{"$error":"#VALUE!"},{"$error":"#VALUE!"},{"$error":"#VALUE!"},{"$error":"#VALUE!"},{"$error":"#VALUE!"},{"$error":"#VALUE!"},{"$error":"#VALUE!"},{"$error":"#VALUE!"},{"$error":"#VALUE!"},{"$f":"IF(SUM(BR$1262:BR2230)>0,0,IF(MAX(BK2231:BK$2702)=MAX(BK$1262:BK$2702),0,IF(BI2231>0.03*BC$2703,0,$C2231/60)))","v":{"$error":"#VALUE!"}},{"$f":"IF(SUM(BS$1262:BS2230)>0,0,IF(MAX(BK2231:BK$2702)=MAX(BK$1262:BK$2702),0,IF(BI2231>0.01*BC$2703,0,$C2231/60)))","v":{"$error":"#VALUE!"}},0,0,0,0,{"$error":"#VALUE!"},{"$error":"#VALUE!"},{"$error":"#VALUE!"},{"$error":"#VALUE!"},{"$error":"#VALUE!"},{"$error":"#VALUE!"},{"$error":"#VALUE!"},{"$error":"#VALUE!"},{"$error":"#VALUE!"},{"$error":"#VALUE!"},{"$error":"#VALUE!"},{"$f":"IF(SUM(CI$1262:CI2230)>0,0,IF(MAX(CB2231:CB$2702)=MAX(CB$1262:CB$2702),0,IF(BZ2231>0.03*BT$2703,0,$C2231/60)))","v":{"$error":"#VALUE!"}},{"$f":"IF(SUM(CJ$1262:CJ2230)>0,0,IF(MAX(CB2231:CB$2702)=MAX(CB$1262:CB$2702),0,IF(BZ2231>0.01*BT$2703,0,$C2231/60)))","v":{"$error":"#VALUE!"}},0,0,0,0,{"$error":"#VALUE!"},{"$error":"#VALUE!"},{"$error":"#VALUE!"},{"$error":"#VALUE!"},{"$error":"#VALUE!"},{"$error":"#VALUE!"},{"$error":"#VALUE!"},{"$error":"#VALUE!"},{"$error":"#VALUE!"},{"$error":"#VALUE!"},{"$error":"#VALUE!"},{"$f":"IF(SUM(CZ$1262:CZ2230)>0,0,IF(MAX(CS2231:CS$2702)=MAX(CS$1262:CS$2702),0,IF(CQ2231>0.03*CK$2703,0,$C2231/60)))","v":{"$error":"#VALUE!"}},{"$f":"IF(SUM(DA$1262:DA2230)>0,0,IF(MAX(CS2231:CS$2702)=MAX(CS$1262:CS$2702),0,IF(CQ2231>0.01*CK$2703,0,$C2231/60)))","v":{"$error":"#VALUE!"}}]
[null,81.166666666666671,4870,0,0,0,0,0,0,0,0,0,{"$error":"#N/A"},{"$error":"#N/A"},{"$error":"#N/A"},{"$error":"#N/A"},{"$error":"#N/A"},{"$error":"#N/A"},{"$f":"IF(SUM(S$1262:S2235)>0,0,\nIF(MAX(L2236:L$2702)=MAX(L$1262:L$2702),0,\nIF(Hydrograph_Source_WQCV=\"USER\",IF(J2236>0.03*D$2703,0,$C2236/60),\nIF(J2236>0.03*J$2703,0,$C2236/60))))","v":0},{"$f":"IF(SUM(T$1262:T2235)>0,0,\nIF(MAX(L2236:L$2702)=MAX(L$1262:L$2702),0,\nIF(Hydrograph_Source_WQCV=\"USER\",IF(J2236>0.01*D$2703,0,$C2236/60),\nIF(J2236>0.01*J$2703,0,$C2236/60))))","v":0},0,0,0,0,{"$error":"#VALUE!"},{"$error":"#VALUE!"},{"$error":"#VALUE!"},{"$error":"#VALUE!"},{"$error":"#VALUE!"},{"$error":"#VALUE!"},{"$error":"#VALUE!"},{"$error":"#VALUE!"},{"$error":"#VALUE!"},{"$error":"#VALUE!"},{"$error":"#VALUE!"},{"$f":"IF(SUM(AJ$1262:AJ2235)>0,0,IF(MAX(AC2236:AC$2702)=MAX(AC$1262:AC$2702),0,IF(AA2236>0.03*U$2703,0,$C2236/60)))","v":{"$error":"#VALUE!"}},{"$f":"IF(SUM(AK$1262:AK2235)>0,0,IF(MAX(AC2236:AC$2702)=MAX(AC$1262:AC$2702),0,IF(AA2236>0.01*U$2703,0,$C2236/60)))","v":{"$error":"#VALUE!"}},0,0,0,0,{"$error":"#VALUE!"},{"$error":"#VALUE!"},{"$error":"#VALUE!"},{"$error":"#VALUE!"},{"$error":"#VALUE!"},{"$error":"#VALUE!"},{"$error":"#VALUE!"},{"$error":"#VALUE!"},{"$error":"#VALUE!"},{"$error":"#VALUE!"},{"$error":"#VALUE!"},{"$f":"IF(SUM(BA$1262:BA2235)>0,0,IF(MAX(AT2236:AT$2702)=MAX(AT$1262:AT$2702),0,IF(AR2236>0.03*AL$2703,0,$C2236/60)))","v":{"$error":"#VALUE!"}},{"$f":"IF(SUM(BB$1262:BB2235)>0,0,IF(MAX(AT2236:AT$2702)=MAX(AT$1262:AT$2702),0,IF(AR2236>0.01*AL$2703,0,$C2236/60)))","v":{"$error":"#VALUE!"}},0,0,0,0,{"$error":"#VALUE!"},{"$error":"#VALUE!"},{"$error":"#VALUE!"},{"$error":"#VALUE!"},{"$error":"#VALUE!"},{"$error":"#VALUE!"},{"$error":"#VALUE!"},{"$error":"#VALUE!"},{"$error":"#VALUE!"},{"$error":"#VALUE!"},{"$error":"#VALUE!"},{"$f":"IF(SUM(BR$1262:BR2235)>0,0,IF(MAX(BK2236:BK$2702)=MAX(BK$1262:BK$2702),0,IF(BI2236>0.03*BC$2703,0,$C2236/60)))","v":{"$error":"#VALUE!"}},{"$f":"IF(SUM(BS$1262:BS2235)>0,0,IF(MAX(BK2236:BK$2702)=MAX(BK$1262:BK$2702),0,IF(BI2236>0.01*BC$2703,0,$C2236/60)))","v":{"$error":"#VALUE!"}},0,0,0,0,{"$error":"#VALUE!"},{"$error":"#VALUE!"},{"$error":"#VALUE!"},{"$error":"#VALUE!"},{"$error":"#VALUE!"},{"$error":"#VALUE!"},{"$error":"#VALUE!"},{"$error":"#VALUE!"},{"$error":"#VALUE!"},{"$error":"#VALUE!"},{"$error":"#VALUE!"},{"$f":"IF(SUM(CI$1262:CI2235)>0,0,IF(MAX(CB2236:CB$2702)=MAX(CB$1262:CB$2702),0,IF(BZ2236>0.03*BT$2703,0,$C2236/60)))","v":{"$error":"#VALUE!"}},{"$f":"IF(SUM(CJ$1262:CJ2235)>0,0,IF(MAX(CB2236:CB$2702)=MAX(CB$1262:CB$2702),0,IF(BZ2236>0.01*BT$2703,0,$C2236/60)))","v":{"$error":"#VALUE!"}},0,0,0,0,{"$error":"#VALUE!"},{"$error":"#VALUE!"},{"$error":"#VALUE!"},{"$error":"#VALUE!"},{"$error":"#VALUE!"},{"$error":"#VALUE!"},{"$error":"#VALUE!"},{"$error":"#VALUE!"},{"$error":"#VALUE!"},{"$error":"#VALUE!"},{"$error":"#VALUE!"},{"$f":"IF(SUM(CZ$1262:CZ2235)>0,0,IF(MAX(CS2236:CS$2702)=MAX(CS$1262:CS$2702),0,IF(CQ2236>0.03*CK$2703,0,$C2236/60)))","v":{"$error":"#VALUE!"}},{"$f":"IF(SUM(DA$1262:DA2235)>0,0,IF(MAX(CS2236:CS$2702)=MAX(CS$1262:CS$2702),0,IF(CQ2236>0.01*CK$2703,0,$C2236/60)))","v":{"$error":"#VALUE!"}}]
[null,81.583333333333329,4895,0,0,0,0,0,0,0,0,0,{"$error":"#N/A"},{"$error":"#N/A"},{"$error":"#N/A"},{"$error":"#N/A"},{"$error":"#N/A"},{"$error":"#N/A"},{"$f":"IF(SUM(S$1262:S2240)>0,0,\nIF(MAX(L2241:L$2702)=MAX(L$1262:L$2702),0,\nIF(Hydrograph_Source_WQCV=\"USER\",IF(J2241>0.03*D$2703,0,$C2241/60),\nIF(J2241>0.03*J$2703,0,$C2241/60))))","v":0},{"$f":"IF(SUM(T$1262:T2240)>0,0,\nIF(MAX(L2241:L$2702)=MAX(L$1262:L$2702),0,\nIF(Hydrograph_Source_WQCV=\"USER\",IF(J2241>0.01*D$2703,0,$C2241/60),\nIF(J2241>0.01*J$2703,0,$C2241/60))))","v":0},0,0,0,0,{"$error":"#VALUE!"},{"$error":"#VALUE!"},{"$error":"#VALUE!"},{"$error":"#VALUE!"},{"$error":"#VALUE!"},{"$error":"#VALUE!"},{"$error":"#VALUE!"},{"$error":"#VALUE!"},{"$error":"#VALUE!"},{"$error":"#VALUE!"},{"$error":"#VALUE!"},{"$f":"IF(SUM(AJ$1262:AJ2240)>0,0,IF(MAX(AC2241:AC$2702)=MAX(AC$1262:AC$2702),0,IF(AA2241>0.03*U$2703,0,$C2241/60)))","v":{"$error":"#VALUE!"}},{"$f":"IF(SUM(AK$1262:AK2240)>0,0,IF(MAX(AC2241:AC$2702)=MAX(AC$1262:AC$2702),0,IF(AA2241>0.01*U$2703,0,$C2241/60)))","v":{"$error":"#VALUE!"}},0,0,0,0,{"$error":"#VALUE!"},{"$error":"#VALUE!"},{"$error":"#VALUE!"},{"$error":"#VALUE!"},{"$error":"#VALUE!"},{"$error":"#VALUE!"},{"$error":"#VALUE!"},{"$error":"#VALUE!"},{"$error":"#VALUE!"},{"$error":"#VALUE!"},{"$error":"#VALUE!"},{"$f":"IF(SUM(BA$1262:BA2240)>0,0,IF(MAX(AT2241:AT$2702)=MAX(AT$1262:AT$2702),0,IF(AR2241>0.03*AL$2703,0,$C2241/60)))","v":{"$error":"#VALUE!"}},{"$f":"IF(SUM(BB$1262:BB2240)>0,0,IF(MAX(AT2241:AT$2702)=MAX(AT$1262:AT$2702),0,IF(AR2241>0.01*AL$2703,0,$C2241/60)))","v":{"$error":"#VALUE!"}},0,0,0,0,{"$error":"#VALUE!"},{"$error":"#VALUE!"},{"$error":"#VALUE!"},{"$error":"#VALUE!"},{"$error":"#VALUE!"},{"$error":"#VALUE!"},{"$error":"#VALUE!"},{"$error":"#VALUE!"},{"$error":"#VALUE!"},{"$error":"#VALUE!"},{"$error":"#VALUE!"},{"$f":"IF(SUM(BR$1262:BR2240)>0,0,IF(MAX(BK2241:BK$2702)=MAX(BK$1262:BK$2702),0,IF(BI2241>0.03*BC$2703,0,$C2241/60)))","v":{"$error":"#VALUE!"}},{"$f":"IF(SUM(BS$1262:BS2240)>0,0,IF(MAX(BK2241:BK$2702)=MAX(BK$1262:BK$2702),0,IF(BI2241>0.01*BC$2703,0,$C2241/60)))","v":{"$error":"#VALUE!"}},0,0,0,0,{"$error":"#VALUE!"},{"$error":"#VALUE!"},{"$error":"#VALUE!"},{"$error":"#VALUE!"},{"$error":"#VALUE!"},{"$error":"#VALUE!"},{"$error":"#VALUE!"},{"$error":"#VALUE!"},{"$error":"#VALUE!"},{"$error":"#VALUE!"},{"$error":"#VALUE!"},{"$f":"IF(SUM(CI$1262:CI2240)>0,0,IF(MAX(CB2241:CB$2702)=MAX(CB$1262:CB$2702),0,IF(BZ2241>0.03*BT$2703,0,$C2241/60)))","v":{"$error":"#VALUE!"}},{"$f":"IF(SUM(CJ$1262:CJ2240)>0,0,IF(MAX(CB2241:CB$2702)=MAX(CB$1262:CB$2702),0,IF(BZ2241>0.01*BT$2703,0,$C2241/60)))","v":{"$error":"#VALUE!"}},0,0,0,0,{"$error":"#VALUE!"},{"$error":"#VALUE!"},{"$error":"#VALUE!"},{"$error":"#VALUE!"},{"$error":"#VALUE!"},{"$error":"#VALUE!"},{"$error":"#VALUE!"},{"$error":"#VALUE!"},{"$error":"#VALUE!"},{"$error":"#VALUE!"},{"$error":"#VALUE!"},{"$f":"IF(SUM(CZ$1262:CZ2240)>0,0,IF(MAX(CS2241:CS$2702)=MAX(CS$1262:CS$2702),0,IF(CQ2241>0.03*CK$2703,0,$C2241/60)))","v":{"$error":"#VALUE!"}},{"$f":"IF(SUM(DA$1262:DA2240)>0,0,IF(MAX(CS2241:CS$2702)=MAX(CS$1262:CS$2702),0,IF(CQ2241>0.01*CK$2703,0,$C2241/60)))","v":{"$error":"#VALUE!"}}]
[null,81.75,4905,0,0,0,0,0,0,0,0,0,{"$error":"#N/A"},{"$error":"#N/A"},{"$error":"#N/A"},{"$error":"#N/A"},{"$error":"#N/A"},{"$error":"#N/A"},{"$f":"IF(SUM(S$1262:S2242)>0,0,\nIF(MAX(L2243:L$2702)=MAX(L$1262:L$2702),0,\nIF(Hydrograph_Source_WQCV=\"USER\",IF(J2243>0.03*D$2703,0,$C2243/60),\nIF(J2243>0.03*J$2703,0,$C2243/60))))","v":0},{"$f":"IF(SUM(T$1262:T2242)>0,0,\nIF(MAX(L2243:L$2702)=MAX(L$1262:L$2702),0,\nIF(Hydrograph_Source_WQCV=\"USER\",IF(J2243>0.01*D$2703,0,$C2243/60),\nIF(J2243>0.01*J$2703,0,$C2243/60))))","v":0},0,0,0,0,{"$error":"#VALUE!"},{"$error":"#VALUE!"},{"$error":"#VALUE!"},{"$error":"#VALUE!"},{"$error":"#VALUE!"},{"$error":"#VALUE!"},{"$error":"#VALUE!"},{"$error":"#VALUE!"},{"$error":"#VALUE!"},{"$error":"#VALUE!"},{"$error":"#VALUE!"},{"$f":"IF(SUM(AJ$1262:AJ2242)>0,0,IF(MAX(AC2243:AC$2702)=MAX(AC$1262:AC$2702),0,IF(AA2243>0.03*U$2703,0,$C2243/60)))","v":{"$error":"#VALUE!"}},{"$f":"IF(SUM(AK$1262:AK2242)>0,0,IF(MAX(AC2243:AC$2702)=MAX(AC$1262:AC$2702),0,IF(AA2243>0.01*U$2703,0,$C2243/60)))","v":{"$error":"#VALUE!"}},0,0,0,0,{"$error":"#VALUE!"},{"$error":"#VALUE!"},{"$error":"#VALUE!"},{"$error":"#VALUE!"},{"$error":"#VALUE!"},{"$error":"#VALUE!"},{"$error":"#VALUE!"},{"$error":"#VALUE!"},{"$error":"#VALUE!"},{"$error":"#VALUE!"},{"$error":"#VALUE!"},{"$f":"IF(SUM(BA$1262:BA2242)>0,0,IF(MAX(AT2243:AT$2702)=MAX(AT$1262:AT$2702),0,IF(AR2243>0.03*AL$2703,0,$C2243/60)))","v":{"$error":"#VALUE!"}},{"$f":"IF(SUM(BB$1262:BB2242)>0,0,IF(MAX(AT2243:AT$2702)=MAX(AT$1262:AT$2702),0,IF(AR2243>0.01*AL$2703,0,$C2243/60)))","v":{"$error":"#VALUE!"}},0,0,0,0,{"$error":"#VALUE!"},{"$error":"#VALUE!"},{"$error":"#VALUE!"},{"$error":"#VALUE!"},{"$error":"#VALUE!"},{"$error":"#VALUE!"},{"$error":"#VALUE!"},{"$error":"#VALUE!"},{"$error":"#VALUE!"},{"$error":"#VALUE!"},{"$error":"#VALUE!"},{"$f":"IF(SUM(BR$1262:BR2242)>0,0,IF(MAX(BK2243:BK$2702)=MAX(BK$1262:BK$2702),0,IF(BI2243>0.03*BC$2703,0,$C2243/60)))","v":{"$error":"#VALUE!"}},{"$f":"IF(SUM(BS$1262:BS2242)>0,0,IF(MAX(BK2243:BK$2702)=MAX(BK$1262:BK$2702),0,IF(BI2243>0.01*BC$2703,0,$C2243/60)))","v":{"$error":"#VALUE!"}},0,0,0,0,{"$error":"#VALUE!"},{"$error":"#VALUE!"},{"$error":"#VALUE!"},{"$error":"#VALUE!"},{"$error":"#VALUE!"},{"$error":"#VALUE!"},{"$error":"#VALUE!"},{"$error":"#VALUE!"},{"$error":"#VALUE!"},{"$error":"#VALUE!"},{"$error":"#VALUE!"},{"$f":"IF(SUM(CI$1262:CI2242)>0,0,IF(MAX(CB2243:CB$2702)=MAX(CB$1262:CB$2702),0,IF(BZ2243>0.03*BT$2703,0,$C2243/60)))","v":{"$error":"#VALUE!"}},{"$f":"IF(SUM(CJ$1262:CJ2242)>0,0,IF(MAX(CB2243:CB$2702)=MAX(CB$1262:CB$2702),0,IF(BZ2243>0.01*BT$2703,0,$C2243/60)))","v":{"$error":"#VALUE!"}},0,0,0,0,{"$error":"#VALUE!"},{"$error":"#VALUE!"},{"$error":"#VALUE!"},{"$error":"#VALUE!"},{"$error":"#VALUE!"},{"$error":"#VALUE!"},{"$error":"#VALUE!"},{"$error":"#VALUE!"},{"$error":"#VALUE!"},{"$error":"#VALUE!"},{"$error":"#VALUE!"},{"$f":"IF(SUM(CZ$1262:CZ2242)>0,0,IF(MAX(CS2243:CS$2702)=MAX(CS$1262:CS$2702),0,IF(CQ2243>0.03*CK$2703,0,$C2243/60)))","v":{"$error":"#VALUE!"}},{"$f":"IF(SUM(DA$1262:DA2242)>0,0,IF(MAX(CS2243:CS$2702)=MAX(CS$1262:CS$2702),0,IF(CQ2243>0.01*CK$2703,0,$C2243/60)))","v":{"$error":"#VALUE!"}}]
[null,82.166666666666671,4930,0,0,0,0,0,0,0,0,0,{"$error":"#N/A"},{"$error":"#N/A"},{"$error":"#N/A"},{"$error":"#N/A"},{"$error":"#N/A"},{"$error":"#N/A"},{"$f":"IF(SUM(S$1262:S2247)>0,0,\nIF(MAX(L2248:L$2702)=MAX(L$1262:L$2702),0,\nIF(Hydrograph_Source_WQCV=\"USER\",IF(J2248>0.03*D$2703,0,$C2248/60),\nIF(J2248>0.03*J$2703,0,$C2248/60))))","v":0},{"$f":"IF(SUM(T$1262:T2247)>0,0,\nIF(MAX(L2248:L$2702)=MAX(L$1262:L$2702),0,\nIF(Hydrograph_Source_WQCV=\"USER\",IF(J2248>0.01*D$2703,0,$C2248/60),\nIF(J2248>0.01*J$2703,0,$C2248/60))))","v":0},0,0,0,0,{"$error":"#VALUE!"},{"$error":"#VALUE!"},{"$error":"#VALUE!"},{"$error":"#VALUE!"},{"$error":"#VALUE!"},{"$error":"#VALUE!"},{"$error":"#VALUE!"},{"$error":"#VALUE!"},{"$error":"#VALUE!"},{"$error":"#VALUE!"},{"$error":"#VALUE!"},{"$f":"IF(SUM(AJ$1262:AJ2247)>0,0,IF(MAX(AC2248:AC$2702)=MAX(AC$1262:AC$2702),0,IF(AA2248>0.03*U$2703,0,$C2248/60)))","v":{"$error":"#VALUE!"}},{"$f":"IF(SUM(AK$1262:AK2247)>0,0,IF(MAX(AC2248:AC$2702)=MAX(AC$1262:AC$2702),0,IF(AA2248>0.01*U$2703,0,$C2248/60)))","v":{"$error":"#VALUE!"}},0,0,0,0,{"$error":"#VALUE!"},{"$error":"#VALUE!"},{"$error":"#VALUE!"},{"$error":"#VALUE!"},{"$error":"#VALUE!"},{"$error":"#VALUE!"},{"$error":"#VALUE!"},{"$error":"#VALUE!"},{"$error":"#VALUE!"},{"$error":"#VALUE!"},{"$error":"#VALUE!"},{"$f":"IF(SUM(BA$1262:BA2247)>0,0,IF(MAX(AT2248:AT$2702)=MAX(AT$1262:AT$2702),0,IF(AR2248>0.03*AL$2703,0,$C2248/60)))","v":{"$error":"#VALUE!"}},{"$f":"IF(SUM(BB$1262:BB2247)>0,0,IF(MAX(AT2248:AT$2702)=MAX(AT$1262:AT$2702),0,IF(AR2248>0.01*AL$2703,0,$C2248/60)))","v":{"$error":"#VALUE!"}},0,0,0,0,{"$error":"#VALUE!"},{"$error":"#VALUE!"},{"$error":"#VALUE!"},{"$error":"#VALUE!"},{"$error":"#VALUE!"},{"$error":"#VALUE!"},{"$error":"#VALUE!"},{"$error":"#VALUE!"},{"$error":"#VALUE!"},{"$error":"#VALUE!"},{"$error":"#VALUE!"},{"$f":"IF(SUM(BR$1262:BR2247)>0,0,IF(MAX(BK2248:BK$2702)=MAX(BK$1262:BK$2702),0,IF(BI2248>0.03*BC$2703,0,$C2248/60)))","v":{"$error":"#VALUE!"}},{"$f":"IF(SUM(BS$1262:BS2247)>0,0,IF(MAX(BK2248:BK$2702)=MAX(BK$1262:BK$2702),0,IF(BI2248>0.01*BC$2703,0,$C2248/60)))","v":{"$error":"#VALUE!"}},0,0,0,0,{"$error":"#VALUE!"},{"$error":"#VALUE!"},{"$error":"#VALUE!"},{"$error":"#VALUE!"},{"$error":"#VALUE!"},{"$error":"#VALUE!"},{"$error":"#VALUE!"},{"$error":"#VALUE!"},{"$error":"#VALUE!"},{"$error":"#VALUE!"},{"$error":"#VALUE!"},{"$f":"IF(SUM(CI$1262:CI2247)>0,0,IF(MAX(CB2248:CB$2702)=MAX(CB$1262:CB$2702),0,IF(BZ2248>0.03*BT$2703,0,$C2248/60)))","v":{"$error":"#VALUE!"}},{"$f":"IF(SUM(CJ$1262:CJ2247)>0,0,IF(MAX(CB2248:CB$2702)=MAX(CB$1262:CB$2702),0,IF(BZ2248>0.01*BT$2703,0,$C2248/60)))","v":{"$error":"#VALUE!"}},0,0,0,0,{"$error":"#VALUE!"},{"$error":"#VALUE!"},{"$error":"#VALUE!"},{"$error":"#VALUE!"},{"$error":"#VALUE!"},{"$error":"#VALUE!"},{"$error":"#VALUE!"},{"$error":"#VALUE!"},{"$error":"#VALUE!"},{"$error":"#VALUE!"},{"$error":"#VALUE!"},{"$f":"IF(SUM(CZ$1262:CZ2247)>0,0,IF(MAX(CS2248:CS$2702)=MAX(CS$1262:CS$2702),0,IF(CQ2248>0.03*CK$2703,0,$C2248/60)))","v":{"$error":"#VALUE!"}},{"$f":"IF(SUM(DA$1262:DA2247)>0,0,IF(MAX(CS2248:CS$2702)=MAX(CS$1262:CS$2702),0,IF(CQ2248>0.01*CK$2703,0,$C2248/60)))","v":{"$error":"#VALUE!"}}]
[null,82.416666666666671,4945,0,0,0,0,0,0,0,0,0,{"$error":"#N/A"},{"$error":"#N/A"},{"$error":"#N/A"},{"$error":"#N/A"},{"$error":"#N/A"},{"$error":"#N/A"},{"$f":"IF(SUM(S$1262:S2250)>0,0,\nIF(MAX(L2251:L$2702)=MAX(L$1262:L$2702),0,\nIF(Hydrograph_Source_WQCV=\"USER\",IF(J2251>0.03*D$2703,0,$C2251/60),\nIF(J2251>0.03*J$2703,0,$C2251/60))))","v":0},{"$f":"IF(SUM(T$1262:T2250)>0,0,\nIF(MAX(L2251:L$2702)=MAX(L$1262:L$2702),0,\nIF(Hydrograph_Source_WQCV=\"USER\",IF(J2251>0.01*D$2703,0,$C2251/60),\nIF(J2251>0.01*J$2703,0,$C2251/60))))","v":0},0,0,0,0,{"$error":"#VALUE!"},{"$error":"#VALUE!"},{"$error":"#VALUE!"},{"$error":"#VALUE!"},{"$error":"#VALUE!"},{"$error":"#VALUE!"},{"$error":"#VALUE!"},{"$error":"#VALUE!"},{"$error":"#VALUE!"},{"$error":"#VALUE!"},{"$error":"#VALUE!"},{"$f":"IF(SUM(AJ$1262:AJ2250)>0,0,IF(MAX(AC2251:AC$2702)=MAX(AC$1262:AC$2702),0,IF(AA2251>0.03*U$2703,0,$C2251/60)))","v":{"$error":"#VALUE!"}},{"$f":"IF(SUM(AK$1262:AK2250)>0,0,IF(MAX(AC2251:AC$2702)=MAX(AC$1262:AC$2702),0,IF(AA2251>0.01*U$2703,0,$C2251/60)))","v":{"$error":"#VALUE!"}},0,0,0,0,{"$error":"#VALUE!"},{"$error":"#VALUE!"},{"$error":"#VALUE!"},{"$error":"#VALUE!"},{"$error":"#VALUE!"},{"$error":"#VALUE!"},{"$error":"#VALUE!"},{"$error":"#VALUE!"},{"$error":"#VALUE!"},{"$error":"#VALUE!"},{"$error":"#VALUE!"},{"$f":"IF(SUM(BA$1262:BA2250)>0,0,IF(MAX(AT2251:AT$2702)=MAX(AT$1262:AT$2702),0,IF(AR2251>0.03*AL$2703,0,$C2251/60)))","v":{"$error":"#VALUE!"}},{"$f":"IF(SUM(BB$1262:BB2250)>0,0,IF(MAX(AT2251:AT$2702)=MAX(AT$1262:AT$2702),0,IF(AR2251>0.01*AL$2703,0,$C2251/60)))","v":{"$error":"#VALUE!"}},0,0,0,0,{"$error":"#VALUE!"},{"$error":"#VALUE!"},{"$error":"#VALUE!"},{"$error":"#VALUE!"},{"$error":"#VALUE!"},{"$error":"#VALUE!"},{"$error":"#VALUE!"},{"$error":"#VALUE!"},{"$error":"#VALUE!"},{"$error":"#VALUE!"},{"$error":"#VALUE!"},{"$f":"IF(SUM(BR$1262:BR2250)>0,0,IF(MAX(BK2251:BK$2702)=MAX(BK$1262:BK$2702),0,IF(BI2251>0.03*BC$2703,0,$C2251/60)))","v":{"$error":"#VALUE!"}},{"$f":"IF(SUM(BS$1262:BS2250)>0,0,IF(MAX(BK2251:BK$2702)=MAX(BK$1262:BK$2702),0,IF(BI2251>0.01*BC$2703,0,$C2251/60)))","v":{"$error":"#VALUE!"}},0,0,0,0,{"$error":"#VALUE!"},{"$error":"#VALUE!"},{"$error":"#VALUE!"},{"$error":"#VALUE!"},{"$error":"#VALUE!"},{"$error":"#VALUE!"},{"$error":"#VALUE!"},{"$error":"#VALUE!"},{"$error":"#VALUE!"},{"$error":"#VALUE!"},{"$error":"#VALUE!"},{"$f":"IF(SUM(CI$1262:CI2250)>0,0,IF(MAX(CB2251:CB$2702)=MAX(CB$1262:CB$2702),0,IF(BZ2251>0.03*BT$2703,0,$C2251/60)))","v":{"$error":"#VALUE!"}},{"$f":"IF(SUM(CJ$1262:CJ2250)>0,0,IF(MAX(CB2251:CB$2702)=MAX(CB$1262:CB$2702),0,IF(BZ2251>0.01*BT$2703,0,$C2251/60)))","v":{"$error":"#VALUE!"}},0,0,0,0,{"$error":"#VALUE!"},{"$error":"#VALUE!"},{"$error":"#VALUE!"},{"$error":"#VALUE!"},{"$error":"#VALUE!"},{"$error":"#VALUE!"},{"$error":"#VALUE!"},{"$error":"#VALUE!"},{"$error":"#VALUE!"},{"$error":"#VALUE!"},{"$error":"#VALUE!"},{"$f":"IF(SUM(CZ$1262:CZ2250)>0,0,IF(MAX(CS2251:CS$2702)=MAX(CS$1262:CS$2702),0,IF(CQ2251>0.03*CK$2703,0,$C2251/60)))","v":{"$error":"#VALUE!"}},{"$f":"IF(SUM(DA$1262:DA2250)>0,0,IF(MAX(CS2251:CS$2702)=MAX(CS$1262:CS$2702),0,IF(CQ2251>0.01*CK$2703,0,$C2251/60)))","v":{"$error":"#VALUE!"}}]
[null,82.75,4965,0,0,0,0,0,0,0,0,0,{"$error":"#N/A"},{"$error":"#N/A"},{"$error":"#N/A"},{"$error":"#N/A"},{"$error":"#N/A"},{"$error":"#N/A"},{"$f":"IF(SUM(S$1262:S2254)>0,0,\nIF(MAX(L2255:L$2702)=MAX(L$1262:L$2702),0,\nIF(Hydrograph_Source_WQCV=\"USER\",IF(J2255>0.03*D$2703,0,$C2255/60),\nIF(J2255>0.03*J$2703,0,$C2255/60))))","v":0},{"$f":"IF(SUM(T$1262:T2254)>0,0,\nIF(MAX(L2255:L$2702)=MAX(L$1262:L$2702),0,\nIF(Hydrograph_Source_WQCV=\"USER\",IF(J2255>0.01*D$2703,0,$C2255/60),\nIF(J2255>0.01*J$2703,0,$C2255/60))))","v":0},0,0,0,0,{"$error":"#VALUE!"},{"$error":"#VALUE!"},{"$error":"#VALUE!"},{"$error":"#VALUE!"},{"$error":"#VALUE!"},{"$error":"#VALUE!"},{"$error":"#VALUE!"},{"$error":"#VALUE!"},{"$error":"#VALUE!"},{"$error":"#VALUE!"},{"$error":"#VALUE!"},{"$f":"IF(SUM(AJ$1262:AJ2254)>0,0,IF(MAX(AC2255:AC$2702)=MAX(AC$1262:AC$2702),0,IF(AA2255>0.03*U$2703,0,$C2255/60)))","v":{"$error":"#VALUE!"}},{"$f":"IF(SUM(AK$1262:AK2254)>0,0,IF(MAX(AC2255:AC$2702)=MAX(AC$1262:AC$2702),0,IF(AA2255>0.01*U$2703,0,$C2255/60)))","v":{"$error":"#VALUE!"}},0,0,0,0,{"$error":"#VALUE!"},{"$error":"#VALUE!"},{"$error":"#VALUE!"},{"$error":"#VALUE!"},{"$error":"#VALUE!"},{"$error":"#VALUE!"},{"$error":"#VALUE!"},{"$error":"#VALUE!"},{"$error":"#VALUE!"},{"$error":"#VALUE!"},{"$error":"#VALUE!"},{"$f":"IF(SUM(BA$1262:BA2254)>0,0,IF(MAX(AT2255:AT$2702)=MAX(AT$1262:AT$2702),0,IF(AR2255>0.03*AL$2703,0,$C2255/60)))","v":{"$error":"#VALUE!"}},{"$f":"IF(SUM(BB$1262:BB2254)>0,0,IF(MAX(AT2255:AT$2702)=MAX(AT$1262:AT$2702),0,IF(AR2255>0.01*AL$2703,0,$C2255/60)))","v":{"$error":"#VALUE!"}},0,0,0,0,{"$error":"#VALUE!"},{"$error":"#VALUE!"},{"$error":"#VALUE!"},{"$error":"#VALUE!"},{"$error":"#VALUE!"},{"$error":"#VALUE!"},{"$error":"#VALUE!"},{"$error":"#VALUE!"},{"$error":"#VALUE!"},{"$error":"#VALUE!"},{"$error":"#VALUE!"},{"$f":"IF(SUM(BR$1262:BR2254)>0,0,IF(MAX(BK2255:BK$2702)=MAX(BK$1262:BK$2702),0,IF(BI2255>0.03*BC$2703,0,$C2255/60)))","v":{"$error":"#VALUE!"}},{"$f":"IF(SUM(BS$1262:BS2254)>0,0,IF(MAX(BK2255:BK$2702)=MAX(BK$1262:BK$2702),0,IF(BI2255>0.01*BC$2703,0,$C2255/60)))","v":{"$error":"#VALUE!"}},0,0,0,0,{"$error":"#VALUE!"},{"$error":"#VALUE!"},{"$error":"#VALUE!"},{"$error":"#VALUE!"},{"$error":"#VALUE!"},{"$error":"#VALUE!"},{"$error":"#VALUE!"},{"$error":"#VALUE!"},{"$error":"#VALUE!"},{"$error":"#VALUE!"},{"$error":"#VALUE!"},{"$f":"IF(SUM(CI$1262:CI2254)>0,0,IF(MAX(CB2255:CB$2702)=MAX(CB$1262:CB$2702),0,IF(BZ2255>0.03*BT$2703,0,$C2255/60)))","v":{"$error":"#VALUE!"}},{"$f":"IF(SUM(CJ$1262:CJ2254)>0,0,IF(MAX(CB2255:CB$2702)=MAX(CB$1262:CB$2702),0,IF(BZ2255>0.01*BT$2703,0,$C2255/60)))","v":{"$error":"#VALUE!"}},0,0,0,0,{"$error":"#VALUE!"},{"$error":"#VALUE!"},{"$error":"#VALUE!"},{"$error":"#VALUE!"},{"$error":"#VALUE!"},{"$error":"#VALUE!"},{"$error":"#VALUE!"},{"$error":"#VALUE!"},{"$error":"#VALUE!"},{"$error":"#VALUE!"},{"$error":"#VALUE!"},{"$f":"IF(SUM(CZ$1262:CZ2254)>0,0,IF(MAX(CS2255:CS$2702)=MAX(CS$1262:CS$2702),0,IF(CQ2255>0.03*CK$2703,0,$C2255/60)))","v":{"$error":"#VALUE!"}},{"$f":"IF(SUM(DA$1262:DA2254)>0,0,IF(MAX(CS2255:CS$2702)=MAX(CS$1262:CS$2702),0,IF(CQ2255>0.01*CK$2703,0,$C2255/60)))","v":{"$error":"#VALUE!"}}]
[null,83.166666666666671,4990,0,0,0,0,0,0,0,0,0,{"$error":"#N/A"},{"$error":"#N/A"},{"$error":"#N/A"},{"$error":"#N/A"},{"$error":"#N/A"},{"$error":"#N/A"},{"$f":"IF(SUM(S$1262:S2259)>0,0,\nIF(MAX(L2260:L$2702)=MAX(L$1262:L$2702),0,\nIF(Hydrograph_Source_WQCV=\"USER\",IF(J2260>0.03*D$2703,0,$C2260/60),\nIF(J2260>0.03*J$2703,0,$C2260/60))))","v":0},{"$f":"IF(SUM(T$1262:T2259)>0,0,\nIF(MAX(L2260:L$2702)=MAX(L$1262:L$2702),0,\nIF(Hydrograph_Source_WQCV=\"USER\",IF(J2260>0.01*D$2703,0,$C2260/60),\nIF(J2260>0.01*J$2703,0,$C2260/60))))","v":0},0,0,0,0,{"$error":"#VALUE!"},{"$error":"#VALUE!"},{"$error":"#VALUE!"},{"$error":"#VALUE!"},{"$error":"#VALUE!"},{"$error":"#VALUE!"},{"$error":"#VALUE!"},{"$error":"#VALUE!"},{"$error":"#VALUE!"},{"$error":"#VALUE!"},{"$error":"#VALUE!"},{"$f":"IF(SUM(AJ$1262:AJ2259)>0,0,IF(MAX(AC2260:AC$2702)=MAX(AC$1262:AC$2702),0,IF(AA2260>0.03*U$2703,0,$C2260/60)))","v":{"$error":"#VALUE!"}},{"$f":"IF(SUM(AK$1262:AK2259)>0,0,IF(MAX(AC2260:AC$2702)=MAX(AC$1262:AC$2702),0,IF(AA2260>0.01*U$2703,0,$C2260/60)))","v":{"$error":"#VALUE!"}},0,0,0,0,{"$error":"#VALUE!"},{"$error":"#VALUE!"},{"$error":"#VALUE!"},{"$error":"#VALUE!"},{"$error":"#VALUE!"},{"$error":"#VALUE!"},{"$error":"#VALUE!"},{"$error":"#VALUE!"},{"$error":"#VALUE!"},{"$error":"#VALUE!"},{"$error":"#VALUE!"},{"$f":"IF(SUM(BA$1262:BA2259)>0,0,IF(MAX(AT2260:AT$2702)=MAX(AT$1262:AT$2702),0,IF(AR2260>0.03*AL$2703,0,$C2260/60)))","v":{"$error":"#VALUE!"}},{"$f":"IF(SUM(BB$1262:BB2259)>0,0,IF(MAX(AT2260:AT$2702)=MAX(AT$1262:AT$2702),0,IF(AR2260>0.01*AL$2703,0,$C2260/60)))","v":{"$error":"#VALUE!"}},0,0,0,0,{"$error":"#VALUE!"},{"$error":"#VALUE!"},{"$error":"#VALUE!"},{"$error":"#VALUE!"},{"$error":"#VALUE!"},{"$error":"#VALUE!"},{"$error":"#VALUE!"},{"$error":"#VALUE!"},{"$error":"#VALUE!"},{"$error":"#VALUE!"},{"$error":"#VALUE!"},{"$f":"IF(SUM(BR$1262:BR2259)>0,0,IF(MAX(BK2260:BK$2702)=MAX(BK$1262:BK$2702),0,IF(BI2260>0.03*BC$2703,0,$C2260/60)))","v":{"$error":"#VALUE!"}},{"$f":"IF(SUM(BS$1262:BS2259)>0,0,IF(MAX(BK2260:BK$2702)=MAX(BK$1262:BK$2702),0,IF(BI2260>0.01*BC$2703,0,$C2260/60)))","v":{"$error":"#VALUE!"}},0,0,0,0,{"$error":"#VALUE!"},{"$error":"#VALUE!"},{"$error":"#VALUE!"},{"$error":"#VALUE!"},{"$error":"#VALUE!"},{"$error":"#VALUE!"},{"$error":"#VALUE!"},{"$error":"#VALUE!"},{"$error":"#VALUE!"},{"$error":"#VALUE!"},{"$error":"#VALUE!"},{"$f":"IF(SUM(CI$1262:CI2259)>0,0,IF(MAX(CB2260:CB$2702)=MAX(CB$1262:CB$2702),0,IF(BZ2260>0.03*BT$2703,0,$C2260/60)))","v":{"$error":"#VALUE!"}},{"$f":"IF(SUM(CJ$1262:CJ2259)>0,0,IF(MAX(CB2260:CB$2702)=MAX(CB$1262:CB$2702),0,IF(BZ2260>0.01*BT$2703,0,$C2260/60)))","v":{"$error":"#VALUE!"}},0,0,0,0,{"$error":"#VALUE!"},{"$error":"#VALUE!"},{"$error":"#VALUE!"},{"$error":"#VALUE!"},{"$error":"#VALUE!"},{"$error":"#VALUE!"},{"$error":"#VALUE!"},{"$error":"#VALUE!"},{"$error":"#VALUE!"},{"$error":"#VALUE!"},{"$error":"#VALUE!"},{"$f":"IF(SUM(CZ$1262:CZ2259)>0,0,IF(MAX(CS2260:CS$2702)=MAX(CS$1262:CS$2702),0,IF(CQ2260>0.03*CK$2703,0,$C2260/60)))","v":{"$error":"#VALUE!"}},{"$f":"IF(SUM(DA$1262:DA2259)>0,0,IF(MAX(CS2260:CS$2702)=MAX(CS$1262:CS$2702),0,IF(CQ2260>0.01*CK$2703,0,$C2260/60)))","v":{"$error":"#VALUE!"}}]
[null,83.583333333333329,5015,0,0,0,0,0,0,0,0,0,{"$error":"#N/A"},{"$error":"#N/A"},{"$error":"#N/A"},{"$error":"#N/A"},{"$error":"#N/A"},{"$error":"#N/A"},{"$f":"IF(SUM(S$1262:S2264)>0,0,\nIF(MAX(L2265:L$2702)=MAX(L$1262:L$2702),0,\nIF(Hydrograph_Source_WQCV=\"USER\",IF(J2265>0.03*D$2703,0,$C2265/60),\nIF(J2265>0.03*J$2703,0,$C2265/60))))","v":0},{"$f":"IF(SUM(T$1262:T2264)>0,0,\nIF(MAX(L2265:L$2702)=MAX(L$1262:L$2702),0,\nIF(Hydrograph_Source_WQCV=\"USER\",IF(J2265>0.01*D$2703,0,$C2265/60),\nIF(J2265>0.01*J$2703,0,$C2265/60))))","v":0},0,0,0,0,{"$error":"#VALUE!"},{"$error":"#VALUE!"},{"$error":"#VALUE!"},{"$error":"#VALUE!"},{"$error":"#VALUE!"},{"$error":"#VALUE!"},{"$error":"#VALUE!"},{"$error":"#VALUE!"},{"$error":"#VALUE!"},{"$error":"#VALUE!"},{"$error":"#VALUE!"},{"$f":"IF(SUM(AJ$1262:AJ2264)>0,0,IF(MAX(AC2265:AC$2702)=MAX(AC$1262:AC$2702),0,IF(AA2265>0.03*U$2703,0,$C2265/60)))","v":{"$error":"#VALUE!"}},{"$f":"IF(SUM(AK$1262:AK2264)>0,0,IF(MAX(AC2265:AC$2702)=MAX(AC$1262:AC$2702),0,IF(AA2265>0.01*U$2703,0,$C2265/60)))","v":{"$error":"#VALUE!"}},0,0,0,0,{"$error":"#VALUE!"},{"$error":"#VALUE!"},{"$error":"#VALUE!"},{"$error":"#VALUE!"},{"$error":"#VALUE!"},{"$error":"#VALUE!"},{"$error":"#VALUE!"},{"$error":"#VALUE!"},{"$error":"#VALUE!"},{"$error":"#VALUE!"},{"$error":"#VALUE!"},{"$f":"IF(SUM(BA$1262:BA2264)>0,0,IF(MAX(AT2265:AT$2702)=MAX(AT$1262:AT$2702),0,IF(AR2265>0.03*AL$2703,0,$C2265/60)))","v":{"$error":"#VALUE!"}},{"$f":"IF(SUM(BB$1262:BB2264)>0,0,IF(MAX(AT2265:AT$2702)=MAX(AT$1262:AT$2702),0,IF(AR2265>0.01*AL$2703,0,$C2265/60)))","v":{"$error":"#VALUE!"}},0,0,0,0,{"$error":"#VALUE!"},{"$error":"#VALUE!"},{"$error":"#VALUE!"},{"$error":"#VALUE!"},{"$error":"#VALUE!"},{"$error":"#VALUE!"},{"$error":"#VALUE!"},{"$error":"#VALUE!"},{"$error":"#VALUE!"},{"$error":"#VALUE!"},{"$error":"#VALUE!"},{"$f":"IF(SUM(BR$1262:BR2264)>0,0,IF(MAX(BK2265:BK$2702)=MAX(BK$1262:BK$2702),0,IF(BI2265>0.03*BC$2703,0,$C2265/60)))","v":{"$error":"#VALUE!"}},{"$f":"IF(SUM(BS$1262:BS2264)>0,0,IF(MAX(BK2265:BK$2702)=MAX(BK$1262:BK$2702),0,IF(BI2265>0.01*BC$2703,0,$C2265/60)))","v":{"$error":"#VALUE!"}},0,0,0,0,{"$error":"#VALUE!"},{"$error":"#VALUE!"},{"$error":"#VALUE!"},{"$error":"#VALUE!"},{"$error":"#VALUE!"},{"$error":"#VALUE!"},{"$error":"#VALUE!"},{"$error":"#VALUE!"},{"$error":"#VALUE!"},{"$error":"#VALUE!"},{"$error":"#VALUE!"},{"$f":"IF(SUM(CI$1262:CI2264)>0,0,IF(MAX(CB2265:CB$2702)=MAX(CB$1262:CB$2702),0,IF(BZ2265>0.03*BT$2703,0,$C2265/60)))","v":{"$error":"#VALUE!"}},{"$f":"IF(SUM(CJ$1262:CJ2264)>0,0,IF(MAX(CB2265:CB$2702)=MAX(CB$1262:CB$2702),0,IF(BZ2265>0.01*BT$2703,0,$C2265/60)))","v":{"$error":"#VALUE!"}},0,0,0,0,{"$error":"#VALUE!"},{"$error":"#VALUE!"},{"$error":"#VALUE!"},{"$error":"#VALUE!"},{"$error":"#VALUE!"},{"$error":"#VALUE!"},{"$error":"#VALUE!"},{"$error":"#VALUE!"},{"$error":"#VALUE!"},{"$error":"#VALUE!"},{"$error":"#VALUE!"},{"$f":"IF(SUM(CZ$1262:CZ2264)>0,0,IF(MAX(CS2265:CS$2702)=MAX(CS$1262:CS$2702),0,IF(CQ2265>0.03*CK$2703,0,$C2265/60)))","v":{"$error":"#VALUE!"}},{"$f":"IF(SUM(DA$1262:DA2264)>0,0,IF(MAX(CS2265:CS$2702)=MAX(CS$1262:CS$2702),0,IF(CQ2265>0.01*CK$2703,0,$C2265/60)))","v":{"$error":"#VALUE!"}}]
[null,84.083333333333329,5045,0,0,0,0,0,0,0,0,0,{"$error":"#N/A"},{"$error":"#N/A"},{"$error":"#N/A"},{"$error":"#N/A"},{"$error":"#N/A"},{"$error":"#N/A"},{"$f":"IF(SUM(S$1262:S2270)>0,0,\nIF(MAX(L2271:L$2702)=MAX(L$1262:L$2702),0,\nIF(Hydrograph_Source_WQCV=\"USER\",IF(J2271>0.03*D$2703,0,$C2271/60),\nIF(J2271>0.03*J$2703,0,$C2271/60))))","v":0},{"$f":"IF(SUM(T$1262:T2270)>0,0,\nIF(MAX(L2271:L$2702)=MAX(L$1262:L$2702),0,\nIF(Hydrograph_Source_WQCV=\"USER\",IF(J2271>0.01*D$2703,0,$C2271/60),\nIF(J2271>0.01*J$2703,0,$C2271/60))))","v":0},0,0,0,0,{"$error":"#VALUE!"},{"$error":"#VALUE!"},{"$error":"#VALUE!"},{"$error":"#VALUE!"},{"$error":"#VALUE!"},{"$error":"#VALUE!"},{"$error":"#VALUE!"},{"$error":"#VALUE!"},{"$error":"#VALUE!"},{"$error":"#VALUE!"},{"$error":"#VALUE!"},{"$f":"IF(SUM(AJ$1262:AJ2270)>0,0,IF(MAX(AC2271:AC$2702)=MAX(AC$1262:AC$2702),0,IF(AA2271>0.03*U$2703,0,$C2271/60)))","v":{"$error":"#VALUE!"}},{"$f":"IF(SUM(AK$1262:AK2270)>0,0,IF(MAX(AC2271:AC$2702)=MAX(AC$1262:AC$2702),0,IF(AA2271>0.01*U$2703,0,$C2271/60)))","v":{"$error":"#VALUE!"}},0,0,0,0,{"$error":"#VALUE!"},{"$error":"#VALUE!"},{"$error":"#VALUE!"},{"$error":"#VALUE!"},{"$error":"#VALUE!"},{"$error":"#VALUE!"},{"$error":"#VALUE!"},{"$error":"#VALUE!"},{"$error":"#VALUE!"},{"$error":"#VALUE!"},{"$error":"#VALUE!"},{"$f":"IF(SUM(BA$1262:BA2270)>0,0,IF(MAX(AT2271:AT$2702)=MAX(AT$1262:AT$2702),0,IF(AR2271>0.03*AL$2703,0,$C2271/60)))","v":{"$error":"#VALUE!"}},{"$f":"IF(SUM(BB$1262:BB2270)>0,0,IF(MAX(AT2271:AT$2702)=MAX(AT$1262:AT$2702),0,IF(AR2271>0.01*AL$2703,0,$C2271/60)))","v":{"$error":"#VALUE!"}},0,0,0,0,{"$error":"#VALUE!"},{"$error":"#VALUE!"},{"$error":"#VALUE!"},{"$error":"#VALUE!"},{"$error":"#VALUE!"},{"$error":"#VALUE!"},{"$error":"#VALUE!"},{"$error":"#VALUE!"},{"$error":"#VALUE!"},{"$error":"#VALUE!"},{"$error":"#VALUE!"},{"$f":"IF(SUM(BR$1262:BR2270)>0,0,IF(MAX(BK2271:BK$2702)=MAX(BK$1262:BK$2702),0,IF(BI2271>0.03*BC$2703,0,$C2271/60)))","v":{"$error":"#VALUE!"}},{"$f":"IF(SUM(BS$1262:BS2270)>0,0,IF(MAX(BK2271:BK$2702)=MAX(BK$1262:BK$2702),0,IF(BI2271>0.01*BC$2703,0,$C2271/60)))","v":{"$error":"#VALUE!"}},0,0,0,0,{"$error":"#VALUE!"},{"$error":"#VALUE!"},{"$error":"#VALUE!"},{"$error":"#VALUE!"},{"$error":"#VALUE!"},{"$error":"#VALUE!"},{"$error":"#VALUE!"},{"$error":"#VALUE!"},{"$error":"#VALUE!"},{"$error":"#VALUE!"},{"$error":"#VALUE!"},{"$f":"IF(SUM(CI$1262:CI2270)>0,0,IF(MAX(CB2271:CB$2702)=MAX(CB$1262:CB$2702),0,IF(BZ2271>0.03*BT$2703,0,$C2271/60)))","v":{"$error":"#VALUE!"}},{"$f":"IF(SUM(CJ$1262:CJ2270)>0,0,IF(MAX(CB2271:CB$2702)=MAX(CB$1262:CB$2702),0,IF(BZ2271>0.01*BT$2703,0,$C2271/60)))","v":{"$error":"#VALUE!"}},0,0,0,0,{"$error":"#VALUE!"},{"$error":"#VALUE!"},{"$error":"#VALUE!"},{"$error":"#VALUE!"},{"$error":"#VALUE!"},{"$error":"#VALUE!"},{"$error":"#VALUE!"},{"$error":"#VALUE!"},{"$error":"#VALUE!"},{"$error":"#VALUE!"},{"$error":"#VALUE!"},{"$f":"IF(SUM(CZ$1262:CZ2270)>0,0,IF(MAX(CS2271:CS$2702)=MAX(CS$1262:CS$2702),0,IF(CQ2271>0.03*CK$2703,0,$C2271/60)))","v":{"$error":"#VALUE!"}},{"$f":"IF(SUM(DA$1262:DA2270)>0,0,IF(MAX(CS2271:CS$2702)=MAX(CS$1262:CS$2702),0,IF(CQ2271>0.01*CK$2703,0,$C2271/60)))","v":{"$error":"#VALUE!"}}]
[null,84.166666666666671,5050,0,0,0,0,0,0,0,0,0,{"$error":"#N/A"},{"$error":"#N/A"},{"$error":"#N/A"},{"$error":"#N/A"},{"$error":"#N/A"},{"$error":"#N/A"},{"$f":"IF(SUM(S$1262:S2271)>0,0,\nIF(MAX(L2272:L$2702)=MAX(L$1262:L$2702),0,\nIF(Hydrograph_Source_WQCV=\"USER\",IF(J2272>0.03*D$2703,0,$C2272/60),\nIF(J2272>0.03*J$2703,0,$C2272/60))))","v":0},{"$f":"IF(SUM(T$1262:T2271)>0,0,\nIF(MAX(L2272:L$2702)=MAX(L$1262:L$2702),0,\nIF(Hydrograph_Source_WQCV=\"USER\",IF(J2272>0.01*D$2703,0,$C2272/60),\nIF(J2272>0.01*J$2703,0,$C2272/60))))","v":0},0,0,0,0,{"$error":"#VALUE!"},{"$error":"#VALUE!"},{"$error":"#VALUE!"},{"$error":"#VALUE!"},{"$error":"#VALUE!"},{"$error":"#VALUE!"},{"$error":"#VALUE!"},{"$error":"#VALUE!"},{"$error":"#VALUE!"},{"$error":"#VALUE!"},{"$error":"#VALUE!"},{"$f":"IF(SUM(AJ$1262:AJ2271)>0,0,IF(MAX(AC2272:AC$2702)=MAX(AC$1262:AC$2702),0,IF(AA2272>0.03*U$2703,0,$C2272/60)))","v":{"$error":"#VALUE!"}},{"$f":"IF(SUM(AK$1262:AK2271)>0,0,IF(MAX(AC2272:AC$2702)=MAX(AC$1262:AC$2702),0,IF(AA2272>0.01*U$2703,0,$C2272/60)))","v":{"$error":"#VALUE!"}},0,0,0,0,{"$error":"#VALUE!"},{"$error":"#VALUE!"},{"$error":"#VALUE!"},{"$error":"#VALUE!"},{"$error":"#VALUE!"},{"$error":"#VALUE!"},{"$error":"#VALUE!"},{"$error":"#VALUE!"},{"$error":"#VALUE!"},{"$error":"#VALUE!"},{"$error":"#VALUE!"},{"$f":"IF(SUM(BA$1262:BA2271)>0,0,IF(MAX(AT2272:AT$2702)=MAX(AT$1262:AT$2702),0,IF(AR2272>0.03*AL$2703,0,$C2272/60)))","v":{"$error":"#VALUE!"}},{"$f":"IF(SUM(BB$1262:BB2271)>0,0,IF(MAX(AT2272:AT$2702)=MAX(AT$1262:AT$2702),0,IF(AR2272>0.01*AL$2703,0,$C2272/60)))","v":{"$error":"#VALUE!"}},0,0,0,0,{"$error":"#VALUE!"},{"$error":"#VALUE!"},{"$error":"#VALUE!"},{"$error":"#VALUE!"},{"$error":"#VALUE!"},{"$error":"#VALUE!"},{"$error":"#VALUE!"},{"$error":"#VALUE!"},{"$error":"#VALUE!"},{"$error":"#VALUE!"},{"$error":"#VALUE!"},{"$f":"IF(SUM(BR$1262:BR2271)>0,0,IF(MAX(BK2272:BK$2702)=MAX(BK$1262:BK$2702),0,IF(BI2272>0.03*BC$2703,0,$C2272/60)))","v":{"$error":"#VALUE!"}},{"$f":"IF(SUM(BS$1262:BS2271)>0,0,IF(MAX(BK2272:BK$2702)=MAX(BK$1262:BK$2702),0,IF(BI2272>0.01*BC$2703,0,$C2272/60)))","v":{"$error":"#VALUE!"}},0,0,0,0,{"$error":"#VALUE!"},{"$error":"#VALUE!"},{"$error":"#VALUE!"},{"$error":"#VALUE!"},{"$error":"#VALUE!"},{"$error":"#VALUE!"},{"$error":"#VALUE!"},{"$error":"#VALUE!"},{"$error":"#VALUE!"},{"$error":"#VALUE!"},{"$error":"#VALUE!"},{"$f":"IF(SUM(CI$1262:CI2271)>0,0,IF(MAX(CB2272:CB$2702)=MAX(CB$1262:CB$2702),0,IF(BZ2272>0.03*BT$2703,0,$C2272/60)))","v":{"$error":"#VALUE!"}},{"$f":"IF(SUM(CJ$1262:CJ2271)>0,0,IF(MAX(CB2272:CB$2702)=MAX(CB$1262:CB$2702),0,IF(BZ2272>0.01*BT$2703,0,$C2272/60)))","v":{"$error":"#VALUE!"}},0,0,0,0,{"$error":"#VALUE!"},{"$error":"#VALUE!"},{"$error":"#VALUE!"},{"$error":"#VALUE!"},{"$error":"#VALUE!"},{"$error":"#VALUE!"},{"$error":"#VALUE!"},{"$error":"#VALUE!"},{"$error":"#VALUE!"},{"$error":"#VALUE!"},{"$error":"#VALUE!"},{"$f":"IF(SUM(CZ$1262:CZ2271)>0,0,IF(MAX(CS2272:CS$2702)=MAX(CS$1262:CS$2702),0,IF(CQ2272>0.03*CK$2703,0,$C2272/60)))","v":{"$error":"#VALUE!"}},{"$f":"IF(SUM(DA$1262:DA2271)>0,0,IF(MAX(CS2272:CS$2702)=MAX(CS$1262:CS$2702),0,IF(CQ2272>0.01*CK$2703,0,$C2272/60)))","v":{"$error":"#VALUE!"}}]
[null,84.75,5085,0,0,0,0,0,0,0,0,0,{"$error":"#N/A"},{"$error":"#N/A"},{"$error":"#N/A"},{"$error":"#N/A"},{"$error":"#N/A"},{"$error":"#N/A"},{"$f":"IF(SUM(S$1262:S2278)>0,0,\nIF(MAX(L2279:L$2702)=MAX(L$1262:L$2702),0,\nIF(Hydrograph_Source_WQCV=\"USER\",IF(J2279>0.03*D$2703,0,$C2279/60),\nIF(J2279>0.03*J$2703,0,$C2279/60))))","v":0},{"$f":"IF(SUM(T$1262:T2278)>0,0,\nIF(MAX(L2279:L$2702)=MAX(L$1262:L$2702),0,\nIF(Hydrograph_Source_WQCV=\"USER\",IF(J2279>0.01*D$2703,0,$C2279/60),\nIF(J2279>0.01*J$2703,0,$C2279/60))))","v":0},0,0,0,0,{"$error":"#VALUE!"},{"$error":"#VALUE!"},{"$error":"#VALUE!"},{"$error":"#VALUE!"},{"$error":"#VALUE!"},{"$error":"#VALUE!"},{"$error":"#VALUE!"},{"$error":"#VALUE!"},{"$error":"#VALUE!"},{"$error":"#VALUE!"},{"$error":"#VALUE!"},{"$f":"IF(SUM(AJ$1262:AJ2278)>0,0,IF(MAX(AC2279:AC$2702)=MAX(AC$1262:AC$2702),0,IF(AA2279>0.03*U$2703,0,$C2279/60)))","v":{"$error":"#VALUE!"}},{"$f":"IF(SUM(AK$1262:AK2278)>0,0,IF(MAX(AC2279:AC$2702)=MAX(AC$1262:AC$2702),0,IF(AA2279>0.01*U$2703,0,$C2279/60)))","v":{"$error":"#VALUE!"}},0,0,0,0,{"$error":"#VALUE!"},{"$error":"#VALUE!"},{"$error":"#VALUE!"},{"$error":"#VALUE!"},{"$error":"#VALUE!"},{"$error":"#VALUE!"},{"$error":"#VALUE!"},{"$error":"#VALUE!"},{"$error":"#VALUE!"},{"$error":"#VALUE!"},{"$error":"#VALUE!"},{"$f":"IF(SUM(BA$1262:BA2278)>0,0,IF(MAX(AT2279:AT$2702)=MAX(AT$1262:AT$2702),0,IF(AR2279>0.03*AL$2703,0,$C2279/60)))","v":{"$error":"#VALUE!"}},{"$f":"IF(SUM(BB$1262:BB2278)>0,0,IF(MAX(AT2279:AT$2702)=MAX(AT$1262:AT$2702),0,IF(AR2279>0.01*AL$2703,0,$C2279/60)))","v":{"$error":"#VALUE!"}},0,0,0,0,{"$error":"#VALUE!"},{"$error":"#VALUE!"},{"$error":"#VALUE!"},{"$error":"#VALUE!"},{"$error":"#VALUE!"},{"$error":"#VALUE!"},{"$error":"#VALUE!"},{"$error":"#VALUE!"},{"$error":"#VALUE!"},{"$error":"#VALUE!"},{"$error":"#VALUE!"},{"$f":"IF(SUM(BR$1262:BR2278)>0,0,IF(MAX(BK2279:BK$2702)=MAX(BK$1262:BK$2702),0,IF(BI2279>0.03*BC$2703,0,$C2279/60)))","v":{"$error":"#VALUE!"}},{"$f":"IF(SUM(BS$1262:BS2278)>0,0,IF(MAX(BK2279:BK$2702)=MAX(BK$1262:BK$2702),0,IF(BI2279>0.01*BC$2703,0,$C2279/60)))","v":{"$error":"#VALUE!"}},0,0,0,0,{"$error":"#VALUE!"},{"$error":"#VALUE!"},{"$error":"#VALUE!"},{"$error":"#VALUE!"},{"$error":"#VALUE!"},{"$error":"#VALUE!"},{"$error":"#VALUE!"},{"$error":"#VALUE!"},{"$error":"#VALUE!"},{"$error":"#VALUE!"},{"$error":"#VALUE!"},{"$f":"IF(SUM(CI$1262:CI2278)>0,0,IF(MAX(CB2279:CB$2702)=MAX(CB$1262:CB$2702),0,IF(BZ2279>0.03*BT$2703,0,$C2279/60)))","v":{"$error":"#VALUE!"}},{"$f":"IF(SUM(CJ$1262:CJ2278)>0,0,IF(MAX(CB2279:CB$2702)=MAX(CB$1262:CB$2702),0,IF(BZ2279>0.01*BT$2703,0,$C2279/60)))","v":{"$error":"#VALUE!"}},0,0,0,0,{"$error":"#VALUE!"},{"$error":"#VALUE!"},{"$error":"#VALUE!"},{"$error":"#VALUE!"},{"$error":"#VALUE!"},{"$error":"#VALUE!"},{"$error":"#VALUE!"},{"$error":"#VALUE!"},{"$error":"#VALUE!"},{"$error":"#VALUE!"},{"$error":"#VALUE!"},{"$f":"IF(SUM(CZ$1262:CZ2278)>0,0,IF(MAX(CS2279:CS$2702)=MAX(CS$1262:CS$2702),0,IF(CQ2279>0.03*CK$2703,0,$C2279/60)))","v":{"$error":"#VALUE!"}},{"$f":"IF(SUM(DA$1262:DA2278)>0,0,IF(MAX(CS2279:CS$2702)=MAX(CS$1262:CS$2702),0,IF(CQ2279>0.01*CK$2703,0,$C2279/60)))","v":{"$error":"#VALUE!"}}]
[null,85.083333333333329,5105,0,0,0,0,0,0,0,0,0,{"$error":"#N/A"},{"$error":"#N/A"},{"$error":"#N/A"},{"$error":"#N/A"},{"$error":"#N/A"},{"$error":"#N/A"},{"$f":"IF(SUM(S$1262:S2282)>0,0,\nIF(MAX(L2283:L$2702)=MAX(L$1262:L$2702),0,\nIF(Hydrograph_Source_WQCV=\"USER\",IF(J2283>0.03*D$2703,0,$C2283/60),\nIF(J2283>0.03*J$2703,0,$C2283/60))))","v":0},{"$f":"IF(SUM(T$1262:T2282)>0,0,\nIF(MAX(L2283:L$2702)=MAX(L$1262:L$2702),0,\nIF(Hydrograph_Source_WQCV=\"USER\",IF(J2283>0.01*D$2703,0,$C2283/60),\nIF(J2283>0.01*J$2703,0,$C2283/60))))","v":0},0,0,0,0,{"$error":"#VALUE!"},{"$error":"#VALUE!"},{"$error":"#VALUE!"},{"$error":"#VALUE!"},{"$error":"#VALUE!"},{"$error":"#VALUE!"},{"$error":"#VALUE!"},{"$error":"#VALUE!"},{"$error":"#VALUE!"},{"$error":"#VALUE!"},{"$error":"#VALUE!"},{"$f":"IF(SUM(AJ$1262:AJ2282)>0,0,IF(MAX(AC2283:AC$2702)=MAX(AC$1262:AC$2702),0,IF(AA2283>0.03*U$2703,0,$C2283/60)))","v":{"$error":"#VALUE!"}},{"$f":"IF(SUM(AK$1262:AK2282)>0,0,IF(MAX(AC2283:AC$2702)=MAX(AC$1262:AC$2702),0,IF(AA2283>0.01*U$2703,0,$C2283/60)))","v":{"$error":"#VALUE!"}},0,0,0,0,{"$error":"#VALUE!"},{"$error":"#VALUE!"},{"$error":"#VALUE!"},{"$error":"#VALUE!"},{"$error":"#VALUE!"},{"$error":"#VALUE!"},{"$error":"#VALUE!"},{"$error":"#VALUE!"},{"$error":"#VALUE!"},{"$error":"#VALUE!"},{"$error":"#VALUE!"},{"$f":"IF(SUM(BA$1262:BA2282)>0,0,IF(MAX(AT2283:AT$2702)=MAX(AT$1262:AT$2702),0,IF(AR2283>0.03*AL$2703,0,$C2283/60)))","v":{"$error":"#VALUE!"}},{"$f":"IF(SUM(BB$1262:BB2282)>0,0,IF(MAX(AT2283:AT$2702)=MAX(AT$1262:AT$2702),0,IF(AR2283>0.01*AL$2703,0,$C2283/60)))","v":{"$error":"#VALUE!"}},0,0,0,0,{"$error":"#VALUE!"},{"$error":"#VALUE!"},{"$error":"#VALUE!"},{"$error":"#VALUE!"},{"$error":"#VALUE!"},{"$error":"#VALUE!"},{"$error":"#VALUE!"},{"$error":"#VALUE!"},{"$error":"#VALUE!"},{"$error":"#VALUE!"},{"$error":"#VALUE!"},{"$f":"IF(SUM(BR$1262:BR2282)>0,0,IF(MAX(BK2283:BK$2702)=MAX(BK$1262:BK$2702),0,IF(BI2283>0.03*BC$2703,0,$C2283/60)))","v":{"$error":"#VALUE!"}},{"$f":"IF(SUM(BS$1262:BS2282)>0,0,IF(MAX(BK2283:BK$2702)=MAX(BK$1262:BK$2702),0,IF(BI2283>0.01*BC$2703,0,$C2283/60)))","v":{"$error":"#VALUE!"}},0,0,0,0,{"$error":"#VALUE!"},{"$error":"#VALUE!"},{"$error":"#VALUE!"},{"$error":"#VALUE!"},{"$error":"#VALUE!"},{"$error":"#VALUE!"},{"$error":"#VALUE!"},{"$error":"#VALUE!"},{"$error":"#VALUE!"},{"$error":"#VALUE!"},{"$error":"#VALUE!"},{"$f":"IF(SUM(CI$1262:CI2282)>0,0,IF(MAX(CB2283:CB$2702)=MAX(CB$1262:CB$2702),0,IF(BZ2283>0.03*BT$2703,0,$C2283/60)))","v":{"$error":"#VALUE!"}},{"$f":"IF(SUM(CJ$1262:CJ2282)>0,0,IF(MAX(CB2283:CB$2702)=MAX(CB$1262:CB$2702),0,IF(BZ2283>0.01*BT$2703,0,$C2283/60)))","v":{"$error":"#VALUE!"}},0,0,0,0,{"$error":"#VALUE!"},{"$error":"#VALUE!"},{"$error":"#VALUE!"},{"$error":"#VALUE!"},{"$error":"#VALUE!"},{"$error":"#VALUE!"},{"$error":"#VALUE!"},{"$error":"#VALUE!"},{"$error":"#VALUE!"},{"$error":"#VALUE!"},{"$error":"#VALUE!"},{"$f":"IF(SUM(CZ$1262:CZ2282)>0,0,IF(MAX(CS2283:CS$2702)=MAX(CS$1262:CS$2702),0,IF(CQ2283>0.03*CK$2703,0,$C2283/60)))","v":{"$error":"#VALUE!"}},{"$f":"IF(SUM(DA$1262:DA2282)>0,0,IF(MAX(CS2283:CS$2702)=MAX(CS$1262:CS$2702),0,IF(CQ2283>0.01*CK$2703,0,$C2283/60)))","v":{"$error":"#VALUE!"}}]
[null,85.5,5130,0,0,0,0,0,0,0,0,0,{"$error":"#N/A"},{"$error":"#N/A"},{"$error":"#N/A"},{"$error":"#N/A"},{"$error":"#N/A"},{"$error":"#N/A"},{"$f":"IF(SUM(S$1262:S2287)>0,0,\nIF(MAX(L2288:L$2702)=MAX(L$1262:L$2702),0,\nIF(Hydrograph_Source_WQCV=\"USER\",IF(J2288>0.03*D$2703,0,$C2288/60),\nIF(J2288>0.03*J$2703,0,$C2288/60))))","v":0},{"$f":"IF(SUM(T$1262:T2287)>0,0,\nIF(MAX(L2288:L$2702)=MAX(L$1262:L$2702),0,\nIF(Hydrograph_Source_WQCV=\"USER\",IF(J2288>0.01*D$2703,0,$C2288/60),\nIF(J2288>0.01*J$2703,0,$C2288/60))))","v":0},0,0,0,0,{"$error":"#VALUE!"},{"$error":"#VALUE!"},{"$error":"#VALUE!"},{"$error":"#VALUE!"},{"$error":"#VALUE!"},{"$error":"#VALUE!"},{"$error":"#VALUE!"},{"$error":"#VALUE!"},{"$error":"#VALUE!"},{"$error":"#VALUE!"},{"$error":"#VALUE!"},{"$f":"IF(SUM(AJ$1262:AJ2287)>0,0,IF(MAX(AC2288:AC$2702)=MAX(AC$1262:AC$2702),0,IF(AA2288>0.03*U$2703,0,$C2288/60)))","v":{"$error":"#VALUE!"}},{"$f":"IF(SUM(AK$1262:AK2287)>0,0,IF(MAX(AC2288:AC$2702)=MAX(AC$1262:AC$2702),0,IF(AA2288>0.01*U$2703,0,$C2288/60)))","v":{"$error":"#VALUE!"}},0,0,0,0,{"$error":"#VALUE!"},{"$error":"#VALUE!"},{"$error":"#VALUE!"},{"$error":"#VALUE!"},{"$error":"#VALUE!"},{"$error":"#VALUE!"},{"$error":"#VALUE!"},{"$error":"#VALUE!"},{"$error":"#VALUE!"},{"$error":"#VALUE!"},{"$error":"#VALUE!"},{"$f":"IF(SUM(BA$1262:BA2287)>0,0,IF(MAX(AT2288:AT$2702)=MAX(AT$1262:AT$2702),0,IF(AR2288>0.03*AL$2703,0,$C2288/60)))","v":{"$error":"#VALUE!"}},{"$f":"IF(SUM(BB$1262:BB2287)>0,0,IF(MAX(AT2288:AT$2702)=MAX(AT$1262:AT$2702),0,IF(AR2288>0.01*AL$2703,0,$C2288/60)))","v":{"$error":"#VALUE!"}},0,0,0,0,{"$error":"#VALUE!"},{"$error":"#VALUE!"},{"$error":"#VALUE!"},{"$error":"#VALUE!"},{"$error":"#VALUE!"},{"$error":"#VALUE!"},{"$error":"#VALUE!"},{"$error":"#VALUE!"},{"$error":"#VALUE!"},{"$error":"#VALUE!"},{"$error":"#VALUE!"},{"$f":"IF(SUM(BR$1262:BR2287)>0,0,IF(MAX(BK2288:BK$2702)=MAX(BK$1262:BK$2702),0,IF(BI2288>0.03*BC$2703,0,$C2288/60)))","v":{"$error":"#VALUE!"}},{"$f":"IF(SUM(BS$1262:BS2287)>0,0,IF(MAX(BK2288:BK$2702)=MAX(BK$1262:BK$2702),0,IF(BI2288>0.01*BC$2703,0,$C2288/60)))","v":{"$error":"#VALUE!"}},0,0,0,0,{"$error":"#VALUE!"},{"$error":"#VALUE!"},{"$error":"#VALUE!"},{"$error":"#VALUE!"},{"$error":"#VALUE!"},{"$error":"#VALUE!"},{"$error":"#VALUE!"},{"$error":"#VALUE!"},{"$error":"#VALUE!"},{"$error":"#VALUE!"},{"$error":"#VALUE!"},{"$f":"IF(SUM(CI$1262:CI2287)>0,0,IF(MAX(CB2288:CB$2702)=MAX(CB$1262:CB$2702),0,IF(BZ2288>0.03*BT$2703,0,$C2288/60)))","v":{"$error":"#VALUE!"}},{"$f":"IF(SUM(CJ$1262:CJ2287)>0,0,IF(MAX(CB2288:CB$2702)=MAX(CB$1262:CB$2702),0,IF(BZ2288>0.01*BT$2703,0,$C2288/60)))","v":{"$error":"#VALUE!"}},0,0,0,0,{"$error":"#VALUE!"},{"$error":"#VALUE!"},{"$error":"#VALUE!"},{"$error":"#VALUE!"},{"$f":"IF(CK$1263=\"\",0,ROUND((CY2288*CR2288+CX2288-CY2288*CW2288),7))","v":{"$error":"#VALUE!"}},{"$error":"#VALUE!"},{"$error":"#VALUE!"},{"$error":"#VALUE!"},{"$error":"#VALUE!"},{"$error":"#VALUE!"},{"$error":"#VALUE!"},{"$f":"IF(SUM(CZ$1262:CZ2287)>0,0,IF(MAX(CS2288:CS$2702)=MAX(CS$1262:CS$2702),0,IF(CQ2288>0.03*CK$2703,0,$C2288/60)))","v":{"$error":"#VALUE!"}},{"$f":"IF(SUM(DA$1262:DA2287)>0,0,IF(MAX(CS2288:CS$2702)=MAX(CS$1262:CS$2702),0,IF(CQ2288>0.01*CK$2703,0,$C2288/60)))","v":{"$error":"#VALUE!"}}]
[null,85.583333333333329,5135,0,0,0,0,0,0,0,0,0,{"$error":"#N/A"},{"$error":"#N/A"},{"$error":"#N/A"},{"$error":"#N/A"},{"$error":"#N/A"},{"$error":"#N/A"},{"$f":"IF(SUM(S$1262:S2288)>0,0,\nIF(MAX(L2289:L$2702)=MAX(L$1262:L$2702),0,\nIF(Hydrograph_Source_WQCV=\"USER\",IF(J2289>0.03*D$2703,0,$C2289/60),\nIF(J2289>0.03*J$2703,0,$C2289/60))))","v":0},{"$f":"IF(SUM(T$1262:T2288)>0,0,\nIF(MAX(L2289:L$2702)=MAX(L$1262:L$2702),0,\nIF(Hydrograph_Source_WQCV=\"USER\",IF(J2289>0.01*D$2703,0,$C2289/60),\nIF(J2289>0.01*J$2703,0,$C2289/60))))","v":0},0,0,0,0,{"$error":"#VALUE!"},{"$error":"#VALUE!"},{"$error":"#VALUE!"},{"$error":"#VALUE!"},{"$error":"#VALUE!"},{"$error":"#VALUE!"},{"$error":"#VALUE!"},{"$error":"#VALUE!"},{"$error":"#VALUE!"},{"$error":"#VALUE!"},{"$error":"#VALUE!"},{"$f":"IF(SUM(AJ$1262:AJ2288)>0,0,IF(MAX(AC2289:AC$2702)=MAX(AC$1262:AC$2702),0,IF(AA2289>0.03*U$2703,0,$C2289/60)))","v":{"$error":"#VALUE!"}},{"$f":"IF(SUM(AK$1262:AK2288)>0,0,IF(MAX(AC2289:AC$2702)=MAX(AC$1262:AC$2702),0,IF(AA2289>0.01*U$2703,0,$C2289/60)))","v":{"$error":"#VALUE!"}},0,0,0,0,{"$error":"#VALUE!"},{"$error":"#VALUE!"},{"$error":"#VALUE!"},{"$error":"#VALUE!"},{"$error":"#VALUE!"},{"$error":"#VALUE!"},{"$error":"#VALUE!"},{"$error":"#VALUE!"},{"$error":"#VALUE!"},{"$error":"#VALUE!"},{"$error":"#VALUE!"},{"$f":"IF(SUM(BA$1262:BA2288)>0,0,IF(MAX(AT2289:AT$2702)=MAX(AT$1262:AT$2702),0,IF(AR2289>0.03*AL$2703,0,$C2289/60)))","v":{"$error":"#VALUE!"}},{"$f":"IF(SUM(BB$1262:BB2288)>0,0,IF(MAX(AT2289:AT$2702)=MAX(AT$1262:AT$2702),0,IF(AR2289>0.01*AL$2703,0,$C2289/60)))","v":{"$error":"#VALUE!"}},0,0,0,0,{"$error":"#VALUE!"},{"$error":"#VALUE!"},{"$error":"#VALUE!"},{"$error":"#VALUE!"},{"$error":"#VALUE!"},{"$error":"#VALUE!"},{"$error":"#VALUE!"},{"$error":"#VALUE!"},{"$error":"#VALUE!"},{"$error":"#VALUE!"},{"$error":"#VALUE!"},{"$f":"IF(SUM(BR$1262:BR2288)>0,0,IF(MAX(BK2289:BK$2702)=MAX(BK$1262:BK$2702),0,IF(BI2289>0.03*BC$2703,0,$C2289/60)))","v":{"$error":"#VALUE!"}},{"$f":"IF(SUM(BS$1262:BS2288)>0,0,IF(MAX(BK2289:BK$2702)=MAX(BK$1262:BK$2702),0,IF(BI2289>0.01*BC$2703,0,$C2289/60)))","v":{"$error":"#VALUE!"}},0,0,0,0,{"$error":"#VALUE!"},{"$error":"#VALUE!"},{"$error":"#VALUE!"},{"$error":"#VALUE!"},{"$error":"#VALUE!"},{"$error":"#VALUE!"},{"$error":"#VALUE!"},{"$error":"#VALUE!"},{"$error":"#VALUE!"},{"$error":"#VALUE!"},{"$error":"#VALUE!"},{"$f":"IF(SUM(CI$1262:CI2288)>0,0,IF(MAX(CB2289:CB$2702)=MAX(CB$1262:CB$2702),0,IF(BZ2289>0.03*BT$2703,0,$C2289/60)))","v":{"$error":"#VALUE!"}},{"$f":"IF(SUM(CJ$1262:CJ2288)>0,0,IF(MAX(CB2289:CB$2702)=MAX(CB$1262:CB$2702),0,IF(BZ2289>0.01*BT$2703,0,$C2289/60)))","v":{"$error":"#VALUE!"}},0,0,0,0,{"$error":"#VALUE!"},{"$error":"#VALUE!"},{"$error":"#VALUE!"},{"$error":"#VALUE!"},{"$error":"#VALUE!"},{"$error":"#VALUE!"},{"$error":"#VALUE!"},{"$error":"#VALUE!"},{"$error":"#VALUE!"},{"$error":"#VALUE!"},{"$error":"#VALUE!"},{"$f":"IF(SUM(CZ$1262:CZ2288)>0,0,IF(MAX(CS2289:CS$2702)=MAX(CS$1262:CS$2702),0,IF(CQ2289>0.03*CK$2703,0,$C2289/60)))","v":{"$error":"#VALUE!"}},{"$f":"IF(SUM(DA$1262:DA2288)>0,0,IF(MAX(CS2289:CS$2702)=MAX(CS$1262:CS$2702),0,IF(CQ2289>0.01*CK$2703,0,$C2289/60)))","v":{"$error":"#VALUE!"}}]
[null,86.25,5175,0,0,0,0,0,0,0,0,0,{"$error":"#N/A"},{"$error":"#N/A"},{"$error":"#N/A"},{"$error":"#N/A"},{"$error":"#N/A"},{"$error":"#N/A"},{"$f":"IF(SUM(S$1262:S2296)>0,0,\nIF(MAX(L2297:L$2702)=MAX(L$1262:L$2702),0,\nIF(Hydrograph_Source_WQCV=\"USER\",IF(J2297>0.03*D$2703,0,$C2297/60),\nIF(J2297>0.03*J$2703,0,$C2297/60))))","v":0},{"$f":"IF(SUM(T$1262:T2296)>0,0,\nIF(MAX(L2297:L$2702)=MAX(L$1262:L$2702),0,\nIF(Hydrograph_Source_WQCV=\"USER\",IF(J2297>0.01*D$2703,0,$C2297/60),\nIF(J2297>0.01*J$2703,0,$C2297/60))))","v":0},0,0,0,0,{"$error":"#VALUE!"},{"$error":"#VALUE!"},{"$error":"#VALUE!"},{"$error":"#VALUE!"},{"$error":"#VALUE!"},{"$error":"#VALUE!"},{"$error":"#VALUE!"},{"$error":"#VALUE!"},{"$error":"#VALUE!"},{"$error":"#VALUE!"},{"$error":"#VALUE!"},{"$f":"IF(SUM(AJ$1262:AJ2296)>0,0,IF(MAX(AC2297:AC$2702)=MAX(AC$1262:AC$2702),0,IF(AA2297>0.03*U$2703,0,$C2297/60)))","v":{"$error":"#VALUE!"}},{"$f":"IF(SUM(AK$1262:AK2296)>0,0,IF(MAX(AC2297:AC$2702)=MAX(AC$1262:AC$2702),0,IF(AA2297>0.01*U$2703,0,$C2297/60)))","v":{"$error":"#VALUE!"}},0,0,0,0,{"$error":"#VALUE!"},{"$error":"#VALUE!"},{"$error":"#VALUE!"},{"$error":"#VALUE!"},{"$error":"#VALUE!"},{"$error":"#VALUE!"},{"$error":"#VALUE!"},{"$error":"#VALUE!"},{"$error":"#VALUE!"},{"$error":"#VALUE!"},{"$error":"#VALUE!"},{"$f":"IF(SUM(BA$1262:BA2296)>0,0,IF(MAX(AT2297:AT$2702)=MAX(AT$1262:AT$2702),0,IF(AR2297>0.03*AL$2703,0,$C2297/60)))","v":{"$error":"#VALUE!"}},{"$f":"IF(SUM(BB$1262:BB2296)>0,0,IF(MAX(AT2297:AT$2702)=MAX(AT$1262:AT$2702),0,IF(AR2297>0.01*AL$2703,0,$C2297/60)))","v":{"$error":"#VALUE!"}},0,0,0,0,{"$error":"#VALUE!"},{"$error":"#VALUE!"},{"$error":"#VALUE!"},{"$error":"#VALUE!"},{"$error":"#VALUE!"},{"$error":"#VALUE!"},{"$error":"#VALUE!"},{"$error":"#VALUE!"},{"$error":"#VALUE!"},{"$error":"#VALUE!"},{"$error":"#VALUE!"},{"$f":"IF(SUM(BR$1262:BR2296)>0,0,IF(MAX(BK2297:BK$2702)=MAX(BK$1262:BK$2702),0,IF(BI2297>0.03*BC$2703,0,$C2297/60)))","v":{"$error":"#VALUE!"}},{"$f":"IF(SUM(BS$1262:BS2296)>0,0,IF(MAX(BK2297:BK$2702)=MAX(BK$1262:BK$2702),0,IF(BI2297>0.01*BC$2703,0,$C2297/60)))","v":{"$error":"#VALUE!"}},0,0,0,0,{"$error":"#VALUE!"},{"$error":"#VALUE!"},{"$error":"#VALUE!"},{"$error":"#VALUE!"},{"$error":"#VALUE!"},{"$error":"#VALUE!"},{"$error":"#VALUE!"},{"$error":"#VALUE!"},{"$error":"#VALUE!"},{"$error":"#VALUE!"},{"$error":"#VALUE!"},{"$f":"IF(SUM(CI$1262:CI2296)>0,0,IF(MAX(CB2297:CB$2702)=MAX(CB$1262:CB$2702),0,IF(BZ2297>0.03*BT$2703,0,$C2297/60)))","v":{"$error":"#VALUE!"}},{"$f":"IF(SUM(CJ$1262:CJ2296)>0,0,IF(MAX(CB2297:CB$2702)=MAX(CB$1262:CB$2702),0,IF(BZ2297>0.01*BT$2703,0,$C2297/60)))","v":{"$error":"#VALUE!"}},0,0,0,0,{"$error":"#VALUE!"},{"$error":"#VALUE!"},{"$error":"#VALUE!"},{"$error":"#VALUE!"},{"$error":"#VALUE!"},{"$error":"#VALUE!"},{"$error":"#VALUE!"},{"$error":"#VALUE!"},{"$error":"#VALUE!"},{"$error":"#VALUE!"},{"$error":"#VALUE!"},{"$f":"IF(SUM(CZ$1262:CZ2296)>0,0,IF(MAX(CS2297:CS$2702)=MAX(CS$1262:CS$2702),0,IF(CQ2297>0.03*CK$2703,0,$C2297/60)))","v":{"$error":"#VALUE!"}},{"$f":"IF(SUM(DA$1262:DA2296)>0,0,IF(MAX(CS2297:CS$2702)=MAX(CS$1262:CS$2702),0,IF(CQ2297>0.01*CK$2703,0,$C2297/60)))","v":{"$error":"#VALUE!"}}]
[null,86.5,5190,0,0,0,0,0,0,0,0,0,{"$error":"#N/A"},{"$error":"#N/A"},{"$error":"#N/A"},{"$error":"#N/A"},{"$error":"#N/A"},{"$error":"#N/A"},{"$f":"IF(SUM(S$1262:S2299)>0,0,\nIF(MAX(L2300:L$2702)=MAX(L$1262:L$2702),0,\nIF(Hydrograph_Source_WQCV=\"USER\",IF(J2300>0.03*D$2703,0,$C2300/60),\nIF(J2300>0.03*J$2703,0,$C2300/60))))","v":0},{"$f":"IF(SUM(T$1262:T2299)>0,0,\nIF(MAX(L2300:L$2702)=MAX(L$1262:L$2702),0,\nIF(Hydrograph_Source_WQCV=\"USER\",IF(J2300>0.01*D$2703,0,$C2300/60),\nIF(J2300>0.01*J$2703,0,$C2300/60))))","v":0},0,0,0,0,{"$error":"#VALUE!"},{"$error":"#VALUE!"},{"$error":"#VALUE!"},{"$error":"#VALUE!"},{"$error":"#VALUE!"},{"$error":"#VALUE!"},{"$error":"#VALUE!"},{"$error":"#VALUE!"},{"$error":"#VALUE!"},{"$error":"#VALUE!"},{"$error":"#VALUE!"},{"$f":"IF(SUM(AJ$1262:AJ2299)>0,0,IF(MAX(AC2300:AC$2702)=MAX(AC$1262:AC$2702),0,IF(AA2300>0.03*U$2703,0,$C2300/60)))","v":{"$error":"#VALUE!"}},{"$f":"IF(SUM(AK$1262:AK2299)>0,0,IF(MAX(AC2300:AC$2702)=MAX(AC$1262:AC$2702),0,IF(AA2300>0.01*U$2703,0,$C2300/60)))","v":{"$error":"#VALUE!"}},0,0,0,0,{"$error":"#VALUE!"},{"$error":"#VALUE!"},{"$error":"#VALUE!"},{"$error":"#VALUE!"},{"$error":"#VALUE!"},{"$error":"#VALUE!"},{"$error":"#VALUE!"},{"$error":"#VALUE!"},{"$error":"#VALUE!"},{"$error":"#VALUE!"},{"$error":"#VALUE!"},{"$f":"IF(SUM(BA$1262:BA2299)>0,0,IF(MAX(AT2300:AT$2702)=MAX(AT$1262:AT$2702),0,IF(AR2300>0.03*AL$2703,0,$C2300/60)))","v":{"$error":"#VALUE!"}},{"$f":"IF(SUM(BB$1262:BB2299)>0,0,IF(MAX(AT2300:AT$2702)=MAX(AT$1262:AT$2702),0,IF(AR2300>0.01*AL$2703,0,$C2300/60)))","v":{"$error":"#VALUE!"}},0,0,0,0,{"$error":"#VALUE!"},{"$error":"#VALUE!"},{"$error":"#VALUE!"},{"$error":"#VALUE!"},{"$error":"#VALUE!"},{"$error":"#VALUE!"},{"$error":"#VALUE!"},{"$error":"#VALUE!"},{"$error":"#VALUE!"},{"$error":"#VALUE!"},{"$error":"#VALUE!"},{"$f":"IF(SUM(BR$1262:BR2299)>0,0,IF(MAX(BK2300:BK$2702)=MAX(BK$1262:BK$2702),0,IF(BI2300>0.03*BC$2703,0,$C2300/60)))","v":{"$error":"#VALUE!"}},{"$f":"IF(SUM(BS$1262:BS2299)>0,0,IF(MAX(BK2300:BK$2702)=MAX(BK$1262:BK$2702),0,IF(BI2300>0.01*BC$2703,0,$C2300/60)))","v":{"$error":"#VALUE!"}},0,0,0,0,{"$error":"#VALUE!"},{"$error":"#VALUE!"},{"$error":"#VALUE!"},{"$error":"#VALUE!"},{"$error":"#VALUE!"},{"$error":"#VALUE!"},{"$error":"#VALUE!"},{"$error":"#VALUE!"},{"$error":"#VALUE!"},{"$error":"#VALUE!"},{"$error":"#VALUE!"},{"$f":"IF(SUM(CI$1262:CI2299)>0,0,IF(MAX(CB2300:CB$2702)=MAX(CB$1262:CB$2702),0,IF(BZ2300>0.03*BT$2703,0,$C2300/60)))","v":{"$error":"#VALUE!"}},{"$f":"IF(SUM(CJ$1262:CJ2299)>0,0,IF(MAX(CB2300:CB$2702)=MAX(CB$1262:CB$2702),0,IF(BZ2300>0.01*BT$2703,0,$C2300/60)))","v":{"$error":"#VALUE!"}},0,0,0,0,{"$error":"#VALUE!"},{"$error":"#VALUE!"},{"$error":"#VALUE!"},{"$error":"#VALUE!"},{"$error":"#VALUE!"},{"$error":"#VALUE!"},{"$error":"#VALUE!"},{"$error":"#VALUE!"},{"$error":"#VALUE!"},{"$error":"#VALUE!"},{"$error":"#VALUE!"},{"$f":"IF(SUM(CZ$1262:CZ2299)>0,0,IF(MAX(CS2300:CS$2702)=MAX(CS$1262:CS$2702),0,IF(CQ2300>0.03*CK$2703,0,$C2300/60)))","v":{"$error":"#VALUE!"}},{"$f":"IF(SUM(DA$1262:DA2299)>0,0,IF(MAX(CS2300:CS$2702)=MAX(CS$1262:CS$2702),0,IF(CQ2300>0.01*CK$2703,0,$C2300/60)))","v":{"$error":"#VALUE!"}}]
[null,86.916666666666671,5215,0,0,0,0,0,0,0,0,0,{"$error":"#N/A"},{"$error":"#N/A"},{"$error":"#N/A"},{"$error":"#N/A"},{"$error":"#N/A"},{"$error":"#N/A"},{"$f":"IF(SUM(S$1262:S2304)>0,0,\nIF(MAX(L2305:L$2702)=MAX(L$1262:L$2702),0,\nIF(Hydrograph_Source_WQCV=\"USER\",IF(J2305>0.03*D$2703,0,$C2305/60),\nIF(J2305>0.03*J$2703,0,$C2305/60))))","v":0},{"$f":"IF(SUM(T$1262:T2304)>0,0,\nIF(MAX(L2305:L$2702)=MAX(L$1262:L$2702),0,\nIF(Hydrograph_Source_WQCV=\"USER\",IF(J2305>0.01*D$2703,0,$C2305/60),\nIF(J2305>0.01*J$2703,0,$C2305/60))))","v":0},0,0,0,0,{"$error":"#VALUE!"},{"$error":"#VALUE!"},{"$error":"#VALUE!"},{"$error":"#VALUE!"},{"$error":"#VALUE!"},{"$error":"#VALUE!"},{"$error":"#VALUE!"},{"$error":"#VALUE!"},{"$error":"#VALUE!"},{"$error":"#VALUE!"},{"$error":"#VALUE!"},{"$f":"IF(SUM(AJ$1262:AJ2304)>0,0,IF(MAX(AC2305:AC$2702)=MAX(AC$1262:AC$2702),0,IF(AA2305>0.03*U$2703,0,$C2305/60)))","v":{"$error":"#VALUE!"}},{"$f":"IF(SUM(AK$1262:AK2304)>0,0,IF(MAX(AC2305:AC$2702)=MAX(AC$1262:AC$2702),0,IF(AA2305>0.01*U$2703,0,$C2305/60)))","v":{"$error":"#VALUE!"}},0,0,0,0,{"$error":"#VALUE!"},{"$error":"#VALUE!"},{"$error":"#VALUE!"},{"$error":"#VALUE!"},{"$error":"#VALUE!"},{"$error":"#VALUE!"},{"$error":"#VALUE!"},{"$error":"#VALUE!"},{"$error":"#VALUE!"},{"$error":"#VALUE!"},{"$error":"#VALUE!"},{"$f":"IF(SUM(BA$1262:BA2304)>0,0,IF(MAX(AT2305:AT$2702)=MAX(AT$1262:AT$2702),0,IF(AR2305>0.03*AL$2703,0,$C2305/60)))","v":{"$error":"#VALUE!"}},{"$f":"IF(SUM(BB$1262:BB2304)>0,0,IF(MAX(AT2305:AT$2702)=MAX(AT$1262:AT$2702),0,IF(AR2305>0.01*AL$2703,0,$C2305/60)))","v":{"$error":"#VALUE!"}},0,0,0,0,{"$error":"#VALUE!"},{"$error":"#VALUE!"},{"$error":"#VALUE!"},{"$error":"#VALUE!"},{"$error":"#VALUE!"},{"$error":"#VALUE!"},{"$error":"#VALUE!"},{"$error":"#VALUE!"},{"$error":"#VALUE!"},{"$error":"#VALUE!"},{"$error":"#VALUE!"},{"$f":"IF(SUM(BR$1262:BR2304)>0,0,IF(MAX(BK2305:BK$2702)=MAX(BK$1262:BK$2702),0,IF(BI2305>0.03*BC$2703,0,$C2305/60)))","v":{"$error":"#VALUE!"}},{"$f":"IF(SUM(BS$1262:BS2304)>0,0,IF(MAX(BK2305:BK$2702)=MAX(BK$1262:BK$2702),0,IF(BI2305>0.01*BC$2703,0,$C2305/60)))","v":{"$error":"#VALUE!"}},0,0,0,0,{"$error":"#VALUE!"},{"$error":"#VALUE!"},{"$error":"#VALUE!"},{"$error":"#VALUE!"},{"$error":"#VALUE!"},{"$error":"#VALUE!"},{"$error":"#VALUE!"},{"$error":"#VALUE!"},{"$error":"#VALUE!"},{"$error":"#VALUE!"},{"$error":"#VALUE!"},{"$f":"IF(SUM(CI$1262:CI2304)>0,0,IF(MAX(CB2305:CB$2702)=MAX(CB$1262:CB$2702),0,IF(BZ2305>0.03*BT$2703,0,$C2305/60)))","v":{"$error":"#VALUE!"}},{"$f":"IF(SUM(CJ$1262:CJ2304)>0,0,IF(MAX(CB2305:CB$2702)=MAX(CB$1262:CB$2702),0,IF(BZ2305>0.01*BT$2703,0,$C2305/60)))","v":{"$error":"#VALUE!"}},0,0,0,0,{"$error":"#VALUE!"},{"$error":"#VALUE!"},{"$error":"#VALUE!"},{"$error":"#VALUE!"},{"$error":"#VALUE!"},{"$error":"#VALUE!"},{"$error":"#VALUE!"},{"$error":"#VALUE!"},{"$error":"#VALUE!"},{"$error":"#VALUE!"},{"$error":"#VALUE!"},{"$f":"IF(SUM(CZ$1262:CZ2304)>0,0,IF(MAX(CS2305:CS$2702)=MAX(CS$1262:CS$2702),0,IF(CQ2305>0.03*CK$2703,0,$C2305/60)))","v":{"$error":"#VALUE!"}},{"$f":"IF(SUM(DA$1262:DA2304)>0,0,IF(MAX(CS2305:CS$2702)=MAX(CS$1262:CS$2702),0,IF(CQ2305>0.01*CK$2703,0,$C2305/60)))","v":{"$error":"#VALUE!"}}]
[null,87.083333333333329,5225,0,0,0,0,0,0,0,0,0,{"$error":"#N/A"},{"$error":"#N/A"},{"$error":"#N/A"},{"$error":"#N/A"},{"$error":"#N/A"},{"$error":"#N/A"},{"$f":"IF(SUM(S$1262:S2306)>0,0,\nIF(MAX(L2307:L$2702)=MAX(L$1262:L$2702),0,\nIF(Hydrograph_Source_WQCV=\"USER\",IF(J2307>0.03*D$2703,0,$C2307/60),\nIF(J2307>0.03*J$2703,0,$C2307/60))))","v":0},{"$f":"IF(SUM(T$1262:T2306)>0,0,\nIF(MAX(L2307:L$2702)=MAX(L$1262:L$2702),0,\nIF(Hydrograph_Source_WQCV=\"USER\",IF(J2307>0.01*D$2703,0,$C2307/60),\nIF(J2307>0.01*J$2703,0,$C2307/60))))","v":0},0,0,0,0,{"$error":"#VALUE!"},{"$error":"#VALUE!"},{"$error":"#VALUE!"},{"$error":"#VALUE!"},{"$error":"#VALUE!"},{"$error":"#VALUE!"},{"$error":"#VALUE!"},{"$error":"#VALUE!"},{"$error":"#VALUE!"},{"$error":"#VALUE!"},{"$error":"#VALUE!"},{"$f":"IF(SUM(AJ$1262:AJ2306)>0,0,IF(MAX(AC2307:AC$2702)=MAX(AC$1262:AC$2702),0,IF(AA2307>0.03*U$2703,0,$C2307/60)))","v":{"$error":"#VALUE!"}},{"$f":"IF(SUM(AK$1262:AK2306)>0,0,IF(MAX(AC2307:AC$2702)=MAX(AC$1262:AC$2702),0,IF(AA2307>0.01*U$2703,0,$C2307/60)))","v":{"$error":"#VALUE!"}},0,0,0,0,{"$error":"#VALUE!"},{"$error":"#VALUE!"},{"$error":"#VALUE!"},{"$error":"#VALUE!"},{"$error":"#VALUE!"},{"$error":"#VALUE!"},{"$error":"#VALUE!"},{"$error":"#VALUE!"},{"$error":"#VALUE!"},{"$error":"#VALUE!"},{"$error":"#VALUE!"},{"$f":"IF(SUM(BA$1262:BA2306)>0,0,IF(MAX(AT2307:AT$2702)=MAX(AT$1262:AT$2702),0,IF(AR2307>0.03*AL$2703,0,$C2307/60)))","v":{"$error":"#VALUE!"}},{"$f":"IF(SUM(BB$1262:BB2306)>0,0,IF(MAX(AT2307:AT$2702)=MAX(AT$1262:AT$2702),0,IF(AR2307>0.01*AL$2703,0,$C2307/60)))","v":{"$error":"#VALUE!"}},0,0,0,0,{"$error":"#VALUE!"},{"$error":"#VALUE!"},{"$error":"#VALUE!"},{"$error":"#VALUE!"},{"$error":"#VALUE!"},{"$error":"#VALUE!"},{"$error":"#VALUE!"},{"$error":"#VALUE!"},{"$error":"#VALUE!"},{"$error":"#VALUE!"},{"$error":"#VALUE!"},{"$f":"IF(SUM(BR$1262:BR2306)>0,0,IF(MAX(BK2307:BK$2702)=MAX(BK$1262:BK$2702),0,IF(BI2307>0.03*BC$2703,0,$C2307/60)))","v":{"$error":"#VALUE!"}},{"$f":"IF(SUM(BS$1262:BS2306)>0,0,IF(MAX(BK2307:BK$2702)=MAX(BK$1262:BK$2702),0,IF(BI2307>0.01*BC$2703,0,$C2307/60)))","v":{"$error":"#VALUE!"}},0,0,0,0,{"$error":"#VALUE!"},{"$error":"#VALUE!"},{"$error":"#VALUE!"},{"$error":"#VALUE!"},{"$error":"#VALUE!"},{"$error":"#VALUE!"},{"$error":"#VALUE!"},{"$error":"#VALUE!"},{"$error":"#VALUE!"},{"$error":"#VALUE!"},{"$error":"#VALUE!"},{"$f":"IF(SUM(CI$1262:CI2306)>0,0,IF(MAX(CB2307:CB$2702)=MAX(CB$1262:CB$2702),0,IF(BZ2307>0.03*BT$2703,0,$C2307/60)))","v":{"$error":"#VALUE!"}},{"$f":"IF(SUM(CJ$1262:CJ2306)>0,0,IF(MAX(CB2307:CB$2702)=MAX(CB$1262:CB$2702),0,IF(BZ2307>0.01*BT$2703,0,$C2307/60)))","v":{"$error":"#VALUE!"}},0,0,0,0,{"$error":"#VALUE!"},{"$error":"#VALUE!"},{"$error":"#VALUE!"},{"$error":"#VALUE!"},{"$error":"#VALUE!"},{"$error":"#VALUE!"},{"$error":"#VALUE!"},{"$error":"#VALUE!"},{"$error":"#VALUE!"},{"$error":"#VALUE!"},{"$error":"#VALUE!"},{"$f":"IF(SUM(CZ$1262:CZ2306)>0,0,IF(MAX(CS2307:CS$2702)=MAX(CS$1262:CS$2702),0,IF(CQ2307>0.03*CK$2703,0,$C2307/60)))","v":{"$error":"#VALUE!"}},{"$f":"IF(SUM(DA$1262:DA2306)>0,0,IF(MAX(CS2307:CS$2702)=MAX(CS$1262:CS$2702),0,IF(CQ2307>0.01*CK$2703,0,$C2307/60)))","v":{"$error":"#VALUE!"}}]
[null,87.5,5250,0,0,0,0,0,0,0,0,0,{"$error":"#N/A"},{"$error":"#N/A"},{"$error":"#N/A"},{"$error":"#N/A"},{"$error":"#N/A"},{"$error":"#N/A"},{"$f":"IF(SUM(S$1262:S2311)>0,0,\nIF(MAX(L2312:L$2702)=MAX(L$1262:L$2702),0,\nIF(Hydrograph_Source_WQCV=\"USER\",IF(J2312>0.03*D$2703,0,$C2312/60),\nIF(J2312>0.03*J$2703,0,$C2312/60))))","v":0},{"$f":"IF(SUM(T$1262:T2311)>0,0,\nIF(MAX(L2312:L$2702)=MAX(L$1262:L$2702),0,\nIF(Hydrograph_Source_WQCV=\"USER\",IF(J2312>0.01*D$2703,0,$C2312/60),\nIF(J2312>0.01*J$2703,0,$C2312/60))))","v":0},0,0,0,0,{"$error":"#VALUE!"},{"$error":"#VALUE!"},{"$error":"#VALUE!"},{"$error":"#VALUE!"},{"$error":"#VALUE!"},{"$error":"#VALUE!"},{"$error":"#VALUE!"},{"$error":"#VALUE!"},{"$error":"#VALUE!"},{"$error":"#VALUE!"},{"$error":"#VALUE!"},{"$f":"IF(SUM(AJ$1262:AJ2311)>0,0,IF(MAX(AC2312:AC$2702)=MAX(AC$1262:AC$2702),0,IF(AA2312>0.03*U$2703,0,$C2312/60)))","v":{"$error":"#VALUE!"}},{"$f":"IF(SUM(AK$1262:AK2311)>0,0,IF(MAX(AC2312:AC$2702)=MAX(AC$1262:AC$2702),0,IF(AA2312>0.01*U$2703,0,$C2312/60)))","v":{"$error":"#VALUE!"}},0,0,0,0,{"$error":"#VALUE!"},{"$error":"#VALUE!"},{"$error":"#VALUE!"},{"$error":"#VALUE!"},{"$error":"#VALUE!"},{"$error":"#VALUE!"},{"$error":"#VALUE!"},{"$error":"#VALUE!"},{"$error":"#VALUE!"},{"$error":"#VALUE!"},{"$error":"#VALUE!"},{"$f":"IF(SUM(BA$1262:BA2311)>0,0,IF(MAX(AT2312:AT$2702)=MAX(AT$1262:AT$2702),0,IF(AR2312>0.03*AL$2703,0,$C2312/60)))","v":{"$error":"#VALUE!"}},{"$f":"IF(SUM(BB$1262:BB2311)>0,0,IF(MAX(AT2312:AT$2702)=MAX(AT$1262:AT$2702),0,IF(AR2312>0.01*AL$2703,0,$C2312/60)))","v":{"$error":"#VALUE!"}},0,0,0,0,{"$error":"#VALUE!"},{"$error":"#VALUE!"},{"$error":"#VALUE!"},{"$error":"#VALUE!"},{"$error":"#VALUE!"},{"$error":"#VALUE!"},{"$error":"#VALUE!"},{"$error":"#VALUE!"},{"$error":"#VALUE!"},{"$error":"#VALUE!"},{"$error":"#VALUE!"},{"$f":"IF(SUM(BR$1262:BR2311)>0,0,IF(MAX(BK2312:BK$2702)=MAX(BK$1262:BK$2702),0,IF(BI2312>0.03*BC$2703,0,$C2312/60)))","v":{"$error":"#VALUE!"}},{"$f":"IF(SUM(BS$1262:BS2311)>0,0,IF(MAX(BK2312:BK$2702)=MAX(BK$1262:BK$2702),0,IF(BI2312>0.01*BC$2703,0,$C2312/60)))","v":{"$error":"#VALUE!"}},0,0,0,0,{"$error":"#VALUE!"},{"$error":"#VALUE!"},{"$error":"#VALUE!"},{"$error":"#VALUE!"},{"$error":"#VALUE!"},{"$error":"#VALUE!"},{"$error":"#VALUE!"},{"$error":"#VALUE!"},{"$error":"#VALUE!"},{"$error":"#VALUE!"},{"$error":"#VALUE!"},{"$f":"IF(SUM(CI$1262:CI2311)>0,0,IF(MAX(CB2312:CB$2702)=MAX(CB$1262:CB$2702),0,IF(BZ2312>0.03*BT$2703,0,$C2312/60)))","v":{"$error":"#VALUE!"}},{"$f":"IF(SUM(CJ$1262:CJ2311)>0,0,IF(MAX(CB2312:CB$2702)=MAX(CB$1262:CB$2702),0,IF(BZ2312>0.01*BT$2703,0,$C2312/60)))","v":{"$error":"#VALUE!"}},0,0,0,0,{"$error":"#VALUE!"},{"$error":"#VALUE!"},{"$error":"#VALUE!"},{"$error":"#VALUE!"},{"$error":"#VALUE!"},{"$error":"#VALUE!"},{"$error":"#VALUE!"},{"$error":"#VALUE!"},{"$error":"#VALUE!"},{"$error":"#VALUE!"},{"$error":"#VALUE!"},{"$f":"IF(SUM(CZ$1262:CZ2311)>0,0,IF(MAX(CS2312:CS$2702)=MAX(CS$1262:CS$2702),0,IF(CQ2312>0.03*CK$2703,0,$C2312/60)))","v":{"$error":"#VALUE!"}},{"$f":"IF(SUM(DA$1262:DA2311)>0,0,IF(MAX(CS2312:CS$2702)=MAX(CS$1262:CS$2702),0,IF(CQ2312>0.01*CK$2703,0,$C2312/60)))","v":{"$error":"#VALUE!"}}]
[null,87.916666666666671,5275,0,0,0,0,0,0,0,0,0,{"$error":"#N/A"},{"$error":"#N/A"},{"$error":"#N/A"},{"$error":"#N/A"},{"$error":"#N/A"},{"$error":"#N/A"},{"$f":"IF(SUM(S$1262:S2316)>0,0,\nIF(MAX(L2317:L$2702)=MAX(L$1262:L$2702),0,\nIF(Hydrograph_Source_WQCV=\"USER\",IF(J2317>0.03*D$2703,0,$C2317/60),\nIF(J2317>0.03*J$2703,0,$C2317/60))))","v":0},{"$f":"IF(SUM(T$1262:T2316)>0,0,\nIF(MAX(L2317:L$2702)=MAX(L$1262:L$2702),0,\nIF(Hydrograph_Source_WQCV=\"USER\",IF(J2317>0.01*D$2703,0,$C2317/60),\nIF(J2317>0.01*J$2703,0,$C2317/60))))","v":0},0,0,0,0,{"$error":"#VALUE!"},{"$error":"#VALUE!"},{"$error":"#VALUE!"},{"$error":"#VALUE!"},{"$error":"#VALUE!"},{"$error":"#VALUE!"},{"$error":"#VALUE!"},{"$error":"#VALUE!"},{"$error":"#VALUE!"},{"$error":"#VALUE!"},{"$error":"#VALUE!"},{"$f":"IF(SUM(AJ$1262:AJ2316)>0,0,IF(MAX(AC2317:AC$2702)=MAX(AC$1262:AC$2702),0,IF(AA2317>0.03*U$2703,0,$C2317/60)))","v":{"$error":"#VALUE!"}},{"$f":"IF(SUM(AK$1262:AK2316)>0,0,IF(MAX(AC2317:AC$2702)=MAX(AC$1262:AC$2702),0,IF(AA2317>0.01*U$2703,0,$C2317/60)))","v":{"$error":"#VALUE!"}},0,0,0,0,{"$error":"#VALUE!"},{"$error":"#VALUE!"},{"$error":"#VALUE!"},{"$error":"#VALUE!"},{"$error":"#VALUE!"},{"$error":"#VALUE!"},{"$error":"#VALUE!"},{"$error":"#VALUE!"},{"$error":"#VALUE!"},{"$error":"#VALUE!"},{"$error":"#VALUE!"},{"$f":"IF(SUM(BA$1262:BA2316)>0,0,IF(MAX(AT2317:AT$2702)=MAX(AT$1262:AT$2702),0,IF(AR2317>0.03*AL$2703,0,$C2317/60)))","v":{"$error":"#VALUE!"}},{"$f":"IF(SUM(BB$1262:BB2316)>0,0,IF(MAX(AT2317:AT$2702)=MAX(AT$1262:AT$2702),0,IF(AR2317>0.01*AL$2703,0,$C2317/60)))","v":{"$error":"#VALUE!"}},0,0,0,0,{"$error":"#VALUE!"},{"$error":"#VALUE!"},{"$error":"#VALUE!"},{"$error":"#VALUE!"},{"$error":"#VALUE!"},{"$error":"#VALUE!"},{"$error":"#VALUE!"},{"$error":"#VALUE!"},{"$error":"#VALUE!"},{"$error":"#VALUE!"},{"$error":"#VALUE!"},{"$f":"IF(SUM(BR$1262:BR2316)>0,0,IF(MAX(BK2317:BK$2702)=MAX(BK$1262:BK$2702),0,IF(BI2317>0.03*BC$2703,0,$C2317/60)))","v":{"$error":"#VALUE!"}},{"$f":"IF(SUM(BS$1262:BS2316)>0,0,IF(MAX(BK2317:BK$2702)=MAX(BK$1262:BK$2702),0,IF(BI2317>0.01*BC$2703,0,$C2317/60)))","v":{"$error":"#VALUE!"}},0,0,0,0,{"$error":"#VALUE!"},{"$error":"#VALUE!"},{"$error":"#VALUE!"},{"$error":"#VALUE!"},{"$error":"#VALUE!"},{"$error":"#VALUE!"},{"$error":"#VALUE!"},{"$error":"#VALUE!"},{"$error":"#VALUE!"},{"$error":"#VALUE!"},{"$error":"#VALUE!"},{"$f":"IF(SUM(CI$1262:CI2316)>0,0,IF(MAX(CB2317:CB$2702)=MAX(CB$1262:CB$2702),0,IF(BZ2317>0.03*BT$2703,0,$C2317/60)))","v":{"$error":"#VALUE!"}},{"$f":"IF(SUM(CJ$1262:CJ2316)>0,0,IF(MAX(CB2317:CB$2702)=MAX(CB$1262:CB$2702),0,IF(BZ2317>0.01*BT$2703,0,$C2317/60)))","v":{"$error":"#VALUE!"}},0,0,0,0,{"$error":"#VALUE!"},{"$error":"#VALUE!"},{"$error":"#VALUE!"},{"$error":"#VALUE!"},{"$error":"#VALUE!"},{"$error":"#VALUE!"},{"$error":"#VALUE!"},{"$error":"#VALUE!"},{"$error":"#VALUE!"},{"$error":"#VALUE!"},{"$error":"#VALUE!"},{"$f":"IF(SUM(CZ$1262:CZ2316)>0,0,IF(MAX(CS2317:CS$2702)=MAX(CS$1262:CS$2702),0,IF(CQ2317>0.03*CK$2703,0,$C2317/60)))","v":{"$error":"#VALUE!"}},{"$f":"IF(SUM(DA$1262:DA2316)>0,0,IF(MAX(CS2317:CS$2702)=MAX(CS$1262:CS$2702),0,IF(CQ2317>0.01*CK$2703,0,$C2317/60)))","v":{"$error":"#VALUE!"}}]
[null,88.25,5295,0,0,0,0,0,0,0,0,0,{"$error":"#N/A"},{"$error":"#N/A"},{"$error":"#N/A"},{"$error":"#N/A"},{"$error":"#N/A"},{"$error":"#N/A"},{"$f":"IF(SUM(S$1262:S2320)>0,0,\nIF(MAX(L2321:L$2702)=MAX(L$1262:L$2702),0,\nIF(Hydrograph_Source_WQCV=\"USER\",IF(J2321>0.03*D$2703,0,$C2321/60),\nIF(J2321>0.03*J$2703,0,$C2321/60))))","v":0},{"$f":"IF(SUM(T$1262:T2320)>0,0,\nIF(MAX(L2321:L$2702)=MAX(L$1262:L$2702),0,\nIF(Hydrograph_Source_WQCV=\"USER\",IF(J2321>0.01*D$2703,0,$C2321/60),\nIF(J2321>0.01*J$2703,0,$C2321/60))))","v":0},0,0,0,0,{"$error":"#VALUE!"},{"$error":"#VALUE!"},{"$error":"#VALUE!"},{"$error":"#VALUE!"},{"$error":"#VALUE!"},{"$error":"#VALUE!"},{"$error":"#VALUE!"},{"$error":"#VALUE!"},{"$error":"#VALUE!"},{"$error":"#VALUE!"},{"$error":"#VALUE!"},{"$f":"IF(SUM(AJ$1262:AJ2320)>0,0,IF(MAX(AC2321:AC$2702)=MAX(AC$1262:AC$2702),0,IF(AA2321>0.03*U$2703,0,$C2321/60)))","v":{"$error":"#VALUE!"}},{"$f":"IF(SUM(AK$1262:AK2320)>0,0,IF(MAX(AC2321:AC$2702)=MAX(AC$1262:AC$2702),0,IF(AA2321>0.01*U$2703,0,$C2321/60)))","v":{"$error":"#VALUE!"}},0,0,0,0,{"$error":"#VALUE!"},{"$error":"#VALUE!"},{"$error":"#VALUE!"},{"$error":"#VALUE!"},{"$error":"#VALUE!"},{"$error":"#VALUE!"},{"$error":"#VALUE!"},{"$error":"#VALUE!"},{"$error":"#VALUE!"},{"$error":"#VALUE!"},{"$error":"#VALUE!"},{"$f":"IF(SUM(BA$1262:BA2320)>0,0,IF(MAX(AT2321:AT$2702)=MAX(AT$1262:AT$2702),0,IF(AR2321>0.03*AL$2703,0,$C2321/60)))","v":{"$error":"#VALUE!"}},{"$f":"IF(SUM(BB$1262:BB2320)>0,0,IF(MAX(AT2321:AT$2702)=MAX(AT$1262:AT$2702),0,IF(AR2321>0.01*AL$2703,0,$C2321/60)))","v":{"$error":"#VALUE!"}},0,0,0,0,{"$error":"#VALUE!"},{"$error":"#VALUE!"},{"$error":"#VALUE!"},{"$error":"#VALUE!"},{"$error":"#VALUE!"},{"$error":"#VALUE!"},{"$error":"#VALUE!"},{"$error":"#VALUE!"},{"$error":"#VALUE!"},{"$error":"#VALUE!"},{"$error":"#VALUE!"},{"$f":"IF(SUM(BR$1262:BR2320)>0,0,IF(MAX(BK2321:BK$2702)=MAX(BK$1262:BK$2702),0,IF(BI2321>0.03*BC$2703,0,$C2321/60)))","v":{"$error":"#VALUE!"}},{"$f":"IF(SUM(BS$1262:BS2320)>0,0,IF(MAX(BK2321:BK$2702)=MAX(BK$1262:BK$2702),0,IF(BI2321>0.01*BC$2703,0,$C2321/60)))","v":{"$error":"#VALUE!"}},0,0,0,0,{"$error":"#VALUE!"},{"$error":"#VALUE!"},{"$error":"#VALUE!"},{"$error":"#VALUE!"},{"$error":"#VALUE!"},{"$error":"#VALUE!"},{"$error":"#VALUE!"},{"$error":"#VALUE!"},{"$error":"#VALUE!"},{"$error":"#VALUE!"},{"$error":"#VALUE!"},{"$f":"IF(SUM(CI$1262:CI2320)>0,0,IF(MAX(CB2321:CB$2702)=MAX(CB$1262:CB$2702),0,IF(BZ2321>0.03*BT$2703,0,$C2321/60)))","v":{"$error":"#VALUE!"}},{"$f":"IF(SUM(CJ$1262:CJ2320)>0,0,IF(MAX(CB2321:CB$2702)=MAX(CB$1262:CB$2702),0,IF(BZ2321>0.01*BT$2703,0,$C2321/60)))","v":{"$error":"#VALUE!"}},0,0,0,0,{"$error":"#VALUE!"},{"$error":"#VALUE!"},{"$error":"#VALUE!"},{"$error":"#VALUE!"},{"$error":"#VALUE!"},{"$error":"#VALUE!"},{"$error":"#VALUE!"},{"$error":"#VALUE!"},{"$error":"#VALUE!"},{"$error":"#VALUE!"},{"$error":"#VALUE!"},{"$f":"IF(SUM(CZ$1262:CZ2320)>0,0,IF(MAX(CS2321:CS$2702)=MAX(CS$1262:CS$2702),0,IF(CQ2321>0.03*CK$2703,0,$C2321/60)))","v":{"$error":"#VALUE!"}},{"$f":"IF(SUM(DA$1262:DA2320)>0,0,IF(MAX(CS2321:CS$2702)=MAX(CS$1262:CS$2702),0,IF(CQ2321>0.01*CK$2703,0,$C2321/60)))","v":{"$error":"#VALUE!"}}]
[null,88.5,5310,0,0,0,0,0,0,0,0,0,{"$error":"#N/A"},{"$error":"#N/A"},{"$error":"#N/A"},{"$error":"#N/A"},{"$error":"#N/A"},{"$error":"#N/A"},{"$f":"IF(SUM(S$1262:S2323)>0,0,\nIF(MAX(L2324:L$2702)=MAX(L$1262:L$2702),0,\nIF(Hydrograph_Source_WQCV=\"USER\",IF(J2324>0.03*D$2703,0,$C2324/60),\nIF(J2324>0.03*J$2703,0,$C2324/60))))","v":0},{"$f":"IF(SUM(T$1262:T2323)>0,0,\nIF(MAX(L2324:L$2702)=MAX(L$1262:L$2702),0,\nIF(Hydrograph_Source_WQCV=\"USER\",IF(J2324>0.01*D$2703,0,$C2324/60),\nIF(J2324>0.01*J$2703,0,$C2324/60))))","v":0},0,0,0,0,{"$error":"#VALUE!"},{"$error":"#VALUE!"},{"$error":"#VALUE!"},{"$error":"#VALUE!"},{"$error":"#VALUE!"},{"$error":"#VALUE!"},{"$error":"#VALUE!"},{"$error":"#VALUE!"},{"$error":"#VALUE!"},{"$error":"#VALUE!"},{"$error":"#VALUE!"},{"$f":"IF(SUM(AJ$1262:AJ2323)>0,0,IF(MAX(AC2324:AC$2702)=MAX(AC$1262:AC$2702),0,IF(AA2324>0.03*U$2703,0,$C2324/60)))","v":{"$error":"#VALUE!"}},{"$f":"IF(SUM(AK$1262:AK2323)>0,0,IF(MAX(AC2324:AC$2702)=MAX(AC$1262:AC$2702),0,IF(AA2324>0.01*U$2703,0,$C2324/60)))","v":{"$error":"#VALUE!"}},0,0,0,0,{"$error":"#VALUE!"},{"$error":"#VALUE!"},{"$error":"#VALUE!"},{"$error":"#VALUE!"},{"$error":"#VALUE!"},{"$error":"#VALUE!"},{"$error":"#VALUE!"},{"$error":"#VALUE!"},{"$error":"#VALUE!"},{"$error":"#VALUE!"},{"$error":"#VALUE!"},{"$f":"IF(SUM(BA$1262:BA2323)>0,0,IF(MAX(AT2324:AT$2702)=MAX(AT$1262:AT$2702),0,IF(AR2324>0.03*AL$2703,0,$C2324/60)))","v":{"$error":"#VALUE!"}},{"$f":"IF(SUM(BB$1262:BB2323)>0,0,IF(MAX(AT2324:AT$2702)=MAX(AT$1262:AT$2702),0,IF(AR2324>0.01*AL$2703,0,$C2324/60)))","v":{"$error":"#VALUE!"}},0,0,0,0,{"$error":"#VALUE!"},{"$error":"#VALUE!"},{"$error":"#VALUE!"},{"$error":"#VALUE!"},{"$error":"#VALUE!"},{"$error":"#VALUE!"},{"$error":"#VALUE!"},{"$error":"#VALUE!"},{"$error":"#VALUE!"},{"$error":"#VALUE!"},{"$error":"#VALUE!"},{"$f":"IF(SUM(BR$1262:BR2323)>0,0,IF(MAX(BK2324:BK$2702)=MAX(BK$1262:BK$2702),0,IF(BI2324>0.03*BC$2703,0,$C2324/60)))","v":{"$error":"#VALUE!"}},{"$f":"IF(SUM(BS$1262:BS2323)>0,0,IF(MAX(BK2324:BK$2702)=MAX(BK$1262:BK$2702),0,IF(BI2324>0.01*BC$2703,0,$C2324/60)))","v":{"$error":"#VALUE!"}},0,0,0,0,{"$error":"#VALUE!"},{"$error":"#VALUE!"},{"$error":"#VALUE!"},{"$error":"#VALUE!"},{"$error":"#VALUE!"},{"$error":"#VALUE!"},{"$error":"#VALUE!"},{"$error":"#VALUE!"},{"$error":"#VALUE!"},{"$error":"#VALUE!"},{"$error":"#VALUE!"},{"$f":"IF(SUM(CI$1262:CI2323)>0,0,IF(MAX(CB2324:CB$2702)=MAX(CB$1262:CB$2702),0,IF(BZ2324>0.03*BT$2703,0,$C2324/60)))","v":{"$error":"#VALUE!"}},{"$f":"IF(SUM(CJ$1262:CJ2323)>0,0,IF(MAX(CB2324:CB$2702)=MAX(CB$1262:CB$2702),0,IF(BZ2324>0.01*BT$2703,0,$C2324/60)))","v":{"$error":"#VALUE!"}},0,0,0,0,{"$error":"#VALUE!"},{"$error":"#VALUE!"},{"$error":"#VALUE!"},{"$error":"#VALUE!"},{"$error":"#VALUE!"},{"$error":"#VALUE!"},{"$error":"#VALUE!"},{"$error":"#VALUE!"},{"$error":"#VALUE!"},{"$error":"#VALUE!"},{"$error":"#VALUE!"},{"$f":"IF(SUM(CZ$1262:CZ2323)>0,0,IF(MAX(CS2324:CS$2702)=MAX(CS$1262:CS$2702),0,IF(CQ2324>0.03*CK$2703,0,$C2324/60)))","v":{"$error":"#VALUE!"}},{"$f":"IF(SUM(DA$1262:DA2323)>0,0,IF(MAX(CS2324:CS$2702)=MAX(CS$1262:CS$2702),0,IF(CQ2324>0.01*CK$2703,0,$C2324/60)))","v":{"$error":"#VALUE!"}}]
[null,88.916666666666671,5335,0,0,0,0,0,0,0,0,0,{"$error":"#N/A"},{"$error":"#N/A"},{"$error":"#N/A"},{"$error":"#N/A"},{"$error":"#N/A"},{"$error":"#N/A"},{"$f":"IF(SUM(S$1262:S2328)>0,0,\nIF(MAX(L2329:L$2702)=MAX(L$1262:L$2702),0,\nIF(Hydrograph_Source_WQCV=\"USER\",IF(J2329>0.03*D$2703,0,$C2329/60),\nIF(J2329>0.03*J$2703,0,$C2329/60))))","v":0},{"$f":"IF(SUM(T$1262:T2328)>0,0,\nIF(MAX(L2329:L$2702)=MAX(L$1262:L$2702),0,\nIF(Hydrograph_Source_WQCV=\"USER\",IF(J2329>0.01*D$2703,0,$C2329/60),\nIF(J2329>0.01*J$2703,0,$C2329/60))))","v":0},0,0,0,0,{"$error":"#VALUE!"},{"$error":"#VALUE!"},{"$error":"#VALUE!"},{"$error":"#VALUE!"},{"$error":"#VALUE!"},{"$error":"#VALUE!"},{"$error":"#VALUE!"},{"$error":"#VALUE!"},{"$error":"#VALUE!"},{"$error":"#VALUE!"},{"$error":"#VALUE!"},{"$f":"IF(SUM(AJ$1262:AJ2328)>0,0,IF(MAX(AC2329:AC$2702)=MAX(AC$1262:AC$2702),0,IF(AA2329>0.03*U$2703,0,$C2329/60)))","v":{"$error":"#VALUE!"}},{"$f":"IF(SUM(AK$1262:AK2328)>0,0,IF(MAX(AC2329:AC$2702)=MAX(AC$1262:AC$2702),0,IF(AA2329>0.01*U$2703,0,$C2329/60)))","v":{"$error":"#VALUE!"}},0,0,0,0,{"$error":"#VALUE!"},{"$error":"#VALUE!"},{"$error":"#VALUE!"},{"$error":"#VALUE!"},{"$error":"#VALUE!"},{"$error":"#VALUE!"},{"$error":"#VALUE!"},{"$error":"#VALUE!"},{"$error":"#VALUE!"},{"$error":"#VALUE!"},{"$error":"#VALUE!"},{"$f":"IF(SUM(BA$1262:BA2328)>0,0,IF(MAX(AT2329:AT$2702)=MAX(AT$1262:AT$2702),0,IF(AR2329>0.03*AL$2703,0,$C2329/60)))","v":{"$error":"#VALUE!"}},{"$f":"IF(SUM(BB$1262:BB2328)>0,0,IF(MAX(AT2329:AT$2702)=MAX(AT$1262:AT$2702),0,IF(AR2329>0.01*AL$2703,0,$C2329/60)))","v":{"$error":"#VALUE!"}},0,0,0,0,{"$error":"#VALUE!"},{"$error":"#VALUE!"},{"$error":"#VALUE!"},{"$error":"#VALUE!"},{"$error":"#VALUE!"},{"$error":"#VALUE!"},{"$error":"#VALUE!"},{"$error":"#VALUE!"},{"$error":"#VALUE!"},{"$error":"#VALUE!"},{"$error":"#VALUE!"},{"$f":"IF(SUM(BR$1262:BR2328)>0,0,IF(MAX(BK2329:BK$2702)=MAX(BK$1262:BK$2702),0,IF(BI2329>0.03*BC$2703,0,$C2329/60)))","v":{"$error":"#VALUE!"}},{"$f":"IF(SUM(BS$1262:BS2328)>0,0,IF(MAX(BK2329:BK$2702)=MAX(BK$1262:BK$2702),0,IF(BI2329>0.01*BC$2703,0,$C2329/60)))","v":{"$error":"#VALUE!"}},0,0,0,0,{"$error":"#VALUE!"},{"$error":"#VALUE!"},{"$error":"#VALUE!"},{"$error":"#VALUE!"},{"$error":"#VALUE!"},{"$error":"#VALUE!"},{"$error":"#VALUE!"},{"$error":"#VALUE!"},{"$error":"#VALUE!"},{"$error":"#VALUE!"},{"$error":"#VALUE!"},{"$f":"IF(SUM(CI$1262:CI2328)>0,0,IF(MAX(CB2329:CB$2702)=MAX(CB$1262:CB$2702),0,IF(BZ2329>0.03*BT$2703,0,$C2329/60)))","v":{"$error":"#VALUE!"}},{"$f":"IF(SUM(CJ$1262:CJ2328)>0,0,IF(MAX(CB2329:CB$2702)=MAX(CB$1262:CB$2702),0,IF(BZ2329>0.01*BT$2703,0,$C2329/60)))","v":{"$error":"#VALUE!"}},0,0,0,0,{"$error":"#VALUE!"},{"$error":"#VALUE!"},{"$error":"#VALUE!"},{"$error":"#VALUE!"},{"$error":"#VALUE!"},{"$error":"#VALUE!"},{"$error":"#VALUE!"},{"$error":"#VALUE!"},{"$error":"#VALUE!"},{"$error":"#VALUE!"},{"$error":"#VALUE!"},{"$f":"IF(SUM(CZ$1262:CZ2328)>0,0,IF(MAX(CS2329:CS$2702)=MAX(CS$1262:CS$2702),0,IF(CQ2329>0.03*CK$2703,0,$C2329/60)))","v":{"$error":"#VALUE!"}},{"$f":"IF(SUM(DA$1262:DA2328)>0,0,IF(MAX(CS2329:CS$2702)=MAX(CS$1262:CS$2702),0,IF(CQ2329>0.01*CK$2703,0,$C2329/60)))","v":{"$error":"#VALUE!"}}]
[null,89.416666666666671,5365,0,0,0,0,0,0,0,0,0,{"$error":"#N/A"},{"$error":"#N/A"},{"$error":"#N/A"},{"$error":"#N/A"},{"$error":"#N/A"},{"$error":"#N/A"},{"$f":"IF(SUM(S$1262:S2334)>0,0,\nIF(MAX(L2335:L$2702)=MAX(L$1262:L$2702),0,\nIF(Hydrograph_Source_WQCV=\"USER\",IF(J2335>0.03*D$2703,0,$C2335/60),\nIF(J2335>0.03*J$2703,0,$C2335/60))))","v":0},{"$f":"IF(SUM(T$1262:T2334)>0,0,\nIF(MAX(L2335:L$2702)=MAX(L$1262:L$2702),0,\nIF(Hydrograph_Source_WQCV=\"USER\",IF(J2335>0.01*D$2703,0,$C2335/60),\nIF(J2335>0.01*J$2703,0,$C2335/60))))","v":0},0,0,0,0,{"$error":"#VALUE!"},{"$error":"#VALUE!"},{"$error":"#VALUE!"},{"$error":"#VALUE!"},{"$error":"#VALUE!"},{"$error":"#VALUE!"},{"$error":"#VALUE!"},{"$error":"#VALUE!"},{"$error":"#VALUE!"},{"$error":"#VALUE!"},{"$error":"#VALUE!"},{"$f":"IF(SUM(AJ$1262:AJ2334)>0,0,IF(MAX(AC2335:AC$2702)=MAX(AC$1262:AC$2702),0,IF(AA2335>0.03*U$2703,0,$C2335/60)))","v":{"$error":"#VALUE!"}},{"$f":"IF(SUM(AK$1262:AK2334)>0,0,IF(MAX(AC2335:AC$2702)=MAX(AC$1262:AC$2702),0,IF(AA2335>0.01*U$2703,0,$C2335/60)))","v":{"$error":"#VALUE!"}},0,0,0,0,{"$error":"#VALUE!"},{"$error":"#VALUE!"},{"$error":"#VALUE!"},{"$error":"#VALUE!"},{"$error":"#VALUE!"},{"$error":"#VALUE!"},{"$error":"#VALUE!"},{"$error":"#VALUE!"},{"$error":"#VALUE!"},{"$error":"#VALUE!"},{"$error":"#VALUE!"},{"$f":"IF(SUM(BA$1262:BA2334)>0,0,IF(MAX(AT2335:AT$2702)=MAX(AT$1262:AT$2702),0,IF(AR2335>0.03*AL$2703,0,$C2335/60)))","v":{"$error":"#VALUE!"}},{"$f":"IF(SUM(BB$1262:BB2334)>0,0,IF(MAX(AT2335:AT$2702)=MAX(AT$1262:AT$2702),0,IF(AR2335>0.01*AL$2703,0,$C2335/60)))","v":{"$error":"#VALUE!"}},0,0,0,0,{"$error":"#VALUE!"},{"$error":"#VALUE!"},{"$error":"#VALUE!"},{"$error":"#VALUE!"},{"$error":"#VALUE!"},{"$error":"#VALUE!"},{"$error":"#VALUE!"},{"$error":"#VALUE!"},{"$error":"#VALUE!"},{"$error":"#VALUE!"},{"$error":"#VALUE!"},{"$f":"IF(SUM(BR$1262:BR2334)>0,0,IF(MAX(BK2335:BK$2702)=MAX(BK$1262:BK$2702),0,IF(BI2335>0.03*BC$2703,0,$C2335/60)))","v":{"$error":"#VALUE!"}},{"$f":"IF(SUM(BS$1262:BS2334)>0,0,IF(MAX(BK2335:BK$2702)=MAX(BK$1262:BK$2702),0,IF(BI2335>0.01*BC$2703,0,$C2335/60)))","v":{"$error":"#VALUE!"}},0,0,0,0,{"$error":"#VALUE!"},{"$error":"#VALUE!"},{"$error":"#VALUE!"},{"$error":"#VALUE!"},{"$error":"#VALUE!"},{"$error":"#VALUE!"},{"$error":"#VALUE!"},{"$error":"#VALUE!"},{"$error":"#VALUE!"},{"$error":"#VALUE!"},{"$error":"#VALUE!"},{"$f":"IF(SUM(CI$1262:CI2334)>0,0,IF(MAX(CB2335:CB$2702)=MAX(CB$1262:CB$2702),0,IF(BZ2335>0.03*BT$2703,0,$C2335/60)))","v":{"$error":"#VALUE!"}},{"$f":"IF(SUM(CJ$1262:CJ2334)>0,0,IF(MAX(CB2335:CB$2702)=MAX(CB$1262:CB$2702),0,IF(BZ2335>0.01*BT$2703,0,$C2335/60)))","v":{"$error":"#VALUE!"}},0,0,0,0,{"$error":"#VALUE!"},{"$error":"#VALUE!"},{"$error":"#VALUE!"},{"$error":"#VALUE!"},{"$error":"#VALUE!"},{"$error":"#VALUE!"},{"$error":"#VALUE!"},{"$error":"#VALUE!"},{"$error":"#VALUE!"},{"$error":"#VALUE!"},{"$error":"#VALUE!"},{"$f":"IF(SUM(CZ$1262:CZ2334)>0,0,IF(MAX(CS2335:CS$2702)=MAX(CS$1262:CS$2702),0,IF(CQ2335>0.03*CK$2703,0,$C2335/60)))","v":{"$error":"#VALUE!"}},{"$f":"IF(SUM(DA$1262:DA2334)>0,0,IF(MAX(CS2335:CS$2702)=MAX(CS$1262:CS$2702),0,IF(CQ2335>0.01*CK$2703,0,$C2335/60)))","v":{"$error":"#VALUE!"}}]
[null,89.833333333333329,5390,0,0,0,0,0,0,0,0,0,{"$error":"#N/A"},{"$error":"#N/A"},{"$error":"#N/A"},{"$error":"#N/A"},{"$error":"#N/A"},{"$error":"#N/A"},{"$f":"IF(SUM(S$1262:S2339)>0,0,\nIF(MAX(L2340:L$2702)=MAX(L$1262:L$2702),0,\nIF(Hydrograph_Source_WQCV=\"USER\",IF(J2340>0.03*D$2703,0,$C2340/60),\nIF(J2340>0.03*J$2703,0,$C2340/60))))","v":0},{"$f":"IF(SUM(T$1262:T2339)>0,0,\nIF(MAX(L2340:L$2702)=MAX(L$1262:L$2702),0,\nIF(Hydrograph_Source_WQCV=\"USER\",IF(J2340>0.01*D$2703,0,$C2340/60),\nIF(J2340>0.01*J$2703,0,$C2340/60))))","v":0},0,0,0,0,{"$error":"#VALUE!"},{"$error":"#VALUE!"},{"$error":"#VALUE!"},{"$error":"#VALUE!"},{"$error":"#VALUE!"},{"$error":"#VALUE!"},{"$error":"#VALUE!"},{"$error":"#VALUE!"},{"$error":"#VALUE!"},{"$error":"#VALUE!"},{"$error":"#VALUE!"},{"$f":"IF(SUM(AJ$1262:AJ2339)>0,0,IF(MAX(AC2340:AC$2702)=MAX(AC$1262:AC$2702),0,IF(AA2340>0.03*U$2703,0,$C2340/60)))","v":{"$error":"#VALUE!"}},{"$f":"IF(SUM(AK$1262:AK2339)>0,0,IF(MAX(AC2340:AC$2702)=MAX(AC$1262:AC$2702),0,IF(AA2340>0.01*U$2703,0,$C2340/60)))","v":{"$error":"#VALUE!"}},0,0,0,0,{"$error":"#VALUE!"},{"$error":"#VALUE!"},{"$error":"#VALUE!"},{"$error":"#VALUE!"},{"$error":"#VALUE!"},{"$error":"#VALUE!"},{"$error":"#VALUE!"},{"$error":"#VALUE!"},{"$error":"#VALUE!"},{"$error":"#VALUE!"},{"$error":"#VALUE!"},{"$f":"IF(SUM(BA$1262:BA2339)>0,0,IF(MAX(AT2340:AT$2702)=MAX(AT$1262:AT$2702),0,IF(AR2340>0.03*AL$2703,0,$C2340/60)))","v":{"$error":"#VALUE!"}},{"$f":"IF(SUM(BB$1262:BB2339)>0,0,IF(MAX(AT2340:AT$2702)=MAX(AT$1262:AT$2702),0,IF(AR2340>0.01*AL$2703,0,$C2340/60)))","v":{"$error":"#VALUE!"}},0,0,0,0,{"$error":"#VALUE!"},{"$error":"#VALUE!"},{"$error":"#VALUE!"},{"$error":"#VALUE!"},{"$error":"#VALUE!"},{"$error":"#VALUE!"},{"$error":"#VALUE!"},{"$error":"#VALUE!"},{"$error":"#VALUE!"},{"$error":"#VALUE!"},{"$error":"#VALUE!"},{"$f":"IF(SUM(BR$1262:BR2339)>0,0,IF(MAX(BK2340:BK$2702)=MAX(BK$1262:BK$2702),0,IF(BI2340>0.03*BC$2703,0,$C2340/60)))","v":{"$error":"#VALUE!"}},{"$f":"IF(SUM(BS$1262:BS2339)>0,0,IF(MAX(BK2340:BK$2702)=MAX(BK$1262:BK$2702),0,IF(BI2340>0.01*BC$2703,0,$C2340/60)))","v":{"$error":"#VALUE!"}},0,0,0,0,{"$error":"#VALUE!"},{"$error":"#VALUE!"},{"$error":"#VALUE!"},{"$error":"#VALUE!"},{"$error":"#VALUE!"},{"$error":"#VALUE!"},{"$error":"#VALUE!"},{"$error":"#VALUE!"},{"$error":"#VALUE!"},{"$error":"#VALUE!"},{"$error":"#VALUE!"},{"$f":"IF(SUM(CI$1262:CI2339)>0,0,IF(MAX(CB2340:CB$2702)=MAX(CB$1262:CB$2702),0,IF(BZ2340>0.03*BT$2703,0,$C2340/60)))","v":{"$error":"#VALUE!"}},{"$f":"IF(SUM(CJ$1262:CJ2339)>0,0,IF(MAX(CB2340:CB$2702)=MAX(CB$1262:CB$2702),0,IF(BZ2340>0.01*BT$2703,0,$C2340/60)))","v":{"$error":"#VALUE!"}},0,0,0,0,{"$error":"#VALUE!"},{"$error":"#VALUE!"},{"$error":"#VALUE!"},{"$error":"#VALUE!"},{"$error":"#VALUE!"},{"$error":"#VALUE!"},{"$error":"#VALUE!"},{"$error":"#VALUE!"},{"$error":"#VALUE!"},{"$error":"#VALUE!"},{"$error":"#VALUE!"},{"$f":"IF(SUM(CZ$1262:CZ2339)>0,0,IF(MAX(CS2340:CS$2702)=MAX(CS$1262:CS$2702),0,IF(CQ2340>0.03*CK$2703,0,$C2340/60)))","v":{"$error":"#VALUE!"}},{"$f":"IF(SUM(DA$1262:DA2339)>0,0,IF(MAX(CS2340:CS$2702)=MAX(CS$1262:CS$2702),0,IF(CQ2340>0.01*CK$2703,0,$C2340/60)))","v":{"$error":"#VALUE!"}}]
[null,89.916666666666671,5395,0,0,0,0,0,0,0,0,0,{"$error":"#N/A"},{"$error":"#N/A"},{"$error":"#N/A"},{"$error":"#N/A"},{"$error":"#N/A"},{"$error":"#N/A"},{"$f":"IF(SUM(S$1262:S2340)>0,0,\nIF(MAX(L2341:L$2702)=MAX(L$1262:L$2702),0,\nIF(Hydrograph_Source_WQCV=\"USER\",IF(J2341>0.03*D$2703,0,$C2341/60),\nIF(J2341>0.03*J$2703,0,$C2341/60))))","v":0},{"$f":"IF(SUM(T$1262:T2340)>0,0,\nIF(MAX(L2341:L$2702)=MAX(L$1262:L$2702),0,\nIF(Hydrograph_Source_WQCV=\"USER\",IF(J2341>0.01*D$2703,0,$C2341/60),\nIF(J2341>0.01*J$2703,0,$C2341/60))))","v":0},0,0,0,0,{"$error":"#VALUE!"},{"$error":"#VALUE!"},{"$error":"#VALUE!"},{"$error":"#VALUE!"},{"$error":"#VALUE!"},{"$error":"#VALUE!"},{"$error":"#VALUE!"},{"$error":"#VALUE!"},{"$error":"#VALUE!"},{"$error":"#VALUE!"},{"$error":"#VALUE!"},{"$f":"IF(SUM(AJ$1262:AJ2340)>0,0,IF(MAX(AC2341:AC$2702)=MAX(AC$1262:AC$2702),0,IF(AA2341>0.03*U$2703,0,$C2341/60)))","v":{"$error":"#VALUE!"}},{"$f":"IF(SUM(AK$1262:AK2340)>0,0,IF(MAX(AC2341:AC$2702)=MAX(AC$1262:AC$2702),0,IF(AA2341>0.01*U$2703,0,$C2341/60)))","v":{"$error":"#VALUE!"}},0,0,0,0,{"$error":"#VALUE!"},{"$error":"#VALUE!"},{"$error":"#VALUE!"},{"$error":"#VALUE!"},{"$error":"#VALUE!"},{"$error":"#VALUE!"},{"$error":"#VALUE!"},{"$error":"#VALUE!"},{"$error":"#VALUE!"},{"$error":"#VALUE!"},{"$error":"#VALUE!"},{"$f":"IF(SUM(BA$1262:BA2340)>0,0,IF(MAX(AT2341:AT$2702)=MAX(AT$1262:AT$2702),0,IF(AR2341>0.03*AL$2703,0,$C2341/60)))","v":{"$error":"#VALUE!"}},{"$f":"IF(SUM(BB$1262:BB2340)>0,0,IF(MAX(AT2341:AT$2702)=MAX(AT$1262:AT$2702),0,IF(AR2341>0.01*AL$2703,0,$C2341/60)))","v":{"$error":"#VALUE!"}},0,0,0,0,{"$error":"#VALUE!"},{"$error":"#VALUE!"},{"$error":"#VALUE!"},{"$error":"#VALUE!"},{"$error":"#VALUE!"},{"$error":"#VALUE!"},{"$error":"#VALUE!"},{"$error":"#VALUE!"},{"$error":"#VALUE!"},{"$error":"#VALUE!"},{"$error":"#VALUE!"},{"$f":"IF(SUM(BR$1262:BR2340)>0,0,IF(MAX(BK2341:BK$2702)=MAX(BK$1262:BK$2702),0,IF(BI2341>0.03*BC$2703,0,$C2341/60)))","v":{"$error":"#VALUE!"}},{"$f":"IF(SUM(BS$1262:BS2340)>0,0,IF(MAX(BK2341:BK$2702)=MAX(BK$1262:BK$2702),0,IF(BI2341>0.01*BC$2703,0,$C2341/60)))","v":{"$error":"#VALUE!"}},0,0,0,0,{"$error":"#VALUE!"},{"$error":"#VALUE!"},{"$error":"#VALUE!"},{"$error":"#VALUE!"},{"$error":"#VALUE!"},{"$error":"#VALUE!"},{"$error":"#VALUE!"},{"$error":"#VALUE!"},{"$error":"#VALUE!"},{"$error":"#VALUE!"},{"$error":"#VALUE!"},{"$f":"IF(SUM(CI$1262:CI2340)>0,0,IF(MAX(CB2341:CB$2702)=MAX(CB$1262:CB$2702),0,IF(BZ2341>0.03*BT$2703,0,$C2341/60)))","v":{"$error":"#VALUE!"}},{"$f":"IF(SUM(CJ$1262:CJ2340)>0,0,IF(MAX(CB2341:CB$2702)=MAX(CB$1262:CB$2702),0,IF(BZ2341>0.01*BT$2703,0,$C2341/60)))","v":{"$error":"#VALUE!"}},0,0,0,0,{"$error":"#VALUE!"},{"$error":"#VALUE!"},{"$error":"#VALUE!"},{"$error":"#VALUE!"},{"$error":"#VALUE!"},{"$error":"#VALUE!"},{"$error":"#VALUE!"},{"$error":"#VALUE!"},{"$error":"#VALUE!"},{"$error":"#VALUE!"},{"$error":"#VALUE!"},{"$f":"IF(SUM(CZ$1262:CZ2340)>0,0,IF(MAX(CS2341:CS$2702)=MAX(CS$1262:CS$2702),0,IF(CQ2341>0.03*CK$2703,0,$C2341/60)))","v":{"$error":"#VALUE!"}},{"$f":"IF(SUM(DA$1262:DA2340)>0,0,IF(MAX(CS2341:CS$2702)=MAX(CS$1262:CS$2702),0,IF(CQ2341>0.01*CK$2703,0,$C2341/60)))","v":{"$error":"#VALUE!"}}]
[null,90.333333333333329,5420,0,0,0,0,0,0,0,0,0,{"$error":"#N/A"},{"$error":"#N/A"},{"$error":"#N/A"},{"$error":"#N/A"},{"$error":"#N/A"},{"$error":"#N/A"},{"$f":"IF(SUM(S$1262:S2345)>0,0,\nIF(MAX(L2346:L$2702)=MAX(L$1262:L$2702),0,\nIF(Hydrograph_Source_WQCV=\"USER\",IF(J2346>0.03*D$2703,0,$C2346/60),\nIF(J2346>0.03*J$2703,0,$C2346/60))))","v":0},{"$f":"IF(SUM(T$1262:T2345)>0,0,\nIF(MAX(L2346:L$2702)=MAX(L$1262:L$2702),0,\nIF(Hydrograph_Source_WQCV=\"USER\",IF(J2346>0.01*D$2703,0,$C2346/60),\nIF(J2346>0.01*J$2703,0,$C2346/60))))","v":0},0,0,0,0,{"$error":"#VALUE!"},{"$error":"#VALUE!"},{"$error":"#VALUE!"},{"$error":"#VALUE!"},{"$error":"#VALUE!"},{"$error":"#VALUE!"},{"$error":"#VALUE!"},{"$error":"#VALUE!"},{"$error":"#VALUE!"},{"$error":"#VALUE!"},{"$error":"#VALUE!"},{"$f":"IF(SUM(AJ$1262:AJ2345)>0,0,IF(MAX(AC2346:AC$2702)=MAX(AC$1262:AC$2702),0,IF(AA2346>0.03*U$2703,0,$C2346/60)))","v":{"$error":"#VALUE!"}},{"$f":"IF(SUM(AK$1262:AK2345)>0,0,IF(MAX(AC2346:AC$2702)=MAX(AC$1262:AC$2702),0,IF(AA2346>0.01*U$2703,0,$C2346/60)))","v":{"$error":"#VALUE!"}},0,0,0,0,{"$error":"#VALUE!"},{"$error":"#VALUE!"},{"$error":"#VALUE!"},{"$error":"#VALUE!"},{"$error":"#VALUE!"},{"$error":"#VALUE!"},{"$error":"#VALUE!"},{"$error":"#VALUE!"},{"$error":"#VALUE!"},{"$error":"#VALUE!"},{"$error":"#VALUE!"},{"$f":"IF(SUM(BA$1262:BA2345)>0,0,IF(MAX(AT2346:AT$2702)=MAX(AT$1262:AT$2702),0,IF(AR2346>0.03*AL$2703,0,$C2346/60)))","v":{"$error":"#VALUE!"}},{"$f":"IF(SUM(BB$1262:BB2345)>0,0,IF(MAX(AT2346:AT$2702)=MAX(AT$1262:AT$2702),0,IF(AR2346>0.01*AL$2703,0,$C2346/60)))","v":{"$error":"#VALUE!"}},0,0,0,0,{"$error":"#VALUE!"},{"$error":"#VALUE!"},{"$error":"#VALUE!"},{"$error":"#VALUE!"},{"$error":"#VALUE!"},{"$error":"#VALUE!"},{"$error":"#VALUE!"},{"$error":"#VALUE!"},{"$error":"#VALUE!"},{"$error":"#VALUE!"},{"$error":"#VALUE!"},{"$f":"IF(SUM(BR$1262:BR2345)>0,0,IF(MAX(BK2346:BK$2702)=MAX(BK$1262:BK$2702),0,IF(BI2346>0.03*BC$2703,0,$C2346/60)))","v":{"$error":"#VALUE!"}},{"$f":"IF(SUM(BS$1262:BS2345)>0,0,IF(MAX(BK2346:BK$2702)=MAX(BK$1262:BK$2702),0,IF(BI2346>0.01*BC$2703,0,$C2346/60)))","v":{"$error":"#VALUE!"}},0,0,0,0,{"$error":"#VALUE!"},{"$error":"#VALUE!"},{"$error":"#VALUE!"},{"$error":"#VALUE!"},{"$error":"#VALUE!"},{"$error":"#VALUE!"},{"$error":"#VALUE!"},{"$error":"#VALUE!"},{"$error":"#VALUE!"},{"$error":"#VALUE!"},{"$error":"#VALUE!"},{"$f":"IF(SUM(CI$1262:CI2345)>0,0,IF(MAX(CB2346:CB$2702)=MAX(CB$1262:CB$2702),0,IF(BZ2346>0.03*BT$2703,0,$C2346/60)))","v":{"$error":"#VALUE!"}},{"$f":"IF(SUM(CJ$1262:CJ2345)>0,0,IF(MAX(CB2346:CB$2702)=MAX(CB$1262:CB$2702),0,IF(BZ2346>0.01*BT$2703,0,$C2346/60)))","v":{"$error":"#VALUE!"}},0,0,0,0,{"$error":"#VALUE!"},{"$error":"#VALUE!"},{"$error":"#VALUE!"},{"$error":"#VALUE!"},{"$error":"#VALUE!"},{"$error":"#VALUE!"},{"$error":"#VALUE!"},{"$error":"#VALUE!"},{"$error":"#VALUE!"},{"$error":"#VALUE!"},{"$error":"#VALUE!"},{"$f":"IF(SUM(CZ$1262:CZ2345)>0,0,IF(MAX(CS2346:CS$2702)=MAX(CS$1262:CS$2702),0,IF(CQ2346>0.03*CK$2703,0,$C2346/60)))","v":{"$error":"#VALUE!"}},{"$f":"IF(SUM(DA$1262:DA2345)>0,0,IF(MAX(CS2346:CS$2702)=MAX(CS$1262:CS$2702),0,IF(CQ2346>0.01*CK$2703,0,$C2346/60)))","v":{"$error":"#VALUE!"}}]
[null,90.916666666666671,5455,0,0,0,0,0,0,0,0,0,{"$error":"#N/A"},{"$error":"#N/A"},{"$error":"#N/A"},{"$error":"#N/A"},{"$error":"#N/A"},{"$error":"#N/A"},{"$f":"IF(SUM(S$1262:S2352)>0,0,\nIF(MAX(L2353:L$2702)=MAX(L$1262:L$2702),0,\nIF(Hydrograph_Source_WQCV=\"USER\",IF(J2353>0.03*D$2703,0,$C2353/60),\nIF(J2353>0.03*J$2703,0,$C2353/60))))","v":0},{"$f":"IF(SUM(T$1262:T2352)>0,0,\nIF(MAX(L2353:L$2702)=MAX(L$1262:L$2702),0,\nIF(Hydrograph_Source_WQCV=\"USER\",IF(J2353>0.01*D$2703,0,$C2353/60),\nIF(J2353>0.01*J$2703,0,$C2353/60))))","v":0},0,0,0,0,{"$error":"#VALUE!"},{"$error":"#VALUE!"},{"$error":"#VALUE!"},{"$error":"#VALUE!"},{"$error":"#VALUE!"},{"$error":"#VALUE!"},{"$error":"#VALUE!"},{"$error":"#VALUE!"},{"$error":"#VALUE!"},{"$error":"#VALUE!"},{"$error":"#VALUE!"},{"$f":"IF(SUM(AJ$1262:AJ2352)>0,0,IF(MAX(AC2353:AC$2702)=MAX(AC$1262:AC$2702),0,IF(AA2353>0.03*U$2703,0,$C2353/60)))","v":{"$error":"#VALUE!"}},{"$f":"IF(SUM(AK$1262:AK2352)>0,0,IF(MAX(AC2353:AC$2702)=MAX(AC$1262:AC$2702),0,IF(AA2353>0.01*U$2703,0,$C2353/60)))","v":{"$error":"#VALUE!"}},0,0,0,0,{"$error":"#VALUE!"},{"$error":"#VALUE!"},{"$error":"#VALUE!"},{"$error":"#VALUE!"},{"$error":"#VALUE!"},{"$error":"#VALUE!"},{"$error":"#VALUE!"},{"$error":"#VALUE!"},{"$error":"#VALUE!"},{"$error":"#VALUE!"},{"$error":"#VALUE!"},{"$f":"IF(SUM(BA$1262:BA2352)>0,0,IF(MAX(AT2353:AT$2702)=MAX(AT$1262:AT$2702),0,IF(AR2353>0.03*AL$2703,0,$C2353/60)))","v":{"$error":"#VALUE!"}},{"$f":"IF(SUM(BB$1262:BB2352)>0,0,IF(MAX(AT2353:AT$2702)=MAX(AT$1262:AT$2702),0,IF(AR2353>0.01*AL$2703,0,$C2353/60)))","v":{"$error":"#VALUE!"}},0,0,0,0,{"$error":"#VALUE!"},{"$error":"#VALUE!"},{"$error":"#VALUE!"},{"$error":"#VALUE!"},{"$error":"#VALUE!"},{"$error":"#VALUE!"},{"$error":"#VALUE!"},{"$error":"#VALUE!"},{"$error":"#VALUE!"},{"$error":"#VALUE!"},{"$error":"#VALUE!"},{"$f":"IF(SUM(BR$1262:BR2352)>0,0,IF(MAX(BK2353:BK$2702)=MAX(BK$1262:BK$2702),0,IF(BI2353>0.03*BC$2703,0,$C2353/60)))","v":{"$error":"#VALUE!"}},{"$f":"IF(SUM(BS$1262:BS2352)>0,0,IF(MAX(BK2353:BK$2702)=MAX(BK$1262:BK$2702),0,IF(BI2353>0.01*BC$2703,0,$C2353/60)))","v":{"$error":"#VALUE!"}},0,0,0,0,{"$error":"#VALUE!"},{"$error":"#VALUE!"},{"$error":"#VALUE!"},{"$error":"#VALUE!"},{"$error":"#VALUE!"},{"$error":"#VALUE!"},{"$error":"#VALUE!"},{"$error":"#VALUE!"},{"$error":"#VALUE!"},{"$error":"#VALUE!"},{"$error":"#VALUE!"},{"$f":"IF(SUM(CI$1262:CI2352)>0,0,IF(MAX(CB2353:CB$2702)=MAX(CB$1262:CB$2702),0,IF(BZ2353>0.03*BT$2703,0,$C2353/60)))","v":{"$error":"#VALUE!"}},{"$f":"IF(SUM(CJ$1262:CJ2352)>0,0,IF(MAX(CB2353:CB$2702)=MAX(CB$1262:CB$2702),0,IF(BZ2353>0.01*BT$2703,0,$C2353/60)))","v":{"$error":"#VALUE!"}},0,0,0,0,{"$error":"#VALUE!"},{"$error":"#VALUE!"},{"$error":"#VALUE!"},{"$error":"#VALUE!"},{"$error":"#VALUE!"},{"$error":"#VALUE!"},{"$error":"#VALUE!"},{"$error":"#VALUE!"},{"$error":"#VALUE!"},{"$error":"#VALUE!"},{"$error":"#VALUE!"},{"$f":"IF(SUM(CZ$1262:CZ2352)>0,0,IF(MAX(CS2353:CS$2702)=MAX(CS$1262:CS$2702),0,IF(CQ2353>0.03*CK$2703,0,$C2353/60)))","v":{"$error":"#VALUE!"}},{"$f":"IF(SUM(DA$1262:DA2352)>0,0,IF(MAX(CS2353:CS$2702)=MAX(CS$1262:CS$2702),0,IF(CQ2353>0.01*CK$2703,0,$C2353/60)))","v":{"$error":"#VALUE!"}}]
[null,91.25,5475,0,0,0,0,0,0,0,0,0,{"$error":"#N/A"},{"$error":"#N/A"},{"$error":"#N/A"},{"$error":"#N/A"},{"$error":"#N/A"},{"$error":"#N/A"},{"$f":"IF(SUM(S$1262:S2356)>0,0,\nIF(MAX(L2357:L$2702)=MAX(L$1262:L$2702),0,\nIF(Hydrograph_Source_WQCV=\"USER\",IF(J2357>0.03*D$2703,0,$C2357/60),\nIF(J2357>0.03*J$2703,0,$C2357/60))))","v":0},{"$f":"IF(SUM(T$1262:T2356)>0,0,\nIF(MAX(L2357:L$2702)=MAX(L$1262:L$2702),0,\nIF(Hydrograph_Source_WQCV=\"USER\",IF(J2357>0.01*D$2703,0,$C2357/60),\nIF(J2357>0.01*J$2703,0,$C2357/60))))","v":0},0,0,0,0,{"$error":"#VALUE!"},{"$error":"#VALUE!"},{"$error":"#VALUE!"},{"$error":"#VALUE!"},{"$error":"#VALUE!"},{"$error":"#VALUE!"},{"$error":"#VALUE!"},{"$error":"#VALUE!"},{"$error":"#VALUE!"},{"$error":"#VALUE!"},{"$error":"#VALUE!"},{"$f":"IF(SUM(AJ$1262:AJ2356)>0,0,IF(MAX(AC2357:AC$2702)=MAX(AC$1262:AC$2702),0,IF(AA2357>0.03*U$2703,0,$C2357/60)))","v":{"$error":"#VALUE!"}},{"$f":"IF(SUM(AK$1262:AK2356)>0,0,IF(MAX(AC2357:AC$2702)=MAX(AC$1262:AC$2702),0,IF(AA2357>0.01*U$2703,0,$C2357/60)))","v":{"$error":"#VALUE!"}},0,0,0,0,{"$error":"#VALUE!"},{"$error":"#VALUE!"},{"$error":"#VALUE!"},{"$error":"#VALUE!"},{"$error":"#VALUE!"},{"$error":"#VALUE!"},{"$error":"#VALUE!"},{"$error":"#VALUE!"},{"$error":"#VALUE!"},{"$error":"#VALUE!"},{"$error":"#VALUE!"},{"$f":"IF(SUM(BA$1262:BA2356)>0,0,IF(MAX(AT2357:AT$2702)=MAX(AT$1262:AT$2702),0,IF(AR2357>0.03*AL$2703,0,$C2357/60)))","v":{"$error":"#VALUE!"}},{"$f":"IF(SUM(BB$1262:BB2356)>0,0,IF(MAX(AT2357:AT$2702)=MAX(AT$1262:AT$2702),0,IF(AR2357>0.01*AL$2703,0,$C2357/60)))","v":{"$error":"#VALUE!"}},0,0,0,0,{"$error":"#VALUE!"},{"$error":"#VALUE!"},{"$error":"#VALUE!"},{"$error":"#VALUE!"},{"$error":"#VALUE!"},{"$error":"#VALUE!"},{"$error":"#VALUE!"},{"$error":"#VALUE!"},{"$error":"#VALUE!"},{"$error":"#VALUE!"},{"$error":"#VALUE!"},{"$f":"IF(SUM(BR$1262:BR2356)>0,0,IF(MAX(BK2357:BK$2702)=MAX(BK$1262:BK$2702),0,IF(BI2357>0.03*BC$2703,0,$C2357/60)))","v":{"$error":"#VALUE!"}},{"$f":"IF(SUM(BS$1262:BS2356)>0,0,IF(MAX(BK2357:BK$2702)=MAX(BK$1262:BK$2702),0,IF(BI2357>0.01*BC$2703,0,$C2357/60)))","v":{"$error":"#VALUE!"}},0,0,0,0,{"$error":"#VALUE!"},{"$error":"#VALUE!"},{"$error":"#VALUE!"},{"$error":"#VALUE!"},{"$error":"#VALUE!"},{"$error":"#VALUE!"},{"$error":"#VALUE!"},{"$error":"#VALUE!"},{"$error":"#VALUE!"},{"$error":"#VALUE!"},{"$error":"#VALUE!"},{"$f":"IF(SUM(CI$1262:CI2356)>0,0,IF(MAX(CB2357:CB$2702)=MAX(CB$1262:CB$2702),0,IF(BZ2357>0.03*BT$2703,0,$C2357/60)))","v":{"$error":"#VALUE!"}},{"$f":"IF(SUM(CJ$1262:CJ2356)>0,0,IF(MAX(CB2357:CB$2702)=MAX(CB$1262:CB$2702),0,IF(BZ2357>0.01*BT$2703,0,$C2357/60)))","v":{"$error":"#VALUE!"}},0,0,0,0,{"$error":"#VALUE!"},{"$error":"#VALUE!"},{"$error":"#VALUE!"},{"$error":"#VALUE!"},{"$error":"#VALUE!"},{"$error":"#VALUE!"},{"$error":"#VALUE!"},{"$error":"#VALUE!"},{"$error":"#VALUE!"},{"$error":"#VALUE!"},{"$error":"#VALUE!"},{"$f":"IF(SUM(CZ$1262:CZ2356)>0,0,IF(MAX(CS2357:CS$2702)=MAX(CS$1262:CS$2702),0,IF(CQ2357>0.03*CK$2703,0,$C2357/60)))","v":{"$error":"#VALUE!"}},{"$f":"IF(SUM(DA$1262:DA2356)>0,0,IF(MAX(CS2357:CS$2702)=MAX(CS$1262:CS$2702),0,IF(CQ2357>0.01*CK$2703,0,$C2357/60)))","v":{"$error":"#VALUE!"}}]
[null,91.333333333333329,5480,0,0,0,0,0,0,0,0,0,{"$error":"#N/A"},{"$error":"#N/A"},{"$error":"#N/A"},{"$error":"#N/A"},{"$error":"#N/A"},{"$error":"#N/A"},{"$f":"IF(SUM(S$1262:S2357)>0,0,\nIF(MAX(L2358:L$2702)=MAX(L$1262:L$2702),0,\nIF(Hydrograph_Source_WQCV=\"USER\",IF(J2358>0.03*D$2703,0,$C2358/60),\nIF(J2358>0.03*J$2703,0,$C2358/60))))","v":0},{"$f":"IF(SUM(T$1262:T2357)>0,0,\nIF(MAX(L2358:L$2702)=MAX(L$1262:L$2702),0,\nIF(Hydrograph_Source_WQCV=\"USER\",IF(J2358>0.01*D$2703,0,$C2358/60),\nIF(J2358>0.01*J$2703,0,$C2358/60))))","v":0},0,0,0,0,{"$error":"#VALUE!"},{"$error":"#VALUE!"},{"$error":"#VALUE!"},{"$error":"#VALUE!"},{"$error":"#VALUE!"},{"$error":"#VALUE!"},{"$error":"#VALUE!"},{"$error":"#VALUE!"},{"$error":"#VALUE!"},{"$error":"#VALUE!"},{"$error":"#VALUE!"},{"$f":"IF(SUM(AJ$1262:AJ2357)>0,0,IF(MAX(AC2358:AC$2702)=MAX(AC$1262:AC$2702),0,IF(AA2358>0.03*U$2703,0,$C2358/60)))","v":{"$error":"#VALUE!"}},{"$f":"IF(SUM(AK$1262:AK2357)>0,0,IF(MAX(AC2358:AC$2702)=MAX(AC$1262:AC$2702),0,IF(AA2358>0.01*U$2703,0,$C2358/60)))","v":{"$error":"#VALUE!"}},0,0,0,0,{"$error":"#VALUE!"},{"$error":"#VALUE!"},{"$error":"#VALUE!"},{"$error":"#VALUE!"},{"$error":"#VALUE!"},{"$error":"#VALUE!"},{"$error":"#VALUE!"},{"$error":"#VALUE!"},{"$error":"#VALUE!"},{"$error":"#VALUE!"},{"$error":"#VALUE!"},{"$f":"IF(SUM(BA$1262:BA2357)>0,0,IF(MAX(AT2358:AT$2702)=MAX(AT$1262:AT$2702),0,IF(AR2358>0.03*AL$2703,0,$C2358/60)))","v":{"$error":"#VALUE!"}},{"$f":"IF(SUM(BB$1262:BB2357)>0,0,IF(MAX(AT2358:AT$2702)=MAX(AT$1262:AT$2702),0,IF(AR2358>0.01*AL$2703,0,$C2358/60)))","v":{"$error":"#VALUE!"}},0,0,0,0,{"$error":"#VALUE!"},{"$error":"#VALUE!"},{"$error":"#VALUE!"},{"$error":"#VALUE!"},{"$error":"#VALUE!"},{"$error":"#VALUE!"},{"$error":"#VALUE!"},{"$error":"#VALUE!"},{"$error":"#VALUE!"},{"$error":"#VALUE!"},{"$error":"#VALUE!"},{"$f":"IF(SUM(BR$1262:BR2357)>0,0,IF(MAX(BK2358:BK$2702)=MAX(BK$1262:BK$2702),0,IF(BI2358>0.03*BC$2703,0,$C2358/60)))","v":{"$error":"#VALUE!"}},{"$f":"IF(SUM(BS$1262:BS2357)>0,0,IF(MAX(BK2358:BK$2702)=MAX(BK$1262:BK$2702),0,IF(BI2358>0.01*BC$2703,0,$C2358/60)))","v":{"$error":"#VALUE!"}},0,0,0,0,{"$error":"#VALUE!"},{"$error":"#VALUE!"},{"$error":"#VALUE!"},{"$error":"#VALUE!"},{"$error":"#VALUE!"},{"$error":"#VALUE!"},{"$error":"#VALUE!"},{"$error":"#VALUE!"},{"$error":"#VALUE!"},{"$error":"#VALUE!"},{"$error":"#VALUE!"},{"$f":"IF(SUM(CI$1262:CI2357)>0,0,IF(MAX(CB2358:CB$2702)=MAX(CB$1262:CB$2702),0,IF(BZ2358>0.03*BT$2703,0,$C2358/60)))","v":{"$error":"#VALUE!"}},{"$f":"IF(SUM(CJ$1262:CJ2357)>0,0,IF(MAX(CB2358:CB$2702)=MAX(CB$1262:CB$2702),0,IF(BZ2358>0.01*BT$2703,0,$C2358/60)))","v":{"$error":"#VALUE!"}},0,0,0,0,{"$error":"#VALUE!"},{"$error":"#VALUE!"},{"$error":"#VALUE!"},{"$error":"#VALUE!"},{"$error":"#VALUE!"},{"$error":"#VALUE!"},{"$error":"#VALUE!"},{"$error":"#VALUE!"},{"$error":"#VALUE!"},{"$error":"#VALUE!"},{"$error":"#VALUE!"},{"$f":"IF(SUM(CZ$1262:CZ2357)>0,0,IF(MAX(CS2358:CS$2702)=MAX(CS$1262:CS$2702),0,IF(CQ2358>0.03*CK$2703,0,$C2358/60)))","v":{"$error":"#VALUE!"}},{"$f":"IF(SUM(DA$1262:DA2357)>0,0,IF(MAX(CS2358:CS$2702)=MAX(CS$1262:CS$2702),0,IF(CQ2358>0.01*CK$2703,0,$C2358/60)))","v":{"$error":"#VALUE!"}}]
[null,91.75,5505,0,0,0,0,0,0,0,0,0,{"$error":"#N/A"},{"$error":"#N/A"},{"$error":"#N/A"},{"$error":"#N/A"},{"$error":"#N/A"},{"$error":"#N/A"},{"$f":"IF(SUM(S$1262:S2362)>0,0,\nIF(MAX(L2363:L$2702)=MAX(L$1262:L$2702),0,\nIF(Hydrograph_Source_WQCV=\"USER\",IF(J2363>0.03*D$2703,0,$C2363/60),\nIF(J2363>0.03*J$2703,0,$C2363/60))))","v":0},{"$f":"IF(SUM(T$1262:T2362)>0,0,\nIF(MAX(L2363:L$2702)=MAX(L$1262:L$2702),0,\nIF(Hydrograph_Source_WQCV=\"USER\",IF(J2363>0.01*D$2703,0,$C2363/60),\nIF(J2363>0.01*J$2703,0,$C2363/60))))","v":0},0,0,0,0,{"$error":"#VALUE!"},{"$error":"#VALUE!"},{"$error":"#VALUE!"},{"$error":"#VALUE!"},{"$error":"#VALUE!"},{"$error":"#VALUE!"},{"$error":"#VALUE!"},{"$error":"#VALUE!"},{"$error":"#VALUE!"},{"$error":"#VALUE!"},{"$error":"#VALUE!"},{"$f":"IF(SUM(AJ$1262:AJ2362)>0,0,IF(MAX(AC2363:AC$2702)=MAX(AC$1262:AC$2702),0,IF(AA2363>0.03*U$2703,0,$C2363/60)))","v":{"$error":"#VALUE!"}},{"$f":"IF(SUM(AK$1262:AK2362)>0,0,IF(MAX(AC2363:AC$2702)=MAX(AC$1262:AC$2702),0,IF(AA2363>0.01*U$2703,0,$C2363/60)))","v":{"$error":"#VALUE!"}},0,0,0,0,{"$error":"#VALUE!"},{"$error":"#VALUE!"},{"$error":"#VALUE!"},{"$error":"#VALUE!"},{"$error":"#VALUE!"},{"$error":"#VALUE!"},{"$error":"#VALUE!"},{"$error":"#VALUE!"},{"$error":"#VALUE!"},{"$error":"#VALUE!"},{"$error":"#VALUE!"},{"$f":"IF(SUM(BA$1262:BA2362)>0,0,IF(MAX(AT2363:AT$2702)=MAX(AT$1262:AT$2702),0,IF(AR2363>0.03*AL$2703,0,$C2363/60)))","v":{"$error":"#VALUE!"}},{"$f":"IF(SUM(BB$1262:BB2362)>0,0,IF(MAX(AT2363:AT$2702)=MAX(AT$1262:AT$2702),0,IF(AR2363>0.01*AL$2703,0,$C2363/60)))","v":{"$error":"#VALUE!"}},0,0,0,0,{"$error":"#VALUE!"},{"$error":"#VALUE!"},{"$error":"#VALUE!"},{"$error":"#VALUE!"},{"$error":"#VALUE!"},{"$error":"#VALUE!"},{"$error":"#VALUE!"},{"$error":"#VALUE!"},{"$error":"#VALUE!"},{"$error":"#VALUE!"},{"$error":"#VALUE!"},{"$f":"IF(SUM(BR$1262:BR2362)>0,0,IF(MAX(BK2363:BK$2702)=MAX(BK$1262:BK$2702),0,IF(BI2363>0.03*BC$2703,0,$C2363/60)))","v":{"$error":"#VALUE!"}},{"$f":"IF(SUM(BS$1262:BS2362)>0,0,IF(MAX(BK2363:BK$2702)=MAX(BK$1262:BK$2702),0,IF(BI2363>0.01*BC$2703,0,$C2363/60)))","v":{"$error":"#VALUE!"}},0,0,0,0,{"$error":"#VALUE!"},{"$error":"#VALUE!"},{"$error":"#VALUE!"},{"$error":"#VALUE!"},{"$error":"#VALUE!"},{"$error":"#VALUE!"},{"$error":"#VALUE!"},{"$error":"#VALUE!"},{"$error":"#VALUE!"},{"$error":"#VALUE!"},{"$error":"#VALUE!"},{"$f":"IF(SUM(CI$1262:CI2362)>0,0,IF(MAX(CB2363:CB$2702)=MAX(CB$1262:CB$2702),0,IF(BZ2363>0.03*BT$2703,0,$C2363/60)))","v":{"$error":"#VALUE!"}},{"$f":"IF(SUM(CJ$1262:CJ2362)>0,0,IF(MAX(CB2363:CB$2702)=MAX(CB$1262:CB$2702),0,IF(BZ2363>0.01*BT$2703,0,$C2363/60)))","v":{"$error":"#VALUE!"}},0,0,0,0,{"$error":"#VALUE!"},{"$error":"#VALUE!"},{"$error":"#VALUE!"},{"$error":"#VALUE!"},{"$error":"#VALUE!"},{"$error":"#VALUE!"},{"$error":"#VALUE!"},{"$error":"#VALUE!"},{"$error":"#VALUE!"},{"$error":"#VALUE!"},{"$error":"#VALUE!"},{"$f":"IF(SUM(CZ$1262:CZ2362)>0,0,IF(MAX(CS2363:CS$2702)=MAX(CS$1262:CS$2702),0,IF(CQ2363>0.03*CK$2703,0,$C2363/60)))","v":{"$error":"#VALUE!"}},{"$f":"IF(SUM(DA$1262:DA2362)>0,0,IF(MAX(CS2363:CS$2702)=MAX(CS$1262:CS$2702),0,IF(CQ2363>0.01*CK$2703,0,$C2363/60)))","v":{"$error":"#VALUE!"}}]
[null,92.25,5535,0,0,0,0,0,0,0,0,0,{"$error":"#N/A"},{"$error":"#N/A"},{"$error":"#N/A"},{"$error":"#N/A"},{"$error":"#N/A"},{"$error":"#N/A"},{"$f":"IF(SUM(S$1262:S2368)>0,0,\nIF(MAX(L2369:L$2702)=MAX(L$1262:L$2702),0,\nIF(Hydrograph_Source_WQCV=\"USER\",IF(J2369>0.03*D$2703,0,$C2369/60),\nIF(J2369>0.03*J$2703,0,$C2369/60))))","v":0},{"$f":"IF(SUM(T$1262:T2368)>0,0,\nIF(MAX(L2369:L$2702)=MAX(L$1262:L$2702),0,\nIF(Hydrograph_Source_WQCV=\"USER\",IF(J2369>0.01*D$2703,0,$C2369/60),\nIF(J2369>0.01*J$2703,0,$C2369/60))))","v":0},0,0,0,0,{"$error":"#VALUE!"},{"$error":"#VALUE!"},{"$error":"#VALUE!"},{"$error":"#VALUE!"},{"$error":"#VALUE!"},{"$error":"#VALUE!"},{"$error":"#VALUE!"},{"$error":"#VALUE!"},{"$error":"#VALUE!"},{"$error":"#VALUE!"},{"$error":"#VALUE!"},{"$f":"IF(SUM(AJ$1262:AJ2368)>0,0,IF(MAX(AC2369:AC$2702)=MAX(AC$1262:AC$2702),0,IF(AA2369>0.03*U$2703,0,$C2369/60)))","v":{"$error":"#VALUE!"}},{"$f":"IF(SUM(AK$1262:AK2368)>0,0,IF(MAX(AC2369:AC$2702)=MAX(AC$1262:AC$2702),0,IF(AA2369>0.01*U$2703,0,$C2369/60)))","v":{"$error":"#VALUE!"}},0,0,0,0,{"$error":"#VALUE!"},{"$error":"#VALUE!"},{"$error":"#VALUE!"},{"$error":"#VALUE!"},{"$error":"#VALUE!"},{"$error":"#VALUE!"},{"$error":"#VALUE!"},{"$error":"#VALUE!"},{"$error":"#VALUE!"},{"$error":"#VALUE!"},{"$error":"#VALUE!"},{"$f":"IF(SUM(BA$1262:BA2368)>0,0,IF(MAX(AT2369:AT$2702)=MAX(AT$1262:AT$2702),0,IF(AR2369>0.03*AL$2703,0,$C2369/60)))","v":{"$error":"#VALUE!"}},{"$f":"IF(SUM(BB$1262:BB2368)>0,0,IF(MAX(AT2369:AT$2702)=MAX(AT$1262:AT$2702),0,IF(AR2369>0.01*AL$2703,0,$C2369/60)))","v":{"$error":"#VALUE!"}},0,0,0,0,{"$error":"#VALUE!"},{"$error":"#VALUE!"},{"$error":"#VALUE!"},{"$error":"#VALUE!"},{"$error":"#VALUE!"},{"$error":"#VALUE!"},{"$error":"#VALUE!"},{"$error":"#VALUE!"},{"$error":"#VALUE!"},{"$error":"#VALUE!"},{"$error":"#VALUE!"},{"$f":"IF(SUM(BR$1262:BR2368)>0,0,IF(MAX(BK2369:BK$2702)=MAX(BK$1262:BK$2702),0,IF(BI2369>0.03*BC$2703,0,$C2369/60)))","v":{"$error":"#VALUE!"}},{"$f":"IF(SUM(BS$1262:BS2368)>0,0,IF(MAX(BK2369:BK$2702)=MAX(BK$1262:BK$2702),0,IF(BI2369>0.01*BC$2703,0,$C2369/60)))","v":{"$error":"#VALUE!"}},0,0,0,0,{"$error":"#VALUE!"},{"$error":"#VALUE!"},{"$error":"#VALUE!"},{"$error":"#VALUE!"},{"$error":"#VALUE!"},{"$error":"#VALUE!"},{"$error":"#VALUE!"},{"$error":"#VALUE!"},{"$error":"#VALUE!"},{"$error":"#VALUE!"},{"$error":"#VALUE!"},{"$f":"IF(SUM(CI$1262:CI2368)>0,0,IF(MAX(CB2369:CB$2702)=MAX(CB$1262:CB$2702),0,IF(BZ2369>0.03*BT$2703,0,$C2369/60)))","v":{"$error":"#VALUE!"}},{"$f":"IF(SUM(CJ$1262:CJ2368)>0,0,IF(MAX(CB2369:CB$2702)=MAX(CB$1262:CB$2702),0,IF(BZ2369>0.01*BT$2703,0,$C2369/60)))","v":{"$error":"#VALUE!"}},0,0,0,0,{"$error":"#VALUE!"},{"$error":"#VALUE!"},{"$error":"#VALUE!"},{"$error":"#VALUE!"},{"$error":"#VALUE!"},{"$error":"#VALUE!"},{"$error":"#VALUE!"},{"$error":"#VALUE!"},{"$error":"#VALUE!"},{"$error":"#VALUE!"},{"$error":"#VALUE!"},{"$f":"IF(SUM(CZ$1262:CZ2368)>0,0,IF(MAX(CS2369:CS$2702)=MAX(CS$1262:CS$2702),0,IF(CQ2369>0.03*CK$2703,0,$C2369/60)))","v":{"$error":"#VALUE!"}},{"$f":"IF(SUM(DA$1262:DA2368)>0,0,IF(MAX(CS2369:CS$2702)=MAX(CS$1262:CS$2702),0,IF(CQ2369>0.01*CK$2703,0,$C2369/60)))","v":{"$error":"#VALUE!"}}]
[null,92.666666666666671,5560,0,0,0,0,0,0,0,0,0,{"$error":"#N/A"},{"$error":"#N/A"},{"$error":"#N/A"},{"$error":"#N/A"},{"$error":"#N/A"},{"$error":"#N/A"},{"$f":"IF(SUM(S$1262:S2373)>0,0,\nIF(MAX(L2374:L$2702)=MAX(L$1262:L$2702),0,\nIF(Hydrograph_Source_WQCV=\"USER\",IF(J2374>0.03*D$2703,0,$C2374/60),\nIF(J2374>0.03*J$2703,0,$C2374/60))))","v":0},{"$f":"IF(SUM(T$1262:T2373)>0,0,\nIF(MAX(L2374:L$2702)=MAX(L$1262:L$2702),0,\nIF(Hydrograph_Source_WQCV=\"USER\",IF(J2374>0.01*D$2703,0,$C2374/60),\nIF(J2374>0.01*J$2703,0,$C2374/60))))","v":0},0,0,0,0,{"$error":"#VALUE!"},{"$error":"#VALUE!"},{"$error":"#VALUE!"},{"$error":"#VALUE!"},{"$error":"#VALUE!"},{"$error":"#VALUE!"},{"$error":"#VALUE!"},{"$error":"#VALUE!"},{"$error":"#VALUE!"},{"$error":"#VALUE!"},{"$error":"#VALUE!"},{"$f":"IF(SUM(AJ$1262:AJ2373)>0,0,IF(MAX(AC2374:AC$2702)=MAX(AC$1262:AC$2702),0,IF(AA2374>0.03*U$2703,0,$C2374/60)))","v":{"$error":"#VALUE!"}},{"$f":"IF(SUM(AK$1262:AK2373)>0,0,IF(MAX(AC2374:AC$2702)=MAX(AC$1262:AC$2702),0,IF(AA2374>0.01*U$2703,0,$C2374/60)))","v":{"$error":"#VALUE!"}},0,0,0,0,{"$error":"#VALUE!"},{"$error":"#VALUE!"},{"$error":"#VALUE!"},{"$error":"#VALUE!"},{"$error":"#VALUE!"},{"$error":"#VALUE!"},{"$error":"#VALUE!"},{"$error":"#VALUE!"},{"$error":"#VALUE!"},{"$error":"#VALUE!"},{"$error":"#VALUE!"},{"$f":"IF(SUM(BA$1262:BA2373)>0,0,IF(MAX(AT2374:AT$2702)=MAX(AT$1262:AT$2702),0,IF(AR2374>0.03*AL$2703,0,$C2374/60)))","v":{"$error":"#VALUE!"}},{"$f":"IF(SUM(BB$1262:BB2373)>0,0,IF(MAX(AT2374:AT$2702)=MAX(AT$1262:AT$2702),0,IF(AR2374>0.01*AL$2703,0,$C2374/60)))","v":{"$error":"#VALUE!"}},0,0,0,0,{"$error":"#VALUE!"},{"$error":"#VALUE!"},{"$error":"#VALUE!"},{"$error":"#VALUE!"},{"$error":"#VALUE!"},{"$error":"#VALUE!"},{"$error":"#VALUE!"},{"$error":"#VALUE!"},{"$error":"#VALUE!"},{"$error":"#VALUE!"},{"$error":"#VALUE!"},{"$f":"IF(SUM(BR$1262:BR2373)>0,0,IF(MAX(BK2374:BK$2702)=MAX(BK$1262:BK$2702),0,IF(BI2374>0.03*BC$2703,0,$C2374/60)))","v":{"$error":"#VALUE!"}},{"$f":"IF(SUM(BS$1262:BS2373)>0,0,IF(MAX(BK2374:BK$2702)=MAX(BK$1262:BK$2702),0,IF(BI2374>0.01*BC$2703,0,$C2374/60)))","v":{"$error":"#VALUE!"}},0,0,0,0,{"$error":"#VALUE!"},{"$error":"#VALUE!"},{"$error":"#VALUE!"},{"$error":"#VALUE!"},{"$error":"#VALUE!"},{"$error":"#VALUE!"},{"$error":"#VALUE!"},{"$error":"#VALUE!"},{"$error":"#VALUE!"},{"$error":"#VALUE!"},{"$error":"#VALUE!"},{"$f":"IF(SUM(CI$1262:CI2373)>0,0,IF(MAX(CB2374:CB$2702)=MAX(CB$1262:CB$2702),0,IF(BZ2374>0.03*BT$2703,0,$C2374/60)))","v":{"$error":"#VALUE!"}},{"$f":"IF(SUM(CJ$1262:CJ2373)>0,0,IF(MAX(CB2374:CB$2702)=MAX(CB$1262:CB$2702),0,IF(BZ2374>0.01*BT$2703,0,$C2374/60)))","v":{"$error":"#VALUE!"}},0,0,0,0,{"$error":"#VALUE!"},{"$error":"#VALUE!"},{"$error":"#VALUE!"},{"$error":"#VALUE!"},{"$error":"#VALUE!"},{"$error":"#VALUE!"},{"$error":"#VALUE!"},{"$error":"#VALUE!"},{"$error":"#VALUE!"},{"$error":"#VALUE!"},{"$error":"#VALUE!"},{"$f":"IF(SUM(CZ$1262:CZ2373)>0,0,IF(MAX(CS2374:CS$2702)=MAX(CS$1262:CS$2702),0,IF(CQ2374>0.03*CK$2703,0,$C2374/60)))","v":{"$error":"#VALUE!"}},{"$f":"IF(SUM(DA$1262:DA2373)>0,0,IF(MAX(CS2374:CS$2702)=MAX(CS$1262:CS$2702),0,IF(CQ2374>0.01*CK$2703,0,$C2374/60)))","v":{"$error":"#VALUE!"}}]
[null,92.916666666666671,5575,0,0,0,0,0,0,0,0,0,{"$error":"#N/A"},{"$error":"#N/A"},{"$error":"#N/A"},{"$error":"#N/A"},{"$error":"#N/A"},{"$error":"#N/A"},{"$f":"IF(SUM(S$1262:S2376)>0,0,\nIF(MAX(L2377:L$2702)=MAX(L$1262:L$2702),0,\nIF(Hydrograph_Source_WQCV=\"USER\",IF(J2377>0.03*D$2703,0,$C2377/60),\nIF(J2377>0.03*J$2703,0,$C2377/60))))","v":0},{"$f":"IF(SUM(T$1262:T2376)>0,0,\nIF(MAX(L2377:L$2702)=MAX(L$1262:L$2702),0,\nIF(Hydrograph_Source_WQCV=\"USER\",IF(J2377>0.01*D$2703,0,$C2377/60),\nIF(J2377>0.01*J$2703,0,$C2377/60))))","v":0},0,0,0,0,{"$error":"#VALUE!"},{"$error":"#VALUE!"},{"$error":"#VALUE!"},{"$error":"#VALUE!"},{"$error":"#VALUE!"},{"$error":"#VALUE!"},{"$error":"#VALUE!"},{"$error":"#VALUE!"},{"$error":"#VALUE!"},{"$error":"#VALUE!"},{"$error":"#VALUE!"},{"$f":"IF(SUM(AJ$1262:AJ2376)>0,0,IF(MAX(AC2377:AC$2702)=MAX(AC$1262:AC$2702),0,IF(AA2377>0.03*U$2703,0,$C2377/60)))","v":{"$error":"#VALUE!"}},{"$f":"IF(SUM(AK$1262:AK2376)>0,0,IF(MAX(AC2377:AC$2702)=MAX(AC$1262:AC$2702),0,IF(AA2377>0.01*U$2703,0,$C2377/60)))","v":{"$error":"#VALUE!"}},0,0,0,0,{"$error":"#VALUE!"},{"$error":"#VALUE!"},{"$error":"#VALUE!"},{"$error":"#VALUE!"},{"$error":"#VALUE!"},{"$error":"#VALUE!"},{"$error":"#VALUE!"},{"$error":"#VALUE!"},{"$error":"#VALUE!"},{"$error":"#VALUE!"},{"$error":"#VALUE!"},{"$f":"IF(SUM(BA$1262:BA2376)>0,0,IF(MAX(AT2377:AT$2702)=MAX(AT$1262:AT$2702),0,IF(AR2377>0.03*AL$2703,0,$C2377/60)))","v":{"$error":"#VALUE!"}},{"$f":"IF(SUM(BB$1262:BB2376)>0,0,IF(MAX(AT2377:AT$2702)=MAX(AT$1262:AT$2702),0,IF(AR2377>0.01*AL$2703,0,$C2377/60)))","v":{"$error":"#VALUE!"}},0,0,0,0,{"$error":"#VALUE!"},{"$error":"#VALUE!"},{"$error":"#VALUE!"},{"$error":"#VALUE!"},{"$error":"#VALUE!"},{"$error":"#VALUE!"},{"$error":"#VALUE!"},{"$error":"#VALUE!"},{"$error":"#VALUE!"},{"$error":"#VALUE!"},{"$error":"#VALUE!"},{"$f":"IF(SUM(BR$1262:BR2376)>0,0,IF(MAX(BK2377:BK$2702)=MAX(BK$1262:BK$2702),0,IF(BI2377>0.03*BC$2703,0,$C2377/60)))","v":{"$error":"#VALUE!"}},{"$f":"IF(SUM(BS$1262:BS2376)>0,0,IF(MAX(BK2377:BK$2702)=MAX(BK$1262:BK$2702),0,IF(BI2377>0.01*BC$2703,0,$C2377/60)))","v":{"$error":"#VALUE!"}},0,0,0,0,{"$error":"#VALUE!"},{"$error":"#VALUE!"},{"$error":"#VALUE!"},{"$error":"#VALUE!"},{"$error":"#VALUE!"},{"$error":"#VALUE!"},{"$error":"#VALUE!"},{"$error":"#VALUE!"},{"$error":"#VALUE!"},{"$error":"#VALUE!"},{"$error":"#VALUE!"},{"$f":"IF(SUM(CI$1262:CI2376)>0,0,IF(MAX(CB2377:CB$2702)=MAX(CB$1262:CB$2702),0,IF(BZ2377>0.03*BT$2703,0,$C2377/60)))","v":{"$error":"#VALUE!"}},{"$f":"IF(SUM(CJ$1262:CJ2376)>0,0,IF(MAX(CB2377:CB$2702)=MAX(CB$1262:CB$2702),0,IF(BZ2377>0.01*BT$2703,0,$C2377/60)))","v":{"$error":"#VALUE!"}},0,0,0,0,{"$error":"#VALUE!"},{"$error":"#VALUE!"},{"$error":"#VALUE!"},{"$error":"#VALUE!"},{"$error":"#VALUE!"},{"$error":"#VALUE!"},{"$error":"#VALUE!"},{"$error":"#VALUE!"},{"$error":"#VALUE!"},{"$error":"#VALUE!"},{"$error":"#VALUE!"},{"$f":"IF(SUM(CZ$1262:CZ2376)>0,0,IF(MAX(CS2377:CS$2702)=MAX(CS$1262:CS$2702),0,IF(CQ2377>0.03*CK$2703,0,$C2377/60)))","v":{"$error":"#VALUE!"}},{"$f":"IF(SUM(DA$1262:DA2376)>0,0,IF(MAX(CS2377:CS$2702)=MAX(CS$1262:CS$2702),0,IF(CQ2377>0.01*CK$2703,0,$C2377/60)))","v":{"$error":"#VALUE!"}}]
[null,93.25,5595,0,0,0,0,0,0,0,0,0,{"$error":"#N/A"},{"$error":"#N/A"},{"$error":"#N/A"},{"$error":"#N/A"},{"$error":"#N/A"},{"$error":"#N/A"},{"$f":"IF(SUM(S$1262:S2380)>0,0,\nIF(MAX(L2381:L$2702)=MAX(L$1262:L$2702),0,\nIF(Hydrograph_Source_WQCV=\"USER\",IF(J2381>0.03*D$2703,0,$C2381/60),\nIF(J2381>0.03*J$2703,0,$C2381/60))))","v":0},{"$f":"IF(SUM(T$1262:T2380)>0,0,\nIF(MAX(L2381:L$2702)=MAX(L$1262:L$2702),0,\nIF(Hydrograph_Source_WQCV=\"USER\",IF(J2381>0.01*D$2703,0,$C2381/60),\nIF(J2381>0.01*J$2703,0,$C2381/60))))","v":0},0,0,0,0,{"$error":"#VALUE!"},{"$error":"#VALUE!"},{"$error":"#VALUE!"},{"$error":"#VALUE!"},{"$error":"#VALUE!"},{"$error":"#VALUE!"},{"$error":"#VALUE!"},{"$error":"#VALUE!"},{"$error":"#VALUE!"},{"$error":"#VALUE!"},{"$error":"#VALUE!"},{"$f":"IF(SUM(AJ$1262:AJ2380)>0,0,IF(MAX(AC2381:AC$2702)=MAX(AC$1262:AC$2702),0,IF(AA2381>0.03*U$2703,0,$C2381/60)))","v":{"$error":"#VALUE!"}},{"$f":"IF(SUM(AK$1262:AK2380)>0,0,IF(MAX(AC2381:AC$2702)=MAX(AC$1262:AC$2702),0,IF(AA2381>0.01*U$2703,0,$C2381/60)))","v":{"$error":"#VALUE!"}},0,0,0,0,{"$error":"#VALUE!"},{"$error":"#VALUE!"},{"$error":"#VALUE!"},{"$error":"#VALUE!"},{"$error":"#VALUE!"},{"$error":"#VALUE!"},{"$error":"#VALUE!"},{"$error":"#VALUE!"},{"$error":"#VALUE!"},{"$error":"#VALUE!"},{"$error":"#VALUE!"},{"$f":"IF(SUM(BA$1262:BA2380)>0,0,IF(MAX(AT2381:AT$2702)=MAX(AT$1262:AT$2702),0,IF(AR2381>0.03*AL$2703,0,$C2381/60)))","v":{"$error":"#VALUE!"}},{"$f":"IF(SUM(BB$1262:BB2380)>0,0,IF(MAX(AT2381:AT$2702)=MAX(AT$1262:AT$2702),0,IF(AR2381>0.01*AL$2703,0,$C2381/60)))","v":{"$error":"#VALUE!"}},0,0,0,0,{"$error":"#VALUE!"},{"$error":"#VALUE!"},{"$error":"#VALUE!"},{"$error":"#VALUE!"},{"$error":"#VALUE!"},{"$error":"#VALUE!"},{"$error":"#VALUE!"},{"$error":"#VALUE!"},{"$error":"#VALUE!"},{"$error":"#VALUE!"},{"$error":"#VALUE!"},{"$f":"IF(SUM(BR$1262:BR2380)>0,0,IF(MAX(BK2381:BK$2702)=MAX(BK$1262:BK$2702),0,IF(BI2381>0.03*BC$2703,0,$C2381/60)))","v":{"$error":"#VALUE!"}},{"$f":"IF(SUM(BS$1262:BS2380)>0,0,IF(MAX(BK2381:BK$2702)=MAX(BK$1262:BK$2702),0,IF(BI2381>0.01*BC$2703,0,$C2381/60)))","v":{"$error":"#VALUE!"}},0,0,0,0,{"$error":"#VALUE!"},{"$error":"#VALUE!"},{"$error":"#VALUE!"},{"$error":"#VALUE!"},{"$error":"#VALUE!"},{"$error":"#VALUE!"},{"$error":"#VALUE!"},{"$error":"#VALUE!"},{"$error":"#VALUE!"},{"$error":"#VALUE!"},{"$error":"#VALUE!"},{"$f":"IF(SUM(CI$1262:CI2380)>0,0,IF(MAX(CB2381:CB$2702)=MAX(CB$1262:CB$2702),0,IF(BZ2381>0.03*BT$2703,0,$C2381/60)))","v":{"$error":"#VALUE!"}},{"$f":"IF(SUM(CJ$1262:CJ2380)>0,0,IF(MAX(CB2381:CB$2702)=MAX(CB$1262:CB$2702),0,IF(BZ2381>0.01*BT$2703,0,$C2381/60)))","v":{"$error":"#VALUE!"}},0,0,0,0,{"$error":"#VALUE!"},{"$error":"#VALUE!"},{"$error":"#VALUE!"},{"$error":"#VALUE!"},{"$error":"#VALUE!"},{"$error":"#VALUE!"},{"$error":"#VALUE!"},{"$error":"#VALUE!"},{"$error":"#VALUE!"},{"$error":"#VALUE!"},{"$error":"#VALUE!"},{"$f":"IF(SUM(CZ$1262:CZ2380)>0,0,IF(MAX(CS2381:CS$2702)=MAX(CS$1262:CS$2702),0,IF(CQ2381>0.03*CK$2703,0,$C2381/60)))","v":{"$error":"#VALUE!"}},{"$f":"IF(SUM(DA$1262:DA2380)>0,0,IF(MAX(CS2381:CS$2702)=MAX(CS$1262:CS$2702),0,IF(CQ2381>0.01*CK$2703,0,$C2381/60)))","v":{"$error":"#VALUE!"}}]
[null,93.666666666666671,5620,0,0,0,0,0,0,0,0,0,{"$error":"#N/A"},{"$error":"#N/A"},{"$error":"#N/A"},{"$error":"#N/A"},{"$error":"#N/A"},{"$error":"#N/A"},{"$f":"IF(SUM(S$1262:S2385)>0,0,\nIF(MAX(L2386:L$2702)=MAX(L$1262:L$2702),0,\nIF(Hydrograph_Source_WQCV=\"USER\",IF(J2386>0.03*D$2703,0,$C2386/60),\nIF(J2386>0.03*J$2703,0,$C2386/60))))","v":0},{"$f":"IF(SUM(T$1262:T2385)>0,0,\nIF(MAX(L2386:L$2702)=MAX(L$1262:L$2702),0,\nIF(Hydrograph_Source_WQCV=\"USER\",IF(J2386>0.01*D$2703,0,$C2386/60),\nIF(J2386>0.01*J$2703,0,$C2386/60))))","v":0},0,0,0,0,{"$error":"#VALUE!"},{"$error":"#VALUE!"},{"$error":"#VALUE!"},{"$error":"#VALUE!"},{"$error":"#VALUE!"},{"$error":"#VALUE!"},{"$error":"#VALUE!"},{"$error":"#VALUE!"},{"$error":"#VALUE!"},{"$error":"#VALUE!"},{"$error":"#VALUE!"},{"$f":"IF(SUM(AJ$1262:AJ2385)>0,0,IF(MAX(AC2386:AC$2702)=MAX(AC$1262:AC$2702),0,IF(AA2386>0.03*U$2703,0,$C2386/60)))","v":{"$error":"#VALUE!"}},{"$f":"IF(SUM(AK$1262:AK2385)>0,0,IF(MAX(AC2386:AC$2702)=MAX(AC$1262:AC$2702),0,IF(AA2386>0.01*U$2703,0,$C2386/60)))","v":{"$error":"#VALUE!"}},0,0,0,0,{"$error":"#VALUE!"},{"$error":"#VALUE!"},{"$error":"#VALUE!"},{"$error":"#VALUE!"},{"$error":"#VALUE!"},{"$error":"#VALUE!"},{"$error":"#VALUE!"},{"$error":"#VALUE!"},{"$error":"#VALUE!"},{"$error":"#VALUE!"},{"$error":"#VALUE!"},{"$f":"IF(SUM(BA$1262:BA2385)>0,0,IF(MAX(AT2386:AT$2702)=MAX(AT$1262:AT$2702),0,IF(AR2386>0.03*AL$2703,0,$C2386/60)))","v":{"$error":"#VALUE!"}},{"$f":"IF(SUM(BB$1262:BB2385)>0,0,IF(MAX(AT2386:AT$2702)=MAX(AT$1262:AT$2702),0,IF(AR2386>0.01*AL$2703,0,$C2386/60)))","v":{"$error":"#VALUE!"}},0,0,0,0,{"$error":"#VALUE!"},{"$error":"#VALUE!"},{"$error":"#VALUE!"},{"$error":"#VALUE!"},{"$error":"#VALUE!"},{"$error":"#VALUE!"},{"$error":"#VALUE!"},{"$error":"#VALUE!"},{"$error":"#VALUE!"},{"$error":"#VALUE!"},{"$error":"#VALUE!"},{"$f":"IF(SUM(BR$1262:BR2385)>0,0,IF(MAX(BK2386:BK$2702)=MAX(BK$1262:BK$2702),0,IF(BI2386>0.03*BC$2703,0,$C2386/60)))","v":{"$error":"#VALUE!"}},{"$f":"IF(SUM(BS$1262:BS2385)>0,0,IF(MAX(BK2386:BK$2702)=MAX(BK$1262:BK$2702),0,IF(BI2386>0.01*BC$2703,0,$C2386/60)))","v":{"$error":"#VALUE!"}},0,0,0,0,{"$error":"#VALUE!"},{"$error":"#VALUE!"},{"$error":"#VALUE!"},{"$error":"#VALUE!"},{"$error":"#VALUE!"},{"$error":"#VALUE!"},{"$error":"#VALUE!"},{"$error":"#VALUE!"},{"$error":"#VALUE!"},{"$error":"#VALUE!"},{"$error":"#VALUE!"},{"$f":"IF(SUM(CI$1262:CI2385)>0,0,IF(MAX(CB2386:CB$2702)=MAX(CB$1262:CB$2702),0,IF(BZ2386>0.03*BT$2703,0,$C2386/60)))","v":{"$error":"#VALUE!"}},{"$f":"IF(SUM(CJ$1262:CJ2385)>0,0,IF(MAX(CB2386:CB$2702)=MAX(CB$1262:CB$2702),0,IF(BZ2386>0.01*BT$2703,0,$C2386/60)))","v":{"$error":"#VALUE!"}},0,0,0,0,{"$error":"#VALUE!"},{"$error":"#VALUE!"},{"$error":"#VALUE!"},{"$error":"#VALUE!"},{"$error":"#VALUE!"},{"$error":"#VALUE!"},{"$error":"#VALUE!"},{"$error":"#VALUE!"},{"$error":"#VALUE!"},{"$error":"#VALUE!"},{"$error":"#VALUE!"},{"$f":"IF(SUM(CZ$1262:CZ2385)>0,0,IF(MAX(CS2386:CS$2702)=MAX(CS$1262:CS$2702),0,IF(CQ2386>0.03*CK$2703,0,$C2386/60)))","v":{"$error":"#VALUE!"}},{"$f":"IF(SUM(DA$1262:DA2385)>0,0,IF(MAX(CS2386:CS$2702)=MAX(CS$1262:CS$2702),0,IF(CQ2386>0.01*CK$2703,0,$C2386/60)))","v":{"$error":"#VALUE!"}}]
[null,94.083333333333329,5645,0,0,0,0,0,0,0,0,0,{"$error":"#N/A"},{"$error":"#N/A"},{"$error":"#N/A"},{"$error":"#N/A"},{"$error":"#N/A"},{"$error":"#N/A"},{"$f":"IF(SUM(S$1262:S2390)>0,0,\nIF(MAX(L2391:L$2702)=MAX(L$1262:L$2702),0,\nIF(Hydrograph_Source_WQCV=\"USER\",IF(J2391>0.03*D$2703,0,$C2391/60),\nIF(J2391>0.03*J$2703,0,$C2391/60))))","v":0},{"$f":"IF(SUM(T$1262:T2390)>0,0,\nIF(MAX(L2391:L$2702)=MAX(L$1262:L$2702),0,\nIF(Hydrograph_Source_WQCV=\"USER\",IF(J2391>0.01*D$2703,0,$C2391/60),\nIF(J2391>0.01*J$2703,0,$C2391/60))))","v":0},0,0,0,0,{"$error":"#VALUE!"},{"$error":"#VALUE!"},{"$error":"#VALUE!"},{"$error":"#VALUE!"},{"$error":"#VALUE!"},{"$error":"#VALUE!"},{"$error":"#VALUE!"},{"$error":"#VALUE!"},{"$error":"#VALUE!"},{"$error":"#VALUE!"},{"$error":"#VALUE!"},{"$f":"IF(SUM(AJ$1262:AJ2390)>0,0,IF(MAX(AC2391:AC$2702)=MAX(AC$1262:AC$2702),0,IF(AA2391>0.03*U$2703,0,$C2391/60)))","v":{"$error":"#VALUE!"}},{"$f":"IF(SUM(AK$1262:AK2390)>0,0,IF(MAX(AC2391:AC$2702)=MAX(AC$1262:AC$2702),0,IF(AA2391>0.01*U$2703,0,$C2391/60)))","v":{"$error":"#VALUE!"}},0,0,0,0,{"$error":"#VALUE!"},{"$error":"#VALUE!"},{"$error":"#VALUE!"},{"$error":"#VALUE!"},{"$error":"#VALUE!"},{"$error":"#VALUE!"},{"$error":"#VALUE!"},{"$error":"#VALUE!"},{"$error":"#VALUE!"},{"$error":"#VALUE!"},{"$error":"#VALUE!"},{"$f":"IF(SUM(BA$1262:BA2390)>0,0,IF(MAX(AT2391:AT$2702)=MAX(AT$1262:AT$2702),0,IF(AR2391>0.03*AL$2703,0,$C2391/60)))","v":{"$error":"#VALUE!"}},{"$f":"IF(SUM(BB$1262:BB2390)>0,0,IF(MAX(AT2391:AT$2702)=MAX(AT$1262:AT$2702),0,IF(AR2391>0.01*AL$2703,0,$C2391/60)))","v":{"$error":"#VALUE!"}},0,0,0,0,{"$error":"#VALUE!"},{"$error":"#VALUE!"},{"$error":"#VALUE!"},{"$error":"#VALUE!"},{"$error":"#VALUE!"},{"$error":"#VALUE!"},{"$error":"#VALUE!"},{"$error":"#VALUE!"},{"$error":"#VALUE!"},{"$error":"#VALUE!"},{"$error":"#VALUE!"},{"$f":"IF(SUM(BR$1262:BR2390)>0,0,IF(MAX(BK2391:BK$2702)=MAX(BK$1262:BK$2702),0,IF(BI2391>0.03*BC$2703,0,$C2391/60)))","v":{"$error":"#VALUE!"}},{"$f":"IF(SUM(BS$1262:BS2390)>0,0,IF(MAX(BK2391:BK$2702)=MAX(BK$1262:BK$2702),0,IF(BI2391>0.01*BC$2703,0,$C2391/60)))","v":{"$error":"#VALUE!"}},0,0,0,0,{"$error":"#VALUE!"},{"$error":"#VALUE!"},{"$error":"#VALUE!"},{"$error":"#VALUE!"},{"$error":"#VALUE!"},{"$error":"#VALUE!"},{"$error":"#VALUE!"},{"$error":"#VALUE!"},{"$error":"#VALUE!"},{"$error":"#VALUE!"},{"$error":"#VALUE!"},{"$f":"IF(SUM(CI$1262:CI2390)>0,0,IF(MAX(CB2391:CB$2702)=MAX(CB$1262:CB$2702),0,IF(BZ2391>0.03*BT$2703,0,$C2391/60)))","v":{"$error":"#VALUE!"}},{"$f":"IF(SUM(CJ$1262:CJ2390)>0,0,IF(MAX(CB2391:CB$2702)=MAX(CB$1262:CB$2702),0,IF(BZ2391>0.01*BT$2703,0,$C2391/60)))","v":{"$error":"#VALUE!"}},0,0,0,0,{"$error":"#VALUE!"},{"$error":"#VALUE!"},{"$error":"#VALUE!"},{"$error":"#VALUE!"},{"$error":"#VALUE!"},{"$error":"#VALUE!"},{"$error":"#VALUE!"},{"$error":"#VALUE!"},{"$error":"#VALUE!"},{"$error":"#VALUE!"},{"$error":"#VALUE!"},{"$f":"IF(SUM(CZ$1262:CZ2390)>0,0,IF(MAX(CS2391:CS$2702)=MAX(CS$1262:CS$2702),0,IF(CQ2391>0.03*CK$2703,0,$C2391/60)))","v":{"$error":"#VALUE!"}},{"$f":"IF(SUM(DA$1262:DA2390)>0,0,IF(MAX(CS2391:CS$2702)=MAX(CS$1262:CS$2702),0,IF(CQ2391>0.01*CK$2703,0,$C2391/60)))","v":{"$error":"#VALUE!"}}]
[null,94.25,5655,0,0,0,0,0,0,0,0,0,{"$error":"#N/A"},{"$error":"#N/A"},{"$error":"#N/A"},{"$error":"#N/A"},{"$error":"#N/A"},{"$error":"#N/A"},{"$f":"IF(SUM(S$1262:S2392)>0,0,\nIF(MAX(L2393:L$2702)=MAX(L$1262:L$2702),0,\nIF(Hydrograph_Source_WQCV=\"USER\",IF(J2393>0.03*D$2703,0,$C2393/60),\nIF(J2393>0.03*J$2703,0,$C2393/60))))","v":0},{"$f":"IF(SUM(T$1262:T2392)>0,0,\nIF(MAX(L2393:L$2702)=MAX(L$1262:L$2702),0,\nIF(Hydrograph_Source_WQCV=\"USER\",IF(J2393>0.01*D$2703,0,$C2393/60),\nIF(J2393>0.01*J$2703,0,$C2393/60))))","v":0},0,0,0,0,{"$error":"#VALUE!"},{"$error":"#VALUE!"},{"$error":"#VALUE!"},{"$error":"#VALUE!"},{"$error":"#VALUE!"},{"$error":"#VALUE!"},{"$error":"#VALUE!"},{"$error":"#VALUE!"},{"$error":"#VALUE!"},{"$error":"#VALUE!"},{"$error":"#VALUE!"},{"$f":"IF(SUM(AJ$1262:AJ2392)>0,0,IF(MAX(AC2393:AC$2702)=MAX(AC$1262:AC$2702),0,IF(AA2393>0.03*U$2703,0,$C2393/60)))","v":{"$error":"#VALUE!"}},{"$f":"IF(SUM(AK$1262:AK2392)>0,0,IF(MAX(AC2393:AC$2702)=MAX(AC$1262:AC$2702),0,IF(AA2393>0.01*U$2703,0,$C2393/60)))","v":{"$error":"#VALUE!"}},0,0,0,0,{"$error":"#VALUE!"},{"$error":"#VALUE!"},{"$error":"#VALUE!"},{"$error":"#VALUE!"},{"$error":"#VALUE!"},{"$error":"#VALUE!"},{"$error":"#VALUE!"},{"$error":"#VALUE!"},{"$error":"#VALUE!"},{"$error":"#VALUE!"},{"$error":"#VALUE!"},{"$f":"IF(SUM(BA$1262:BA2392)>0,0,IF(MAX(AT2393:AT$2702)=MAX(AT$1262:AT$2702),0,IF(AR2393>0.03*AL$2703,0,$C2393/60)))","v":{"$error":"#VALUE!"}},{"$f":"IF(SUM(BB$1262:BB2392)>0,0,IF(MAX(AT2393:AT$2702)=MAX(AT$1262:AT$2702),0,IF(AR2393>0.01*AL$2703,0,$C2393/60)))","v":{"$error":"#VALUE!"}},0,0,0,0,{"$error":"#VALUE!"},{"$error":"#VALUE!"},{"$error":"#VALUE!"},{"$error":"#VALUE!"},{"$error":"#VALUE!"},{"$error":"#VALUE!"},{"$error":"#VALUE!"},{"$error":"#VALUE!"},{"$error":"#VALUE!"},{"$error":"#VALUE!"},{"$error":"#VALUE!"},{"$f":"IF(SUM(BR$1262:BR2392)>0,0,IF(MAX(BK2393:BK$2702)=MAX(BK$1262:BK$2702),0,IF(BI2393>0.03*BC$2703,0,$C2393/60)))","v":{"$error":"#VALUE!"}},{"$f":"IF(SUM(BS$1262:BS2392)>0,0,IF(MAX(BK2393:BK$2702)=MAX(BK$1262:BK$2702),0,IF(BI2393>0.01*BC$2703,0,$C2393/60)))","v":{"$error":"#VALUE!"}},0,0,0,0,{"$error":"#VALUE!"},{"$error":"#VALUE!"},{"$error":"#VALUE!"},{"$error":"#VALUE!"},{"$error":"#VALUE!"},{"$error":"#VALUE!"},{"$error":"#VALUE!"},{"$error":"#VALUE!"},{"$error":"#VALUE!"},{"$error":"#VALUE!"},{"$error":"#VALUE!"},{"$f":"IF(SUM(CI$1262:CI2392)>0,0,IF(MAX(CB2393:CB$2702)=MAX(CB$1262:CB$2702),0,IF(BZ2393>0.03*BT$2703,0,$C2393/60)))","v":{"$error":"#VALUE!"}},{"$f":"IF(SUM(CJ$1262:CJ2392)>0,0,IF(MAX(CB2393:CB$2702)=MAX(CB$1262:CB$2702),0,IF(BZ2393>0.01*BT$2703,0,$C2393/60)))","v":{"$error":"#VALUE!"}},0,0,0,0,{"$error":"#VALUE!"},{"$error":"#VALUE!"},{"$error":"#VALUE!"},{"$error":"#VALUE!"},{"$error":"#VALUE!"},{"$error":"#VALUE!"},{"$error":"#VALUE!"},{"$error":"#VALUE!"},{"$error":"#VALUE!"},{"$error":"#VALUE!"},{"$error":"#VALUE!"},{"$f":"IF(SUM(CZ$1262:CZ2392)>0,0,IF(MAX(CS2393:CS$2702)=MAX(CS$1262:CS$2702),0,IF(CQ2393>0.03*CK$2703,0,$C2393/60)))","v":{"$error":"#VALUE!"}},{"$f":"IF(SUM(DA$1262:DA2392)>0,0,IF(MAX(CS2393:CS$2702)=MAX(CS$1262:CS$2702),0,IF(CQ2393>0.01*CK$2703,0,$C2393/60)))","v":{"$error":"#VALUE!"}}]
[null,94.666666666666671,5680,0,0,0,0,0,0,0,0,0,{"$error":"#N/A"},{"$error":"#N/A"},{"$error":"#N/A"},{"$error":"#N/A"},{"$error":"#N/A"},{"$error":"#N/A"},{"$f":"IF(SUM(S$1262:S2397)>0,0,\nIF(MAX(L2398:L$2702)=MAX(L$1262:L$2702),0,\nIF(Hydrograph_Source_WQCV=\"USER\",IF(J2398>0.03*D$2703,0,$C2398/60),\nIF(J2398>0.03*J$2703,0,$C2398/60))))","v":0},{"$f":"IF(SUM(T$1262:T2397)>0,0,\nIF(MAX(L2398:L$2702)=MAX(L$1262:L$2702),0,\nIF(Hydrograph_Source_WQCV=\"USER\",IF(J2398>0.01*D$2703,0,$C2398/60),\nIF(J2398>0.01*J$2703,0,$C2398/60))))","v":0},0,0,0,0,{"$error":"#VALUE!"},{"$error":"#VALUE!"},{"$error":"#VALUE!"},{"$error":"#VALUE!"},{"$error":"#VALUE!"},{"$error":"#VALUE!"},{"$error":"#VALUE!"},{"$error":"#VALUE!"},{"$error":"#VALUE!"},{"$error":"#VALUE!"},{"$error":"#VALUE!"},{"$f":"IF(SUM(AJ$1262:AJ2397)>0,0,IF(MAX(AC2398:AC$2702)=MAX(AC$1262:AC$2702),0,IF(AA2398>0.03*U$2703,0,$C2398/60)))","v":{"$error":"#VALUE!"}},{"$f":"IF(SUM(AK$1262:AK2397)>0,0,IF(MAX(AC2398:AC$2702)=MAX(AC$1262:AC$2702),0,IF(AA2398>0.01*U$2703,0,$C2398/60)))","v":{"$error":"#VALUE!"}},0,0,0,0,{"$error":"#VALUE!"},{"$error":"#VALUE!"},{"$error":"#VALUE!"},{"$error":"#VALUE!"},{"$error":"#VALUE!"},{"$error":"#VALUE!"},{"$error":"#VALUE!"},{"$error":"#VALUE!"},{"$error":"#VALUE!"},{"$error":"#VALUE!"},{"$error":"#VALUE!"},{"$f":"IF(SUM(BA$1262:BA2397)>0,0,IF(MAX(AT2398:AT$2702)=MAX(AT$1262:AT$2702),0,IF(AR2398>0.03*AL$2703,0,$C2398/60)))","v":{"$error":"#VALUE!"}},{"$f":"IF(SUM(BB$1262:BB2397)>0,0,IF(MAX(AT2398:AT$2702)=MAX(AT$1262:AT$2702),0,IF(AR2398>0.01*AL$2703,0,$C2398/60)))","v":{"$error":"#VALUE!"}},0,0,0,0,{"$error":"#VALUE!"},{"$error":"#VALUE!"},{"$error":"#VALUE!"},{"$error":"#VALUE!"},{"$error":"#VALUE!"},{"$error":"#VALUE!"},{"$error":"#VALUE!"},{"$error":"#VALUE!"},{"$error":"#VALUE!"},{"$error":"#VALUE!"},{"$error":"#VALUE!"},{"$f":"IF(SUM(BR$1262:BR2397)>0,0,IF(MAX(BK2398:BK$2702)=MAX(BK$1262:BK$2702),0,IF(BI2398>0.03*BC$2703,0,$C2398/60)))","v":{"$error":"#VALUE!"}},{"$f":"IF(SUM(BS$1262:BS2397)>0,0,IF(MAX(BK2398:BK$2702)=MAX(BK$1262:BK$2702),0,IF(BI2398>0.01*BC$2703,0,$C2398/60)))","v":{"$error":"#VALUE!"}},0,0,0,0,{"$error":"#VALUE!"},{"$error":"#VALUE!"},{"$error":"#VALUE!"},{"$error":"#VALUE!"},{"$error":"#VALUE!"},{"$error":"#VALUE!"},{"$error":"#VALUE!"},{"$error":"#VALUE!"},{"$error":"#VALUE!"},{"$error":"#VALUE!"},{"$error":"#VALUE!"},{"$f":"IF(SUM(CI$1262:CI2397)>0,0,IF(MAX(CB2398:CB$2702)=MAX(CB$1262:CB$2702),0,IF(BZ2398>0.03*BT$2703,0,$C2398/60)))","v":{"$error":"#VALUE!"}},{"$f":"IF(SUM(CJ$1262:CJ2397)>0,0,IF(MAX(CB2398:CB$2702)=MAX(CB$1262:CB$2702),0,IF(BZ2398>0.01*BT$2703,0,$C2398/60)))","v":{"$error":"#VALUE!"}},0,0,0,0,{"$error":"#VALUE!"},{"$error":"#VALUE!"},{"$error":"#VALUE!"},{"$error":"#VALUE!"},{"$error":"#VALUE!"},{"$error":"#VALUE!"},{"$error":"#VALUE!"},{"$error":"#VALUE!"},{"$error":"#VALUE!"},{"$error":"#VALUE!"},{"$error":"#VALUE!"},{"$f":"IF(SUM(CZ$1262:CZ2397)>0,0,IF(MAX(CS2398:CS$2702)=MAX(CS$1262:CS$2702),0,IF(CQ2398>0.03*CK$2703,0,$C2398/60)))","v":{"$error":"#VALUE!"}},{"$f":"IF(SUM(DA$1262:DA2397)>0,0,IF(MAX(CS2398:CS$2702)=MAX(CS$1262:CS$2702),0,IF(CQ2398>0.01*CK$2703,0,$C2398/60)))","v":{"$error":"#VALUE!"}}]
[null,95.25,5715,0,0,0,0,0,0,0,0,0,{"$error":"#N/A"},{"$error":"#N/A"},{"$error":"#N/A"},{"$error":"#N/A"},{"$error":"#N/A"},{"$error":"#N/A"},{"$f":"IF(SUM(S$1262:S2404)>0,0,\nIF(MAX(L2405:L$2702)=MAX(L$1262:L$2702),0,\nIF(Hydrograph_Source_WQCV=\"USER\",IF(J2405>0.03*D$2703,0,$C2405/60),\nIF(J2405>0.03*J$2703,0,$C2405/60))))","v":0},{"$f":"IF(SUM(T$1262:T2404)>0,0,\nIF(MAX(L2405:L$2702)=MAX(L$1262:L$2702),0,\nIF(Hydrograph_Source_WQCV=\"USER\",IF(J2405>0.01*D$2703,0,$C2405/60),\nIF(J2405>0.01*J$2703,0,$C2405/60))))","v":0},0,0,0,0,{"$error":"#VALUE!"},{"$error":"#VALUE!"},{"$error":"#VALUE!"},{"$error":"#VALUE!"},{"$error":"#VALUE!"},{"$error":"#VALUE!"},{"$error":"#VALUE!"},{"$error":"#VALUE!"},{"$error":"#VALUE!"},{"$error":"#VALUE!"},{"$error":"#VALUE!"},{"$f":"IF(SUM(AJ$1262:AJ2404)>0,0,IF(MAX(AC2405:AC$2702)=MAX(AC$1262:AC$2702),0,IF(AA2405>0.03*U$2703,0,$C2405/60)))","v":{"$error":"#VALUE!"}},{"$f":"IF(SUM(AK$1262:AK2404)>0,0,IF(MAX(AC2405:AC$2702)=MAX(AC$1262:AC$2702),0,IF(AA2405>0.01*U$2703,0,$C2405/60)))","v":{"$error":"#VALUE!"}},0,0,0,0,{"$error":"#VALUE!"},{"$error":"#VALUE!"},{"$error":"#VALUE!"},{"$error":"#VALUE!"},{"$error":"#VALUE!"},{"$error":"#VALUE!"},{"$error":"#VALUE!"},{"$error":"#VALUE!"},{"$error":"#VALUE!"},{"$error":"#VALUE!"},{"$error":"#VALUE!"},{"$f":"IF(SUM(BA$1262:BA2404)>0,0,IF(MAX(AT2405:AT$2702)=MAX(AT$1262:AT$2702),0,IF(AR2405>0.03*AL$2703,0,$C2405/60)))","v":{"$error":"#VALUE!"}},{"$f":"IF(SUM(BB$1262:BB2404)>0,0,IF(MAX(AT2405:AT$2702)=MAX(AT$1262:AT$2702),0,IF(AR2405>0.01*AL$2703,0,$C2405/60)))","v":{"$error":"#VALUE!"}},0,0,0,0,{"$error":"#VALUE!"},{"$error":"#VALUE!"},{"$error":"#VALUE!"},{"$error":"#VALUE!"},{"$error":"#VALUE!"},{"$error":"#VALUE!"},{"$error":"#VALUE!"},{"$error":"#VALUE!"},{"$error":"#VALUE!"},{"$error":"#VALUE!"},{"$error":"#VALUE!"},{"$f":"IF(SUM(BR$1262:BR2404)>0,0,IF(MAX(BK2405:BK$2702)=MAX(BK$1262:BK$2702),0,IF(BI2405>0.03*BC$2703,0,$C2405/60)))","v":{"$error":"#VALUE!"}},{"$f":"IF(SUM(BS$1262:BS2404)>0,0,IF(MAX(BK2405:BK$2702)=MAX(BK$1262:BK$2702),0,IF(BI2405>0.01*BC$2703,0,$C2405/60)))","v":{"$error":"#VALUE!"}},0,0,0,0,{"$error":"#VALUE!"},{"$error":"#VALUE!"},{"$error":"#VALUE!"},{"$error":"#VALUE!"},{"$error":"#VALUE!"},{"$error":"#VALUE!"},{"$error":"#VALUE!"},{"$error":"#VALUE!"},{"$error":"#VALUE!"},{"$error":"#VALUE!"},{"$error":"#VALUE!"},{"$f":"IF(SUM(CI$1262:CI2404)>0,0,IF(MAX(CB2405:CB$2702)=MAX(CB$1262:CB$2702),0,IF(BZ2405>0.03*BT$2703,0,$C2405/60)))","v":{"$error":"#VALUE!"}},{"$f":"IF(SUM(CJ$1262:CJ2404)>0,0,IF(MAX(CB2405:CB$2702)=MAX(CB$1262:CB$2702),0,IF(BZ2405>0.01*BT$2703,0,$C2405/60)))","v":{"$error":"#VALUE!"}},0,0,0,0,{"$error":"#VALUE!"},{"$error":"#VALUE!"},{"$error":"#VALUE!"},{"$error":"#VALUE!"},{"$error":"#VALUE!"},{"$error":"#VALUE!"},{"$error":"#VALUE!"},{"$error":"#VALUE!"},{"$error":"#VALUE!"},{"$error":"#VALUE!"},{"$error":"#VALUE!"},{"$f":"IF(SUM(CZ$1262:CZ2404)>0,0,IF(MAX(CS2405:CS$2702)=MAX(CS$1262:CS$2702),0,IF(CQ2405>0.03*CK$2703,0,$C2405/60)))","v":{"$error":"#VALUE!"}},{"$f":"IF(SUM(DA$1262:DA2404)>0,0,IF(MAX(CS2405:CS$2702)=MAX(CS$1262:CS$2702),0,IF(CQ2405>0.01*CK$2703,0,$C2405/60)))","v":{"$error":"#VALUE!"}}]
[null,95.583333333333329,5735,0,0,0,0,0,0,0,0,0,{"$error":"#N/A"},{"$error":"#N/A"},{"$error":"#N/A"},{"$error":"#N/A"},{"$error":"#N/A"},{"$error":"#N/A"},{"$f":"IF(SUM(S$1262:S2408)>0,0,\nIF(MAX(L2409:L$2702)=MAX(L$1262:L$2702),0,\nIF(Hydrograph_Source_WQCV=\"USER\",IF(J2409>0.03*D$2703,0,$C2409/60),\nIF(J2409>0.03*J$2703,0,$C2409/60))))","v":0},{"$f":"IF(SUM(T$1262:T2408)>0,0,\nIF(MAX(L2409:L$2702)=MAX(L$1262:L$2702),0,\nIF(Hydrograph_Source_WQCV=\"USER\",IF(J2409>0.01*D$2703,0,$C2409/60),\nIF(J2409>0.01*J$2703,0,$C2409/60))))","v":0},0,0,0,0,{"$error":"#VALUE!"},{"$error":"#VALUE!"},{"$error":"#VALUE!"},{"$error":"#VALUE!"},{"$error":"#VALUE!"},{"$error":"#VALUE!"},{"$error":"#VALUE!"},{"$error":"#VALUE!"},{"$error":"#VALUE!"},{"$error":"#VALUE!"},{"$error":"#VALUE!"},{"$f":"IF(SUM(AJ$1262:AJ2408)>0,0,IF(MAX(AC2409:AC$2702)=MAX(AC$1262:AC$2702),0,IF(AA2409>0.03*U$2703,0,$C2409/60)))","v":{"$error":"#VALUE!"}},{"$f":"IF(SUM(AK$1262:AK2408)>0,0,IF(MAX(AC2409:AC$2702)=MAX(AC$1262:AC$2702),0,IF(AA2409>0.01*U$2703,0,$C2409/60)))","v":{"$error":"#VALUE!"}},0,0,0,0,{"$error":"#VALUE!"},{"$error":"#VALUE!"},{"$error":"#VALUE!"},{"$error":"#VALUE!"},{"$error":"#VALUE!"},{"$error":"#VALUE!"},{"$error":"#VALUE!"},{"$error":"#VALUE!"},{"$error":"#VALUE!"},{"$error":"#VALUE!"},{"$error":"#VALUE!"},{"$f":"IF(SUM(BA$1262:BA2408)>0,0,IF(MAX(AT2409:AT$2702)=MAX(AT$1262:AT$2702),0,IF(AR2409>0.03*AL$2703,0,$C2409/60)))","v":{"$error":"#VALUE!"}},{"$f":"IF(SUM(BB$1262:BB2408)>0,0,IF(MAX(AT2409:AT$2702)=MAX(AT$1262:AT$2702),0,IF(AR2409>0.01*AL$2703,0,$C2409/60)))","v":{"$error":"#VALUE!"}},0,0,0,0,{"$error":"#VALUE!"},{"$error":"#VALUE!"},{"$error":"#VALUE!"},{"$error":"#VALUE!"},{"$error":"#VALUE!"},{"$error":"#VALUE!"},{"$error":"#VALUE!"},{"$error":"#VALUE!"},{"$error":"#VALUE!"},{"$error":"#VALUE!"},{"$error":"#VALUE!"},{"$f":"IF(SUM(BR$1262:BR2408)>0,0,IF(MAX(BK2409:BK$2702)=MAX(BK$1262:BK$2702),0,IF(BI2409>0.03*BC$2703,0,$C2409/60)))","v":{"$error":"#VALUE!"}},{"$f":"IF(SUM(BS$1262:BS2408)>0,0,IF(MAX(BK2409:BK$2702)=MAX(BK$1262:BK$2702),0,IF(BI2409>0.01*BC$2703,0,$C2409/60)))","v":{"$error":"#VALUE!"}},0,0,0,0,{"$error":"#VALUE!"},{"$error":"#VALUE!"},{"$error":"#VALUE!"},{"$error":"#VALUE!"},{"$error":"#VALUE!"},{"$error":"#VALUE!"},{"$error":"#VALUE!"},{"$error":"#VALUE!"},{"$error":"#VALUE!"},{"$error":"#VALUE!"},{"$error":"#VALUE!"},{"$f":"IF(SUM(CI$1262:CI2408)>0,0,IF(MAX(CB2409:CB$2702)=MAX(CB$1262:CB$2702),0,IF(BZ2409>0.03*BT$2703,0,$C2409/60)))","v":{"$error":"#VALUE!"}},{"$f":"IF(SUM(CJ$1262:CJ2408)>0,0,IF(MAX(CB2409:CB$2702)=MAX(CB$1262:CB$2702),0,IF(BZ2409>0.01*BT$2703,0,$C2409/60)))","v":{"$error":"#VALUE!"}},0,0,0,0,{"$error":"#VALUE!"},{"$error":"#VALUE!"},{"$error":"#VALUE!"},{"$error":"#VALUE!"},{"$error":"#VALUE!"},{"$error":"#VALUE!"},{"$error":"#VALUE!"},{"$error":"#VALUE!"},{"$error":"#VALUE!"},{"$error":"#VALUE!"},{"$error":"#VALUE!"},{"$f":"IF(SUM(CZ$1262:CZ2408)>0,0,IF(MAX(CS2409:CS$2702)=MAX(CS$1262:CS$2702),0,IF(CQ2409>0.03*CK$2703,0,$C2409/60)))","v":{"$error":"#VALUE!"}},{"$f":"IF(SUM(DA$1262:DA2408)>0,0,IF(MAX(CS2409:CS$2702)=MAX(CS$1262:CS$2702),0,IF(CQ2409>0.01*CK$2703,0,$C2409/60)))","v":{"$error":"#VALUE!"}}]
[null,95.666666666666671,5740,0,0,0,0,0,0,0,0,0,{"$error":"#N/A"},{"$error":"#N/A"},{"$error":"#N/A"},{"$error":"#N/A"},{"$error":"#N/A"},{"$error":"#N/A"},{"$f":"IF(SUM(S$1262:S2409)>0,0,\nIF(MAX(L2410:L$2702)=MAX(L$1262:L$2702),0,\nIF(Hydrograph_Source_WQCV=\"USER\",IF(J2410>0.03*D$2703,0,$C2410/60),\nIF(J2410>0.03*J$2703,0,$C2410/60))))","v":0},{"$f":"IF(SUM(T$1262:T2409)>0,0,\nIF(MAX(L2410:L$2702)=MAX(L$1262:L$2702),0,\nIF(Hydrograph_Source_WQCV=\"USER\",IF(J2410>0.01*D$2703,0,$C2410/60),\nIF(J2410>0.01*J$2703,0,$C2410/60))))","v":0},0,0,0,0,{"$error":"#VALUE!"},{"$error":"#VALUE!"},{"$error":"#VALUE!"},{"$error":"#VALUE!"},{"$error":"#VALUE!"},{"$error":"#VALUE!"},{"$error":"#VALUE!"},{"$error":"#VALUE!"},{"$error":"#VALUE!"},{"$error":"#VALUE!"},{"$error":"#VALUE!"},{"$f":"IF(SUM(AJ$1262:AJ2409)>0,0,IF(MAX(AC2410:AC$2702)=MAX(AC$1262:AC$2702),0,IF(AA2410>0.03*U$2703,0,$C2410/60)))","v":{"$error":"#VALUE!"}},{"$f":"IF(SUM(AK$1262:AK2409)>0,0,IF(MAX(AC2410:AC$2702)=MAX(AC$1262:AC$2702),0,IF(AA2410>0.01*U$2703,0,$C2410/60)))","v":{"$error":"#VALUE!"}},0,0,0,0,{"$error":"#VALUE!"},{"$error":"#VALUE!"},{"$error":"#VALUE!"},{"$error":"#VALUE!"},{"$error":"#VALUE!"},{"$error":"#VALUE!"},{"$error":"#VALUE!"},{"$error":"#VALUE!"},{"$error":"#VALUE!"},{"$error":"#VALUE!"},{"$error":"#VALUE!"},{"$f":"IF(SUM(BA$1262:BA2409)>0,0,IF(MAX(AT2410:AT$2702)=MAX(AT$1262:AT$2702),0,IF(AR2410>0.03*AL$2703,0,$C2410/60)))","v":{"$error":"#VALUE!"}},{"$f":"IF(SUM(BB$1262:BB2409)>0,0,IF(MAX(AT2410:AT$2702)=MAX(AT$1262:AT$2702),0,IF(AR2410>0.01*AL$2703,0,$C2410/60)))","v":{"$error":"#VALUE!"}},0,0,0,0,{"$error":"#VALUE!"},{"$error":"#VALUE!"},{"$error":"#VALUE!"},{"$error":"#VALUE!"},{"$error":"#VALUE!"},{"$error":"#VALUE!"},{"$error":"#VALUE!"},{"$error":"#VALUE!"},{"$error":"#VALUE!"},{"$error":"#VALUE!"},{"$error":"#VALUE!"},{"$f":"IF(SUM(BR$1262:BR2409)>0,0,IF(MAX(BK2410:BK$2702)=MAX(BK$1262:BK$2702),0,IF(BI2410>0.03*BC$2703,0,$C2410/60)))","v":{"$error":"#VALUE!"}},{"$f":"IF(SUM(BS$1262:BS2409)>0,0,IF(MAX(BK2410:BK$2702)=MAX(BK$1262:BK$2702),0,IF(BI2410>0.01*BC$2703,0,$C2410/60)))","v":{"$error":"#VALUE!"}},0,0,0,0,{"$error":"#VALUE!"},{"$error":"#VALUE!"},{"$error":"#VALUE!"},{"$error":"#VALUE!"},{"$error":"#VALUE!"},{"$error":"#VALUE!"},{"$error":"#VALUE!"},{"$error":"#VALUE!"},{"$error":"#VALUE!"},{"$error":"#VALUE!"},{"$error":"#VALUE!"},{"$f":"IF(SUM(CI$1262:CI2409)>0,0,IF(MAX(CB2410:CB$2702)=MAX(CB$1262:CB$2702),0,IF(BZ2410>0.03*BT$2703,0,$C2410/60)))","v":{"$error":"#VALUE!"}},{"$f":"IF(SUM(CJ$1262:CJ2409)>0,0,IF(MAX(CB2410:CB$2702)=MAX(CB$1262:CB$2702),0,IF(BZ2410>0.01*BT$2703,0,$C2410/60)))","v":{"$error":"#VALUE!"}},0,0,0,0,{"$error":"#VALUE!"},{"$error":"#VALUE!"},{"$error":"#VALUE!"},{"$error":"#VALUE!"},{"$error":"#VALUE!"},{"$error":"#VALUE!"},{"$error":"#VALUE!"},{"$error":"#VALUE!"},{"$error":"#VALUE!"},{"$error":"#VALUE!"},{"$error":"#VALUE!"},{"$f":"IF(SUM(CZ$1262:CZ2409)>0,0,IF(MAX(CS2410:CS$2702)=MAX(CS$1262:CS$2702),0,IF(CQ2410>0.03*CK$2703,0,$C2410/60)))","v":{"$error":"#VALUE!"}},{"$f":"IF(SUM(DA$1262:DA2409)>0,0,IF(MAX(CS2410:CS$2702)=MAX(CS$1262:CS$2702),0,IF(CQ2410>0.01*CK$2703,0,$C2410/60)))","v":{"$error":"#VALUE!"}}]
[null,96.083333333333329,{"$f":"C2414+$C$1260","v":5765},0,0,{"$f":"G2414","v":0},0,{"$f":"I2414","v":0},0,0,0,{"$f":"IF($D$1263=\"\",0,ROUND((R2415*K2415+Q2415-R2415*P2415),7))","v":0},{"$error":"#N/A"},{"$error":"#N/A"},{"$error":"#N/A"},{"$error":"#N/A"},{"$error":"#N/A"},{"$error":"#N/A"},{"$f":"IF(SUM(S$1262:S2414)>0,0,\nIF(MAX(L2415:L$2702)=MAX(L$1262:L$2702),0,\nIF(Hydrograph_Source_WQCV=\"USER\",IF(J2415>0.03*D$2703,0,$C2415/60),\nIF(J2415>0.03*J$2703,0,$C2415/60))))","v":0},{"$f":"IF(SUM(T$1262:T2414)>0,0,\nIF(MAX(L2415:L$2702)=MAX(L$1262:L$2702),0,\nIF(Hydrograph_Source_WQCV=\"USER\",IF(J2415>0.01*D$2703,0,$C2415/60),\nIF(J2415>0.01*J$2703,0,$C2415/60))))","v":0},0,0,{"$f":"X2414","v":0},0,{"$f":"Z2414","v":{"$error":"#VALUE!"}},{"$error":"#VALUE!"},{"$error":"#VALUE!"},{"$error":"#VALUE!"},{"$f":"IF($U$1263=\"\",0,ROUND((AI2415*AB2415+AH2415-AI2415*AG2415),7))","v":{"$error":"#VALUE!"}},{"$error":"#VALUE!"},{"$error":"#VALUE!"},{"$error":"#VALUE!"},{"$error":"#VALUE!"},{"$error":"#VALUE!"},{"$error":"#VALUE!"},{"$f":"IF(SUM(AJ$1262:AJ2414)>0,0,IF(MAX(AC2415:AC$2702)=MAX(AC$1262:AC$2702),0,IF(AA2415>0.03*U$2703,0,$C2415/60)))","v":{"$error":"#VALUE!"}},{"$f":"IF(SUM(AK$1262:AK2414)>0,0,IF(MAX(AC2415:AC$2702)=MAX(AC$1262:AC$2702),0,IF(AA2415>0.01*U$2703,0,$C2415/60)))","v":{"$error":"#VALUE!"}},0,0,{"$f":"AO2414","v":0},0,{"$f":"AQ2414","v":{"$error":"#VALUE!"}},{"$error":"#VALUE!"},{"$error":"#VALUE!"},{"$error":"#VALUE!"},{"$f":"IF($AL$1263=\"\",0,ROUND((AZ2415*AS2415+AY2415-AZ2415*AX2415),7))","v":{"$error":"#VALUE!"}},{"$error":"#VALUE!"},{"$error":"#VALUE!"},{"$error":"#VALUE!"},{"$error":"#VALUE!"},{"$error":"#VALUE!"},{"$error":"#VALUE!"},{"$f":"IF(SUM(BA$1262:BA2414)>0,0,IF(MAX(AT2415:AT$2702)=MAX(AT$1262:AT$2702),0,IF(AR2415>0.03*AL$2703,0,$C2415/60)))","v":{"$error":"#VALUE!"}},{"$f":"IF(SUM(BB$1262:BB2414)>0,0,IF(MAX(AT2415:AT$2702)=MAX(AT$1262:AT$2702),0,IF(AR2415>0.01*AL$2703,0,$C2415/60)))","v":{"$error":"#VALUE!"}},0,0,{"$f":"BF2414","v":0},0,{"$f":"BH2414","v":{"$error":"#VALUE!"}},{"$error":"#VALUE!"},{"$error":"#VALUE!"},{"$error":"#VALUE!"},{"$f":"IF($BC$1263=\"\",0,ROUND((BQ2415*BJ2415+BP2415-BQ2415*BO2415),7))","v":{"$error":"#VALUE!"}},{"$error":"#VALUE!"},{"$error":"#VALUE!"},{"$error":"#VALUE!"},{"$error":"#VALUE!"},{"$error":"#VALUE!"},{"$error":"#VALUE!"},{"$f":"IF(SUM(BR$1262:BR2414)>0,0,IF(MAX(BK2415:BK$2702)=MAX(BK$1262:BK$2702),0,IF(BI2415>0.03*BC$2703,0,$C2415/60)))","v":{"$error":"#VALUE!"}},{"$f":"IF(SUM(BS$1262:BS2414)>0,0,IF(MAX(BK2415:BK$2702)=MAX(BK$1262:BK$2702),0,IF(BI2415>0.01*BC$2703,0,$C2415/60)))","v":{"$error":"#VALUE!"}},0,0,{"$f":"BW2414","v":0},0,{"$f":"BY2414","v":{"$error":"#VALUE!"}},{"$error":"#VALUE!"},{"$error":"#VALUE!"},{"$error":"#VALUE!"},{"$f":"IF($BT$1263=\"\",0,ROUND((CH2415*CA2415+CG2415-CH2415*CF2415),7))","v":{"$error":"#VALUE!"}},{"$error":"#VALUE!"},{"$error":"#VALUE!"},{"$error":"#VALUE!"},{"$error":"#VALUE!"},{"$error":"#VALUE!"},{"$error":"#VALUE!"},{"$f":"IF(SUM(CI$1262:CI2414)>0,0,IF(MAX(CB2415:CB$2702)=MAX(CB$1262:CB$2702),0,IF(BZ2415>0.03*BT$2703,0,$C2415/60)))","v":{"$error":"#VALUE!"}},{"$f":"IF(SUM(CJ$1262:CJ2414)>0,0,IF(MAX(CB2415:CB$2702)=MAX(CB$1262:CB$2702),0,IF(BZ2415>0.01*BT$2703,0,$C2415/60)))","v":{"$error":"#VALUE!"}},0,0,{"$f":"CN2414","v":0},0,{"$f":"CP2414","v":{"$error":"#VALUE!"}},{"$error":"#VALUE!"},{"$error":"#VALUE!"},{"$error":"#VALUE!"},{"$error":"#VALUE!"},{"$error":"#VALUE!"},{"$error":"#VALUE!"},{"$error":"#VALUE!"},{"$error":"#VALUE!"},{"$error":"#VALUE!"},{"$error":"#VALUE!"},{"$f":"IF(SUM(CZ$1262:CZ2414)>0,0,IF(MAX(CS2415:CS$2702)=MAX(CS$1262:CS$2702),0,IF(CQ2415>0.03*CK$2703,0,$C2415/60)))","v":{"$error":"#VALUE!"}},{"$f":"IF(SUM(DA$1262:DA2414)>0,0,IF(MAX(CS2415:CS$2702)=MAX(CS$1262:CS$2702),0,IF(CQ2415>0.01*CK$2703,0,$C2415/60)))","v":{"$error":"#VALUE!"}}]
[null,96.333333333333329,5780,0,0,0,0,0,0,0,0,0,{"$error":"#N/A"},{"$error":"#N/A"},{"$error":"#N/A"},{"$error":"#N/A"},{"$error":"#N/A"},{"$error":"#N/A"},{"$f":"IF(SUM(S$1262:S2417)>0,0,\nIF(MAX(L2418:L$2702)=MAX(L$1262:L$2702),0,\nIF(Hydrograph_Source_WQCV=\"USER\",IF(J2418>0.03*D$2703,0,$C2418/60),\nIF(J2418>0.03*J$2703,0,$C2418/60))))","v":0},{"$f":"IF(SUM(T$1262:T2417)>0,0,\nIF(MAX(L2418:L$2702)=MAX(L$1262:L$2702),0,\nIF(Hydrograph_Source_WQCV=\"USER\",IF(J2418>0.01*D$2703,0,$C2418/60),\nIF(J2418>0.01*J$2703,0,$C2418/60))))","v":0},0,0,0,0,{"$error":"#VALUE!"},{"$error":"#VALUE!"},{"$error":"#VALUE!"},{"$error":"#VALUE!"},{"$error":"#VALUE!"},{"$error":"#VALUE!"},{"$error":"#VALUE!"},{"$error":"#VALUE!"},{"$error":"#VALUE!"},{"$error":"#VALUE!"},{"$error":"#VALUE!"},{"$f":"IF(SUM(AJ$1262:AJ2417)>0,0,IF(MAX(AC2418:AC$2702)=MAX(AC$1262:AC$2702),0,IF(AA2418>0.03*U$2703,0,$C2418/60)))","v":{"$error":"#VALUE!"}},{"$f":"IF(SUM(AK$1262:AK2417)>0,0,IF(MAX(AC2418:AC$2702)=MAX(AC$1262:AC$2702),0,IF(AA2418>0.01*U$2703,0,$C2418/60)))","v":{"$error":"#VALUE!"}},0,0,0,0,{"$error":"#VALUE!"},{"$error":"#VALUE!"},{"$error":"#VALUE!"},{"$error":"#VALUE!"},{"$error":"#VALUE!"},{"$error":"#VALUE!"},{"$error":"#VALUE!"},{"$error":"#VALUE!"},{"$error":"#VALUE!"},{"$error":"#VALUE!"},{"$error":"#VALUE!"},{"$f":"IF(SUM(BA$1262:BA2417)>0,0,IF(MAX(AT2418:AT$2702)=MAX(AT$1262:AT$2702),0,IF(AR2418>0.03*AL$2703,0,$C2418/60)))","v":{"$error":"#VALUE!"}},{"$f":"IF(SUM(BB$1262:BB2417)>0,0,IF(MAX(AT2418:AT$2702)=MAX(AT$1262:AT$2702),0,IF(AR2418>0.01*AL$2703,0,$C2418/60)))","v":{"$error":"#VALUE!"}},0,0,0,0,{"$error":"#VALUE!"},{"$error":"#VALUE!"},{"$error":"#VALUE!"},{"$error":"#VALUE!"},{"$error":"#VALUE!"},{"$error":"#VALUE!"},{"$error":"#VALUE!"},{"$error":"#VALUE!"},{"$error":"#VALUE!"},{"$error":"#VALUE!"},{"$error":"#VALUE!"},{"$f":"IF(SUM(BR$1262:BR2417)>0,0,IF(MAX(BK2418:BK$2702)=MAX(BK$1262:BK$2702),0,IF(BI2418>0.03*BC$2703,0,$C2418/60)))","v":{"$error":"#VALUE!"}},{"$f":"IF(SUM(BS$1262:BS2417)>0,0,IF(MAX(BK2418:BK$2702)=MAX(BK$1262:BK$2702),0,IF(BI2418>0.01*BC$2703,0,$C2418/60)))","v":{"$error":"#VALUE!"}},0,0,0,0,{"$error":"#VALUE!"},{"$error":"#VALUE!"},{"$error":"#VALUE!"},{"$error":"#VALUE!"},{"$error":"#VALUE!"},{"$error":"#VALUE!"},{"$error":"#VALUE!"},{"$error":"#VALUE!"},{"$error":"#VALUE!"},{"$error":"#VALUE!"},{"$error":"#VALUE!"},{"$f":"IF(SUM(CI$1262:CI2417)>0,0,IF(MAX(CB2418:CB$2702)=MAX(CB$1262:CB$2702),0,IF(BZ2418>0.03*BT$2703,0,$C2418/60)))","v":{"$error":"#VALUE!"}},{"$f":"IF(SUM(CJ$1262:CJ2417)>0,0,IF(MAX(CB2418:CB$2702)=MAX(CB$1262:CB$2702),0,IF(BZ2418>0.01*BT$2703,0,$C2418/60)))","v":{"$error":"#VALUE!"}},0,0,0,0,{"$error":"#VALUE!"},{"$error":"#VALUE!"},{"$error":"#VALUE!"},{"$error":"#VALUE!"},{"$error":"#VALUE!"},{"$error":"#VALUE!"},{"$error":"#VALUE!"},{"$error":"#VALUE!"},{"$error":"#VALUE!"},{"$error":"#VALUE!"},{"$error":"#VALUE!"},{"$f":"IF(SUM(CZ$1262:CZ2417)>0,0,IF(MAX(CS2418:CS$2702)=MAX(CS$1262:CS$2702),0,IF(CQ2418>0.03*CK$2703,0,$C2418/60)))","v":{"$error":"#VALUE!"}},{"$f":"IF(SUM(DA$1262:DA2417)>0,0,IF(MAX(CS2418:CS$2702)=MAX(CS$1262:CS$2702),0,IF(CQ2418>0.01*CK$2703,0,$C2418/60)))","v":{"$error":"#VALUE!"}}]
[null,97,5820,0,0,0,0,0,0,0,0,0,{"$error":"#N/A"},{"$error":"#N/A"},{"$error":"#N/A"},{"$error":"#N/A"},{"$error":"#N/A"},{"$error":"#N/A"},{"$f":"IF(SUM(S$1262:S2425)>0,0,\nIF(MAX(L2426:L$2702)=MAX(L$1262:L$2702),0,\nIF(Hydrograph_Source_WQCV=\"USER\",IF(J2426>0.03*D$2703,0,$C2426/60),\nIF(J2426>0.03*J$2703,0,$C2426/60))))","v":0},{"$f":"IF(SUM(T$1262:T2425)>0,0,\nIF(MAX(L2426:L$2702)=MAX(L$1262:L$2702),0,\nIF(Hydrograph_Source_WQCV=\"USER\",IF(J2426>0.01*D$2703,0,$C2426/60),\nIF(J2426>0.01*J$2703,0,$C2426/60))))","v":0},0,0,0,0,{"$error":"#VALUE!"},{"$error":"#VALUE!"},{"$error":"#VALUE!"},{"$error":"#VALUE!"},{"$error":"#VALUE!"},{"$error":"#VALUE!"},{"$error":"#VALUE!"},{"$error":"#VALUE!"},{"$error":"#VALUE!"},{"$error":"#VALUE!"},{"$error":"#VALUE!"},{"$f":"IF(SUM(AJ$1262:AJ2425)>0,0,IF(MAX(AC2426:AC$2702)=MAX(AC$1262:AC$2702),0,IF(AA2426>0.03*U$2703,0,$C2426/60)))","v":{"$error":"#VALUE!"}},{"$f":"IF(SUM(AK$1262:AK2425)>0,0,IF(MAX(AC2426:AC$2702)=MAX(AC$1262:AC$2702),0,IF(AA2426>0.01*U$2703,0,$C2426/60)))","v":{"$error":"#VALUE!"}},0,0,0,0,{"$error":"#VALUE!"},{"$error":"#VALUE!"},{"$error":"#VALUE!"},{"$error":"#VALUE!"},{"$error":"#VALUE!"},{"$error":"#VALUE!"},{"$error":"#VALUE!"},{"$error":"#VALUE!"},{"$error":"#VALUE!"},{"$error":"#VALUE!"},{"$error":"#VALUE!"},{"$f":"IF(SUM(BA$1262:BA2425)>0,0,IF(MAX(AT2426:AT$2702)=MAX(AT$1262:AT$2702),0,IF(AR2426>0.03*AL$2703,0,$C2426/60)))","v":{"$error":"#VALUE!"}},{"$f":"IF(SUM(BB$1262:BB2425)>0,0,IF(MAX(AT2426:AT$2702)=MAX(AT$1262:AT$2702),0,IF(AR2426>0.01*AL$2703,0,$C2426/60)))","v":{"$error":"#VALUE!"}},0,0,0,0,{"$error":"#VALUE!"},{"$error":"#VALUE!"},{"$error":"#VALUE!"},{"$error":"#VALUE!"},{"$error":"#VALUE!"},{"$error":"#VALUE!"},{"$error":"#VALUE!"},{"$error":"#VALUE!"},{"$error":"#VALUE!"},{"$error":"#VALUE!"},{"$error":"#VALUE!"},{"$f":"IF(SUM(BR$1262:BR2425)>0,0,IF(MAX(BK2426:BK$2702)=MAX(BK$1262:BK$2702),0,IF(BI2426>0.03*BC$2703,0,$C2426/60)))","v":{"$error":"#VALUE!"}},{"$f":"IF(SUM(BS$1262:BS2425)>0,0,IF(MAX(BK2426:BK$2702)=MAX(BK$1262:BK$2702),0,IF(BI2426>0.01*BC$2703,0,$C2426/60)))","v":{"$error":"#VALUE!"}},0,0,0,0,{"$error":"#VALUE!"},{"$error":"#VALUE!"},{"$error":"#VALUE!"},{"$error":"#VALUE!"},{"$error":"#VALUE!"},{"$error":"#VALUE!"},{"$error":"#VALUE!"},{"$error":"#VALUE!"},{"$error":"#VALUE!"},{"$error":"#VALUE!"},{"$error":"#VALUE!"},{"$f":"IF(SUM(CI$1262:CI2425)>0,0,IF(MAX(CB2426:CB$2702)=MAX(CB$1262:CB$2702),0,IF(BZ2426>0.03*BT$2703,0,$C2426/60)))","v":{"$error":"#VALUE!"}},{"$f":"IF(SUM(CJ$1262:CJ2425)>0,0,IF(MAX(CB2426:CB$2702)=MAX(CB$1262:CB$2702),0,IF(BZ2426>0.01*BT$2703,0,$C2426/60)))","v":{"$error":"#VALUE!"}},0,0,0,0,{"$error":"#VALUE!"},{"$error":"#VALUE!"},{"$error":"#VALUE!"},{"$error":"#VALUE!"},{"$error":"#VALUE!"},{"$error":"#VALUE!"},{"$error":"#VALUE!"},{"$error":"#VALUE!"},{"$error":"#VALUE!"},{"$error":"#VALUE!"},{"$error":"#VALUE!"},{"$f":"IF(SUM(CZ$1262:CZ2425)>0,0,IF(MAX(CS2426:CS$2702)=MAX(CS$1262:CS$2702),0,IF(CQ2426>0.03*CK$2703,0,$C2426/60)))","v":{"$error":"#VALUE!"}},{"$f":"IF(SUM(DA$1262:DA2425)>0,0,IF(MAX(CS2426:CS$2702)=MAX(CS$1262:CS$2702),0,IF(CQ2426>0.01*CK$2703,0,$C2426/60)))","v":{"$error":"#VALUE!"}}]
[null,97.083333333333329,5825,0,0,0,0,0,0,0,0,0,{"$error":"#N/A"},{"$error":"#N/A"},{"$error":"#N/A"},{"$error":"#N/A"},{"$error":"#N/A"},{"$error":"#N/A"},{"$f":"IF(SUM(S$1262:S2426)>0,0,\nIF(MAX(L2427:L$2702)=MAX(L$1262:L$2702),0,\nIF(Hydrograph_Source_WQCV=\"USER\",IF(J2427>0.03*D$2703,0,$C2427/60),\nIF(J2427>0.03*J$2703,0,$C2427/60))))","v":0},{"$f":"IF(SUM(T$1262:T2426)>0,0,\nIF(MAX(L2427:L$2702)=MAX(L$1262:L$2702),0,\nIF(Hydrograph_Source_WQCV=\"USER\",IF(J2427>0.01*D$2703,0,$C2427/60),\nIF(J2427>0.01*J$2703,0,$C2427/60))))","v":0},0,0,0,0,{"$error":"#VALUE!"},{"$error":"#VALUE!"},{"$error":"#VALUE!"},{"$error":"#VALUE!"},{"$error":"#VALUE!"},{"$error":"#VALUE!"},{"$error":"#VALUE!"},{"$error":"#VALUE!"},{"$error":"#VALUE!"},{"$error":"#VALUE!"},{"$error":"#VALUE!"},{"$f":"IF(SUM(AJ$1262:AJ2426)>0,0,IF(MAX(AC2427:AC$2702)=MAX(AC$1262:AC$2702),0,IF(AA2427>0.03*U$2703,0,$C2427/60)))","v":{"$error":"#VALUE!"}},{"$f":"IF(SUM(AK$1262:AK2426)>0,0,IF(MAX(AC2427:AC$2702)=MAX(AC$1262:AC$2702),0,IF(AA2427>0.01*U$2703,0,$C2427/60)))","v":{"$error":"#VALUE!"}},0,0,0,0,{"$error":"#VALUE!"},{"$error":"#VALUE!"},{"$error":"#VALUE!"},{"$error":"#VALUE!"},{"$error":"#VALUE!"},{"$error":"#VALUE!"},{"$error":"#VALUE!"},{"$error":"#VALUE!"},{"$error":"#VALUE!"},{"$error":"#VALUE!"},{"$error":"#VALUE!"},{"$f":"IF(SUM(BA$1262:BA2426)>0,0,IF(MAX(AT2427:AT$2702)=MAX(AT$1262:AT$2702),0,IF(AR2427>0.03*AL$2703,0,$C2427/60)))","v":{"$error":"#VALUE!"}},{"$f":"IF(SUM(BB$1262:BB2426)>0,0,IF(MAX(AT2427:AT$2702)=MAX(AT$1262:AT$2702),0,IF(AR2427>0.01*AL$2703,0,$C2427/60)))","v":{"$error":"#VALUE!"}},0,0,0,0,{"$error":"#VALUE!"},{"$error":"#VALUE!"},{"$error":"#VALUE!"},{"$error":"#VALUE!"},{"$error":"#VALUE!"},{"$error":"#VALUE!"},{"$error":"#VALUE!"},{"$error":"#VALUE!"},{"$error":"#VALUE!"},{"$error":"#VALUE!"},{"$error":"#VALUE!"},{"$f":"IF(SUM(BR$1262:BR2426)>0,0,IF(MAX(BK2427:BK$2702)=MAX(BK$1262:BK$2702),0,IF(BI2427>0.03*BC$2703,0,$C2427/60)))","v":{"$error":"#VALUE!"}},{"$f":"IF(SUM(BS$1262:BS2426)>0,0,IF(MAX(BK2427:BK$2702)=MAX(BK$1262:BK$2702),0,IF(BI2427>0.01*BC$2703,0,$C2427/60)))","v":{"$error":"#VALUE!"}},0,0,0,0,{"$error":"#VALUE!"},{"$error":"#VALUE!"},{"$error":"#VALUE!"},{"$error":"#VALUE!"},{"$error":"#VALUE!"},{"$error":"#VALUE!"},{"$error":"#VALUE!"},{"$error":"#VALUE!"},{"$error":"#VALUE!"},{"$error":"#VALUE!"},{"$error":"#VALUE!"},{"$f":"IF(SUM(CI$1262:CI2426)>0,0,IF(MAX(CB2427:CB$2702)=MAX(CB$1262:CB$2702),0,IF(BZ2427>0.03*BT$2703,0,$C2427/60)))","v":{"$error":"#VALUE!"}},{"$f":"IF(SUM(CJ$1262:CJ2426)>0,0,IF(MAX(CB2427:CB$2702)=MAX(CB$1262:CB$2702),0,IF(BZ2427>0.01*BT$2703,0,$C2427/60)))","v":{"$error":"#VALUE!"}},0,0,0,0,{"$error":"#VALUE!"},{"$error":"#VALUE!"},{"$error":"#VALUE!"},{"$error":"#VALUE!"},{"$error":"#VALUE!"},{"$error":"#VALUE!"},{"$error":"#VALUE!"},{"$error":"#VALUE!"},{"$error":"#VALUE!"},{"$error":"#VALUE!"},{"$error":"#VALUE!"},{"$f":"IF(SUM(CZ$1262:CZ2426)>0,0,IF(MAX(CS2427:CS$2702)=MAX(CS$1262:CS$2702),0,IF(CQ2427>0.03*CK$2703,0,$C2427/60)))","v":{"$error":"#VALUE!"}},{"$f":"IF(SUM(DA$1262:DA2426)>0,0,IF(MAX(CS2427:CS$2702)=MAX(CS$1262:CS$2702),0,IF(CQ2427>0.01*CK$2703,0,$C2427/60)))","v":{"$error":"#VALUE!"}}]
[null,97.583333333333329,5855,0,0,0,0,0,0,0,0,0,{"$error":"#N/A"},{"$error":"#N/A"},{"$error":"#N/A"},{"$error":"#N/A"},{"$error":"#N/A"},{"$error":"#N/A"},{"$f":"IF(SUM(S$1262:S2432)>0,0,\nIF(MAX(L2433:L$2702)=MAX(L$1262:L$2702),0,\nIF(Hydrograph_Source_WQCV=\"USER\",IF(J2433>0.03*D$2703,0,$C2433/60),\nIF(J2433>0.03*J$2703,0,$C2433/60))))","v":0},{"$f":"IF(SUM(T$1262:T2432)>0,0,\nIF(MAX(L2433:L$2702)=MAX(L$1262:L$2702),0,\nIF(Hydrograph_Source_WQCV=\"USER\",IF(J2433>0.01*D$2703,0,$C2433/60),\nIF(J2433>0.01*J$2703,0,$C2433/60))))","v":0},0,0,0,0,{"$error":"#VALUE!"},{"$error":"#VALUE!"},{"$error":"#VALUE!"},{"$error":"#VALUE!"},{"$error":"#VALUE!"},{"$error":"#VALUE!"},{"$error":"#VALUE!"},{"$error":"#VALUE!"},{"$error":"#VALUE!"},{"$error":"#VALUE!"},{"$error":"#VALUE!"},{"$f":"IF(SUM(AJ$1262:AJ2432)>0,0,IF(MAX(AC2433:AC$2702)=MAX(AC$1262:AC$2702),0,IF(AA2433>0.03*U$2703,0,$C2433/60)))","v":{"$error":"#VALUE!"}},{"$f":"IF(SUM(AK$1262:AK2432)>0,0,IF(MAX(AC2433:AC$2702)=MAX(AC$1262:AC$2702),0,IF(AA2433>0.01*U$2703,0,$C2433/60)))","v":{"$error":"#VALUE!"}},0,0,0,0,{"$error":"#VALUE!"},{"$error":"#VALUE!"},{"$error":"#VALUE!"},{"$error":"#VALUE!"},{"$error":"#VALUE!"},{"$error":"#VALUE!"},{"$error":"#VALUE!"},{"$error":"#VALUE!"},{"$error":"#VALUE!"},{"$error":"#VALUE!"},{"$error":"#VALUE!"},{"$f":"IF(SUM(BA$1262:BA2432)>0,0,IF(MAX(AT2433:AT$2702)=MAX(AT$1262:AT$2702),0,IF(AR2433>0.03*AL$2703,0,$C2433/60)))","v":{"$error":"#VALUE!"}},{"$f":"IF(SUM(BB$1262:BB2432)>0,0,IF(MAX(AT2433:AT$2702)=MAX(AT$1262:AT$2702),0,IF(AR2433>0.01*AL$2703,0,$C2433/60)))","v":{"$error":"#VALUE!"}},0,0,0,0,{"$error":"#VALUE!"},{"$error":"#VALUE!"},{"$error":"#VALUE!"},{"$error":"#VALUE!"},{"$error":"#VALUE!"},{"$error":"#VALUE!"},{"$error":"#VALUE!"},{"$error":"#VALUE!"},{"$error":"#VALUE!"},{"$error":"#VALUE!"},{"$error":"#VALUE!"},{"$f":"IF(SUM(BR$1262:BR2432)>0,0,IF(MAX(BK2433:BK$2702)=MAX(BK$1262:BK$2702),0,IF(BI2433>0.03*BC$2703,0,$C2433/60)))","v":{"$error":"#VALUE!"}},{"$f":"IF(SUM(BS$1262:BS2432)>0,0,IF(MAX(BK2433:BK$2702)=MAX(BK$1262:BK$2702),0,IF(BI2433>0.01*BC$2703,0,$C2433/60)))","v":{"$error":"#VALUE!"}},0,0,0,0,{"$error":"#VALUE!"},{"$error":"#VALUE!"},{"$error":"#VALUE!"},{"$error":"#VALUE!"},{"$error":"#VALUE!"},{"$error":"#VALUE!"},{"$error":"#VALUE!"},{"$error":"#VALUE!"},{"$error":"#VALUE!"},{"$error":"#VALUE!"},{"$error":"#VALUE!"},{"$f":"IF(SUM(CI$1262:CI2432)>0,0,IF(MAX(CB2433:CB$2702)=MAX(CB$1262:CB$2702),0,IF(BZ2433>0.03*BT$2703,0,$C2433/60)))","v":{"$error":"#VALUE!"}},{"$f":"IF(SUM(CJ$1262:CJ2432)>0,0,IF(MAX(CB2433:CB$2702)=MAX(CB$1262:CB$2702),0,IF(BZ2433>0.01*BT$2703,0,$C2433/60)))","v":{"$error":"#VALUE!"}},0,0,0,0,{"$error":"#VALUE!"},{"$error":"#VALUE!"},{"$error":"#VALUE!"},{"$error":"#VALUE!"},{"$error":"#VALUE!"},{"$error":"#VALUE!"},{"$error":"#VALUE!"},{"$error":"#VALUE!"},{"$error":"#VALUE!"},{"$error":"#VALUE!"},{"$error":"#VALUE!"},{"$f":"IF(SUM(CZ$1262:CZ2432)>0,0,IF(MAX(CS2433:CS$2702)=MAX(CS$1262:CS$2702),0,IF(CQ2433>0.03*CK$2703,0,$C2433/60)))","v":{"$error":"#VALUE!"}},{"$f":"IF(SUM(DA$1262:DA2432)>0,0,IF(MAX(CS2433:CS$2702)=MAX(CS$1262:CS$2702),0,IF(CQ2433>0.01*CK$2703,0,$C2433/60)))","v":{"$error":"#VALUE!"}}]
[null,98,5880,0,0,0,0,0,0,0,0,0,{"$error":"#N/A"},{"$error":"#N/A"},{"$error":"#N/A"},{"$error":"#N/A"},{"$error":"#N/A"},{"$error":"#N/A"},{"$f":"IF(SUM(S$1262:S2437)>0,0,\nIF(MAX(L2438:L$2702)=MAX(L$1262:L$2702),0,\nIF(Hydrograph_Source_WQCV=\"USER\",IF(J2438>0.03*D$2703,0,$C2438/60),\nIF(J2438>0.03*J$2703,0,$C2438/60))))","v":0},{"$f":"IF(SUM(T$1262:T2437)>0,0,\nIF(MAX(L2438:L$2702)=MAX(L$1262:L$2702),0,\nIF(Hydrograph_Source_WQCV=\"USER\",IF(J2438>0.01*D$2703,0,$C2438/60),\nIF(J2438>0.01*J$2703,0,$C2438/60))))","v":0},0,0,0,0,{"$error":"#VALUE!"},{"$error":"#VALUE!"},{"$error":"#VALUE!"},{"$error":"#VALUE!"},{"$error":"#VALUE!"},{"$error":"#VALUE!"},{"$error":"#VALUE!"},{"$error":"#VALUE!"},{"$error":"#VALUE!"},{"$error":"#VALUE!"},{"$error":"#VALUE!"},{"$f":"IF(SUM(AJ$1262:AJ2437)>0,0,IF(MAX(AC2438:AC$2702)=MAX(AC$1262:AC$2702),0,IF(AA2438>0.03*U$2703,0,$C2438/60)))","v":{"$error":"#VALUE!"}},{"$f":"IF(SUM(AK$1262:AK2437)>0,0,IF(MAX(AC2438:AC$2702)=MAX(AC$1262:AC$2702),0,IF(AA2438>0.01*U$2703,0,$C2438/60)))","v":{"$error":"#VALUE!"}},0,0,0,0,{"$error":"#VALUE!"},{"$error":"#VALUE!"},{"$error":"#VALUE!"},{"$error":"#VALUE!"},{"$error":"#VALUE!"},{"$error":"#VALUE!"},{"$error":"#VALUE!"},{"$error":"#VALUE!"},{"$error":"#VALUE!"},{"$error":"#VALUE!"},{"$error":"#VALUE!"},{"$f":"IF(SUM(BA$1262:BA2437)>0,0,IF(MAX(AT2438:AT$2702)=MAX(AT$1262:AT$2702),0,IF(AR2438>0.03*AL$2703,0,$C2438/60)))","v":{"$error":"#VALUE!"}},{"$f":"IF(SUM(BB$1262:BB2437)>0,0,IF(MAX(AT2438:AT$2702)=MAX(AT$1262:AT$2702),0,IF(AR2438>0.01*AL$2703,0,$C2438/60)))","v":{"$error":"#VALUE!"}},0,0,0,0,{"$error":"#VALUE!"},{"$error":"#VALUE!"},{"$error":"#VALUE!"},{"$error":"#VALUE!"},{"$error":"#VALUE!"},{"$error":"#VALUE!"},{"$error":"#VALUE!"},{"$error":"#VALUE!"},{"$error":"#VALUE!"},{"$error":"#VALUE!"},{"$error":"#VALUE!"},{"$f":"IF(SUM(BR$1262:BR2437)>0,0,IF(MAX(BK2438:BK$2702)=MAX(BK$1262:BK$2702),0,IF(BI2438>0.03*BC$2703,0,$C2438/60)))","v":{"$error":"#VALUE!"}},{"$f":"IF(SUM(BS$1262:BS2437)>0,0,IF(MAX(BK2438:BK$2702)=MAX(BK$1262:BK$2702),0,IF(BI2438>0.01*BC$2703,0,$C2438/60)))","v":{"$error":"#VALUE!"}},0,0,0,0,{"$error":"#VALUE!"},{"$error":"#VALUE!"},{"$error":"#VALUE!"},{"$error":"#VALUE!"},{"$error":"#VALUE!"},{"$error":"#VALUE!"},{"$error":"#VALUE!"},{"$error":"#VALUE!"},{"$error":"#VALUE!"},{"$error":"#VALUE!"},{"$error":"#VALUE!"},{"$f":"IF(SUM(CI$1262:CI2437)>0,0,IF(MAX(CB2438:CB$2702)=MAX(CB$1262:CB$2702),0,IF(BZ2438>0.03*BT$2703,0,$C2438/60)))","v":{"$error":"#VALUE!"}},{"$f":"IF(SUM(CJ$1262:CJ2437)>0,0,IF(MAX(CB2438:CB$2702)=MAX(CB$1262:CB$2702),0,IF(BZ2438>0.01*BT$2703,0,$C2438/60)))","v":{"$error":"#VALUE!"}},0,0,0,0,{"$error":"#VALUE!"},{"$error":"#VALUE!"},{"$error":"#VALUE!"},{"$error":"#VALUE!"},{"$error":"#VALUE!"},{"$error":"#VALUE!"},{"$error":"#VALUE!"},{"$error":"#VALUE!"},{"$error":"#VALUE!"},{"$error":"#VALUE!"},{"$error":"#VALUE!"},{"$f":"IF(SUM(CZ$1262:CZ2437)>0,0,IF(MAX(CS2438:CS$2702)=MAX(CS$1262:CS$2702),0,IF(CQ2438>0.03*CK$2703,0,$C2438/60)))","v":{"$error":"#VALUE!"}},{"$f":"IF(SUM(DA$1262:DA2437)>0,0,IF(MAX(CS2438:CS$2702)=MAX(CS$1262:CS$2702),0,IF(CQ2438>0.01*CK$2703,0,$C2438/60)))","v":{"$error":"#VALUE!"}}]
[null,98.416666666666671,5905,0,0,0,0,0,0,0,0,0,{"$error":"#N/A"},{"$error":"#N/A"},{"$error":"#N/A"},{"$error":"#N/A"},{"$error":"#N/A"},{"$error":"#N/A"},{"$f":"IF(SUM(S$1262:S2442)>0,0,\nIF(MAX(L2443:L$2702)=MAX(L$1262:L$2702),0,\nIF(Hydrograph_Source_WQCV=\"USER\",IF(J2443>0.03*D$2703,0,$C2443/60),\nIF(J2443>0.03*J$2703,0,$C2443/60))))","v":0},{"$f":"IF(SUM(T$1262:T2442)>0,0,\nIF(MAX(L2443:L$2702)=MAX(L$1262:L$2702),0,\nIF(Hydrograph_Source_WQCV=\"USER\",IF(J2443>0.01*D$2703,0,$C2443/60),\nIF(J2443>0.01*J$2703,0,$C2443/60))))","v":0},0,0,0,0,{"$error":"#VALUE!"},{"$error":"#VALUE!"},{"$error":"#VALUE!"},{"$error":"#VALUE!"},{"$error":"#VALUE!"},{"$error":"#VALUE!"},{"$error":"#VALUE!"},{"$error":"#VALUE!"},{"$error":"#VALUE!"},{"$error":"#VALUE!"},{"$error":"#VALUE!"},{"$f":"IF(SUM(AJ$1262:AJ2442)>0,0,IF(MAX(AC2443:AC$2702)=MAX(AC$1262:AC$2702),0,IF(AA2443>0.03*U$2703,0,$C2443/60)))","v":{"$error":"#VALUE!"}},{"$f":"IF(SUM(AK$1262:AK2442)>0,0,IF(MAX(AC2443:AC$2702)=MAX(AC$1262:AC$2702),0,IF(AA2443>0.01*U$2703,0,$C2443/60)))","v":{"$error":"#VALUE!"}},0,0,0,0,{"$error":"#VALUE!"},{"$error":"#VALUE!"},{"$error":"#VALUE!"},{"$error":"#VALUE!"},{"$error":"#VALUE!"},{"$error":"#VALUE!"},{"$error":"#VALUE!"},{"$error":"#VALUE!"},{"$error":"#VALUE!"},{"$error":"#VALUE!"},{"$error":"#VALUE!"},{"$f":"IF(SUM(BA$1262:BA2442)>0,0,IF(MAX(AT2443:AT$2702)=MAX(AT$1262:AT$2702),0,IF(AR2443>0.03*AL$2703,0,$C2443/60)))","v":{"$error":"#VALUE!"}},{"$f":"IF(SUM(BB$1262:BB2442)>0,0,IF(MAX(AT2443:AT$2702)=MAX(AT$1262:AT$2702),0,IF(AR2443>0.01*AL$2703,0,$C2443/60)))","v":{"$error":"#VALUE!"}},0,0,0,0,{"$error":"#VALUE!"},{"$error":"#VALUE!"},{"$error":"#VALUE!"},{"$error":"#VALUE!"},{"$error":"#VALUE!"},{"$error":"#VALUE!"},{"$error":"#VALUE!"},{"$error":"#VALUE!"},{"$error":"#VALUE!"},{"$error":"#VALUE!"},{"$error":"#VALUE!"},{"$f":"IF(SUM(BR$1262:BR2442)>0,0,IF(MAX(BK2443:BK$2702)=MAX(BK$1262:BK$2702),0,IF(BI2443>0.03*BC$2703,0,$C2443/60)))","v":{"$error":"#VALUE!"}},{"$f":"IF(SUM(BS$1262:BS2442)>0,0,IF(MAX(BK2443:BK$2702)=MAX(BK$1262:BK$2702),0,IF(BI2443>0.01*BC$2703,0,$C2443/60)))","v":{"$error":"#VALUE!"}},0,0,0,0,{"$error":"#VALUE!"},{"$error":"#VALUE!"},{"$error":"#VALUE!"},{"$error":"#VALUE!"},{"$error":"#VALUE!"},{"$error":"#VALUE!"},{"$error":"#VALUE!"},{"$error":"#VALUE!"},{"$error":"#VALUE!"},{"$error":"#VALUE!"},{"$error":"#VALUE!"},{"$f":"IF(SUM(CI$1262:CI2442)>0,0,IF(MAX(CB2443:CB$2702)=MAX(CB$1262:CB$2702),0,IF(BZ2443>0.03*BT$2703,0,$C2443/60)))","v":{"$error":"#VALUE!"}},{"$f":"IF(SUM(CJ$1262:CJ2442)>0,0,IF(MAX(CB2443:CB$2702)=MAX(CB$1262:CB$2702),0,IF(BZ2443>0.01*BT$2703,0,$C2443/60)))","v":{"$error":"#VALUE!"}},0,0,0,0,{"$error":"#VALUE!"},{"$error":"#VALUE!"},{"$error":"#VALUE!"},{"$error":"#VALUE!"},{"$error":"#VALUE!"},{"$error":"#VALUE!"},{"$error":"#VALUE!"},{"$error":"#VALUE!"},{"$error":"#VALUE!"},{"$error":"#VALUE!"},{"$error":"#VALUE!"},{"$f":"IF(SUM(CZ$1262:CZ2442)>0,0,IF(MAX(CS2443:CS$2702)=MAX(CS$1262:CS$2702),0,IF(CQ2443>0.03*CK$2703,0,$C2443/60)))","v":{"$error":"#VALUE!"}},{"$f":"IF(SUM(DA$1262:DA2442)>0,0,IF(MAX(CS2443:CS$2702)=MAX(CS$1262:CS$2702),0,IF(CQ2443>0.01*CK$2703,0,$C2443/60)))","v":{"$error":"#VALUE!"}}]
[null,98.75,5925,0,0,0,0,0,0,0,0,0,{"$error":"#N/A"},{"$error":"#N/A"},{"$error":"#N/A"},{"$error":"#N/A"},{"$error":"#N/A"},{"$error":"#N/A"},{"$f":"IF(SUM(S$1262:S2446)>0,0,\nIF(MAX(L2447:L$2702)=MAX(L$1262:L$2702),0,\nIF(Hydrograph_Source_WQCV=\"USER\",IF(J2447>0.03*D$2703,0,$C2447/60),\nIF(J2447>0.03*J$2703,0,$C2447/60))))","v":0},{"$f":"IF(SUM(T$1262:T2446)>0,0,\nIF(MAX(L2447:L$2702)=MAX(L$1262:L$2702),0,\nIF(Hydrograph_Source_WQCV=\"USER\",IF(J2447>0.01*D$2703,0,$C2447/60),\nIF(J2447>0.01*J$2703,0,$C2447/60))))","v":0},0,0,0,0,{"$error":"#VALUE!"},{"$error":"#VALUE!"},{"$error":"#VALUE!"},{"$error":"#VALUE!"},{"$error":"#VALUE!"},{"$error":"#VALUE!"},{"$error":"#VALUE!"},{"$error":"#VALUE!"},{"$error":"#VALUE!"},{"$error":"#VALUE!"},{"$error":"#VALUE!"},{"$f":"IF(SUM(AJ$1262:AJ2446)>0,0,IF(MAX(AC2447:AC$2702)=MAX(AC$1262:AC$2702),0,IF(AA2447>0.03*U$2703,0,$C2447/60)))","v":{"$error":"#VALUE!"}},{"$f":"IF(SUM(AK$1262:AK2446)>0,0,IF(MAX(AC2447:AC$2702)=MAX(AC$1262:AC$2702),0,IF(AA2447>0.01*U$2703,0,$C2447/60)))","v":{"$error":"#VALUE!"}},0,0,0,0,{"$error":"#VALUE!"},{"$error":"#VALUE!"},{"$error":"#VALUE!"},{"$error":"#VALUE!"},{"$error":"#VALUE!"},{"$error":"#VALUE!"},{"$error":"#VALUE!"},{"$error":"#VALUE!"},{"$error":"#VALUE!"},{"$error":"#VALUE!"},{"$error":"#VALUE!"},{"$f":"IF(SUM(BA$1262:BA2446)>0,0,IF(MAX(AT2447:AT$2702)=MAX(AT$1262:AT$2702),0,IF(AR2447>0.03*AL$2703,0,$C2447/60)))","v":{"$error":"#VALUE!"}},{"$f":"IF(SUM(BB$1262:BB2446)>0,0,IF(MAX(AT2447:AT$2702)=MAX(AT$1262:AT$2702),0,IF(AR2447>0.01*AL$2703,0,$C2447/60)))","v":{"$error":"#VALUE!"}},0,0,0,0,{"$error":"#VALUE!"},{"$error":"#VALUE!"},{"$error":"#VALUE!"},{"$error":"#VALUE!"},{"$error":"#VALUE!"},{"$error":"#VALUE!"},{"$error":"#VALUE!"},{"$error":"#VALUE!"},{"$error":"#VALUE!"},{"$error":"#VALUE!"},{"$error":"#VALUE!"},{"$f":"IF(SUM(BR$1262:BR2446)>0,0,IF(MAX(BK2447:BK$2702)=MAX(BK$1262:BK$2702),0,IF(BI2447>0.03*BC$2703,0,$C2447/60)))","v":{"$error":"#VALUE!"}},{"$f":"IF(SUM(BS$1262:BS2446)>0,0,IF(MAX(BK2447:BK$2702)=MAX(BK$1262:BK$2702),0,IF(BI2447>0.01*BC$2703,0,$C2447/60)))","v":{"$error":"#VALUE!"}},0,0,0,0,{"$error":"#VALUE!"},{"$error":"#VALUE!"},{"$error":"#VALUE!"},{"$error":"#VALUE!"},{"$error":"#VALUE!"},{"$error":"#VALUE!"},{"$error":"#VALUE!"},{"$error":"#VALUE!"},{"$error":"#VALUE!"},{"$error":"#VALUE!"},{"$error":"#VALUE!"},{"$f":"IF(SUM(CI$1262:CI2446)>0,0,IF(MAX(CB2447:CB$2702)=MAX(CB$1262:CB$2702),0,IF(BZ2447>0.03*BT$2703,0,$C2447/60)))","v":{"$error":"#VALUE!"}},{"$f":"IF(SUM(CJ$1262:CJ2446)>0,0,IF(MAX(CB2447:CB$2702)=MAX(CB$1262:CB$2702),0,IF(BZ2447>0.01*BT$2703,0,$C2447/60)))","v":{"$error":"#VALUE!"}},0,0,0,0,{"$error":"#VALUE!"},{"$error":"#VALUE!"},{"$error":"#VALUE!"},{"$error":"#VALUE!"},{"$error":"#VALUE!"},{"$error":"#VALUE!"},{"$error":"#VALUE!"},{"$error":"#VALUE!"},{"$error":"#VALUE!"},{"$error":"#VALUE!"},{"$error":"#VALUE!"},{"$f":"IF(SUM(CZ$1262:CZ2446)>0,0,IF(MAX(CS2447:CS$2702)=MAX(CS$1262:CS$2702),0,IF(CQ2447>0.03*CK$2703,0,$C2447/60)))","v":{"$error":"#VALUE!"}},{"$f":"IF(SUM(DA$1262:DA2446)>0,0,IF(MAX(CS2447:CS$2702)=MAX(CS$1262:CS$2702),0,IF(CQ2447>0.01*CK$2703,0,$C2447/60)))","v":{"$error":"#VALUE!"}}]
[null,99,5940,0,0,0,0,0,0,0,0,0,{"$error":"#N/A"},{"$error":"#N/A"},{"$error":"#N/A"},{"$error":"#N/A"},{"$error":"#N/A"},{"$error":"#N/A"},{"$f":"IF(SUM(S$1262:S2449)>0,0,\nIF(MAX(L2450:L$2702)=MAX(L$1262:L$2702),0,\nIF(Hydrograph_Source_WQCV=\"USER\",IF(J2450>0.03*D$2703,0,$C2450/60),\nIF(J2450>0.03*J$2703,0,$C2450/60))))","v":0},{"$f":"IF(SUM(T$1262:T2449)>0,0,\nIF(MAX(L2450:L$2702)=MAX(L$1262:L$2702),0,\nIF(Hydrograph_Source_WQCV=\"USER\",IF(J2450>0.01*D$2703,0,$C2450/60),\nIF(J2450>0.01*J$2703,0,$C2450/60))))","v":0},0,0,0,0,{"$error":"#VALUE!"},{"$error":"#VALUE!"},{"$error":"#VALUE!"},{"$error":"#VALUE!"},{"$error":"#VALUE!"},{"$error":"#VALUE!"},{"$error":"#VALUE!"},{"$error":"#VALUE!"},{"$error":"#VALUE!"},{"$error":"#VALUE!"},{"$error":"#VALUE!"},{"$f":"IF(SUM(AJ$1262:AJ2449)>0,0,IF(MAX(AC2450:AC$2702)=MAX(AC$1262:AC$2702),0,IF(AA2450>0.03*U$2703,0,$C2450/60)))","v":{"$error":"#VALUE!"}},{"$f":"IF(SUM(AK$1262:AK2449)>0,0,IF(MAX(AC2450:AC$2702)=MAX(AC$1262:AC$2702),0,IF(AA2450>0.01*U$2703,0,$C2450/60)))","v":{"$error":"#VALUE!"}},0,0,0,0,{"$error":"#VALUE!"},{"$error":"#VALUE!"},{"$error":"#VALUE!"},{"$error":"#VALUE!"},{"$error":"#VALUE!"},{"$error":"#VALUE!"},{"$error":"#VALUE!"},{"$error":"#VALUE!"},{"$error":"#VALUE!"},{"$error":"#VALUE!"},{"$error":"#VALUE!"},{"$f":"IF(SUM(BA$1262:BA2449)>0,0,IF(MAX(AT2450:AT$2702)=MAX(AT$1262:AT$2702),0,IF(AR2450>0.03*AL$2703,0,$C2450/60)))","v":{"$error":"#VALUE!"}},{"$f":"IF(SUM(BB$1262:BB2449)>0,0,IF(MAX(AT2450:AT$2702)=MAX(AT$1262:AT$2702),0,IF(AR2450>0.01*AL$2703,0,$C2450/60)))","v":{"$error":"#VALUE!"}},0,0,0,0,{"$error":"#VALUE!"},{"$error":"#VALUE!"},{"$error":"#VALUE!"},{"$error":"#VALUE!"},{"$error":"#VALUE!"},{"$error":"#VALUE!"},{"$error":"#VALUE!"},{"$error":"#VALUE!"},{"$error":"#VALUE!"},{"$error":"#VALUE!"},{"$error":"#VALUE!"},{"$f":"IF(SUM(BR$1262:BR2449)>0,0,IF(MAX(BK2450:BK$2702)=MAX(BK$1262:BK$2702),0,IF(BI2450>0.03*BC$2703,0,$C2450/60)))","v":{"$error":"#VALUE!"}},{"$f":"IF(SUM(BS$1262:BS2449)>0,0,IF(MAX(BK2450:BK$2702)=MAX(BK$1262:BK$2702),0,IF(BI2450>0.01*BC$2703,0,$C2450/60)))","v":{"$error":"#VALUE!"}},0,0,0,0,{"$error":"#VALUE!"},{"$error":"#VALUE!"},{"$error":"#VALUE!"},{"$error":"#VALUE!"},{"$error":"#VALUE!"},{"$error":"#VALUE!"},{"$error":"#VALUE!"},{"$error":"#VALUE!"},{"$error":"#VALUE!"},{"$error":"#VALUE!"},{"$error":"#VALUE!"},{"$f":"IF(SUM(CI$1262:CI2449)>0,0,IF(MAX(CB2450:CB$2702)=MAX(CB$1262:CB$2702),0,IF(BZ2450>0.03*BT$2703,0,$C2450/60)))","v":{"$error":"#VALUE!"}},{"$f":"IF(SUM(CJ$1262:CJ2449)>0,0,IF(MAX(CB2450:CB$2702)=MAX(CB$1262:CB$2702),0,IF(BZ2450>0.01*BT$2703,0,$C2450/60)))","v":{"$error":"#VALUE!"}},0,0,0,0,{"$error":"#VALUE!"},{"$error":"#VALUE!"},{"$error":"#VALUE!"},{"$error":"#VALUE!"},{"$error":"#VALUE!"},{"$error":"#VALUE!"},{"$error":"#VALUE!"},{"$error":"#VALUE!"},{"$error":"#VALUE!"},{"$error":"#VALUE!"},{"$error":"#VALUE!"},{"$f":"IF(SUM(CZ$1262:CZ2449)>0,0,IF(MAX(CS2450:CS$2702)=MAX(CS$1262:CS$2702),0,IF(CQ2450>0.03*CK$2703,0,$C2450/60)))","v":{"$error":"#VALUE!"}},{"$f":"IF(SUM(DA$1262:DA2449)>0,0,IF(MAX(CS2450:CS$2702)=MAX(CS$1262:CS$2702),0,IF(CQ2450>0.01*CK$2703,0,$C2450/60)))","v":{"$error":"#VALUE!"}}]
[null,99.416666666666671,5965,0,0,0,0,0,0,0,0,0,{"$error":"#N/A"},{"$error":"#N/A"},{"$error":"#N/A"},{"$error":"#N/A"},{"$error":"#N/A"},{"$error":"#N/A"},{"$f":"IF(SUM(S$1262:S2454)>0,0,\nIF(MAX(L2455:L$2702)=MAX(L$1262:L$2702),0,\nIF(Hydrograph_Source_WQCV=\"USER\",IF(J2455>0.03*D$2703,0,$C2455/60),\nIF(J2455>0.03*J$2703,0,$C2455/60))))","v":0},{"$f":"IF(SUM(T$1262:T2454)>0,0,\nIF(MAX(L2455:L$2702)=MAX(L$1262:L$2702),0,\nIF(Hydrograph_Source_WQCV=\"USER\",IF(J2455>0.01*D$2703,0,$C2455/60),\nIF(J2455>0.01*J$2703,0,$C2455/60))))","v":0},0,0,0,0,{"$error":"#VALUE!"},{"$error":"#VALUE!"},{"$error":"#VALUE!"},{"$error":"#VALUE!"},{"$error":"#VALUE!"},{"$error":"#VALUE!"},{"$error":"#VALUE!"},{"$error":"#VALUE!"},{"$error":"#VALUE!"},{"$error":"#VALUE!"},{"$error":"#VALUE!"},{"$f":"IF(SUM(AJ$1262:AJ2454)>0,0,IF(MAX(AC2455:AC$2702)=MAX(AC$1262:AC$2702),0,IF(AA2455>0.03*U$2703,0,$C2455/60)))","v":{"$error":"#VALUE!"}},{"$f":"IF(SUM(AK$1262:AK2454)>0,0,IF(MAX(AC2455:AC$2702)=MAX(AC$1262:AC$2702),0,IF(AA2455>0.01*U$2703,0,$C2455/60)))","v":{"$error":"#VALUE!"}},0,0,0,0,{"$error":"#VALUE!"},{"$error":"#VALUE!"},{"$error":"#VALUE!"},{"$error":"#VALUE!"},{"$error":"#VALUE!"},{"$error":"#VALUE!"},{"$error":"#VALUE!"},{"$error":"#VALUE!"},{"$error":"#VALUE!"},{"$error":"#VALUE!"},{"$error":"#VALUE!"},{"$f":"IF(SUM(BA$1262:BA2454)>0,0,IF(MAX(AT2455:AT$2702)=MAX(AT$1262:AT$2702),0,IF(AR2455>0.03*AL$2703,0,$C2455/60)))","v":{"$error":"#VALUE!"}},{"$f":"IF(SUM(BB$1262:BB2454)>0,0,IF(MAX(AT2455:AT$2702)=MAX(AT$1262:AT$2702),0,IF(AR2455>0.01*AL$2703,0,$C2455/60)))","v":{"$error":"#VALUE!"}},0,0,0,0,{"$error":"#VALUE!"},{"$error":"#VALUE!"},{"$error":"#VALUE!"},{"$error":"#VALUE!"},{"$error":"#VALUE!"},{"$error":"#VALUE!"},{"$error":"#VALUE!"},{"$error":"#VALUE!"},{"$error":"#VALUE!"},{"$error":"#VALUE!"},{"$error":"#VALUE!"},{"$f":"IF(SUM(BR$1262:BR2454)>0,0,IF(MAX(BK2455:BK$2702)=MAX(BK$1262:BK$2702),0,IF(BI2455>0.03*BC$2703,0,$C2455/60)))","v":{"$error":"#VALUE!"}},{"$f":"IF(SUM(BS$1262:BS2454)>0,0,IF(MAX(BK2455:BK$2702)=MAX(BK$1262:BK$2702),0,IF(BI2455>0.01*BC$2703,0,$C2455/60)))","v":{"$error":"#VALUE!"}},0,0,0,0,{"$error":"#VALUE!"},{"$error":"#VALUE!"},{"$error":"#VALUE!"},{"$error":"#VALUE!"},{"$error":"#VALUE!"},{"$error":"#VALUE!"},{"$error":"#VALUE!"},{"$error":"#VALUE!"},{"$error":"#VALUE!"},{"$error":"#VALUE!"},{"$error":"#VALUE!"},{"$f":"IF(SUM(CI$1262:CI2454)>0,0,IF(MAX(CB2455:CB$2702)=MAX(CB$1262:CB$2702),0,IF(BZ2455>0.03*BT$2703,0,$C2455/60)))","v":{"$error":"#VALUE!"}},{"$f":"IF(SUM(CJ$1262:CJ2454)>0,0,IF(MAX(CB2455:CB$2702)=MAX(CB$1262:CB$2702),0,IF(BZ2455>0.01*BT$2703,0,$C2455/60)))","v":{"$error":"#VALUE!"}},0,0,0,0,{"$error":"#VALUE!"},{"$error":"#VALUE!"},{"$error":"#VALUE!"},{"$error":"#VALUE!"},{"$error":"#VALUE!"},{"$error":"#VALUE!"},{"$error":"#VALUE!"},{"$error":"#VALUE!"},{"$error":"#VALUE!"},{"$error":"#VALUE!"},{"$error":"#VALUE!"},{"$f":"IF(SUM(CZ$1262:CZ2454)>0,0,IF(MAX(CS2455:CS$2702)=MAX(CS$1262:CS$2702),0,IF(CQ2455>0.03*CK$2703,0,$C2455/60)))","v":{"$error":"#VALUE!"}},{"$f":"IF(SUM(DA$1262:DA2454)>0,0,IF(MAX(CS2455:CS$2702)=MAX(CS$1262:CS$2702),0,IF(CQ2455>0.01*CK$2703,0,$C2455/60)))","v":{"$error":"#VALUE!"}}]
[null,99.916666666666671,5995,0,0,0,0,0,0,0,0,0,{"$error":"#N/A"},{"$error":"#N/A"},{"$error":"#N/A"},{"$error":"#N/A"},{"$error":"#N/A"},{"$error":"#N/A"},{"$f":"IF(SUM(S$1262:S2460)>0,0,\nIF(MAX(L2461:L$2702)=MAX(L$1262:L$2702),0,\nIF(Hydrograph_Source_WQCV=\"USER\",IF(J2461>0.03*D$2703,0,$C2461/60),\nIF(J2461>0.03*J$2703,0,$C2461/60))))","v":0},{"$f":"IF(SUM(T$1262:T2460)>0,0,\nIF(MAX(L2461:L$2702)=MAX(L$1262:L$2702),0,\nIF(Hydrograph_Source_WQCV=\"USER\",IF(J2461>0.01*D$2703,0,$C2461/60),\nIF(J2461>0.01*J$2703,0,$C2461/60))))","v":0},0,0,0,0,{"$error":"#VALUE!"},{"$error":"#VALUE!"},{"$error":"#VALUE!"},{"$error":"#VALUE!"},{"$error":"#VALUE!"},{"$error":"#VALUE!"},{"$error":"#VALUE!"},{"$error":"#VALUE!"},{"$error":"#VALUE!"},{"$error":"#VALUE!"},{"$error":"#VALUE!"},{"$f":"IF(SUM(AJ$1262:AJ2460)>0,0,IF(MAX(AC2461:AC$2702)=MAX(AC$1262:AC$2702),0,IF(AA2461>0.03*U$2703,0,$C2461/60)))","v":{"$error":"#VALUE!"}},{"$f":"IF(SUM(AK$1262:AK2460)>0,0,IF(MAX(AC2461:AC$2702)=MAX(AC$1262:AC$2702),0,IF(AA2461>0.01*U$2703,0,$C2461/60)))","v":{"$error":"#VALUE!"}},0,0,0,0,{"$error":"#VALUE!"},{"$error":"#VALUE!"},{"$error":"#VALUE!"},{"$error":"#VALUE!"},{"$error":"#VALUE!"},{"$error":"#VALUE!"},{"$error":"#VALUE!"},{"$error":"#VALUE!"},{"$error":"#VALUE!"},{"$error":"#VALUE!"},{"$error":"#VALUE!"},{"$f":"IF(SUM(BA$1262:BA2460)>0,0,IF(MAX(AT2461:AT$2702)=MAX(AT$1262:AT$2702),0,IF(AR2461>0.03*AL$2703,0,$C2461/60)))","v":{"$error":"#VALUE!"}},{"$f":"IF(SUM(BB$1262:BB2460)>0,0,IF(MAX(AT2461:AT$2702)=MAX(AT$1262:AT$2702),0,IF(AR2461>0.01*AL$2703,0,$C2461/60)))","v":{"$error":"#VALUE!"}},0,0,0,0,{"$error":"#VALUE!"},{"$error":"#VALUE!"},{"$error":"#VALUE!"},{"$error":"#VALUE!"},{"$error":"#VALUE!"},{"$error":"#VALUE!"},{"$error":"#VALUE!"},{"$error":"#VALUE!"},{"$error":"#VALUE!"},{"$error":"#VALUE!"},{"$error":"#VALUE!"},{"$f":"IF(SUM(BR$1262:BR2460)>0,0,IF(MAX(BK2461:BK$2702)=MAX(BK$1262:BK$2702),0,IF(BI2461>0.03*BC$2703,0,$C2461/60)))","v":{"$error":"#VALUE!"}},{"$f":"IF(SUM(BS$1262:BS2460)>0,0,IF(MAX(BK2461:BK$2702)=MAX(BK$1262:BK$2702),0,IF(BI2461>0.01*BC$2703,0,$C2461/60)))","v":{"$error":"#VALUE!"}},0,0,0,0,{"$error":"#VALUE!"},{"$error":"#VALUE!"},{"$error":"#VALUE!"},{"$error":"#VALUE!"},{"$error":"#VALUE!"},{"$error":"#VALUE!"},{"$error":"#VALUE!"},{"$error":"#VALUE!"},{"$error":"#VALUE!"},{"$error":"#VALUE!"},{"$error":"#VALUE!"},{"$f":"IF(SUM(CI$1262:CI2460)>0,0,IF(MAX(CB2461:CB$2702)=MAX(CB$1262:CB$2702),0,IF(BZ2461>0.03*BT$2703,0,$C2461/60)))","v":{"$error":"#VALUE!"}},{"$f":"IF(SUM(CJ$1262:CJ2460)>0,0,IF(MAX(CB2461:CB$2702)=MAX(CB$1262:CB$2702),0,IF(BZ2461>0.01*BT$2703,0,$C2461/60)))","v":{"$error":"#VALUE!"}},0,0,0,0,{"$error":"#VALUE!"},{"$error":"#VALUE!"},{"$error":"#VALUE!"},{"$error":"#VALUE!"},{"$error":"#VALUE!"},{"$error":"#VALUE!"},{"$error":"#VALUE!"},{"$error":"#VALUE!"},{"$error":"#VALUE!"},{"$error":"#VALUE!"},{"$error":"#VALUE!"},{"$f":"IF(SUM(CZ$1262:CZ2460)>0,0,IF(MAX(CS2461:CS$2702)=MAX(CS$1262:CS$2702),0,IF(CQ2461>0.03*CK$2703,0,$C2461/60)))","v":{"$error":"#VALUE!"}},{"$f":"IF(SUM(DA$1262:DA2460)>0,0,IF(MAX(CS2461:CS$2702)=MAX(CS$1262:CS$2702),0,IF(CQ2461>0.01*CK$2703,0,$C2461/60)))","v":{"$error":"#VALUE!"}}]
[null,100,6000,0,0,0,0,0,0,0,0,0,{"$error":"#N/A"},{"$error":"#N/A"},{"$error":"#N/A"},{"$error":"#N/A"},{"$error":"#N/A"},{"$error":"#N/A"},{"$f":"IF(SUM(S$1262:S2461)>0,0,\nIF(MAX(L2462:L$2702)=MAX(L$1262:L$2702),0,\nIF(Hydrograph_Source_WQCV=\"USER\",IF(J2462>0.03*D$2703,0,$C2462/60),\nIF(J2462>0.03*J$2703,0,$C2462/60))))","v":0},{"$f":"IF(SUM(T$1262:T2461)>0,0,\nIF(MAX(L2462:L$2702)=MAX(L$1262:L$2702),0,\nIF(Hydrograph_Source_WQCV=\"USER\",IF(J2462>0.01*D$2703,0,$C2462/60),\nIF(J2462>0.01*J$2703,0,$C2462/60))))","v":0},0,0,0,0,{"$error":"#VALUE!"},{"$error":"#VALUE!"},{"$error":"#VALUE!"},{"$error":"#VALUE!"},{"$error":"#VALUE!"},{"$error":"#VALUE!"},{"$error":"#VALUE!"},{"$error":"#VALUE!"},{"$error":"#VALUE!"},{"$error":"#VALUE!"},{"$error":"#VALUE!"},{"$f":"IF(SUM(AJ$1262:AJ2461)>0,0,IF(MAX(AC2462:AC$2702)=MAX(AC$1262:AC$2702),0,IF(AA2462>0.03*U$2703,0,$C2462/60)))","v":{"$error":"#VALUE!"}},{"$f":"IF(SUM(AK$1262:AK2461)>0,0,IF(MAX(AC2462:AC$2702)=MAX(AC$1262:AC$2702),0,IF(AA2462>0.01*U$2703,0,$C2462/60)))","v":{"$error":"#VALUE!"}},0,0,0,0,{"$error":"#VALUE!"},{"$error":"#VALUE!"},{"$error":"#VALUE!"},{"$error":"#VALUE!"},{"$error":"#VALUE!"},{"$error":"#VALUE!"},{"$error":"#VALUE!"},{"$error":"#VALUE!"},{"$error":"#VALUE!"},{"$error":"#VALUE!"},{"$error":"#VALUE!"},{"$f":"IF(SUM(BA$1262:BA2461)>0,0,IF(MAX(AT2462:AT$2702)=MAX(AT$1262:AT$2702),0,IF(AR2462>0.03*AL$2703,0,$C2462/60)))","v":{"$error":"#VALUE!"}},{"$f":"IF(SUM(BB$1262:BB2461)>0,0,IF(MAX(AT2462:AT$2702)=MAX(AT$1262:AT$2702),0,IF(AR2462>0.01*AL$2703,0,$C2462/60)))","v":{"$error":"#VALUE!"}},0,0,0,0,{"$error":"#VALUE!"},{"$error":"#VALUE!"},{"$error":"#VALUE!"},{"$error":"#VALUE!"},{"$error":"#VALUE!"},{"$error":"#VALUE!"},{"$error":"#VALUE!"},{"$error":"#VALUE!"},{"$error":"#VALUE!"},{"$error":"#VALUE!"},{"$error":"#VALUE!"},{"$f":"IF(SUM(BR$1262:BR2461)>0,0,IF(MAX(BK2462:BK$2702)=MAX(BK$1262:BK$2702),0,IF(BI2462>0.03*BC$2703,0,$C2462/60)))","v":{"$error":"#VALUE!"}},{"$f":"IF(SUM(BS$1262:BS2461)>0,0,IF(MAX(BK2462:BK$2702)=MAX(BK$1262:BK$2702),0,IF(BI2462>0.01*BC$2703,0,$C2462/60)))","v":{"$error":"#VALUE!"}},0,0,0,0,{"$error":"#VALUE!"},{"$error":"#VALUE!"},{"$error":"#VALUE!"},{"$error":"#VALUE!"},{"$error":"#VALUE!"},{"$error":"#VALUE!"},{"$error":"#VALUE!"},{"$error":"#VALUE!"},{"$error":"#VALUE!"},{"$error":"#VALUE!"},{"$error":"#VALUE!"},{"$f":"IF(SUM(CI$1262:CI2461)>0,0,IF(MAX(CB2462:CB$2702)=MAX(CB$1262:CB$2702),0,IF(BZ2462>0.03*BT$2703,0,$C2462/60)))","v":{"$error":"#VALUE!"}},{"$f":"IF(SUM(CJ$1262:CJ2461)>0,0,IF(MAX(CB2462:CB$2702)=MAX(CB$1262:CB$2702),0,IF(BZ2462>0.01*BT$2703,0,$C2462/60)))","v":{"$error":"#VALUE!"}},0,0,0,0,{"$error":"#VALUE!"},{"$error":"#VALUE!"},{"$error":"#VALUE!"},{"$error":"#VALUE!"},{"$error":"#VALUE!"},{"$error":"#VALUE!"},{"$error":"#VALUE!"},{"$error":"#VALUE!"},{"$error":"#VALUE!"},{"$error":"#VALUE!"},{"$error":"#VALUE!"},{"$f":"IF(SUM(CZ$1262:CZ2461)>0,0,IF(MAX(CS2462:CS$2702)=MAX(CS$1262:CS$2702),0,IF(CQ2462>0.03*CK$2703,0,$C2462/60)))","v":{"$error":"#VALUE!"}},{"$f":"IF(SUM(DA$1262:DA2461)>0,0,IF(MAX(CS2462:CS$2702)=MAX(CS$1262:CS$2702),0,IF(CQ2462>0.01*CK$2703,0,$C2462/60)))","v":{"$error":"#VALUE!"}}]
[null,100.41666666666667,6025,0,0,0,0,0,0,0,0,0,{"$error":"#N/A"},{"$error":"#N/A"},{"$error":"#N/A"},{"$error":"#N/A"},{"$error":"#N/A"},{"$error":"#N/A"},{"$f":"IF(SUM(S$1262:S2466)>0,0,\nIF(MAX(L2467:L$2702)=MAX(L$1262:L$2702),0,\nIF(Hydrograph_Source_WQCV=\"USER\",IF(J2467>0.03*D$2703,0,$C2467/60),\nIF(J2467>0.03*J$2703,0,$C2467/60))))","v":0},{"$f":"IF(SUM(T$1262:T2466)>0,0,\nIF(MAX(L2467:L$2702)=MAX(L$1262:L$2702),0,\nIF(Hydrograph_Source_WQCV=\"USER\",IF(J2467>0.01*D$2703,0,$C2467/60),\nIF(J2467>0.01*J$2703,0,$C2467/60))))","v":0},0,0,0,0,{"$error":"#VALUE!"},{"$error":"#VALUE!"},{"$error":"#VALUE!"},{"$error":"#VALUE!"},{"$error":"#VALUE!"},{"$error":"#VALUE!"},{"$error":"#VALUE!"},{"$error":"#VALUE!"},{"$error":"#VALUE!"},{"$error":"#VALUE!"},{"$error":"#VALUE!"},{"$f":"IF(SUM(AJ$1262:AJ2466)>0,0,IF(MAX(AC2467:AC$2702)=MAX(AC$1262:AC$2702),0,IF(AA2467>0.03*U$2703,0,$C2467/60)))","v":{"$error":"#VALUE!"}},{"$f":"IF(SUM(AK$1262:AK2466)>0,0,IF(MAX(AC2467:AC$2702)=MAX(AC$1262:AC$2702),0,IF(AA2467>0.01*U$2703,0,$C2467/60)))","v":{"$error":"#VALUE!"}},0,0,0,0,{"$error":"#VALUE!"},{"$error":"#VALUE!"},{"$error":"#VALUE!"},{"$error":"#VALUE!"},{"$error":"#VALUE!"},{"$error":"#VALUE!"},{"$error":"#VALUE!"},{"$error":"#VALUE!"},{"$error":"#VALUE!"},{"$error":"#VALUE!"},{"$error":"#VALUE!"},{"$f":"IF(SUM(BA$1262:BA2466)>0,0,IF(MAX(AT2467:AT$2702)=MAX(AT$1262:AT$2702),0,IF(AR2467>0.03*AL$2703,0,$C2467/60)))","v":{"$error":"#VALUE!"}},{"$f":"IF(SUM(BB$1262:BB2466)>0,0,IF(MAX(AT2467:AT$2702)=MAX(AT$1262:AT$2702),0,IF(AR2467>0.01*AL$2703,0,$C2467/60)))","v":{"$error":"#VALUE!"}},0,0,0,0,{"$error":"#VALUE!"},{"$error":"#VALUE!"},{"$error":"#VALUE!"},{"$error":"#VALUE!"},{"$error":"#VALUE!"},{"$error":"#VALUE!"},{"$error":"#VALUE!"},{"$error":"#VALUE!"},{"$error":"#VALUE!"},{"$error":"#VALUE!"},{"$error":"#VALUE!"},{"$f":"IF(SUM(BR$1262:BR2466)>0,0,IF(MAX(BK2467:BK$2702)=MAX(BK$1262:BK$2702),0,IF(BI2467>0.03*BC$2703,0,$C2467/60)))","v":{"$error":"#VALUE!"}},{"$f":"IF(SUM(BS$1262:BS2466)>0,0,IF(MAX(BK2467:BK$2702)=MAX(BK$1262:BK$2702),0,IF(BI2467>0.01*BC$2703,0,$C2467/60)))","v":{"$error":"#VALUE!"}},0,0,0,0,{"$error":"#VALUE!"},{"$error":"#VALUE!"},{"$error":"#VALUE!"},{"$error":"#VALUE!"},{"$error":"#VALUE!"},{"$error":"#VALUE!"},{"$error":"#VALUE!"},{"$error":"#VALUE!"},{"$error":"#VALUE!"},{"$error":"#VALUE!"},{"$error":"#VALUE!"},{"$f":"IF(SUM(CI$1262:CI2466)>0,0,IF(MAX(CB2467:CB$2702)=MAX(CB$1262:CB$2702),0,IF(BZ2467>0.03*BT$2703,0,$C2467/60)))","v":{"$error":"#VALUE!"}},{"$f":"IF(SUM(CJ$1262:CJ2466)>0,0,IF(MAX(CB2467:CB$2702)=MAX(CB$1262:CB$2702),0,IF(BZ2467>0.01*BT$2703,0,$C2467/60)))","v":{"$error":"#VALUE!"}},0,0,0,0,{"$error":"#VALUE!"},{"$error":"#VALUE!"},{"$error":"#VALUE!"},{"$error":"#VALUE!"},{"$error":"#VALUE!"},{"$error":"#VALUE!"},{"$error":"#VALUE!"},{"$error":"#VALUE!"},{"$error":"#VALUE!"},{"$error":"#VALUE!"},{"$error":"#VALUE!"},{"$f":"IF(SUM(CZ$1262:CZ2466)>0,0,IF(MAX(CS2467:CS$2702)=MAX(CS$1262:CS$2702),0,IF(CQ2467>0.03*CK$2703,0,$C2467/60)))","v":{"$error":"#VALUE!"}},{"$f":"IF(SUM(DA$1262:DA2466)>0,0,IF(MAX(CS2467:CS$2702)=MAX(CS$1262:CS$2702),0,IF(CQ2467>0.01*CK$2703,0,$C2467/60)))","v":{"$error":"#VALUE!"}}]
[null,100.83333333333333,6050,0,0,0,0,0,0,0,0,0,{"$error":"#N/A"},{"$error":"#N/A"},{"$error":"#N/A"},{"$error":"#N/A"},{"$error":"#N/A"},{"$error":"#N/A"},{"$f":"IF(SUM(S$1262:S2471)>0,0,\nIF(MAX(L2472:L$2702)=MAX(L$1262:L$2702),0,\nIF(Hydrograph_Source_WQCV=\"USER\",IF(J2472>0.03*D$2703,0,$C2472/60),\nIF(J2472>0.03*J$2703,0,$C2472/60))))","v":0},{"$f":"IF(SUM(T$1262:T2471)>0,0,\nIF(MAX(L2472:L$2702)=MAX(L$1262:L$2702),0,\nIF(Hydrograph_Source_WQCV=\"USER\",IF(J2472>0.01*D$2703,0,$C2472/60),\nIF(J2472>0.01*J$2703,0,$C2472/60))))","v":0},0,0,0,0,{"$error":"#VALUE!"},{"$error":"#VALUE!"},{"$error":"#VALUE!"},{"$error":"#VALUE!"},{"$error":"#VALUE!"},{"$error":"#VALUE!"},{"$error":"#VALUE!"},{"$error":"#VALUE!"},{"$error":"#VALUE!"},{"$error":"#VALUE!"},{"$error":"#VALUE!"},{"$f":"IF(SUM(AJ$1262:AJ2471)>0,0,IF(MAX(AC2472:AC$2702)=MAX(AC$1262:AC$2702),0,IF(AA2472>0.03*U$2703,0,$C2472/60)))","v":{"$error":"#VALUE!"}},{"$f":"IF(SUM(AK$1262:AK2471)>0,0,IF(MAX(AC2472:AC$2702)=MAX(AC$1262:AC$2702),0,IF(AA2472>0.01*U$2703,0,$C2472/60)))","v":{"$error":"#VALUE!"}},0,0,0,0,{"$error":"#VALUE!"},{"$error":"#VALUE!"},{"$error":"#VALUE!"},{"$error":"#VALUE!"},{"$error":"#VALUE!"},{"$error":"#VALUE!"},{"$error":"#VALUE!"},{"$error":"#VALUE!"},{"$error":"#VALUE!"},{"$error":"#VALUE!"},{"$error":"#VALUE!"},{"$f":"IF(SUM(BA$1262:BA2471)>0,0,IF(MAX(AT2472:AT$2702)=MAX(AT$1262:AT$2702),0,IF(AR2472>0.03*AL$2703,0,$C2472/60)))","v":{"$error":"#VALUE!"}},{"$f":"IF(SUM(BB$1262:BB2471)>0,0,IF(MAX(AT2472:AT$2702)=MAX(AT$1262:AT$2702),0,IF(AR2472>0.01*AL$2703,0,$C2472/60)))","v":{"$error":"#VALUE!"}},0,0,0,0,{"$error":"#VALUE!"},{"$error":"#VALUE!"},{"$error":"#VALUE!"},{"$error":"#VALUE!"},{"$error":"#VALUE!"},{"$error":"#VALUE!"},{"$error":"#VALUE!"},{"$error":"#VALUE!"},{"$error":"#VALUE!"},{"$error":"#VALUE!"},{"$error":"#VALUE!"},{"$f":"IF(SUM(BR$1262:BR2471)>0,0,IF(MAX(BK2472:BK$2702)=MAX(BK$1262:BK$2702),0,IF(BI2472>0.03*BC$2703,0,$C2472/60)))","v":{"$error":"#VALUE!"}},{"$f":"IF(SUM(BS$1262:BS2471)>0,0,IF(MAX(BK2472:BK$2702)=MAX(BK$1262:BK$2702),0,IF(BI2472>0.01*BC$2703,0,$C2472/60)))","v":{"$error":"#VALUE!"}},0,0,0,0,{"$error":"#VALUE!"},{"$error":"#VALUE!"},{"$error":"#VALUE!"},{"$error":"#VALUE!"},{"$error":"#VALUE!"},{"$error":"#VALUE!"},{"$error":"#VALUE!"},{"$error":"#VALUE!"},{"$error":"#VALUE!"},{"$error":"#VALUE!"},{"$error":"#VALUE!"},{"$f":"IF(SUM(CI$1262:CI2471)>0,0,IF(MAX(CB2472:CB$2702)=MAX(CB$1262:CB$2702),0,IF(BZ2472>0.03*BT$2703,0,$C2472/60)))","v":{"$error":"#VALUE!"}},{"$f":"IF(SUM(CJ$1262:CJ2471)>0,0,IF(MAX(CB2472:CB$2702)=MAX(CB$1262:CB$2702),0,IF(BZ2472>0.01*BT$2703,0,$C2472/60)))","v":{"$error":"#VALUE!"}},0,0,0,0,{"$error":"#VALUE!"},{"$error":"#VALUE!"},{"$error":"#VALUE!"},{"$error":"#VALUE!"},{"$error":"#VALUE!"},{"$error":"#VALUE!"},{"$error":"#VALUE!"},{"$error":"#VALUE!"},{"$error":"#VALUE!"},{"$error":"#VALUE!"},{"$error":"#VALUE!"},{"$f":"IF(SUM(CZ$1262:CZ2471)>0,0,IF(MAX(CS2472:CS$2702)=MAX(CS$1262:CS$2702),0,IF(CQ2472>0.03*CK$2703,0,$C2472/60)))","v":{"$error":"#VALUE!"}},{"$f":"IF(SUM(DA$1262:DA2471)>0,0,IF(MAX(CS2472:CS$2702)=MAX(CS$1262:CS$2702),0,IF(CQ2472>0.01*CK$2703,0,$C2472/60)))","v":{"$error":"#VALUE!"}}]
[null,101,6060,0,0,0,0,0,0,0,0,0,{"$error":"#N/A"},{"$error":"#N/A"},{"$error":"#N/A"},{"$error":"#N/A"},{"$error":"#N/A"},{"$error":"#N/A"},{"$f":"IF(SUM(S$1262:S2473)>0,0,\nIF(MAX(L2474:L$2702)=MAX(L$1262:L$2702),0,\nIF(Hydrograph_Source_WQCV=\"USER\",IF(J2474>0.03*D$2703,0,$C2474/60),\nIF(J2474>0.03*J$2703,0,$C2474/60))))","v":0},{"$f":"IF(SUM(T$1262:T2473)>0,0,\nIF(MAX(L2474:L$2702)=MAX(L$1262:L$2702),0,\nIF(Hydrograph_Source_WQCV=\"USER\",IF(J2474>0.01*D$2703,0,$C2474/60),\nIF(J2474>0.01*J$2703,0,$C2474/60))))","v":0},0,0,0,0,{"$error":"#VALUE!"},{"$error":"#VALUE!"},{"$error":"#VALUE!"},{"$error":"#VALUE!"},{"$error":"#VALUE!"},{"$error":"#VALUE!"},{"$error":"#VALUE!"},{"$error":"#VALUE!"},{"$error":"#VALUE!"},{"$error":"#VALUE!"},{"$error":"#VALUE!"},{"$f":"IF(SUM(AJ$1262:AJ2473)>0,0,IF(MAX(AC2474:AC$2702)=MAX(AC$1262:AC$2702),0,IF(AA2474>0.03*U$2703,0,$C2474/60)))","v":{"$error":"#VALUE!"}},{"$f":"IF(SUM(AK$1262:AK2473)>0,0,IF(MAX(AC2474:AC$2702)=MAX(AC$1262:AC$2702),0,IF(AA2474>0.01*U$2703,0,$C2474/60)))","v":{"$error":"#VALUE!"}},0,0,0,0,{"$error":"#VALUE!"},{"$error":"#VALUE!"},{"$error":"#VALUE!"},{"$error":"#VALUE!"},{"$error":"#VALUE!"},{"$error":"#VALUE!"},{"$error":"#VALUE!"},{"$error":"#VALUE!"},{"$error":"#VALUE!"},{"$error":"#VALUE!"},{"$error":"#VALUE!"},{"$f":"IF(SUM(BA$1262:BA2473)>0,0,IF(MAX(AT2474:AT$2702)=MAX(AT$1262:AT$2702),0,IF(AR2474>0.03*AL$2703,0,$C2474/60)))","v":{"$error":"#VALUE!"}},{"$f":"IF(SUM(BB$1262:BB2473)>0,0,IF(MAX(AT2474:AT$2702)=MAX(AT$1262:AT$2702),0,IF(AR2474>0.01*AL$2703,0,$C2474/60)))","v":{"$error":"#VALUE!"}},0,0,0,0,{"$error":"#VALUE!"},{"$error":"#VALUE!"},{"$error":"#VALUE!"},{"$error":"#VALUE!"},{"$error":"#VALUE!"},{"$error":"#VALUE!"},{"$error":"#VALUE!"},{"$error":"#VALUE!"},{"$error":"#VALUE!"},{"$error":"#VALUE!"},{"$error":"#VALUE!"},{"$f":"IF(SUM(BR$1262:BR2473)>0,0,IF(MAX(BK2474:BK$2702)=MAX(BK$1262:BK$2702),0,IF(BI2474>0.03*BC$2703,0,$C2474/60)))","v":{"$error":"#VALUE!"}},{"$f":"IF(SUM(BS$1262:BS2473)>0,0,IF(MAX(BK2474:BK$2702)=MAX(BK$1262:BK$2702),0,IF(BI2474>0.01*BC$2703,0,$C2474/60)))","v":{"$error":"#VALUE!"}},0,0,0,0,{"$error":"#VALUE!"},{"$error":"#VALUE!"},{"$error":"#VALUE!"},{"$error":"#VALUE!"},{"$error":"#VALUE!"},{"$error":"#VALUE!"},{"$error":"#VALUE!"},{"$error":"#VALUE!"},{"$error":"#VALUE!"},{"$error":"#VALUE!"},{"$error":"#VALUE!"},{"$f":"IF(SUM(CI$1262:CI2473)>0,0,IF(MAX(CB2474:CB$2702)=MAX(CB$1262:CB$2702),0,IF(BZ2474>0.03*BT$2703,0,$C2474/60)))","v":{"$error":"#VALUE!"}},{"$f":"IF(SUM(CJ$1262:CJ2473)>0,0,IF(MAX(CB2474:CB$2702)=MAX(CB$1262:CB$2702),0,IF(BZ2474>0.01*BT$2703,0,$C2474/60)))","v":{"$error":"#VALUE!"}},0,0,0,0,{"$error":"#VALUE!"},{"$error":"#VALUE!"},{"$error":"#VALUE!"},{"$error":"#VALUE!"},{"$error":"#VALUE!"},{"$error":"#VALUE!"},{"$error":"#VALUE!"},{"$error":"#VALUE!"},{"$error":"#VALUE!"},{"$error":"#VALUE!"},{"$error":"#VALUE!"},{"$f":"IF(SUM(CZ$1262:CZ2473)>0,0,IF(MAX(CS2474:CS$2702)=MAX(CS$1262:CS$2702),0,IF(CQ2474>0.03*CK$2703,0,$C2474/60)))","v":{"$error":"#VALUE!"}},{"$f":"IF(SUM(DA$1262:DA2473)>0,0,IF(MAX(CS2474:CS$2702)=MAX(CS$1262:CS$2702),0,IF(CQ2474>0.01*CK$2703,0,$C2474/60)))","v":{"$error":"#VALUE!"}}]
[null,101.41666666666667,{"$f":"C2478+$C$1260","v":6085},0,0,{"$f":"G2478","v":0},0,{"$f":"I2478","v":0},0,0,0,{"$f":"IF($D$1263=\"\",0,ROUND((R2479*K2479+Q2479-R2479*P2479),7))","v":0},{"$error":"#N/A"},{"$error":"#N/A"},{"$error":"#N/A"},{"$error":"#N/A"},{"$error":"#N/A"},{"$error":"#N/A"},{"$f":"IF(SUM(S$1262:S2478)>0,0,\nIF(MAX(L2479:L$2702)=MAX(L$1262:L$2702),0,\nIF(Hydrograph_Source_WQCV=\"USER\",IF(J2479>0.03*D$2703,0,$C2479/60),\nIF(J2479>0.03*J$2703,0,$C2479/60))))","v":0},{"$f":"IF(SUM(T$1262:T2478)>0,0,\nIF(MAX(L2479:L$2702)=MAX(L$1262:L$2702),0,\nIF(Hydrograph_Source_WQCV=\"USER\",IF(J2479>0.01*D$2703,0,$C2479/60),\nIF(J2479>0.01*J$2703,0,$C2479/60))))","v":0},0,0,{"$f":"X2478","v":0},0,{"$f":"Z2478","v":{"$error":"#VALUE!"}},{"$error":"#VALUE!"},{"$error":"#VALUE!"},{"$error":"#VALUE!"},{"$f":"IF($U$1263=\"\",0,ROUND((AI2479*AB2479+AH2479-AI2479*AG2479),7))","v":{"$error":"#VALUE!"}},{"$error":"#VALUE!"},{"$error":"#VALUE!"},{"$error":"#VALUE!"},{"$error":"#VALUE!"},{"$error":"#VALUE!"},{"$error":"#VALUE!"},{"$f":"IF(SUM(AJ$1262:AJ2478)>0,0,IF(MAX(AC2479:AC$2702)=MAX(AC$1262:AC$2702),0,IF(AA2479>0.03*U$2703,0,$C2479/60)))","v":{"$error":"#VALUE!"}},{"$f":"IF(SUM(AK$1262:AK2478)>0,0,IF(MAX(AC2479:AC$2702)=MAX(AC$1262:AC$2702),0,IF(AA2479>0.01*U$2703,0,$C2479/60)))","v":{"$error":"#VALUE!"}},0,0,{"$f":"AO2478","v":0},0,{"$f":"AQ2478","v":{"$error":"#VALUE!"}},{"$error":"#VALUE!"},{"$error":"#VALUE!"},{"$error":"#VALUE!"},{"$f":"IF($AL$1263=\"\",0,ROUND((AZ2479*AS2479+AY2479-AZ2479*AX2479),7))","v":{"$error":"#VALUE!"}},{"$error":"#VALUE!"},{"$error":"#VALUE!"},{"$error":"#VALUE!"},{"$error":"#VALUE!"},{"$error":"#VALUE!"},{"$error":"#VALUE!"},{"$f":"IF(SUM(BA$1262:BA2478)>0,0,IF(MAX(AT2479:AT$2702)=MAX(AT$1262:AT$2702),0,IF(AR2479>0.03*AL$2703,0,$C2479/60)))","v":{"$error":"#VALUE!"}},{"$f":"IF(SUM(BB$1262:BB2478)>0,0,IF(MAX(AT2479:AT$2702)=MAX(AT$1262:AT$2702),0,IF(AR2479>0.01*AL$2703,0,$C2479/60)))","v":{"$error":"#VALUE!"}},0,0,{"$f":"BF2478","v":0},0,{"$f":"BH2478","v":{"$error":"#VALUE!"}},{"$error":"#VALUE!"},{"$error":"#VALUE!"},{"$error":"#VALUE!"},{"$f":"IF($BC$1263=\"\",0,ROUND((BQ2479*BJ2479+BP2479-BQ2479*BO2479),7))","v":{"$error":"#VALUE!"}},{"$error":"#VALUE!"},{"$error":"#VALUE!"},{"$error":"#VALUE!"},{"$error":"#VALUE!"},{"$error":"#VALUE!"},{"$error":"#VALUE!"},{"$f":"IF(SUM(BR$1262:BR2478)>0,0,IF(MAX(BK2479:BK$2702)=MAX(BK$1262:BK$2702),0,IF(BI2479>0.03*BC$2703,0,$C2479/60)))","v":{"$error":"#VALUE!"}},{"$f":"IF(SUM(BS$1262:BS2478)>0,0,IF(MAX(BK2479:BK$2702)=MAX(BK$1262:BK$2702),0,IF(BI2479>0.01*BC$2703,0,$C2479/60)))","v":{"$error":"#VALUE!"}},0,0,{"$f":"BW2478","v":0},0,{"$f":"BY2478","v":{"$error":"#VALUE!"}},{"$error":"#VALUE!"},{"$error":"#VALUE!"},{"$error":"#VALUE!"},{"$f":"IF($BT$1263=\"\",0,ROUND((CH2479*CA2479+CG2479-CH2479*CF2479),7))","v":{"$error":"#VALUE!"}},{"$error":"#VALUE!"},{"$error":"#VALUE!"},{"$error":"#VALUE!"},{"$error":"#VALUE!"},{"$error":"#VALUE!"},{"$error":"#VALUE!"},{"$f":"IF(SUM(CI$1262:CI2478)>0,0,IF(MAX(CB2479:CB$2702)=MAX(CB$1262:CB$2702),0,IF(BZ2479>0.03*BT$2703,0,$C2479/60)))","v":{"$error":"#VALUE!"}},{"$f":"IF(SUM(CJ$1262:CJ2478)>0,0,IF(MAX(CB2479:CB$2702)=MAX(CB$1262:CB$2702),0,IF(BZ2479>0.01*BT$2703,0,$C2479/60)))","v":{"$error":"#VALUE!"}},0,0,{"$f":"CN2478","v":0},0,{"$f":"CP2478","v":{"$error":"#VALUE!"}},{"$error":"#VALUE!"},{"$error":"#VALUE!"},{"$error":"#VALUE!"},{"$error":"#VALUE!"},{"$error":"#VALUE!"},{"$error":"#VALUE!"},{"$error":"#VALUE!"},{"$error":"#VALUE!"},{"$error":"#VALUE!"},{"$error":"#VALUE!"},{"$f":"IF(SUM(CZ$1262:CZ2478)>0,0,IF(MAX(CS2479:CS$2702)=MAX(CS$1262:CS$2702),0,IF(CQ2479>0.03*CK$2703,0,$C2479/60)))","v":{"$error":"#VALUE!"}},{"$f":"IF(SUM(DA$1262:DA2478)>0,0,IF(MAX(CS2479:CS$2702)=MAX(CS$1262:CS$2702),0,IF(CQ2479>0.01*CK$2703,0,$C2479/60)))","v":{"$error":"#VALUE!"}}]
[null,101.83333333333333,6110,0,0,0,0,0,0,0,0,0,{"$error":"#N/A"},{"$error":"#N/A"},{"$error":"#N/A"},{"$error":"#N/A"},{"$error":"#N/A"},{"$error":"#N/A"},{"$f":"IF(SUM(S$1262:S2483)>0,0,\nIF(MAX(L2484:L$2702)=MAX(L$1262:L$2702),0,\nIF(Hydrograph_Source_WQCV=\"USER\",IF(J2484>0.03*D$2703,0,$C2484/60),\nIF(J2484>0.03*J$2703,0,$C2484/60))))","v":0},{"$f":"IF(SUM(T$1262:T2483)>0,0,\nIF(MAX(L2484:L$2702)=MAX(L$1262:L$2702),0,\nIF(Hydrograph_Source_WQCV=\"USER\",IF(J2484>0.01*D$2703,0,$C2484/60),\nIF(J2484>0.01*J$2703,0,$C2484/60))))","v":0},0,0,0,0,{"$error":"#VALUE!"},{"$error":"#VALUE!"},{"$error":"#VALUE!"},{"$error":"#VALUE!"},{"$error":"#VALUE!"},{"$error":"#VALUE!"},{"$error":"#VALUE!"},{"$error":"#VALUE!"},{"$error":"#VALUE!"},{"$error":"#VALUE!"},{"$error":"#VALUE!"},{"$f":"IF(SUM(AJ$1262:AJ2483)>0,0,IF(MAX(AC2484:AC$2702)=MAX(AC$1262:AC$2702),0,IF(AA2484>0.03*U$2703,0,$C2484/60)))","v":{"$error":"#VALUE!"}},{"$f":"IF(SUM(AK$1262:AK2483)>0,0,IF(MAX(AC2484:AC$2702)=MAX(AC$1262:AC$2702),0,IF(AA2484>0.01*U$2703,0,$C2484/60)))","v":{"$error":"#VALUE!"}},0,0,0,0,{"$error":"#VALUE!"},{"$error":"#VALUE!"},{"$error":"#VALUE!"},{"$error":"#VALUE!"},{"$error":"#VALUE!"},{"$error":"#VALUE!"},{"$error":"#VALUE!"},{"$error":"#VALUE!"},{"$error":"#VALUE!"},{"$error":"#VALUE!"},{"$error":"#VALUE!"},{"$f":"IF(SUM(BA$1262:BA2483)>0,0,IF(MAX(AT2484:AT$2702)=MAX(AT$1262:AT$2702),0,IF(AR2484>0.03*AL$2703,0,$C2484/60)))","v":{"$error":"#VALUE!"}},{"$f":"IF(SUM(BB$1262:BB2483)>0,0,IF(MAX(AT2484:AT$2702)=MAX(AT$1262:AT$2702),0,IF(AR2484>0.01*AL$2703,0,$C2484/60)))","v":{"$error":"#VALUE!"}},0,0,0,0,{"$error":"#VALUE!"},{"$error":"#VALUE!"},{"$error":"#VALUE!"},{"$error":"#VALUE!"},{"$error":"#VALUE!"},{"$error":"#VALUE!"},{"$error":"#VALUE!"},{"$error":"#VALUE!"},{"$error":"#VALUE!"},{"$error":"#VALUE!"},{"$error":"#VALUE!"},{"$f":"IF(SUM(BR$1262:BR2483)>0,0,IF(MAX(BK2484:BK$2702)=MAX(BK$1262:BK$2702),0,IF(BI2484>0.03*BC$2703,0,$C2484/60)))","v":{"$error":"#VALUE!"}},{"$f":"IF(SUM(BS$1262:BS2483)>0,0,IF(MAX(BK2484:BK$2702)=MAX(BK$1262:BK$2702),0,IF(BI2484>0.01*BC$2703,0,$C2484/60)))","v":{"$error":"#VALUE!"}},0,0,0,0,{"$error":"#VALUE!"},{"$error":"#VALUE!"},{"$error":"#VALUE!"},{"$error":"#VALUE!"},{"$error":"#VALUE!"},{"$error":"#VALUE!"},{"$error":"#VALUE!"},{"$error":"#VALUE!"},{"$error":"#VALUE!"},{"$error":"#VALUE!"},{"$error":"#VALUE!"},{"$f":"IF(SUM(CI$1262:CI2483)>0,0,IF(MAX(CB2484:CB$2702)=MAX(CB$1262:CB$2702),0,IF(BZ2484>0.03*BT$2703,0,$C2484/60)))","v":{"$error":"#VALUE!"}},{"$f":"IF(SUM(CJ$1262:CJ2483)>0,0,IF(MAX(CB2484:CB$2702)=MAX(CB$1262:CB$2702),0,IF(BZ2484>0.01*BT$2703,0,$C2484/60)))","v":{"$error":"#VALUE!"}},0,0,0,0,{"$error":"#VALUE!"},{"$error":"#VALUE!"},{"$error":"#VALUE!"},{"$error":"#VALUE!"},{"$error":"#VALUE!"},{"$error":"#VALUE!"},{"$error":"#VALUE!"},{"$error":"#VALUE!"},{"$error":"#VALUE!"},{"$error":"#VALUE!"},{"$error":"#VALUE!"},{"$f":"IF(SUM(CZ$1262:CZ2483)>0,0,IF(MAX(CS2484:CS$2702)=MAX(CS$1262:CS$2702),0,IF(CQ2484>0.03*CK$2703,0,$C2484/60)))","v":{"$error":"#VALUE!"}},{"$f":"IF(SUM(DA$1262:DA2483)>0,0,IF(MAX(CS2484:CS$2702)=MAX(CS$1262:CS$2702),0,IF(CQ2484>0.01*CK$2703,0,$C2484/60)))","v":{"$error":"#VALUE!"}}]
[null,102.25,6135,0,0,0,0,0,0,0,0,0,{"$error":"#N/A"},{"$error":"#N/A"},{"$error":"#N/A"},{"$error":"#N/A"},{"$error":"#N/A"},{"$error":"#N/A"},{"$f":"IF(SUM(S$1262:S2488)>0,0,\nIF(MAX(L2489:L$2702)=MAX(L$1262:L$2702),0,\nIF(Hydrograph_Source_WQCV=\"USER\",IF(J2489>0.03*D$2703,0,$C2489/60),\nIF(J2489>0.03*J$2703,0,$C2489/60))))","v":0},{"$f":"IF(SUM(T$1262:T2488)>0,0,\nIF(MAX(L2489:L$2702)=MAX(L$1262:L$2702),0,\nIF(Hydrograph_Source_WQCV=\"USER\",IF(J2489>0.01*D$2703,0,$C2489/60),\nIF(J2489>0.01*J$2703,0,$C2489/60))))","v":0},0,0,0,0,{"$error":"#VALUE!"},{"$error":"#VALUE!"},{"$error":"#VALUE!"},{"$error":"#VALUE!"},{"$error":"#VALUE!"},{"$error":"#VALUE!"},{"$error":"#VALUE!"},{"$error":"#VALUE!"},{"$error":"#VALUE!"},{"$error":"#VALUE!"},{"$error":"#VALUE!"},{"$f":"IF(SUM(AJ$1262:AJ2488)>0,0,IF(MAX(AC2489:AC$2702)=MAX(AC$1262:AC$2702),0,IF(AA2489>0.03*U$2703,0,$C2489/60)))","v":{"$error":"#VALUE!"}},{"$f":"IF(SUM(AK$1262:AK2488)>0,0,IF(MAX(AC2489:AC$2702)=MAX(AC$1262:AC$2702),0,IF(AA2489>0.01*U$2703,0,$C2489/60)))","v":{"$error":"#VALUE!"}},0,0,0,0,{"$error":"#VALUE!"},{"$error":"#VALUE!"},{"$error":"#VALUE!"},{"$error":"#VALUE!"},{"$error":"#VALUE!"},{"$error":"#VALUE!"},{"$error":"#VALUE!"},{"$error":"#VALUE!"},{"$error":"#VALUE!"},{"$error":"#VALUE!"},{"$error":"#VALUE!"},{"$f":"IF(SUM(BA$1262:BA2488)>0,0,IF(MAX(AT2489:AT$2702)=MAX(AT$1262:AT$2702),0,IF(AR2489>0.03*AL$2703,0,$C2489/60)))","v":{"$error":"#VALUE!"}},{"$f":"IF(SUM(BB$1262:BB2488)>0,0,IF(MAX(AT2489:AT$2702)=MAX(AT$1262:AT$2702),0,IF(AR2489>0.01*AL$2703,0,$C2489/60)))","v":{"$error":"#VALUE!"}},0,0,0,0,{"$error":"#VALUE!"},{"$error":"#VALUE!"},{"$error":"#VALUE!"},{"$error":"#VALUE!"},{"$error":"#VALUE!"},{"$error":"#VALUE!"},{"$error":"#VALUE!"},{"$error":"#VALUE!"},{"$error":"#VALUE!"},{"$error":"#VALUE!"},{"$error":"#VALUE!"},{"$f":"IF(SUM(BR$1262:BR2488)>0,0,IF(MAX(BK2489:BK$2702)=MAX(BK$1262:BK$2702),0,IF(BI2489>0.03*BC$2703,0,$C2489/60)))","v":{"$error":"#VALUE!"}},{"$f":"IF(SUM(BS$1262:BS2488)>0,0,IF(MAX(BK2489:BK$2702)=MAX(BK$1262:BK$2702),0,IF(BI2489>0.01*BC$2703,0,$C2489/60)))","v":{"$error":"#VALUE!"}},0,0,0,0,{"$error":"#VALUE!"},{"$error":"#VALUE!"},{"$error":"#VALUE!"},{"$error":"#VALUE!"},{"$error":"#VALUE!"},{"$error":"#VALUE!"},{"$error":"#VALUE!"},{"$error":"#VALUE!"},{"$error":"#VALUE!"},{"$error":"#VALUE!"},{"$error":"#VALUE!"},{"$f":"IF(SUM(CI$1262:CI2488)>0,0,IF(MAX(CB2489:CB$2702)=MAX(CB$1262:CB$2702),0,IF(BZ2489>0.03*BT$2703,0,$C2489/60)))","v":{"$error":"#VALUE!"}},{"$f":"IF(SUM(CJ$1262:CJ2488)>0,0,IF(MAX(CB2489:CB$2702)=MAX(CB$1262:CB$2702),0,IF(BZ2489>0.01*BT$2703,0,$C2489/60)))","v":{"$error":"#VALUE!"}},0,0,0,0,{"$error":"#VALUE!"},{"$error":"#VALUE!"},{"$error":"#VALUE!"},{"$error":"#VALUE!"},{"$error":"#VALUE!"},{"$error":"#VALUE!"},{"$error":"#VALUE!"},{"$error":"#VALUE!"},{"$error":"#VALUE!"},{"$error":"#VALUE!"},{"$error":"#VALUE!"},{"$f":"IF(SUM(CZ$1262:CZ2488)>0,0,IF(MAX(CS2489:CS$2702)=MAX(CS$1262:CS$2702),0,IF(CQ2489>0.03*CK$2703,0,$C2489/60)))","v":{"$error":"#VALUE!"}},{"$f":"IF(SUM(DA$1262:DA2488)>0,0,IF(MAX(CS2489:CS$2702)=MAX(CS$1262:CS$2702),0,IF(CQ2489>0.01*CK$2703,0,$C2489/60)))","v":{"$error":"#VALUE!"}}]
[null,102.75,6165,0,0,0,0,0,0,0,0,0,{"$error":"#N/A"},{"$error":"#N/A"},{"$error":"#N/A"},{"$error":"#N/A"},{"$error":"#N/A"},{"$error":"#N/A"},{"$f":"IF(SUM(S$1262:S2494)>0,0,\nIF(MAX(L2495:L$2702)=MAX(L$1262:L$2702),0,\nIF(Hydrograph_Source_WQCV=\"USER\",IF(J2495>0.03*D$2703,0,$C2495/60),\nIF(J2495>0.03*J$2703,0,$C2495/60))))","v":0},{"$f":"IF(SUM(T$1262:T2494)>0,0,\nIF(MAX(L2495:L$2702)=MAX(L$1262:L$2702),0,\nIF(Hydrograph_Source_WQCV=\"USER\",IF(J2495>0.01*D$2703,0,$C2495/60),\nIF(J2495>0.01*J$2703,0,$C2495/60))))","v":0},0,0,0,0,{"$error":"#VALUE!"},{"$error":"#VALUE!"},{"$error":"#VALUE!"},{"$error":"#VALUE!"},{"$error":"#VALUE!"},{"$error":"#VALUE!"},{"$error":"#VALUE!"},{"$error":"#VALUE!"},{"$error":"#VALUE!"},{"$error":"#VALUE!"},{"$error":"#VALUE!"},{"$f":"IF(SUM(AJ$1262:AJ2494)>0,0,IF(MAX(AC2495:AC$2702)=MAX(AC$1262:AC$2702),0,IF(AA2495>0.03*U$2703,0,$C2495/60)))","v":{"$error":"#VALUE!"}},{"$f":"IF(SUM(AK$1262:AK2494)>0,0,IF(MAX(AC2495:AC$2702)=MAX(AC$1262:AC$2702),0,IF(AA2495>0.01*U$2703,0,$C2495/60)))","v":{"$error":"#VALUE!"}},0,0,0,0,{"$error":"#VALUE!"},{"$error":"#VALUE!"},{"$error":"#VALUE!"},{"$error":"#VALUE!"},{"$error":"#VALUE!"},{"$error":"#VALUE!"},{"$error":"#VALUE!"},{"$error":"#VALUE!"},{"$error":"#VALUE!"},{"$error":"#VALUE!"},{"$error":"#VALUE!"},{"$f":"IF(SUM(BA$1262:BA2494)>0,0,IF(MAX(AT2495:AT$2702)=MAX(AT$1262:AT$2702),0,IF(AR2495>0.03*AL$2703,0,$C2495/60)))","v":{"$error":"#VALUE!"}},{"$f":"IF(SUM(BB$1262:BB2494)>0,0,IF(MAX(AT2495:AT$2702)=MAX(AT$1262:AT$2702),0,IF(AR2495>0.01*AL$2703,0,$C2495/60)))","v":{"$error":"#VALUE!"}},0,0,0,0,{"$error":"#VALUE!"},{"$error":"#VALUE!"},{"$error":"#VALUE!"},{"$error":"#VALUE!"},{"$error":"#VALUE!"},{"$error":"#VALUE!"},{"$error":"#VALUE!"},{"$error":"#VALUE!"},{"$error":"#VALUE!"},{"$error":"#VALUE!"},{"$error":"#VALUE!"},{"$f":"IF(SUM(BR$1262:BR2494)>0,0,IF(MAX(BK2495:BK$2702)=MAX(BK$1262:BK$2702),0,IF(BI2495>0.03*BC$2703,0,$C2495/60)))","v":{"$error":"#VALUE!"}},{"$f":"IF(SUM(BS$1262:BS2494)>0,0,IF(MAX(BK2495:BK$2702)=MAX(BK$1262:BK$2702),0,IF(BI2495>0.01*BC$2703,0,$C2495/60)))","v":{"$error":"#VALUE!"}},0,0,0,0,{"$error":"#VALUE!"},{"$error":"#VALUE!"},{"$error":"#VALUE!"},{"$error":"#VALUE!"},{"$error":"#VALUE!"},{"$error":"#VALUE!"},{"$error":"#VALUE!"},{"$error":"#VALUE!"},{"$error":"#VALUE!"},{"$error":"#VALUE!"},{"$error":"#VALUE!"},{"$f":"IF(SUM(CI$1262:CI2494)>0,0,IF(MAX(CB2495:CB$2702)=MAX(CB$1262:CB$2702),0,IF(BZ2495>0.03*BT$2703,0,$C2495/60)))","v":{"$error":"#VALUE!"}},{"$f":"IF(SUM(CJ$1262:CJ2494)>0,0,IF(MAX(CB2495:CB$2702)=MAX(CB$1262:CB$2702),0,IF(BZ2495>0.01*BT$2703,0,$C2495/60)))","v":{"$error":"#VALUE!"}},0,0,0,0,{"$error":"#VALUE!"},{"$error":"#VALUE!"},{"$error":"#VALUE!"},{"$error":"#VALUE!"},{"$error":"#VALUE!"},{"$error":"#VALUE!"},{"$error":"#VALUE!"},{"$error":"#VALUE!"},{"$error":"#VALUE!"},{"$error":"#VALUE!"},{"$error":"#VALUE!"},{"$f":"IF(SUM(CZ$1262:CZ2494)>0,0,IF(MAX(CS2495:CS$2702)=MAX(CS$1262:CS$2702),0,IF(CQ2495>0.03*CK$2703,0,$C2495/60)))","v":{"$error":"#VALUE!"}},{"$f":"IF(SUM(DA$1262:DA2494)>0,0,IF(MAX(CS2495:CS$2702)=MAX(CS$1262:CS$2702),0,IF(CQ2495>0.01*CK$2703,0,$C2495/60)))","v":{"$error":"#VALUE!"}}]
[null,102.83333333333333,6170,0,0,0,0,0,0,0,0,0,{"$error":"#N/A"},{"$error":"#N/A"},{"$error":"#N/A"},{"$error":"#N/A"},{"$error":"#N/A"},{"$error":"#N/A"},{"$f":"IF(SUM(S$1262:S2495)>0,0,\nIF(MAX(L2496:L$2702)=MAX(L$1262:L$2702),0,\nIF(Hydrograph_Source_WQCV=\"USER\",IF(J2496>0.03*D$2703,0,$C2496/60),\nIF(J2496>0.03*J$2703,0,$C2496/60))))","v":0},{"$f":"IF(SUM(T$1262:T2495)>0,0,\nIF(MAX(L2496:L$2702)=MAX(L$1262:L$2702),0,\nIF(Hydrograph_Source_WQCV=\"USER\",IF(J2496>0.01*D$2703,0,$C2496/60),\nIF(J2496>0.01*J$2703,0,$C2496/60))))","v":0},0,0,0,0,{"$error":"#VALUE!"},{"$error":"#VALUE!"},{"$error":"#VALUE!"},{"$error":"#VALUE!"},{"$error":"#VALUE!"},{"$error":"#VALUE!"},{"$error":"#VALUE!"},{"$error":"#VALUE!"},{"$error":"#VALUE!"},{"$error":"#VALUE!"},{"$error":"#VALUE!"},{"$f":"IF(SUM(AJ$1262:AJ2495)>0,0,IF(MAX(AC2496:AC$2702)=MAX(AC$1262:AC$2702),0,IF(AA2496>0.03*U$2703,0,$C2496/60)))","v":{"$error":"#VALUE!"}},{"$f":"IF(SUM(AK$1262:AK2495)>0,0,IF(MAX(AC2496:AC$2702)=MAX(AC$1262:AC$2702),0,IF(AA2496>0.01*U$2703,0,$C2496/60)))","v":{"$error":"#VALUE!"}},0,0,0,0,{"$error":"#VALUE!"},{"$error":"#VALUE!"},{"$error":"#VALUE!"},{"$error":"#VALUE!"},{"$error":"#VALUE!"},{"$error":"#VALUE!"},{"$error":"#VALUE!"},{"$error":"#VALUE!"},{"$error":"#VALUE!"},{"$error":"#VALUE!"},{"$error":"#VALUE!"},{"$f":"IF(SUM(BA$1262:BA2495)>0,0,IF(MAX(AT2496:AT$2702)=MAX(AT$1262:AT$2702),0,IF(AR2496>0.03*AL$2703,0,$C2496/60)))","v":{"$error":"#VALUE!"}},{"$f":"IF(SUM(BB$1262:BB2495)>0,0,IF(MAX(AT2496:AT$2702)=MAX(AT$1262:AT$2702),0,IF(AR2496>0.01*AL$2703,0,$C2496/60)))","v":{"$error":"#VALUE!"}},0,0,0,0,{"$error":"#VALUE!"},{"$error":"#VALUE!"},{"$error":"#VALUE!"},{"$error":"#VALUE!"},{"$error":"#VALUE!"},{"$error":"#VALUE!"},{"$error":"#VALUE!"},{"$error":"#VALUE!"},{"$error":"#VALUE!"},{"$error":"#VALUE!"},{"$error":"#VALUE!"},{"$f":"IF(SUM(BR$1262:BR2495)>0,0,IF(MAX(BK2496:BK$2702)=MAX(BK$1262:BK$2702),0,IF(BI2496>0.03*BC$2703,0,$C2496/60)))","v":{"$error":"#VALUE!"}},{"$f":"IF(SUM(BS$1262:BS2495)>0,0,IF(MAX(BK2496:BK$2702)=MAX(BK$1262:BK$2702),0,IF(BI2496>0.01*BC$2703,0,$C2496/60)))","v":{"$error":"#VALUE!"}},0,0,0,0,{"$error":"#VALUE!"},{"$error":"#VALUE!"},{"$error":"#VALUE!"},{"$error":"#VALUE!"},{"$error":"#VALUE!"},{"$error":"#VALUE!"},{"$error":"#VALUE!"},{"$error":"#VALUE!"},{"$error":"#VALUE!"},{"$error":"#VALUE!"},{"$error":"#VALUE!"},{"$f":"IF(SUM(CI$1262:CI2495)>0,0,IF(MAX(CB2496:CB$2702)=MAX(CB$1262:CB$2702),0,IF(BZ2496>0.03*BT$2703,0,$C2496/60)))","v":{"$error":"#VALUE!"}},{"$f":"IF(SUM(CJ$1262:CJ2495)>0,0,IF(MAX(CB2496:CB$2702)=MAX(CB$1262:CB$2702),0,IF(BZ2496>0.01*BT$2703,0,$C2496/60)))","v":{"$error":"#VALUE!"}},0,0,0,0,{"$error":"#VALUE!"},{"$error":"#VALUE!"},{"$error":"#VALUE!"},{"$error":"#VALUE!"},{"$error":"#VALUE!"},{"$error":"#VALUE!"},{"$error":"#VALUE!"},{"$error":"#VALUE!"},{"$error":"#VALUE!"},{"$error":"#VALUE!"},{"$error":"#VALUE!"},{"$f":"IF(SUM(CZ$1262:CZ2495)>0,0,IF(MAX(CS2496:CS$2702)=MAX(CS$1262:CS$2702),0,IF(CQ2496>0.03*CK$2703,0,$C2496/60)))","v":{"$error":"#VALUE!"}},{"$f":"IF(SUM(DA$1262:DA2495)>0,0,IF(MAX(CS2496:CS$2702)=MAX(CS$1262:CS$2702),0,IF(CQ2496>0.01*CK$2703,0,$C2496/60)))","v":{"$error":"#VALUE!"}}]
[null,103.41666666666667,6205,0,0,0,0,0,0,0,0,0,{"$error":"#N/A"},{"$error":"#N/A"},{"$error":"#N/A"},{"$error":"#N/A"},{"$error":"#N/A"},{"$error":"#N/A"},{"$f":"IF(SUM(S$1262:S2502)>0,0,\nIF(MAX(L2503:L$2702)=MAX(L$1262:L$2702),0,\nIF(Hydrograph_Source_WQCV=\"USER\",IF(J2503>0.03*D$2703,0,$C2503/60),\nIF(J2503>0.03*J$2703,0,$C2503/60))))","v":0},{"$f":"IF(SUM(T$1262:T2502)>0,0,\nIF(MAX(L2503:L$2702)=MAX(L$1262:L$2702),0,\nIF(Hydrograph_Source_WQCV=\"USER\",IF(J2503>0.01*D$2703,0,$C2503/60),\nIF(J2503>0.01*J$2703,0,$C2503/60))))","v":0},0,0,0,0,{"$error":"#VALUE!"},{"$error":"#VALUE!"},{"$error":"#VALUE!"},{"$error":"#VALUE!"},{"$error":"#VALUE!"},{"$error":"#VALUE!"},{"$error":"#VALUE!"},{"$error":"#VALUE!"},{"$error":"#VALUE!"},{"$error":"#VALUE!"},{"$error":"#VALUE!"},{"$f":"IF(SUM(AJ$1262:AJ2502)>0,0,IF(MAX(AC2503:AC$2702)=MAX(AC$1262:AC$2702),0,IF(AA2503>0.03*U$2703,0,$C2503/60)))","v":{"$error":"#VALUE!"}},{"$f":"IF(SUM(AK$1262:AK2502)>0,0,IF(MAX(AC2503:AC$2702)=MAX(AC$1262:AC$2702),0,IF(AA2503>0.01*U$2703,0,$C2503/60)))","v":{"$error":"#VALUE!"}},0,0,0,0,{"$error":"#VALUE!"},{"$error":"#VALUE!"},{"$error":"#VALUE!"},{"$error":"#VALUE!"},{"$error":"#VALUE!"},{"$error":"#VALUE!"},{"$error":"#VALUE!"},{"$error":"#VALUE!"},{"$error":"#VALUE!"},{"$error":"#VALUE!"},{"$error":"#VALUE!"},{"$f":"IF(SUM(BA$1262:BA2502)>0,0,IF(MAX(AT2503:AT$2702)=MAX(AT$1262:AT$2702),0,IF(AR2503>0.03*AL$2703,0,$C2503/60)))","v":{"$error":"#VALUE!"}},{"$f":"IF(SUM(BB$1262:BB2502)>0,0,IF(MAX(AT2503:AT$2702)=MAX(AT$1262:AT$2702),0,IF(AR2503>0.01*AL$2703,0,$C2503/60)))","v":{"$error":"#VALUE!"}},0,0,0,0,{"$error":"#VALUE!"},{"$error":"#VALUE!"},{"$error":"#VALUE!"},{"$error":"#VALUE!"},{"$error":"#VALUE!"},{"$error":"#VALUE!"},{"$error":"#VALUE!"},{"$error":"#VALUE!"},{"$error":"#VALUE!"},{"$error":"#VALUE!"},{"$error":"#VALUE!"},{"$f":"IF(SUM(BR$1262:BR2502)>0,0,IF(MAX(BK2503:BK$2702)=MAX(BK$1262:BK$2702),0,IF(BI2503>0.03*BC$2703,0,$C2503/60)))","v":{"$error":"#VALUE!"}},{"$f":"IF(SUM(BS$1262:BS2502)>0,0,IF(MAX(BK2503:BK$2702)=MAX(BK$1262:BK$2702),0,IF(BI2503>0.01*BC$2703,0,$C2503/60)))","v":{"$error":"#VALUE!"}},0,0,0,0,{"$error":"#VALUE!"},{"$error":"#VALUE!"},{"$error":"#VALUE!"},{"$error":"#VALUE!"},{"$error":"#VALUE!"},{"$error":"#VALUE!"},{"$error":"#VALUE!"},{"$error":"#VALUE!"},{"$error":"#VALUE!"},{"$error":"#VALUE!"},{"$error":"#VALUE!"},{"$f":"IF(SUM(CI$1262:CI2502)>0,0,IF(MAX(CB2503:CB$2702)=MAX(CB$1262:CB$2702),0,IF(BZ2503>0.03*BT$2703,0,$C2503/60)))","v":{"$error":"#VALUE!"}},{"$f":"IF(SUM(CJ$1262:CJ2502)>0,0,IF(MAX(CB2503:CB$2702)=MAX(CB$1262:CB$2702),0,IF(BZ2503>0.01*BT$2703,0,$C2503/60)))","v":{"$error":"#VALUE!"}},0,0,0,0,{"$error":"#VALUE!"},{"$error":"#VALUE!"},{"$error":"#VALUE!"},{"$error":"#VALUE!"},{"$error":"#VALUE!"},{"$error":"#VALUE!"},{"$error":"#VALUE!"},{"$error":"#VALUE!"},{"$error":"#VALUE!"},{"$error":"#VALUE!"},{"$error":"#VALUE!"},{"$f":"IF(SUM(CZ$1262:CZ2502)>0,0,IF(MAX(CS2503:CS$2702)=MAX(CS$1262:CS$2702),0,IF(CQ2503>0.03*CK$2703,0,$C2503/60)))","v":{"$error":"#VALUE!"}},{"$f":"IF(SUM(DA$1262:DA2502)>0,0,IF(MAX(CS2503:CS$2702)=MAX(CS$1262:CS$2702),0,IF(CQ2503>0.01*CK$2703,0,$C2503/60)))","v":{"$error":"#VALUE!"}}]
[null,103.75,6225,0,0,0,0,0,0,0,0,0,{"$error":"#N/A"},{"$error":"#N/A"},{"$error":"#N/A"},{"$error":"#N/A"},{"$error":"#N/A"},{"$error":"#N/A"},{"$f":"IF(SUM(S$1262:S2506)>0,0,\nIF(MAX(L2507:L$2702)=MAX(L$1262:L$2702),0,\nIF(Hydrograph_Source_WQCV=\"USER\",IF(J2507>0.03*D$2703,0,$C2507/60),\nIF(J2507>0.03*J$2703,0,$C2507/60))))","v":0},{"$f":"IF(SUM(T$1262:T2506)>0,0,\nIF(MAX(L2507:L$2702)=MAX(L$1262:L$2702),0,\nIF(Hydrograph_Source_WQCV=\"USER\",IF(J2507>0.01*D$2703,0,$C2507/60),\nIF(J2507>0.01*J$2703,0,$C2507/60))))","v":0},0,0,0,0,{"$error":"#VALUE!"},{"$error":"#VALUE!"},{"$error":"#VALUE!"},{"$error":"#VALUE!"},{"$error":"#VALUE!"},{"$error":"#VALUE!"},{"$error":"#VALUE!"},{"$error":"#VALUE!"},{"$error":"#VALUE!"},{"$error":"#VALUE!"},{"$error":"#VALUE!"},{"$f":"IF(SUM(AJ$1262:AJ2506)>0,0,IF(MAX(AC2507:AC$2702)=MAX(AC$1262:AC$2702),0,IF(AA2507>0.03*U$2703,0,$C2507/60)))","v":{"$error":"#VALUE!"}},{"$f":"IF(SUM(AK$1262:AK2506)>0,0,IF(MAX(AC2507:AC$2702)=MAX(AC$1262:AC$2702),0,IF(AA2507>0.01*U$2703,0,$C2507/60)))","v":{"$error":"#VALUE!"}},0,0,0,0,{"$error":"#VALUE!"},{"$error":"#VALUE!"},{"$error":"#VALUE!"},{"$error":"#VALUE!"},{"$error":"#VALUE!"},{"$error":"#VALUE!"},{"$error":"#VALUE!"},{"$error":"#VALUE!"},{"$error":"#VALUE!"},{"$error":"#VALUE!"},{"$error":"#VALUE!"},{"$f":"IF(SUM(BA$1262:BA2506)>0,0,IF(MAX(AT2507:AT$2702)=MAX(AT$1262:AT$2702),0,IF(AR2507>0.03*AL$2703,0,$C2507/60)))","v":{"$error":"#VALUE!"}},{"$f":"IF(SUM(BB$1262:BB2506)>0,0,IF(MAX(AT2507:AT$2702)=MAX(AT$1262:AT$2702),0,IF(AR2507>0.01*AL$2703,0,$C2507/60)))","v":{"$error":"#VALUE!"}},0,0,0,0,{"$error":"#VALUE!"},{"$error":"#VALUE!"},{"$error":"#VALUE!"},{"$error":"#VALUE!"},{"$error":"#VALUE!"},{"$error":"#VALUE!"},{"$error":"#VALUE!"},{"$error":"#VALUE!"},{"$error":"#VALUE!"},{"$error":"#VALUE!"},{"$error":"#VALUE!"},{"$f":"IF(SUM(BR$1262:BR2506)>0,0,IF(MAX(BK2507:BK$2702)=MAX(BK$1262:BK$2702),0,IF(BI2507>0.03*BC$2703,0,$C2507/60)))","v":{"$error":"#VALUE!"}},{"$f":"IF(SUM(BS$1262:BS2506)>0,0,IF(MAX(BK2507:BK$2702)=MAX(BK$1262:BK$2702),0,IF(BI2507>0.01*BC$2703,0,$C2507/60)))","v":{"$error":"#VALUE!"}},0,0,0,0,{"$error":"#VALUE!"},{"$error":"#VALUE!"},{"$error":"#VALUE!"},{"$error":"#VALUE!"},{"$error":"#VALUE!"},{"$error":"#VALUE!"},{"$error":"#VALUE!"},{"$error":"#VALUE!"},{"$error":"#VALUE!"},{"$error":"#VALUE!"},{"$error":"#VALUE!"},{"$f":"IF(SUM(CI$1262:CI2506)>0,0,IF(MAX(CB2507:CB$2702)=MAX(CB$1262:CB$2702),0,IF(BZ2507>0.03*BT$2703,0,$C2507/60)))","v":{"$error":"#VALUE!"}},{"$f":"IF(SUM(CJ$1262:CJ2506)>0,0,IF(MAX(CB2507:CB$2702)=MAX(CB$1262:CB$2702),0,IF(BZ2507>0.01*BT$2703,0,$C2507/60)))","v":{"$error":"#VALUE!"}},0,0,0,0,{"$error":"#VALUE!"},{"$error":"#VALUE!"},{"$error":"#VALUE!"},{"$error":"#VALUE!"},{"$error":"#VALUE!"},{"$error":"#VALUE!"},{"$error":"#VALUE!"},{"$error":"#VALUE!"},{"$error":"#VALUE!"},{"$error":"#VALUE!"},{"$error":"#VALUE!"},{"$f":"IF(SUM(CZ$1262:CZ2506)>0,0,IF(MAX(CS2507:CS$2702)=MAX(CS$1262:CS$2702),0,IF(CQ2507>0.03*CK$2703,0,$C2507/60)))","v":{"$error":"#VALUE!"}},{"$f":"IF(SUM(DA$1262:DA2506)>0,0,IF(MAX(CS2507:CS$2702)=MAX(CS$1262:CS$2702),0,IF(CQ2507>0.01*CK$2703,0,$C2507/60)))","v":{"$error":"#VALUE!"}}]
[null,104.16666666666667,6250,0,0,0,0,0,0,0,0,0,{"$error":"#N/A"},{"$error":"#N/A"},{"$error":"#N/A"},{"$error":"#N/A"},{"$error":"#N/A"},{"$error":"#N/A"},{"$f":"IF(SUM(S$1262:S2511)>0,0,\nIF(MAX(L2512:L$2702)=MAX(L$1262:L$2702),0,\nIF(Hydrograph_Source_WQCV=\"USER\",IF(J2512>0.03*D$2703,0,$C2512/60),\nIF(J2512>0.03*J$2703,0,$C2512/60))))","v":0},{"$f":"IF(SUM(T$1262:T2511)>0,0,\nIF(MAX(L2512:L$2702)=MAX(L$1262:L$2702),0,\nIF(Hydrograph_Source_WQCV=\"USER\",IF(J2512>0.01*D$2703,0,$C2512/60),\nIF(J2512>0.01*J$2703,0,$C2512/60))))","v":0},0,0,0,0,{"$error":"#VALUE!"},{"$error":"#VALUE!"},{"$error":"#VALUE!"},{"$error":"#VALUE!"},{"$error":"#VALUE!"},{"$error":"#VALUE!"},{"$error":"#VALUE!"},{"$error":"#VALUE!"},{"$error":"#VALUE!"},{"$error":"#VALUE!"},{"$error":"#VALUE!"},{"$f":"IF(SUM(AJ$1262:AJ2511)>0,0,IF(MAX(AC2512:AC$2702)=MAX(AC$1262:AC$2702),0,IF(AA2512>0.03*U$2703,0,$C2512/60)))","v":{"$error":"#VALUE!"}},{"$f":"IF(SUM(AK$1262:AK2511)>0,0,IF(MAX(AC2512:AC$2702)=MAX(AC$1262:AC$2702),0,IF(AA2512>0.01*U$2703,0,$C2512/60)))","v":{"$error":"#VALUE!"}},0,0,0,0,{"$error":"#VALUE!"},{"$error":"#VALUE!"},{"$error":"#VALUE!"},{"$error":"#VALUE!"},{"$error":"#VALUE!"},{"$error":"#VALUE!"},{"$error":"#VALUE!"},{"$error":"#VALUE!"},{"$error":"#VALUE!"},{"$error":"#VALUE!"},{"$error":"#VALUE!"},{"$f":"IF(SUM(BA$1262:BA2511)>0,0,IF(MAX(AT2512:AT$2702)=MAX(AT$1262:AT$2702),0,IF(AR2512>0.03*AL$2703,0,$C2512/60)))","v":{"$error":"#VALUE!"}},{"$f":"IF(SUM(BB$1262:BB2511)>0,0,IF(MAX(AT2512:AT$2702)=MAX(AT$1262:AT$2702),0,IF(AR2512>0.01*AL$2703,0,$C2512/60)))","v":{"$error":"#VALUE!"}},0,0,0,0,{"$error":"#VALUE!"},{"$error":"#VALUE!"},{"$error":"#VALUE!"},{"$error":"#VALUE!"},{"$error":"#VALUE!"},{"$error":"#VALUE!"},{"$error":"#VALUE!"},{"$error":"#VALUE!"},{"$error":"#VALUE!"},{"$error":"#VALUE!"},{"$error":"#VALUE!"},{"$f":"IF(SUM(BR$1262:BR2511)>0,0,IF(MAX(BK2512:BK$2702)=MAX(BK$1262:BK$2702),0,IF(BI2512>0.03*BC$2703,0,$C2512/60)))","v":{"$error":"#VALUE!"}},{"$f":"IF(SUM(BS$1262:BS2511)>0,0,IF(MAX(BK2512:BK$2702)=MAX(BK$1262:BK$2702),0,IF(BI2512>0.01*BC$2703,0,$C2512/60)))","v":{"$error":"#VALUE!"}},0,0,0,0,{"$error":"#VALUE!"},{"$error":"#VALUE!"},{"$error":"#VALUE!"},{"$error":"#VALUE!"},{"$error":"#VALUE!"},{"$error":"#VALUE!"},{"$error":"#VALUE!"},{"$error":"#VALUE!"},{"$error":"#VALUE!"},{"$error":"#VALUE!"},{"$error":"#VALUE!"},{"$f":"IF(SUM(CI$1262:CI2511)>0,0,IF(MAX(CB2512:CB$2702)=MAX(CB$1262:CB$2702),0,IF(BZ2512>0.03*BT$2703,0,$C2512/60)))","v":{"$error":"#VALUE!"}},{"$f":"IF(SUM(CJ$1262:CJ2511)>0,0,IF(MAX(CB2512:CB$2702)=MAX(CB$1262:CB$2702),0,IF(BZ2512>0.01*BT$2703,0,$C2512/60)))","v":{"$error":"#VALUE!"}},0,0,0,0,{"$error":"#VALUE!"},{"$error":"#VALUE!"},{"$error":"#VALUE!"},{"$error":"#VALUE!"},{"$error":"#VALUE!"},{"$error":"#VALUE!"},{"$error":"#VALUE!"},{"$error":"#VALUE!"},{"$error":"#VALUE!"},{"$error":"#VALUE!"},{"$error":"#VALUE!"},{"$f":"IF(SUM(CZ$1262:CZ2511)>0,0,IF(MAX(CS2512:CS$2702)=MAX(CS$1262:CS$2702),0,IF(CQ2512>0.03*CK$2703,0,$C2512/60)))","v":{"$error":"#VALUE!"}},{"$f":"IF(SUM(DA$1262:DA2511)>0,0,IF(MAX(CS2512:CS$2702)=MAX(CS$1262:CS$2702),0,IF(CQ2512>0.01*CK$2703,0,$C2512/60)))","v":{"$error":"#VALUE!"}}]
[null,104.58333333333333,6275,0,0,0,0,0,0,0,0,0,{"$error":"#N/A"},{"$error":"#N/A"},{"$error":"#N/A"},{"$error":"#N/A"},{"$error":"#N/A"},{"$error":"#N/A"},{"$f":"IF(SUM(S$1262:S2516)>0,0,\nIF(MAX(L2517:L$2702)=MAX(L$1262:L$2702),0,\nIF(Hydrograph_Source_WQCV=\"USER\",IF(J2517>0.03*D$2703,0,$C2517/60),\nIF(J2517>0.03*J$2703,0,$C2517/60))))","v":0},{"$f":"IF(SUM(T$1262:T2516)>0,0,\nIF(MAX(L2517:L$2702)=MAX(L$1262:L$2702),0,\nIF(Hydrograph_Source_WQCV=\"USER\",IF(J2517>0.01*D$2703,0,$C2517/60),\nIF(J2517>0.01*J$2703,0,$C2517/60))))","v":0},0,0,0,0,{"$error":"#VALUE!"},{"$error":"#VALUE!"},{"$error":"#VALUE!"},{"$error":"#VALUE!"},{"$error":"#VALUE!"},{"$error":"#VALUE!"},{"$error":"#VALUE!"},{"$error":"#VALUE!"},{"$error":"#VALUE!"},{"$error":"#VALUE!"},{"$error":"#VALUE!"},{"$f":"IF(SUM(AJ$1262:AJ2516)>0,0,IF(MAX(AC2517:AC$2702)=MAX(AC$1262:AC$2702),0,IF(AA2517>0.03*U$2703,0,$C2517/60)))","v":{"$error":"#VALUE!"}},{"$f":"IF(SUM(AK$1262:AK2516)>0,0,IF(MAX(AC2517:AC$2702)=MAX(AC$1262:AC$2702),0,IF(AA2517>0.01*U$2703,0,$C2517/60)))","v":{"$error":"#VALUE!"}},0,0,0,0,{"$error":"#VALUE!"},{"$error":"#VALUE!"},{"$error":"#VALUE!"},{"$error":"#VALUE!"},{"$error":"#VALUE!"},{"$error":"#VALUE!"},{"$error":"#VALUE!"},{"$error":"#VALUE!"},{"$error":"#VALUE!"},{"$error":"#VALUE!"},{"$error":"#VALUE!"},{"$f":"IF(SUM(BA$1262:BA2516)>0,0,IF(MAX(AT2517:AT$2702)=MAX(AT$1262:AT$2702),0,IF(AR2517>0.03*AL$2703,0,$C2517/60)))","v":{"$error":"#VALUE!"}},{"$f":"IF(SUM(BB$1262:BB2516)>0,0,IF(MAX(AT2517:AT$2702)=MAX(AT$1262:AT$2702),0,IF(AR2517>0.01*AL$2703,0,$C2517/60)))","v":{"$error":"#VALUE!"}},0,0,0,0,{"$error":"#VALUE!"},{"$error":"#VALUE!"},{"$error":"#VALUE!"},{"$error":"#VALUE!"},{"$error":"#VALUE!"},{"$error":"#VALUE!"},{"$error":"#VALUE!"},{"$error":"#VALUE!"},{"$error":"#VALUE!"},{"$error":"#VALUE!"},{"$error":"#VALUE!"},{"$f":"IF(SUM(BR$1262:BR2516)>0,0,IF(MAX(BK2517:BK$2702)=MAX(BK$1262:BK$2702),0,IF(BI2517>0.03*BC$2703,0,$C2517/60)))","v":{"$error":"#VALUE!"}},{"$f":"IF(SUM(BS$1262:BS2516)>0,0,IF(MAX(BK2517:BK$2702)=MAX(BK$1262:BK$2702),0,IF(BI2517>0.01*BC$2703,0,$C2517/60)))","v":{"$error":"#VALUE!"}},0,0,0,0,{"$error":"#VALUE!"},{"$error":"#VALUE!"},{"$error":"#VALUE!"},{"$error":"#VALUE!"},{"$error":"#VALUE!"},{"$error":"#VALUE!"},{"$error":"#VALUE!"},{"$error":"#VALUE!"},{"$error":"#VALUE!"},{"$error":"#VALUE!"},{"$error":"#VALUE!"},{"$f":"IF(SUM(CI$1262:CI2516)>0,0,IF(MAX(CB2517:CB$2702)=MAX(CB$1262:CB$2702),0,IF(BZ2517>0.03*BT$2703,0,$C2517/60)))","v":{"$error":"#VALUE!"}},{"$f":"IF(SUM(CJ$1262:CJ2516)>0,0,IF(MAX(CB2517:CB$2702)=MAX(CB$1262:CB$2702),0,IF(BZ2517>0.01*BT$2703,0,$C2517/60)))","v":{"$error":"#VALUE!"}},0,0,0,0,{"$error":"#VALUE!"},{"$error":"#VALUE!"},{"$error":"#VALUE!"},{"$error":"#VALUE!"},{"$error":"#VALUE!"},{"$error":"#VALUE!"},{"$error":"#VALUE!"},{"$error":"#VALUE!"},{"$error":"#VALUE!"},{"$error":"#VALUE!"},{"$error":"#VALUE!"},{"$f":"IF(SUM(CZ$1262:CZ2516)>0,0,IF(MAX(CS2517:CS$2702)=MAX(CS$1262:CS$2702),0,IF(CQ2517>0.03*CK$2703,0,$C2517/60)))","v":{"$error":"#VALUE!"}},{"$f":"IF(SUM(DA$1262:DA2516)>0,0,IF(MAX(CS2517:CS$2702)=MAX(CS$1262:CS$2702),0,IF(CQ2517>0.01*CK$2703,0,$C2517/60)))","v":{"$error":"#VALUE!"}}]
[null,104.75,6285,0,0,0,0,0,0,0,0,0,{"$error":"#N/A"},{"$error":"#N/A"},{"$error":"#N/A"},{"$error":"#N/A"},{"$error":"#N/A"},{"$error":"#N/A"},{"$f":"IF(SUM(S$1262:S2518)>0,0,\nIF(MAX(L2519:L$2702)=MAX(L$1262:L$2702),0,\nIF(Hydrograph_Source_WQCV=\"USER\",IF(J2519>0.03*D$2703,0,$C2519/60),\nIF(J2519>0.03*J$2703,0,$C2519/60))))","v":0},{"$f":"IF(SUM(T$1262:T2518)>0,0,\nIF(MAX(L2519:L$2702)=MAX(L$1262:L$2702),0,\nIF(Hydrograph_Source_WQCV=\"USER\",IF(J2519>0.01*D$2703,0,$C2519/60),\nIF(J2519>0.01*J$2703,0,$C2519/60))))","v":0},0,0,0,0,{"$error":"#VALUE!"},{"$error":"#VALUE!"},{"$error":"#VALUE!"},{"$error":"#VALUE!"},{"$error":"#VALUE!"},{"$error":"#VALUE!"},{"$error":"#VALUE!"},{"$error":"#VALUE!"},{"$error":"#VALUE!"},{"$error":"#VALUE!"},{"$error":"#VALUE!"},{"$f":"IF(SUM(AJ$1262:AJ2518)>0,0,IF(MAX(AC2519:AC$2702)=MAX(AC$1262:AC$2702),0,IF(AA2519>0.03*U$2703,0,$C2519/60)))","v":{"$error":"#VALUE!"}},{"$f":"IF(SUM(AK$1262:AK2518)>0,0,IF(MAX(AC2519:AC$2702)=MAX(AC$1262:AC$2702),0,IF(AA2519>0.01*U$2703,0,$C2519/60)))","v":{"$error":"#VALUE!"}},0,0,0,0,{"$error":"#VALUE!"},{"$error":"#VALUE!"},{"$error":"#VALUE!"},{"$error":"#VALUE!"},{"$error":"#VALUE!"},{"$error":"#VALUE!"},{"$error":"#VALUE!"},{"$error":"#VALUE!"},{"$error":"#VALUE!"},{"$error":"#VALUE!"},{"$error":"#VALUE!"},{"$f":"IF(SUM(BA$1262:BA2518)>0,0,IF(MAX(AT2519:AT$2702)=MAX(AT$1262:AT$2702),0,IF(AR2519>0.03*AL$2703,0,$C2519/60)))","v":{"$error":"#VALUE!"}},{"$f":"IF(SUM(BB$1262:BB2518)>0,0,IF(MAX(AT2519:AT$2702)=MAX(AT$1262:AT$2702),0,IF(AR2519>0.01*AL$2703,0,$C2519/60)))","v":{"$error":"#VALUE!"}},0,0,0,0,{"$error":"#VALUE!"},{"$error":"#VALUE!"},{"$error":"#VALUE!"},{"$error":"#VALUE!"},{"$error":"#VALUE!"},{"$error":"#VALUE!"},{"$error":"#VALUE!"},{"$error":"#VALUE!"},{"$error":"#VALUE!"},{"$error":"#VALUE!"},{"$error":"#VALUE!"},{"$f":"IF(SUM(BR$1262:BR2518)>0,0,IF(MAX(BK2519:BK$2702)=MAX(BK$1262:BK$2702),0,IF(BI2519>0.03*BC$2703,0,$C2519/60)))","v":{"$error":"#VALUE!"}},{"$f":"IF(SUM(BS$1262:BS2518)>0,0,IF(MAX(BK2519:BK$2702)=MAX(BK$1262:BK$2702),0,IF(BI2519>0.01*BC$2703,0,$C2519/60)))","v":{"$error":"#VALUE!"}},0,0,0,0,{"$error":"#VALUE!"},{"$error":"#VALUE!"},{"$error":"#VALUE!"},{"$error":"#VALUE!"},{"$error":"#VALUE!"},{"$error":"#VALUE!"},{"$error":"#VALUE!"},{"$error":"#VALUE!"},{"$error":"#VALUE!"},{"$error":"#VALUE!"},{"$error":"#VALUE!"},{"$f":"IF(SUM(CI$1262:CI2518)>0,0,IF(MAX(CB2519:CB$2702)=MAX(CB$1262:CB$2702),0,IF(BZ2519>0.03*BT$2703,0,$C2519/60)))","v":{"$error":"#VALUE!"}},{"$f":"IF(SUM(CJ$1262:CJ2518)>0,0,IF(MAX(CB2519:CB$2702)=MAX(CB$1262:CB$2702),0,IF(BZ2519>0.01*BT$2703,0,$C2519/60)))","v":{"$error":"#VALUE!"}},0,0,0,0,{"$error":"#VALUE!"},{"$error":"#VALUE!"},{"$error":"#VALUE!"},{"$error":"#VALUE!"},{"$error":"#VALUE!"},{"$error":"#VALUE!"},{"$error":"#VALUE!"},{"$error":"#VALUE!"},{"$error":"#VALUE!"},{"$error":"#VALUE!"},{"$error":"#VALUE!"},{"$f":"IF(SUM(CZ$1262:CZ2518)>0,0,IF(MAX(CS2519:CS$2702)=MAX(CS$1262:CS$2702),0,IF(CQ2519>0.03*CK$2703,0,$C2519/60)))","v":{"$error":"#VALUE!"}},{"$f":"IF(SUM(DA$1262:DA2518)>0,0,IF(MAX(CS2519:CS$2702)=MAX(CS$1262:CS$2702),0,IF(CQ2519>0.01*CK$2703,0,$C2519/60)))","v":{"$error":"#VALUE!"}}]
[null,105.16666666666667,6310,0,0,0,0,0,0,0,0,0,{"$error":"#N/A"},{"$error":"#N/A"},{"$error":"#N/A"},{"$error":"#N/A"},{"$error":"#N/A"},{"$error":"#N/A"},{"$f":"IF(SUM(S$1262:S2523)>0,0,\nIF(MAX(L2524:L$2702)=MAX(L$1262:L$2702),0,\nIF(Hydrograph_Source_WQCV=\"USER\",IF(J2524>0.03*D$2703,0,$C2524/60),\nIF(J2524>0.03*J$2703,0,$C2524/60))))","v":0},{"$f":"IF(SUM(T$1262:T2523)>0,0,\nIF(MAX(L2524:L$2702)=MAX(L$1262:L$2702),0,\nIF(Hydrograph_Source_WQCV=\"USER\",IF(J2524>0.01*D$2703,0,$C2524/60),\nIF(J2524>0.01*J$2703,0,$C2524/60))))","v":0},0,0,0,0,{"$error":"#VALUE!"},{"$error":"#VALUE!"},{"$error":"#VALUE!"},{"$error":"#VALUE!"},{"$error":"#VALUE!"},{"$error":"#VALUE!"},{"$error":"#VALUE!"},{"$error":"#VALUE!"},{"$error":"#VALUE!"},{"$error":"#VALUE!"},{"$error":"#VALUE!"},{"$f":"IF(SUM(AJ$1262:AJ2523)>0,0,IF(MAX(AC2524:AC$2702)=MAX(AC$1262:AC$2702),0,IF(AA2524>0.03*U$2703,0,$C2524/60)))","v":{"$error":"#VALUE!"}},{"$f":"IF(SUM(AK$1262:AK2523)>0,0,IF(MAX(AC2524:AC$2702)=MAX(AC$1262:AC$2702),0,IF(AA2524>0.01*U$2703,0,$C2524/60)))","v":{"$error":"#VALUE!"}},0,0,0,0,{"$error":"#VALUE!"},{"$error":"#VALUE!"},{"$error":"#VALUE!"},{"$error":"#VALUE!"},{"$error":"#VALUE!"},{"$error":"#VALUE!"},{"$error":"#VALUE!"},{"$error":"#VALUE!"},{"$error":"#VALUE!"},{"$error":"#VALUE!"},{"$error":"#VALUE!"},{"$f":"IF(SUM(BA$1262:BA2523)>0,0,IF(MAX(AT2524:AT$2702)=MAX(AT$1262:AT$2702),0,IF(AR2524>0.03*AL$2703,0,$C2524/60)))","v":{"$error":"#VALUE!"}},{"$f":"IF(SUM(BB$1262:BB2523)>0,0,IF(MAX(AT2524:AT$2702)=MAX(AT$1262:AT$2702),0,IF(AR2524>0.01*AL$2703,0,$C2524/60)))","v":{"$error":"#VALUE!"}},0,0,0,0,{"$error":"#VALUE!"},{"$error":"#VALUE!"},{"$error":"#VALUE!"},{"$error":"#VALUE!"},{"$error":"#VALUE!"},{"$error":"#VALUE!"},{"$error":"#VALUE!"},{"$error":"#VALUE!"},{"$error":"#VALUE!"},{"$error":"#VALUE!"},{"$error":"#VALUE!"},{"$f":"IF(SUM(BR$1262:BR2523)>0,0,IF(MAX(BK2524:BK$2702)=MAX(BK$1262:BK$2702),0,IF(BI2524>0.03*BC$2703,0,$C2524/60)))","v":{"$error":"#VALUE!"}},{"$f":"IF(SUM(BS$1262:BS2523)>0,0,IF(MAX(BK2524:BK$2702)=MAX(BK$1262:BK$2702),0,IF(BI2524>0.01*BC$2703,0,$C2524/60)))","v":{"$error":"#VALUE!"}},0,0,0,0,{"$error":"#VALUE!"},{"$error":"#VALUE!"},{"$error":"#VALUE!"},{"$error":"#VALUE!"},{"$error":"#VALUE!"},{"$error":"#VALUE!"},{"$error":"#VALUE!"},{"$error":"#VALUE!"},{"$error":"#VALUE!"},{"$error":"#VALUE!"},{"$error":"#VALUE!"},{"$f":"IF(SUM(CI$1262:CI2523)>0,0,IF(MAX(CB2524:CB$2702)=MAX(CB$1262:CB$2702),0,IF(BZ2524>0.03*BT$2703,0,$C2524/60)))","v":{"$error":"#VALUE!"}},{"$f":"IF(SUM(CJ$1262:CJ2523)>0,0,IF(MAX(CB2524:CB$2702)=MAX(CB$1262:CB$2702),0,IF(BZ2524>0.01*BT$2703,0,$C2524/60)))","v":{"$error":"#VALUE!"}},0,0,0,0,{"$error":"#VALUE!"},{"$error":"#VALUE!"},{"$error":"#VALUE!"},{"$error":"#VALUE!"},{"$error":"#VALUE!"},{"$error":"#VALUE!"},{"$error":"#VALUE!"},{"$error":"#VALUE!"},{"$error":"#VALUE!"},{"$error":"#VALUE!"},{"$error":"#VALUE!"},{"$f":"IF(SUM(CZ$1262:CZ2523)>0,0,IF(MAX(CS2524:CS$2702)=MAX(CS$1262:CS$2702),0,IF(CQ2524>0.03*CK$2703,0,$C2524/60)))","v":{"$error":"#VALUE!"}},{"$f":"IF(SUM(DA$1262:DA2523)>0,0,IF(MAX(CS2524:CS$2702)=MAX(CS$1262:CS$2702),0,IF(CQ2524>0.01*CK$2703,0,$C2524/60)))","v":{"$error":"#VALUE!"}}]
[null,105.33333333333333,6320,0,0,0,0,0,0,0,0,0,{"$error":"#N/A"},{"$error":"#N/A"},{"$error":"#N/A"},{"$error":"#N/A"},{"$error":"#N/A"},{"$error":"#N/A"},{"$f":"IF(SUM(S$1262:S2525)>0,0,\nIF(MAX(L2526:L$2702)=MAX(L$1262:L$2702),0,\nIF(Hydrograph_Source_WQCV=\"USER\",IF(J2526>0.03*D$2703,0,$C2526/60),\nIF(J2526>0.03*J$2703,0,$C2526/60))))","v":0},{"$f":"IF(SUM(T$1262:T2525)>0,0,\nIF(MAX(L2526:L$2702)=MAX(L$1262:L$2702),0,\nIF(Hydrograph_Source_WQCV=\"USER\",IF(J2526>0.01*D$2703,0,$C2526/60),\nIF(J2526>0.01*J$2703,0,$C2526/60))))","v":0},0,0,0,0,{"$error":"#VALUE!"},{"$error":"#VALUE!"},{"$error":"#VALUE!"},{"$error":"#VALUE!"},{"$error":"#VALUE!"},{"$error":"#VALUE!"},{"$error":"#VALUE!"},{"$error":"#VALUE!"},{"$error":"#VALUE!"},{"$error":"#VALUE!"},{"$error":"#VALUE!"},{"$f":"IF(SUM(AJ$1262:AJ2525)>0,0,IF(MAX(AC2526:AC$2702)=MAX(AC$1262:AC$2702),0,IF(AA2526>0.03*U$2703,0,$C2526/60)))","v":{"$error":"#VALUE!"}},{"$f":"IF(SUM(AK$1262:AK2525)>0,0,IF(MAX(AC2526:AC$2702)=MAX(AC$1262:AC$2702),0,IF(AA2526>0.01*U$2703,0,$C2526/60)))","v":{"$error":"#VALUE!"}},0,0,0,0,{"$error":"#VALUE!"},{"$error":"#VALUE!"},{"$error":"#VALUE!"},{"$error":"#VALUE!"},{"$error":"#VALUE!"},{"$error":"#VALUE!"},{"$error":"#VALUE!"},{"$error":"#VALUE!"},{"$error":"#VALUE!"},{"$error":"#VALUE!"},{"$error":"#VALUE!"},{"$f":"IF(SUM(BA$1262:BA2525)>0,0,IF(MAX(AT2526:AT$2702)=MAX(AT$1262:AT$2702),0,IF(AR2526>0.03*AL$2703,0,$C2526/60)))","v":{"$error":"#VALUE!"}},{"$f":"IF(SUM(BB$1262:BB2525)>0,0,IF(MAX(AT2526:AT$2702)=MAX(AT$1262:AT$2702),0,IF(AR2526>0.01*AL$2703,0,$C2526/60)))","v":{"$error":"#VALUE!"}},0,0,0,0,{"$error":"#VALUE!"},{"$error":"#VALUE!"},{"$error":"#VALUE!"},{"$error":"#VALUE!"},{"$error":"#VALUE!"},{"$error":"#VALUE!"},{"$error":"#VALUE!"},{"$error":"#VALUE!"},{"$error":"#VALUE!"},{"$error":"#VALUE!"},{"$error":"#VALUE!"},{"$f":"IF(SUM(BR$1262:BR2525)>0,0,IF(MAX(BK2526:BK$2702)=MAX(BK$1262:BK$2702),0,IF(BI2526>0.03*BC$2703,0,$C2526/60)))","v":{"$error":"#VALUE!"}},{"$f":"IF(SUM(BS$1262:BS2525)>0,0,IF(MAX(BK2526:BK$2702)=MAX(BK$1262:BK$2702),0,IF(BI2526>0.01*BC$2703,0,$C2526/60)))","v":{"$error":"#VALUE!"}},0,0,0,0,{"$error":"#VALUE!"},{"$error":"#VALUE!"},{"$error":"#VALUE!"},{"$error":"#VALUE!"},{"$error":"#VALUE!"},{"$error":"#VALUE!"},{"$error":"#VALUE!"},{"$error":"#VALUE!"},{"$error":"#VALUE!"},{"$error":"#VALUE!"},{"$error":"#VALUE!"},{"$f":"IF(SUM(CI$1262:CI2525)>0,0,IF(MAX(CB2526:CB$2702)=MAX(CB$1262:CB$2702),0,IF(BZ2526>0.03*BT$2703,0,$C2526/60)))","v":{"$error":"#VALUE!"}},{"$f":"IF(SUM(CJ$1262:CJ2525)>0,0,IF(MAX(CB2526:CB$2702)=MAX(CB$1262:CB$2702),0,IF(BZ2526>0.01*BT$2703,0,$C2526/60)))","v":{"$error":"#VALUE!"}},0,0,0,0,{"$error":"#VALUE!"},{"$error":"#VALUE!"},{"$error":"#VALUE!"},{"$error":"#VALUE!"},{"$error":"#VALUE!"},{"$error":"#VALUE!"},{"$error":"#VALUE!"},{"$error":"#VALUE!"},{"$error":"#VALUE!"},{"$error":"#VALUE!"},{"$error":"#VALUE!"},{"$f":"IF(SUM(CZ$1262:CZ2525)>0,0,IF(MAX(CS2526:CS$2702)=MAX(CS$1262:CS$2702),0,IF(CQ2526>0.03*CK$2703,0,$C2526/60)))","v":{"$error":"#VALUE!"}},{"$f":"IF(SUM(DA$1262:DA2525)>0,0,IF(MAX(CS2526:CS$2702)=MAX(CS$1262:CS$2702),0,IF(CQ2526>0.01*CK$2703,0,$C2526/60)))","v":{"$error":"#VALUE!"}}]
[null,105.75,6345,0,0,0,0,0,0,0,0,0,{"$error":"#N/A"},{"$error":"#N/A"},{"$error":"#N/A"},{"$error":"#N/A"},{"$error":"#N/A"},{"$error":"#N/A"},{"$f":"IF(SUM(S$1262:S2530)>0,0,\nIF(MAX(L2531:L$2702)=MAX(L$1262:L$2702),0,\nIF(Hydrograph_Source_WQCV=\"USER\",IF(J2531>0.03*D$2703,0,$C2531/60),\nIF(J2531>0.03*J$2703,0,$C2531/60))))","v":0},{"$f":"IF(SUM(T$1262:T2530)>0,0,\nIF(MAX(L2531:L$2702)=MAX(L$1262:L$2702),0,\nIF(Hydrograph_Source_WQCV=\"USER\",IF(J2531>0.01*D$2703,0,$C2531/60),\nIF(J2531>0.01*J$2703,0,$C2531/60))))","v":0},0,0,0,0,{"$error":"#VALUE!"},{"$error":"#VALUE!"},{"$error":"#VALUE!"},{"$error":"#VALUE!"},{"$error":"#VALUE!"},{"$error":"#VALUE!"},{"$error":"#VALUE!"},{"$error":"#VALUE!"},{"$error":"#VALUE!"},{"$error":"#VALUE!"},{"$error":"#VALUE!"},{"$f":"IF(SUM(AJ$1262:AJ2530)>0,0,IF(MAX(AC2531:AC$2702)=MAX(AC$1262:AC$2702),0,IF(AA2531>0.03*U$2703,0,$C2531/60)))","v":{"$error":"#VALUE!"}},{"$f":"IF(SUM(AK$1262:AK2530)>0,0,IF(MAX(AC2531:AC$2702)=MAX(AC$1262:AC$2702),0,IF(AA2531>0.01*U$2703,0,$C2531/60)))","v":{"$error":"#VALUE!"}},0,0,0,0,{"$error":"#VALUE!"},{"$error":"#VALUE!"},{"$error":"#VALUE!"},{"$error":"#VALUE!"},{"$error":"#VALUE!"},{"$error":"#VALUE!"},{"$error":"#VALUE!"},{"$error":"#VALUE!"},{"$error":"#VALUE!"},{"$error":"#VALUE!"},{"$error":"#VALUE!"},{"$f":"IF(SUM(BA$1262:BA2530)>0,0,IF(MAX(AT2531:AT$2702)=MAX(AT$1262:AT$2702),0,IF(AR2531>0.03*AL$2703,0,$C2531/60)))","v":{"$error":"#VALUE!"}},{"$f":"IF(SUM(BB$1262:BB2530)>0,0,IF(MAX(AT2531:AT$2702)=MAX(AT$1262:AT$2702),0,IF(AR2531>0.01*AL$2703,0,$C2531/60)))","v":{"$error":"#VALUE!"}},0,0,0,0,{"$error":"#VALUE!"},{"$error":"#VALUE!"},{"$error":"#VALUE!"},{"$error":"#VALUE!"},{"$error":"#VALUE!"},{"$error":"#VALUE!"},{"$error":"#VALUE!"},{"$error":"#VALUE!"},{"$error":"#VALUE!"},{"$error":"#VALUE!"},{"$error":"#VALUE!"},{"$f":"IF(SUM(BR$1262:BR2530)>0,0,IF(MAX(BK2531:BK$2702)=MAX(BK$1262:BK$2702),0,IF(BI2531>0.03*BC$2703,0,$C2531/60)))","v":{"$error":"#VALUE!"}},{"$f":"IF(SUM(BS$1262:BS2530)>0,0,IF(MAX(BK2531:BK$2702)=MAX(BK$1262:BK$2702),0,IF(BI2531>0.01*BC$2703,0,$C2531/60)))","v":{"$error":"#VALUE!"}},0,0,0,0,{"$error":"#VALUE!"},{"$error":"#VALUE!"},{"$error":"#VALUE!"},{"$error":"#VALUE!"},{"$error":"#VALUE!"},{"$error":"#VALUE!"},{"$error":"#VALUE!"},{"$error":"#VALUE!"},{"$error":"#VALUE!"},{"$error":"#VALUE!"},{"$error":"#VALUE!"},{"$f":"IF(SUM(CI$1262:CI2530)>0,0,IF(MAX(CB2531:CB$2702)=MAX(CB$1262:CB$2702),0,IF(BZ2531>0.03*BT$2703,0,$C2531/60)))","v":{"$error":"#VALUE!"}},{"$f":"IF(SUM(CJ$1262:CJ2530)>0,0,IF(MAX(CB2531:CB$2702)=MAX(CB$1262:CB$2702),0,IF(BZ2531>0.01*BT$2703,0,$C2531/60)))","v":{"$error":"#VALUE!"}},0,0,0,0,{"$error":"#VALUE!"},{"$error":"#VALUE!"},{"$error":"#VALUE!"},{"$error":"#VALUE!"},{"$error":"#VALUE!"},{"$error":"#VALUE!"},{"$error":"#VALUE!"},{"$error":"#VALUE!"},{"$error":"#VALUE!"},{"$error":"#VALUE!"},{"$error":"#VALUE!"},{"$f":"IF(SUM(CZ$1262:CZ2530)>0,0,IF(MAX(CS2531:CS$2702)=MAX(CS$1262:CS$2702),0,IF(CQ2531>0.03*CK$2703,0,$C2531/60)))","v":{"$error":"#VALUE!"}},{"$f":"IF(SUM(DA$1262:DA2530)>0,0,IF(MAX(CS2531:CS$2702)=MAX(CS$1262:CS$2702),0,IF(CQ2531>0.01*CK$2703,0,$C2531/60)))","v":{"$error":"#VALUE!"}}]
[null,106.16666666666667,6370,0,0,0,0,0,0,0,0,0,{"$error":"#N/A"},{"$error":"#N/A"},{"$error":"#N/A"},{"$error":"#N/A"},{"$error":"#N/A"},{"$error":"#N/A"},{"$f":"IF(SUM(S$1262:S2535)>0,0,\nIF(MAX(L2536:L$2702)=MAX(L$1262:L$2702),0,\nIF(Hydrograph_Source_WQCV=\"USER\",IF(J2536>0.03*D$2703,0,$C2536/60),\nIF(J2536>0.03*J$2703,0,$C2536/60))))","v":0},{"$f":"IF(SUM(T$1262:T2535)>0,0,\nIF(MAX(L2536:L$2702)=MAX(L$1262:L$2702),0,\nIF(Hydrograph_Source_WQCV=\"USER\",IF(J2536>0.01*D$2703,0,$C2536/60),\nIF(J2536>0.01*J$2703,0,$C2536/60))))","v":0},0,0,0,0,{"$error":"#VALUE!"},{"$error":"#VALUE!"},{"$error":"#VALUE!"},{"$error":"#VALUE!"},{"$error":"#VALUE!"},{"$error":"#VALUE!"},{"$error":"#VALUE!"},{"$error":"#VALUE!"},{"$error":"#VALUE!"},{"$error":"#VALUE!"},{"$error":"#VALUE!"},{"$f":"IF(SUM(AJ$1262:AJ2535)>0,0,IF(MAX(AC2536:AC$2702)=MAX(AC$1262:AC$2702),0,IF(AA2536>0.03*U$2703,0,$C2536/60)))","v":{"$error":"#VALUE!"}},{"$f":"IF(SUM(AK$1262:AK2535)>0,0,IF(MAX(AC2536:AC$2702)=MAX(AC$1262:AC$2702),0,IF(AA2536>0.01*U$2703,0,$C2536/60)))","v":{"$error":"#VALUE!"}},0,0,0,0,{"$error":"#VALUE!"},{"$error":"#VALUE!"},{"$error":"#VALUE!"},{"$error":"#VALUE!"},{"$error":"#VALUE!"},{"$error":"#VALUE!"},{"$error":"#VALUE!"},{"$error":"#VALUE!"},{"$error":"#VALUE!"},{"$error":"#VALUE!"},{"$error":"#VALUE!"},{"$f":"IF(SUM(BA$1262:BA2535)>0,0,IF(MAX(AT2536:AT$2702)=MAX(AT$1262:AT$2702),0,IF(AR2536>0.03*AL$2703,0,$C2536/60)))","v":{"$error":"#VALUE!"}},{"$f":"IF(SUM(BB$1262:BB2535)>0,0,IF(MAX(AT2536:AT$2702)=MAX(AT$1262:AT$2702),0,IF(AR2536>0.01*AL$2703,0,$C2536/60)))","v":{"$error":"#VALUE!"}},0,0,0,0,{"$error":"#VALUE!"},{"$error":"#VALUE!"},{"$error":"#VALUE!"},{"$error":"#VALUE!"},{"$error":"#VALUE!"},{"$error":"#VALUE!"},{"$error":"#VALUE!"},{"$error":"#VALUE!"},{"$error":"#VALUE!"},{"$error":"#VALUE!"},{"$error":"#VALUE!"},{"$f":"IF(SUM(BR$1262:BR2535)>0,0,IF(MAX(BK2536:BK$2702)=MAX(BK$1262:BK$2702),0,IF(BI2536>0.03*BC$2703,0,$C2536/60)))","v":{"$error":"#VALUE!"}},{"$f":"IF(SUM(BS$1262:BS2535)>0,0,IF(MAX(BK2536:BK$2702)=MAX(BK$1262:BK$2702),0,IF(BI2536>0.01*BC$2703,0,$C2536/60)))","v":{"$error":"#VALUE!"}},0,0,0,0,{"$error":"#VALUE!"},{"$error":"#VALUE!"},{"$error":"#VALUE!"},{"$error":"#VALUE!"},{"$error":"#VALUE!"},{"$error":"#VALUE!"},{"$error":"#VALUE!"},{"$error":"#VALUE!"},{"$error":"#VALUE!"},{"$error":"#VALUE!"},{"$error":"#VALUE!"},{"$f":"IF(SUM(CI$1262:CI2535)>0,0,IF(MAX(CB2536:CB$2702)=MAX(CB$1262:CB$2702),0,IF(BZ2536>0.03*BT$2703,0,$C2536/60)))","v":{"$error":"#VALUE!"}},{"$f":"IF(SUM(CJ$1262:CJ2535)>0,0,IF(MAX(CB2536:CB$2702)=MAX(CB$1262:CB$2702),0,IF(BZ2536>0.01*BT$2703,0,$C2536/60)))","v":{"$error":"#VALUE!"}},0,0,0,0,{"$error":"#VALUE!"},{"$error":"#VALUE!"},{"$error":"#VALUE!"},{"$error":"#VALUE!"},{"$error":"#VALUE!"},{"$error":"#VALUE!"},{"$error":"#VALUE!"},{"$error":"#VALUE!"},{"$error":"#VALUE!"},{"$error":"#VALUE!"},{"$error":"#VALUE!"},{"$f":"IF(SUM(CZ$1262:CZ2535)>0,0,IF(MAX(CS2536:CS$2702)=MAX(CS$1262:CS$2702),0,IF(CQ2536>0.03*CK$2703,0,$C2536/60)))","v":{"$error":"#VALUE!"}},{"$f":"IF(SUM(DA$1262:DA2535)>0,0,IF(MAX(CS2536:CS$2702)=MAX(CS$1262:CS$2702),0,IF(CQ2536>0.01*CK$2703,0,$C2536/60)))","v":{"$error":"#VALUE!"}}]
[null,106.58333333333333,6395,0,0,0,0,0,0,0,0,0,{"$error":"#N/A"},{"$error":"#N/A"},{"$error":"#N/A"},{"$error":"#N/A"},{"$error":"#N/A"},{"$error":"#N/A"},{"$f":"IF(SUM(S$1262:S2540)>0,0,\nIF(MAX(L2541:L$2702)=MAX(L$1262:L$2702),0,\nIF(Hydrograph_Source_WQCV=\"USER\",IF(J2541>0.03*D$2703,0,$C2541/60),\nIF(J2541>0.03*J$2703,0,$C2541/60))))","v":0},{"$f":"IF(SUM(T$1262:T2540)>0,0,\nIF(MAX(L2541:L$2702)=MAX(L$1262:L$2702),0,\nIF(Hydrograph_Source_WQCV=\"USER\",IF(J2541>0.01*D$2703,0,$C2541/60),\nIF(J2541>0.01*J$2703,0,$C2541/60))))","v":0},0,0,0,0,{"$error":"#VALUE!"},{"$error":"#VALUE!"},{"$error":"#VALUE!"},{"$error":"#VALUE!"},{"$error":"#VALUE!"},{"$error":"#VALUE!"},{"$error":"#VALUE!"},{"$error":"#VALUE!"},{"$error":"#VALUE!"},{"$error":"#VALUE!"},{"$error":"#VALUE!"},{"$f":"IF(SUM(AJ$1262:AJ2540)>0,0,IF(MAX(AC2541:AC$2702)=MAX(AC$1262:AC$2702),0,IF(AA2541>0.03*U$2703,0,$C2541/60)))","v":{"$error":"#VALUE!"}},{"$f":"IF(SUM(AK$1262:AK2540)>0,0,IF(MAX(AC2541:AC$2702)=MAX(AC$1262:AC$2702),0,IF(AA2541>0.01*U$2703,0,$C2541/60)))","v":{"$error":"#VALUE!"}},0,0,0,0,{"$error":"#VALUE!"},{"$error":"#VALUE!"},{"$error":"#VALUE!"},{"$error":"#VALUE!"},{"$error":"#VALUE!"},{"$error":"#VALUE!"},{"$error":"#VALUE!"},{"$error":"#VALUE!"},{"$error":"#VALUE!"},{"$error":"#VALUE!"},{"$error":"#VALUE!"},{"$f":"IF(SUM(BA$1262:BA2540)>0,0,IF(MAX(AT2541:AT$2702)=MAX(AT$1262:AT$2702),0,IF(AR2541>0.03*AL$2703,0,$C2541/60)))","v":{"$error":"#VALUE!"}},{"$f":"IF(SUM(BB$1262:BB2540)>0,0,IF(MAX(AT2541:AT$2702)=MAX(AT$1262:AT$2702),0,IF(AR2541>0.01*AL$2703,0,$C2541/60)))","v":{"$error":"#VALUE!"}},0,0,0,0,{"$error":"#VALUE!"},{"$error":"#VALUE!"},{"$error":"#VALUE!"},{"$error":"#VALUE!"},{"$error":"#VALUE!"},{"$error":"#VALUE!"},{"$error":"#VALUE!"},{"$error":"#VALUE!"},{"$error":"#VALUE!"},{"$error":"#VALUE!"},{"$error":"#VALUE!"},{"$f":"IF(SUM(BR$1262:BR2540)>0,0,IF(MAX(BK2541:BK$2702)=MAX(BK$1262:BK$2702),0,IF(BI2541>0.03*BC$2703,0,$C2541/60)))","v":{"$error":"#VALUE!"}},{"$f":"IF(SUM(BS$1262:BS2540)>0,0,IF(MAX(BK2541:BK$2702)=MAX(BK$1262:BK$2702),0,IF(BI2541>0.01*BC$2703,0,$C2541/60)))","v":{"$error":"#VALUE!"}},0,0,0,0,{"$error":"#VALUE!"},{"$error":"#VALUE!"},{"$error":"#VALUE!"},{"$error":"#VALUE!"},{"$error":"#VALUE!"},{"$error":"#VALUE!"},{"$error":"#VALUE!"},{"$error":"#VALUE!"},{"$error":"#VALUE!"},{"$error":"#VALUE!"},{"$error":"#VALUE!"},{"$f":"IF(SUM(CI$1262:CI2540)>0,0,IF(MAX(CB2541:CB$2702)=MAX(CB$1262:CB$2702),0,IF(BZ2541>0.03*BT$2703,0,$C2541/60)))","v":{"$error":"#VALUE!"}},{"$f":"IF(SUM(CJ$1262:CJ2540)>0,0,IF(MAX(CB2541:CB$2702)=MAX(CB$1262:CB$2702),0,IF(BZ2541>0.01*BT$2703,0,$C2541/60)))","v":{"$error":"#VALUE!"}},0,0,0,0,{"$error":"#VALUE!"},{"$error":"#VALUE!"},{"$error":"#VALUE!"},{"$error":"#VALUE!"},{"$error":"#VALUE!"},{"$error":"#VALUE!"},{"$error":"#VALUE!"},{"$error":"#VALUE!"},{"$error":"#VALUE!"},{"$error":"#VALUE!"},{"$error":"#VALUE!"},{"$f":"IF(SUM(CZ$1262:CZ2540)>0,0,IF(MAX(CS2541:CS$2702)=MAX(CS$1262:CS$2702),0,IF(CQ2541>0.03*CK$2703,0,$C2541/60)))","v":{"$error":"#VALUE!"}},{"$f":"IF(SUM(DA$1262:DA2540)>0,0,IF(MAX(CS2541:CS$2702)=MAX(CS$1262:CS$2702),0,IF(CQ2541>0.01*CK$2703,0,$C2541/60)))","v":{"$error":"#VALUE!"}}]
[null,106.91666666666667,6415,0,0,0,0,0,0,0,0,0,{"$error":"#N/A"},{"$error":"#N/A"},{"$error":"#N/A"},{"$error":"#N/A"},{"$error":"#N/A"},{"$error":"#N/A"},{"$f":"IF(SUM(S$1262:S2544)>0,0,\nIF(MAX(L2545:L$2702)=MAX(L$1262:L$2702),0,\nIF(Hydrograph_Source_WQCV=\"USER\",IF(J2545>0.03*D$2703,0,$C2545/60),\nIF(J2545>0.03*J$2703,0,$C2545/60))))","v":0},{"$f":"IF(SUM(T$1262:T2544)>0,0,\nIF(MAX(L2545:L$2702)=MAX(L$1262:L$2702),0,\nIF(Hydrograph_Source_WQCV=\"USER\",IF(J2545>0.01*D$2703,0,$C2545/60),\nIF(J2545>0.01*J$2703,0,$C2545/60))))","v":0},0,0,0,0,{"$error":"#VALUE!"},{"$error":"#VALUE!"},{"$error":"#VALUE!"},{"$error":"#VALUE!"},{"$error":"#VALUE!"},{"$error":"#VALUE!"},{"$error":"#VALUE!"},{"$error":"#VALUE!"},{"$error":"#VALUE!"},{"$error":"#VALUE!"},{"$error":"#VALUE!"},{"$f":"IF(SUM(AJ$1262:AJ2544)>0,0,IF(MAX(AC2545:AC$2702)=MAX(AC$1262:AC$2702),0,IF(AA2545>0.03*U$2703,0,$C2545/60)))","v":{"$error":"#VALUE!"}},{"$f":"IF(SUM(AK$1262:AK2544)>0,0,IF(MAX(AC2545:AC$2702)=MAX(AC$1262:AC$2702),0,IF(AA2545>0.01*U$2703,0,$C2545/60)))","v":{"$error":"#VALUE!"}},0,0,0,0,{"$error":"#VALUE!"},{"$error":"#VALUE!"},{"$error":"#VALUE!"},{"$error":"#VALUE!"},{"$error":"#VALUE!"},{"$error":"#VALUE!"},{"$error":"#VALUE!"},{"$error":"#VALUE!"},{"$error":"#VALUE!"},{"$error":"#VALUE!"},{"$error":"#VALUE!"},{"$f":"IF(SUM(BA$1262:BA2544)>0,0,IF(MAX(AT2545:AT$2702)=MAX(AT$1262:AT$2702),0,IF(AR2545>0.03*AL$2703,0,$C2545/60)))","v":{"$error":"#VALUE!"}},{"$f":"IF(SUM(BB$1262:BB2544)>0,0,IF(MAX(AT2545:AT$2702)=MAX(AT$1262:AT$2702),0,IF(AR2545>0.01*AL$2703,0,$C2545/60)))","v":{"$error":"#VALUE!"}},0,0,0,0,{"$error":"#VALUE!"},{"$error":"#VALUE!"},{"$error":"#VALUE!"},{"$error":"#VALUE!"},{"$error":"#VALUE!"},{"$error":"#VALUE!"},{"$error":"#VALUE!"},{"$error":"#VALUE!"},{"$error":"#VALUE!"},{"$error":"#VALUE!"},{"$error":"#VALUE!"},{"$f":"IF(SUM(BR$1262:BR2544)>0,0,IF(MAX(BK2545:BK$2702)=MAX(BK$1262:BK$2702),0,IF(BI2545>0.03*BC$2703,0,$C2545/60)))","v":{"$error":"#VALUE!"}},{"$f":"IF(SUM(BS$1262:BS2544)>0,0,IF(MAX(BK2545:BK$2702)=MAX(BK$1262:BK$2702),0,IF(BI2545>0.01*BC$2703,0,$C2545/60)))","v":{"$error":"#VALUE!"}},0,0,0,0,{"$error":"#VALUE!"},{"$error":"#VALUE!"},{"$error":"#VALUE!"},{"$error":"#VALUE!"},{"$error":"#VALUE!"},{"$error":"#VALUE!"},{"$error":"#VALUE!"},{"$error":"#VALUE!"},{"$error":"#VALUE!"},{"$error":"#VALUE!"},{"$error":"#VALUE!"},{"$f":"IF(SUM(CI$1262:CI2544)>0,0,IF(MAX(CB2545:CB$2702)=MAX(CB$1262:CB$2702),0,IF(BZ2545>0.03*BT$2703,0,$C2545/60)))","v":{"$error":"#VALUE!"}},{"$f":"IF(SUM(CJ$1262:CJ2544)>0,0,IF(MAX(CB2545:CB$2702)=MAX(CB$1262:CB$2702),0,IF(BZ2545>0.01*BT$2703,0,$C2545/60)))","v":{"$error":"#VALUE!"}},0,0,0,0,{"$error":"#VALUE!"},{"$error":"#VALUE!"},{"$error":"#VALUE!"},{"$error":"#VALUE!"},{"$error":"#VALUE!"},{"$error":"#VALUE!"},{"$error":"#VALUE!"},{"$error":"#VALUE!"},{"$error":"#VALUE!"},{"$error":"#VALUE!"},{"$error":"#VALUE!"},{"$f":"IF(SUM(CZ$1262:CZ2544)>0,0,IF(MAX(CS2545:CS$2702)=MAX(CS$1262:CS$2702),0,IF(CQ2545>0.03*CK$2703,0,$C2545/60)))","v":{"$error":"#VALUE!"}},{"$f":"IF(SUM(DA$1262:DA2544)>0,0,IF(MAX(CS2545:CS$2702)=MAX(CS$1262:CS$2702),0,IF(CQ2545>0.01*CK$2703,0,$C2545/60)))","v":{"$error":"#VALUE!"}}]
[null,107.16666666666667,6430,0,0,0,0,0,0,0,0,0,{"$error":"#N/A"},{"$error":"#N/A"},{"$error":"#N/A"},{"$error":"#N/A"},{"$error":"#N/A"},{"$error":"#N/A"},{"$f":"IF(SUM(S$1262:S2547)>0,0,\nIF(MAX(L2548:L$2702)=MAX(L$1262:L$2702),0,\nIF(Hydrograph_Source_WQCV=\"USER\",IF(J2548>0.03*D$2703,0,$C2548/60),\nIF(J2548>0.03*J$2703,0,$C2548/60))))","v":0},{"$f":"IF(SUM(T$1262:T2547)>0,0,\nIF(MAX(L2548:L$2702)=MAX(L$1262:L$2702),0,\nIF(Hydrograph_Source_WQCV=\"USER\",IF(J2548>0.01*D$2703,0,$C2548/60),\nIF(J2548>0.01*J$2703,0,$C2548/60))))","v":0},0,0,0,0,{"$error":"#VALUE!"},{"$error":"#VALUE!"},{"$error":"#VALUE!"},{"$error":"#VALUE!"},{"$error":"#VALUE!"},{"$error":"#VALUE!"},{"$error":"#VALUE!"},{"$error":"#VALUE!"},{"$error":"#VALUE!"},{"$error":"#VALUE!"},{"$error":"#VALUE!"},{"$f":"IF(SUM(AJ$1262:AJ2547)>0,0,IF(MAX(AC2548:AC$2702)=MAX(AC$1262:AC$2702),0,IF(AA2548>0.03*U$2703,0,$C2548/60)))","v":{"$error":"#VALUE!"}},{"$f":"IF(SUM(AK$1262:AK2547)>0,0,IF(MAX(AC2548:AC$2702)=MAX(AC$1262:AC$2702),0,IF(AA2548>0.01*U$2703,0,$C2548/60)))","v":{"$error":"#VALUE!"}},0,0,0,0,{"$error":"#VALUE!"},{"$error":"#VALUE!"},{"$error":"#VALUE!"},{"$error":"#VALUE!"},{"$error":"#VALUE!"},{"$error":"#VALUE!"},{"$error":"#VALUE!"},{"$error":"#VALUE!"},{"$error":"#VALUE!"},{"$error":"#VALUE!"},{"$error":"#VALUE!"},{"$f":"IF(SUM(BA$1262:BA2547)>0,0,IF(MAX(AT2548:AT$2702)=MAX(AT$1262:AT$2702),0,IF(AR2548>0.03*AL$2703,0,$C2548/60)))","v":{"$error":"#VALUE!"}},{"$f":"IF(SUM(BB$1262:BB2547)>0,0,IF(MAX(AT2548:AT$2702)=MAX(AT$1262:AT$2702),0,IF(AR2548>0.01*AL$2703,0,$C2548/60)))","v":{"$error":"#VALUE!"}},0,0,0,0,{"$error":"#VALUE!"},{"$error":"#VALUE!"},{"$error":"#VALUE!"},{"$error":"#VALUE!"},{"$error":"#VALUE!"},{"$error":"#VALUE!"},{"$error":"#VALUE!"},{"$error":"#VALUE!"},{"$error":"#VALUE!"},{"$error":"#VALUE!"},{"$error":"#VALUE!"},{"$f":"IF(SUM(BR$1262:BR2547)>0,0,IF(MAX(BK2548:BK$2702)=MAX(BK$1262:BK$2702),0,IF(BI2548>0.03*BC$2703,0,$C2548/60)))","v":{"$error":"#VALUE!"}},{"$f":"IF(SUM(BS$1262:BS2547)>0,0,IF(MAX(BK2548:BK$2702)=MAX(BK$1262:BK$2702),0,IF(BI2548>0.01*BC$2703,0,$C2548/60)))","v":{"$error":"#VALUE!"}},0,0,0,0,{"$error":"#VALUE!"},{"$error":"#VALUE!"},{"$error":"#VALUE!"},{"$error":"#VALUE!"},{"$error":"#VALUE!"},{"$error":"#VALUE!"},{"$error":"#VALUE!"},{"$error":"#VALUE!"},{"$error":"#VALUE!"},{"$error":"#VALUE!"},{"$error":"#VALUE!"},{"$f":"IF(SUM(CI$1262:CI2547)>0,0,IF(MAX(CB2548:CB$2702)=MAX(CB$1262:CB$2702),0,IF(BZ2548>0.03*BT$2703,0,$C2548/60)))","v":{"$error":"#VALUE!"}},{"$f":"IF(SUM(CJ$1262:CJ2547)>0,0,IF(MAX(CB2548:CB$2702)=MAX(CB$1262:CB$2702),0,IF(BZ2548>0.01*BT$2703,0,$C2548/60)))","v":{"$error":"#VALUE!"}},0,0,0,0,{"$error":"#VALUE!"},{"$error":"#VALUE!"},{"$error":"#VALUE!"},{"$error":"#VALUE!"},{"$error":"#VALUE!"},{"$error":"#VALUE!"},{"$error":"#VALUE!"},{"$error":"#VALUE!"},{"$error":"#VALUE!"},{"$error":"#VALUE!"},{"$error":"#VALUE!"},{"$f":"IF(SUM(CZ$1262:CZ2547)>0,0,IF(MAX(CS2548:CS$2702)=MAX(CS$1262:CS$2702),0,IF(CQ2548>0.03*CK$2703,0,$C2548/60)))","v":{"$error":"#VALUE!"}},{"$f":"IF(SUM(DA$1262:DA2547)>0,0,IF(MAX(CS2548:CS$2702)=MAX(CS$1262:CS$2702),0,IF(CQ2548>0.01*CK$2703,0,$C2548/60)))","v":{"$error":"#VALUE!"}}]
[null,107.58333333333333,6455,0,0,0,0,0,0,0,0,0,{"$error":"#N/A"},{"$error":"#N/A"},{"$error":"#N/A"},{"$error":"#N/A"},{"$error":"#N/A"},{"$error":"#N/A"},{"$f":"IF(SUM(S$1262:S2552)>0,0,\nIF(MAX(L2553:L$2702)=MAX(L$1262:L$2702),0,\nIF(Hydrograph_Source_WQCV=\"USER\",IF(J2553>0.03*D$2703,0,$C2553/60),\nIF(J2553>0.03*J$2703,0,$C2553/60))))","v":0},{"$f":"IF(SUM(T$1262:T2552)>0,0,\nIF(MAX(L2553:L$2702)=MAX(L$1262:L$2702),0,\nIF(Hydrograph_Source_WQCV=\"USER\",IF(J2553>0.01*D$2703,0,$C2553/60),\nIF(J2553>0.01*J$2703,0,$C2553/60))))","v":0},0,0,0,0,{"$error":"#VALUE!"},{"$error":"#VALUE!"},{"$error":"#VALUE!"},{"$error":"#VALUE!"},{"$error":"#VALUE!"},{"$error":"#VALUE!"},{"$error":"#VALUE!"},{"$error":"#VALUE!"},{"$error":"#VALUE!"},{"$error":"#VALUE!"},{"$error":"#VALUE!"},{"$f":"IF(SUM(AJ$1262:AJ2552)>0,0,IF(MAX(AC2553:AC$2702)=MAX(AC$1262:AC$2702),0,IF(AA2553>0.03*U$2703,0,$C2553/60)))","v":{"$error":"#VALUE!"}},{"$f":"IF(SUM(AK$1262:AK2552)>0,0,IF(MAX(AC2553:AC$2702)=MAX(AC$1262:AC$2702),0,IF(AA2553>0.01*U$2703,0,$C2553/60)))","v":{"$error":"#VALUE!"}},0,0,0,0,{"$error":"#VALUE!"},{"$error":"#VALUE!"},{"$error":"#VALUE!"},{"$error":"#VALUE!"},{"$error":"#VALUE!"},{"$error":"#VALUE!"},{"$error":"#VALUE!"},{"$error":"#VALUE!"},{"$error":"#VALUE!"},{"$error":"#VALUE!"},{"$error":"#VALUE!"},{"$f":"IF(SUM(BA$1262:BA2552)>0,0,IF(MAX(AT2553:AT$2702)=MAX(AT$1262:AT$2702),0,IF(AR2553>0.03*AL$2703,0,$C2553/60)))","v":{"$error":"#VALUE!"}},{"$f":"IF(SUM(BB$1262:BB2552)>0,0,IF(MAX(AT2553:AT$2702)=MAX(AT$1262:AT$2702),0,IF(AR2553>0.01*AL$2703,0,$C2553/60)))","v":{"$error":"#VALUE!"}},0,0,0,0,{"$error":"#VALUE!"},{"$error":"#VALUE!"},{"$error":"#VALUE!"},{"$error":"#VALUE!"},{"$error":"#VALUE!"},{"$error":"#VALUE!"},{"$error":"#VALUE!"},{"$error":"#VALUE!"},{"$error":"#VALUE!"},{"$error":"#VALUE!"},{"$error":"#VALUE!"},{"$f":"IF(SUM(BR$1262:BR2552)>0,0,IF(MAX(BK2553:BK$2702)=MAX(BK$1262:BK$2702),0,IF(BI2553>0.03*BC$2703,0,$C2553/60)))","v":{"$error":"#VALUE!"}},{"$f":"IF(SUM(BS$1262:BS2552)>0,0,IF(MAX(BK2553:BK$2702)=MAX(BK$1262:BK$2702),0,IF(BI2553>0.01*BC$2703,0,$C2553/60)))","v":{"$error":"#VALUE!"}},0,0,0,0,{"$error":"#VALUE!"},{"$error":"#VALUE!"},{"$error":"#VALUE!"},{"$error":"#VALUE!"},{"$error":"#VALUE!"},{"$error":"#VALUE!"},{"$error":"#VALUE!"},{"$error":"#VALUE!"},{"$error":"#VALUE!"},{"$error":"#VALUE!"},{"$error":"#VALUE!"},{"$f":"IF(SUM(CI$1262:CI2552)>0,0,IF(MAX(CB2553:CB$2702)=MAX(CB$1262:CB$2702),0,IF(BZ2553>0.03*BT$2703,0,$C2553/60)))","v":{"$error":"#VALUE!"}},{"$f":"IF(SUM(CJ$1262:CJ2552)>0,0,IF(MAX(CB2553:CB$2702)=MAX(CB$1262:CB$2702),0,IF(BZ2553>0.01*BT$2703,0,$C2553/60)))","v":{"$error":"#VALUE!"}},0,0,0,0,{"$error":"#VALUE!"},{"$error":"#VALUE!"},{"$error":"#VALUE!"},{"$error":"#VALUE!"},{"$error":"#VALUE!"},{"$error":"#VALUE!"},{"$error":"#VALUE!"},{"$error":"#VALUE!"},{"$error":"#VALUE!"},{"$error":"#VALUE!"},{"$error":"#VALUE!"},{"$f":"IF(SUM(CZ$1262:CZ2552)>0,0,IF(MAX(CS2553:CS$2702)=MAX(CS$1262:CS$2702),0,IF(CQ2553>0.03*CK$2703,0,$C2553/60)))","v":{"$error":"#VALUE!"}},{"$f":"IF(SUM(DA$1262:DA2552)>0,0,IF(MAX(CS2553:CS$2702)=MAX(CS$1262:CS$2702),0,IF(CQ2553>0.01*CK$2703,0,$C2553/60)))","v":{"$error":"#VALUE!"}}]
[null,108.08333333333333,6485,0,0,0,0,0,0,0,0,0,{"$error":"#N/A"},{"$error":"#N/A"},{"$error":"#N/A"},{"$error":"#N/A"},{"$error":"#N/A"},{"$error":"#N/A"},{"$f":"IF(SUM(S$1262:S2558)>0,0,\nIF(MAX(L2559:L$2702)=MAX(L$1262:L$2702),0,\nIF(Hydrograph_Source_WQCV=\"USER\",IF(J2559>0.03*D$2703,0,$C2559/60),\nIF(J2559>0.03*J$2703,0,$C2559/60))))","v":0},{"$f":"IF(SUM(T$1262:T2558)>0,0,\nIF(MAX(L2559:L$2702)=MAX(L$1262:L$2702),0,\nIF(Hydrograph_Source_WQCV=\"USER\",IF(J2559>0.01*D$2703,0,$C2559/60),\nIF(J2559>0.01*J$2703,0,$C2559/60))))","v":0},0,0,0,0,{"$error":"#VALUE!"},{"$error":"#VALUE!"},{"$error":"#VALUE!"},{"$error":"#VALUE!"},{"$error":"#VALUE!"},{"$error":"#VALUE!"},{"$error":"#VALUE!"},{"$error":"#VALUE!"},{"$error":"#VALUE!"},{"$error":"#VALUE!"},{"$error":"#VALUE!"},{"$f":"IF(SUM(AJ$1262:AJ2558)>0,0,IF(MAX(AC2559:AC$2702)=MAX(AC$1262:AC$2702),0,IF(AA2559>0.03*U$2703,0,$C2559/60)))","v":{"$error":"#VALUE!"}},{"$f":"IF(SUM(AK$1262:AK2558)>0,0,IF(MAX(AC2559:AC$2702)=MAX(AC$1262:AC$2702),0,IF(AA2559>0.01*U$2703,0,$C2559/60)))","v":{"$error":"#VALUE!"}},0,0,0,0,{"$error":"#VALUE!"},{"$error":"#VALUE!"},{"$error":"#VALUE!"},{"$error":"#VALUE!"},{"$error":"#VALUE!"},{"$error":"#VALUE!"},{"$error":"#VALUE!"},{"$error":"#VALUE!"},{"$error":"#VALUE!"},{"$error":"#VALUE!"},{"$error":"#VALUE!"},{"$f":"IF(SUM(BA$1262:BA2558)>0,0,IF(MAX(AT2559:AT$2702)=MAX(AT$1262:AT$2702),0,IF(AR2559>0.03*AL$2703,0,$C2559/60)))","v":{"$error":"#VALUE!"}},{"$f":"IF(SUM(BB$1262:BB2558)>0,0,IF(MAX(AT2559:AT$2702)=MAX(AT$1262:AT$2702),0,IF(AR2559>0.01*AL$2703,0,$C2559/60)))","v":{"$error":"#VALUE!"}},0,0,0,0,{"$error":"#VALUE!"},{"$error":"#VALUE!"},{"$error":"#VALUE!"},{"$error":"#VALUE!"},{"$error":"#VALUE!"},{"$error":"#VALUE!"},{"$error":"#VALUE!"},{"$error":"#VALUE!"},{"$error":"#VALUE!"},{"$error":"#VALUE!"},{"$error":"#VALUE!"},{"$f":"IF(SUM(BR$1262:BR2558)>0,0,IF(MAX(BK2559:BK$2702)=MAX(BK$1262:BK$2702),0,IF(BI2559>0.03*BC$2703,0,$C2559/60)))","v":{"$error":"#VALUE!"}},{"$f":"IF(SUM(BS$1262:BS2558)>0,0,IF(MAX(BK2559:BK$2702)=MAX(BK$1262:BK$2702),0,IF(BI2559>0.01*BC$2703,0,$C2559/60)))","v":{"$error":"#VALUE!"}},0,0,0,0,{"$error":"#VALUE!"},{"$error":"#VALUE!"},{"$error":"#VALUE!"},{"$error":"#VALUE!"},{"$error":"#VALUE!"},{"$error":"#VALUE!"},{"$error":"#VALUE!"},{"$error":"#VALUE!"},{"$error":"#VALUE!"},{"$error":"#VALUE!"},{"$error":"#VALUE!"},{"$f":"IF(SUM(CI$1262:CI2558)>0,0,IF(MAX(CB2559:CB$2702)=MAX(CB$1262:CB$2702),0,IF(BZ2559>0.03*BT$2703,0,$C2559/60)))","v":{"$error":"#VALUE!"}},{"$f":"IF(SUM(CJ$1262:CJ2558)>0,0,IF(MAX(CB2559:CB$2702)=MAX(CB$1262:CB$2702),0,IF(BZ2559>0.01*BT$2703,0,$C2559/60)))","v":{"$error":"#VALUE!"}},0,0,0,0,{"$error":"#VALUE!"},{"$error":"#VALUE!"},{"$error":"#VALUE!"},{"$error":"#VALUE!"},{"$error":"#VALUE!"},{"$error":"#VALUE!"},{"$error":"#VALUE!"},{"$error":"#VALUE!"},{"$error":"#VALUE!"},{"$error":"#VALUE!"},{"$error":"#VALUE!"},{"$f":"IF(SUM(CZ$1262:CZ2558)>0,0,IF(MAX(CS2559:CS$2702)=MAX(CS$1262:CS$2702),0,IF(CQ2559>0.03*CK$2703,0,$C2559/60)))","v":{"$error":"#VALUE!"}},{"$f":"IF(SUM(DA$1262:DA2558)>0,0,IF(MAX(CS2559:CS$2702)=MAX(CS$1262:CS$2702),0,IF(CQ2559>0.01*CK$2703,0,$C2559/60)))","v":{"$error":"#VALUE!"}}]
[null,108.5,6510,0,0,0,0,0,0,0,0,0,{"$error":"#N/A"},{"$error":"#N/A"},{"$error":"#N/A"},{"$error":"#N/A"},{"$error":"#N/A"},{"$error":"#N/A"},{"$f":"IF(SUM(S$1262:S2563)>0,0,\nIF(MAX(L2564:L$2702)=MAX(L$1262:L$2702),0,\nIF(Hydrograph_Source_WQCV=\"USER\",IF(J2564>0.03*D$2703,0,$C2564/60),\nIF(J2564>0.03*J$2703,0,$C2564/60))))","v":0},{"$f":"IF(SUM(T$1262:T2563)>0,0,\nIF(MAX(L2564:L$2702)=MAX(L$1262:L$2702),0,\nIF(Hydrograph_Source_WQCV=\"USER\",IF(J2564>0.01*D$2703,0,$C2564/60),\nIF(J2564>0.01*J$2703,0,$C2564/60))))","v":0},0,0,0,0,{"$error":"#VALUE!"},{"$error":"#VALUE!"},{"$error":"#VALUE!"},{"$error":"#VALUE!"},{"$error":"#VALUE!"},{"$error":"#VALUE!"},{"$error":"#VALUE!"},{"$error":"#VALUE!"},{"$error":"#VALUE!"},{"$error":"#VALUE!"},{"$error":"#VALUE!"},{"$f":"IF(SUM(AJ$1262:AJ2563)>0,0,IF(MAX(AC2564:AC$2702)=MAX(AC$1262:AC$2702),0,IF(AA2564>0.03*U$2703,0,$C2564/60)))","v":{"$error":"#VALUE!"}},{"$f":"IF(SUM(AK$1262:AK2563)>0,0,IF(MAX(AC2564:AC$2702)=MAX(AC$1262:AC$2702),0,IF(AA2564>0.01*U$2703,0,$C2564/60)))","v":{"$error":"#VALUE!"}},0,0,0,0,{"$error":"#VALUE!"},{"$error":"#VALUE!"},{"$error":"#VALUE!"},{"$error":"#VALUE!"},{"$error":"#VALUE!"},{"$error":"#VALUE!"},{"$error":"#VALUE!"},{"$error":"#VALUE!"},{"$error":"#VALUE!"},{"$error":"#VALUE!"},{"$error":"#VALUE!"},{"$f":"IF(SUM(BA$1262:BA2563)>0,0,IF(MAX(AT2564:AT$2702)=MAX(AT$1262:AT$2702),0,IF(AR2564>0.03*AL$2703,0,$C2564/60)))","v":{"$error":"#VALUE!"}},{"$f":"IF(SUM(BB$1262:BB2563)>0,0,IF(MAX(AT2564:AT$2702)=MAX(AT$1262:AT$2702),0,IF(AR2564>0.01*AL$2703,0,$C2564/60)))","v":{"$error":"#VALUE!"}},0,0,0,0,{"$error":"#VALUE!"},{"$error":"#VALUE!"},{"$error":"#VALUE!"},{"$error":"#VALUE!"},{"$error":"#VALUE!"},{"$error":"#VALUE!"},{"$error":"#VALUE!"},{"$error":"#VALUE!"},{"$error":"#VALUE!"},{"$error":"#VALUE!"},{"$error":"#VALUE!"},{"$f":"IF(SUM(BR$1262:BR2563)>0,0,IF(MAX(BK2564:BK$2702)=MAX(BK$1262:BK$2702),0,IF(BI2564>0.03*BC$2703,0,$C2564/60)))","v":{"$error":"#VALUE!"}},{"$f":"IF(SUM(BS$1262:BS2563)>0,0,IF(MAX(BK2564:BK$2702)=MAX(BK$1262:BK$2702),0,IF(BI2564>0.01*BC$2703,0,$C2564/60)))","v":{"$error":"#VALUE!"}},0,0,0,0,{"$error":"#VALUE!"},{"$error":"#VALUE!"},{"$error":"#VALUE!"},{"$error":"#VALUE!"},{"$error":"#VALUE!"},{"$error":"#VALUE!"},{"$error":"#VALUE!"},{"$error":"#VALUE!"},{"$error":"#VALUE!"},{"$error":"#VALUE!"},{"$error":"#VALUE!"},{"$f":"IF(SUM(CI$1262:CI2563)>0,0,IF(MAX(CB2564:CB$2702)=MAX(CB$1262:CB$2702),0,IF(BZ2564>0.03*BT$2703,0,$C2564/60)))","v":{"$error":"#VALUE!"}},{"$f":"IF(SUM(CJ$1262:CJ2563)>0,0,IF(MAX(CB2564:CB$2702)=MAX(CB$1262:CB$2702),0,IF(BZ2564>0.01*BT$2703,0,$C2564/60)))","v":{"$error":"#VALUE!"}},0,0,0,0,{"$error":"#VALUE!"},{"$error":"#VALUE!"},{"$error":"#VALUE!"},{"$error":"#VALUE!"},{"$error":"#VALUE!"},{"$error":"#VALUE!"},{"$error":"#VALUE!"},{"$error":"#VALUE!"},{"$error":"#VALUE!"},{"$error":"#VALUE!"},{"$error":"#VALUE!"},{"$f":"IF(SUM(CZ$1262:CZ2563)>0,0,IF(MAX(CS2564:CS$2702)=MAX(CS$1262:CS$2702),0,IF(CQ2564>0.03*CK$2703,0,$C2564/60)))","v":{"$error":"#VALUE!"}},{"$f":"IF(SUM(DA$1262:DA2563)>0,0,IF(MAX(CS2564:CS$2702)=MAX(CS$1262:CS$2702),0,IF(CQ2564>0.01*CK$2703,0,$C2564/60)))","v":{"$error":"#VALUE!"}}]
[null,108.58333333333333,6515,0,0,0,0,0,0,0,0,0,{"$error":"#N/A"},{"$error":"#N/A"},{"$error":"#N/A"},{"$error":"#N/A"},{"$error":"#N/A"},{"$error":"#N/A"},{"$f":"IF(SUM(S$1262:S2564)>0,0,\nIF(MAX(L2565:L$2702)=MAX(L$1262:L$2702),0,\nIF(Hydrograph_Source_WQCV=\"USER\",IF(J2565>0.03*D$2703,0,$C2565/60),\nIF(J2565>0.03*J$2703,0,$C2565/60))))","v":0},{"$f":"IF(SUM(T$1262:T2564)>0,0,\nIF(MAX(L2565:L$2702)=MAX(L$1262:L$2702),0,\nIF(Hydrograph_Source_WQCV=\"USER\",IF(J2565>0.01*D$2703,0,$C2565/60),\nIF(J2565>0.01*J$2703,0,$C2565/60))))","v":0},0,0,0,0,{"$error":"#VALUE!"},{"$error":"#VALUE!"},{"$error":"#VALUE!"},{"$error":"#VALUE!"},{"$error":"#VALUE!"},{"$error":"#VALUE!"},{"$error":"#VALUE!"},{"$error":"#VALUE!"},{"$error":"#VALUE!"},{"$error":"#VALUE!"},{"$error":"#VALUE!"},{"$f":"IF(SUM(AJ$1262:AJ2564)>0,0,IF(MAX(AC2565:AC$2702)=MAX(AC$1262:AC$2702),0,IF(AA2565>0.03*U$2703,0,$C2565/60)))","v":{"$error":"#VALUE!"}},{"$f":"IF(SUM(AK$1262:AK2564)>0,0,IF(MAX(AC2565:AC$2702)=MAX(AC$1262:AC$2702),0,IF(AA2565>0.01*U$2703,0,$C2565/60)))","v":{"$error":"#VALUE!"}},0,0,0,0,{"$error":"#VALUE!"},{"$error":"#VALUE!"},{"$error":"#VALUE!"},{"$error":"#VALUE!"},{"$error":"#VALUE!"},{"$error":"#VALUE!"},{"$error":"#VALUE!"},{"$error":"#VALUE!"},{"$error":"#VALUE!"},{"$error":"#VALUE!"},{"$error":"#VALUE!"},{"$f":"IF(SUM(BA$1262:BA2564)>0,0,IF(MAX(AT2565:AT$2702)=MAX(AT$1262:AT$2702),0,IF(AR2565>0.03*AL$2703,0,$C2565/60)))","v":{"$error":"#VALUE!"}},{"$f":"IF(SUM(BB$1262:BB2564)>0,0,IF(MAX(AT2565:AT$2702)=MAX(AT$1262:AT$2702),0,IF(AR2565>0.01*AL$2703,0,$C2565/60)))","v":{"$error":"#VALUE!"}},0,0,0,0,{"$error":"#VALUE!"},{"$error":"#VALUE!"},{"$error":"#VALUE!"},{"$error":"#VALUE!"},{"$error":"#VALUE!"},{"$error":"#VALUE!"},{"$error":"#VALUE!"},{"$error":"#VALUE!"},{"$error":"#VALUE!"},{"$error":"#VALUE!"},{"$error":"#VALUE!"},{"$f":"IF(SUM(BR$1262:BR2564)>0,0,IF(MAX(BK2565:BK$2702)=MAX(BK$1262:BK$2702),0,IF(BI2565>0.03*BC$2703,0,$C2565/60)))","v":{"$error":"#VALUE!"}},{"$f":"IF(SUM(BS$1262:BS2564)>0,0,IF(MAX(BK2565:BK$2702)=MAX(BK$1262:BK$2702),0,IF(BI2565>0.01*BC$2703,0,$C2565/60)))","v":{"$error":"#VALUE!"}},0,0,0,0,{"$error":"#VALUE!"},{"$error":"#VALUE!"},{"$error":"#VALUE!"},{"$error":"#VALUE!"},{"$error":"#VALUE!"},{"$error":"#VALUE!"},{"$error":"#VALUE!"},{"$error":"#VALUE!"},{"$error":"#VALUE!"},{"$error":"#VALUE!"},{"$error":"#VALUE!"},{"$f":"IF(SUM(CI$1262:CI2564)>0,0,IF(MAX(CB2565:CB$2702)=MAX(CB$1262:CB$2702),0,IF(BZ2565>0.03*BT$2703,0,$C2565/60)))","v":{"$error":"#VALUE!"}},{"$f":"IF(SUM(CJ$1262:CJ2564)>0,0,IF(MAX(CB2565:CB$2702)=MAX(CB$1262:CB$2702),0,IF(BZ2565>0.01*BT$2703,0,$C2565/60)))","v":{"$error":"#VALUE!"}},0,0,0,0,{"$error":"#VALUE!"},{"$error":"#VALUE!"},{"$error":"#VALUE!"},{"$error":"#VALUE!"},{"$error":"#VALUE!"},{"$error":"#VALUE!"},{"$error":"#VALUE!"},{"$error":"#VALUE!"},{"$error":"#VALUE!"},{"$error":"#VALUE!"},{"$error":"#VALUE!"},{"$f":"IF(SUM(CZ$1262:CZ2564)>0,0,IF(MAX(CS2565:CS$2702)=MAX(CS$1262:CS$2702),0,IF(CQ2565>0.03*CK$2703,0,$C2565/60)))","v":{"$error":"#VALUE!"}},{"$f":"IF(SUM(DA$1262:DA2564)>0,0,IF(MAX(CS2565:CS$2702)=MAX(CS$1262:CS$2702),0,IF(CQ2565>0.01*CK$2703,0,$C2565/60)))","v":{"$error":"#VALUE!"}}]
[null,109.25,6555,0,0,0,0,0,0,0,0,0,{"$error":"#N/A"},{"$error":"#N/A"},{"$error":"#N/A"},{"$error":"#N/A"},{"$error":"#N/A"},{"$error":"#N/A"},{"$f":"IF(SUM(S$1262:S2572)>0,0,\nIF(MAX(L2573:L$2702)=MAX(L$1262:L$2702),0,\nIF(Hydrograph_Source_WQCV=\"USER\",IF(J2573>0.03*D$2703,0,$C2573/60),\nIF(J2573>0.03*J$2703,0,$C2573/60))))","v":0},{"$f":"IF(SUM(T$1262:T2572)>0,0,\nIF(MAX(L2573:L$2702)=MAX(L$1262:L$2702),0,\nIF(Hydrograph_Source_WQCV=\"USER\",IF(J2573>0.01*D$2703,0,$C2573/60),\nIF(J2573>0.01*J$2703,0,$C2573/60))))","v":0},0,0,0,0,{"$error":"#VALUE!"},{"$error":"#VALUE!"},{"$error":"#VALUE!"},{"$error":"#VALUE!"},{"$error":"#VALUE!"},{"$error":"#VALUE!"},{"$error":"#VALUE!"},{"$error":"#VALUE!"},{"$error":"#VALUE!"},{"$error":"#VALUE!"},{"$error":"#VALUE!"},{"$f":"IF(SUM(AJ$1262:AJ2572)>0,0,IF(MAX(AC2573:AC$2702)=MAX(AC$1262:AC$2702),0,IF(AA2573>0.03*U$2703,0,$C2573/60)))","v":{"$error":"#VALUE!"}},{"$f":"IF(SUM(AK$1262:AK2572)>0,0,IF(MAX(AC2573:AC$2702)=MAX(AC$1262:AC$2702),0,IF(AA2573>0.01*U$2703,0,$C2573/60)))","v":{"$error":"#VALUE!"}},0,0,0,0,{"$error":"#VALUE!"},{"$error":"#VALUE!"},{"$error":"#VALUE!"},{"$error":"#VALUE!"},{"$error":"#VALUE!"},{"$error":"#VALUE!"},{"$error":"#VALUE!"},{"$error":"#VALUE!"},{"$error":"#VALUE!"},{"$error":"#VALUE!"},{"$error":"#VALUE!"},{"$f":"IF(SUM(BA$1262:BA2572)>0,0,IF(MAX(AT2573:AT$2702)=MAX(AT$1262:AT$2702),0,IF(AR2573>0.03*AL$2703,0,$C2573/60)))","v":{"$error":"#VALUE!"}},{"$f":"IF(SUM(BB$1262:BB2572)>0,0,IF(MAX(AT2573:AT$2702)=MAX(AT$1262:AT$2702),0,IF(AR2573>0.01*AL$2703,0,$C2573/60)))","v":{"$error":"#VALUE!"}},0,0,0,0,{"$error":"#VALUE!"},{"$error":"#VALUE!"},{"$error":"#VALUE!"},{"$error":"#VALUE!"},{"$error":"#VALUE!"},{"$error":"#VALUE!"},{"$error":"#VALUE!"},{"$error":"#VALUE!"},{"$error":"#VALUE!"},{"$error":"#VALUE!"},{"$error":"#VALUE!"},{"$f":"IF(SUM(BR$1262:BR2572)>0,0,IF(MAX(BK2573:BK$2702)=MAX(BK$1262:BK$2702),0,IF(BI2573>0.03*BC$2703,0,$C2573/60)))","v":{"$error":"#VALUE!"}},{"$f":"IF(SUM(BS$1262:BS2572)>0,0,IF(MAX(BK2573:BK$2702)=MAX(BK$1262:BK$2702),0,IF(BI2573>0.01*BC$2703,0,$C2573/60)))","v":{"$error":"#VALUE!"}},0,0,0,0,{"$error":"#VALUE!"},{"$error":"#VALUE!"},{"$error":"#VALUE!"},{"$error":"#VALUE!"},{"$error":"#VALUE!"},{"$error":"#VALUE!"},{"$error":"#VALUE!"},{"$error":"#VALUE!"},{"$error":"#VALUE!"},{"$error":"#VALUE!"},{"$error":"#VALUE!"},{"$f":"IF(SUM(CI$1262:CI2572)>0,0,IF(MAX(CB2573:CB$2702)=MAX(CB$1262:CB$2702),0,IF(BZ2573>0.03*BT$2703,0,$C2573/60)))","v":{"$error":"#VALUE!"}},{"$f":"IF(SUM(CJ$1262:CJ2572)>0,0,IF(MAX(CB2573:CB$2702)=MAX(CB$1262:CB$2702),0,IF(BZ2573>0.01*BT$2703,0,$C2573/60)))","v":{"$error":"#VALUE!"}},0,0,0,0,{"$error":"#VALUE!"},{"$error":"#VALUE!"},{"$error":"#VALUE!"},{"$error":"#VALUE!"},{"$error":"#VALUE!"},{"$error":"#VALUE!"},{"$error":"#VALUE!"},{"$error":"#VALUE!"},{"$error":"#VALUE!"},{"$error":"#VALUE!"},{"$error":"#VALUE!"},{"$f":"IF(SUM(CZ$1262:CZ2572)>0,0,IF(MAX(CS2573:CS$2702)=MAX(CS$1262:CS$2702),0,IF(CQ2573>0.03*CK$2703,0,$C2573/60)))","v":{"$error":"#VALUE!"}},{"$f":"IF(SUM(DA$1262:DA2572)>0,0,IF(MAX(CS2573:CS$2702)=MAX(CS$1262:CS$2702),0,IF(CQ2573>0.01*CK$2703,0,$C2573/60)))","v":{"$error":"#VALUE!"}}]
[null,109.5,6570,0,0,0,0,0,0,0,0,0,{"$error":"#N/A"},{"$error":"#N/A"},{"$error":"#N/A"},{"$error":"#N/A"},{"$error":"#N/A"},{"$error":"#N/A"},{"$f":"IF(SUM(S$1262:S2575)>0,0,\nIF(MAX(L2576:L$2702)=MAX(L$1262:L$2702),0,\nIF(Hydrograph_Source_WQCV=\"USER\",IF(J2576>0.03*D$2703,0,$C2576/60),\nIF(J2576>0.03*J$2703,0,$C2576/60))))","v":0},{"$f":"IF(SUM(T$1262:T2575)>0,0,\nIF(MAX(L2576:L$2702)=MAX(L$1262:L$2702),0,\nIF(Hydrograph_Source_WQCV=\"USER\",IF(J2576>0.01*D$2703,0,$C2576/60),\nIF(J2576>0.01*J$2703,0,$C2576/60))))","v":0},0,0,0,0,{"$error":"#VALUE!"},{"$error":"#VALUE!"},{"$error":"#VALUE!"},{"$error":"#VALUE!"},{"$error":"#VALUE!"},{"$error":"#VALUE!"},{"$error":"#VALUE!"},{"$error":"#VALUE!"},{"$error":"#VALUE!"},{"$error":"#VALUE!"},{"$error":"#VALUE!"},{"$f":"IF(SUM(AJ$1262:AJ2575)>0,0,IF(MAX(AC2576:AC$2702)=MAX(AC$1262:AC$2702),0,IF(AA2576>0.03*U$2703,0,$C2576/60)))","v":{"$error":"#VALUE!"}},{"$f":"IF(SUM(AK$1262:AK2575)>0,0,IF(MAX(AC2576:AC$2702)=MAX(AC$1262:AC$2702),0,IF(AA2576>0.01*U$2703,0,$C2576/60)))","v":{"$error":"#VALUE!"}},0,0,0,0,{"$error":"#VALUE!"},{"$error":"#VALUE!"},{"$error":"#VALUE!"},{"$error":"#VALUE!"},{"$error":"#VALUE!"},{"$error":"#VALUE!"},{"$error":"#VALUE!"},{"$error":"#VALUE!"},{"$error":"#VALUE!"},{"$error":"#VALUE!"},{"$error":"#VALUE!"},{"$f":"IF(SUM(BA$1262:BA2575)>0,0,IF(MAX(AT2576:AT$2702)=MAX(AT$1262:AT$2702),0,IF(AR2576>0.03*AL$2703,0,$C2576/60)))","v":{"$error":"#VALUE!"}},{"$f":"IF(SUM(BB$1262:BB2575)>0,0,IF(MAX(AT2576:AT$2702)=MAX(AT$1262:AT$2702),0,IF(AR2576>0.01*AL$2703,0,$C2576/60)))","v":{"$error":"#VALUE!"}},0,0,0,0,{"$error":"#VALUE!"},{"$error":"#VALUE!"},{"$error":"#VALUE!"},{"$error":"#VALUE!"},{"$error":"#VALUE!"},{"$error":"#VALUE!"},{"$error":"#VALUE!"},{"$error":"#VALUE!"},{"$error":"#VALUE!"},{"$error":"#VALUE!"},{"$error":"#VALUE!"},{"$f":"IF(SUM(BR$1262:BR2575)>0,0,IF(MAX(BK2576:BK$2702)=MAX(BK$1262:BK$2702),0,IF(BI2576>0.03*BC$2703,0,$C2576/60)))","v":{"$error":"#VALUE!"}},{"$f":"IF(SUM(BS$1262:BS2575)>0,0,IF(MAX(BK2576:BK$2702)=MAX(BK$1262:BK$2702),0,IF(BI2576>0.01*BC$2703,0,$C2576/60)))","v":{"$error":"#VALUE!"}},0,0,0,0,{"$error":"#VALUE!"},{"$error":"#VALUE!"},{"$error":"#VALUE!"},{"$error":"#VALUE!"},{"$error":"#VALUE!"},{"$error":"#VALUE!"},{"$error":"#VALUE!"},{"$error":"#VALUE!"},{"$error":"#VALUE!"},{"$error":"#VALUE!"},{"$error":"#VALUE!"},{"$f":"IF(SUM(CI$1262:CI2575)>0,0,IF(MAX(CB2576:CB$2702)=MAX(CB$1262:CB$2702),0,IF(BZ2576>0.03*BT$2703,0,$C2576/60)))","v":{"$error":"#VALUE!"}},{"$f":"IF(SUM(CJ$1262:CJ2575)>0,0,IF(MAX(CB2576:CB$2702)=MAX(CB$1262:CB$2702),0,IF(BZ2576>0.01*BT$2703,0,$C2576/60)))","v":{"$error":"#VALUE!"}},0,0,0,0,{"$error":"#VALUE!"},{"$error":"#VALUE!"},{"$error":"#VALUE!"},{"$error":"#VALUE!"},{"$error":"#VALUE!"},{"$error":"#VALUE!"},{"$error":"#VALUE!"},{"$error":"#VALUE!"},{"$error":"#VALUE!"},{"$error":"#VALUE!"},{"$error":"#VALUE!"},{"$f":"IF(SUM(CZ$1262:CZ2575)>0,0,IF(MAX(CS2576:CS$2702)=MAX(CS$1262:CS$2702),0,IF(CQ2576>0.03*CK$2703,0,$C2576/60)))","v":{"$error":"#VALUE!"}},{"$f":"IF(SUM(DA$1262:DA2575)>0,0,IF(MAX(CS2576:CS$2702)=MAX(CS$1262:CS$2702),0,IF(CQ2576>0.01*CK$2703,0,$C2576/60)))","v":{"$error":"#VALUE!"}}]
[null,109.91666666666667,6595,0,0,0,0,0,0,0,0,0,{"$error":"#N/A"},{"$error":"#N/A"},{"$error":"#N/A"},{"$error":"#N/A"},{"$error":"#N/A"},{"$error":"#N/A"},{"$f":"IF(SUM(S$1262:S2580)>0,0,\nIF(MAX(L2581:L$2702)=MAX(L$1262:L$2702),0,\nIF(Hydrograph_Source_WQCV=\"USER\",IF(J2581>0.03*D$2703,0,$C2581/60),\nIF(J2581>0.03*J$2703,0,$C2581/60))))","v":0},{"$f":"IF(SUM(T$1262:T2580)>0,0,\nIF(MAX(L2581:L$2702)=MAX(L$1262:L$2702),0,\nIF(Hydrograph_Source_WQCV=\"USER\",IF(J2581>0.01*D$2703,0,$C2581/60),\nIF(J2581>0.01*J$2703,0,$C2581/60))))","v":0},0,0,0,0,{"$error":"#VALUE!"},{"$error":"#VALUE!"},{"$error":"#VALUE!"},{"$error":"#VALUE!"},{"$error":"#VALUE!"},{"$error":"#VALUE!"},{"$error":"#VALUE!"},{"$error":"#VALUE!"},{"$error":"#VALUE!"},{"$error":"#VALUE!"},{"$error":"#VALUE!"},{"$f":"IF(SUM(AJ$1262:AJ2580)>0,0,IF(MAX(AC2581:AC$2702)=MAX(AC$1262:AC$2702),0,IF(AA2581>0.03*U$2703,0,$C2581/60)))","v":{"$error":"#VALUE!"}},{"$f":"IF(SUM(AK$1262:AK2580)>0,0,IF(MAX(AC2581:AC$2702)=MAX(AC$1262:AC$2702),0,IF(AA2581>0.01*U$2703,0,$C2581/60)))","v":{"$error":"#VALUE!"}},0,0,0,0,{"$error":"#VALUE!"},{"$error":"#VALUE!"},{"$error":"#VALUE!"},{"$error":"#VALUE!"},{"$error":"#VALUE!"},{"$error":"#VALUE!"},{"$error":"#VALUE!"},{"$error":"#VALUE!"},{"$error":"#VALUE!"},{"$error":"#VALUE!"},{"$error":"#VALUE!"},{"$f":"IF(SUM(BA$1262:BA2580)>0,0,IF(MAX(AT2581:AT$2702)=MAX(AT$1262:AT$2702),0,IF(AR2581>0.03*AL$2703,0,$C2581/60)))","v":{"$error":"#VALUE!"}},{"$f":"IF(SUM(BB$1262:BB2580)>0,0,IF(MAX(AT2581:AT$2702)=MAX(AT$1262:AT$2702),0,IF(AR2581>0.01*AL$2703,0,$C2581/60)))","v":{"$error":"#VALUE!"}},0,0,0,0,{"$error":"#VALUE!"},{"$error":"#VALUE!"},{"$error":"#VALUE!"},{"$error":"#VALUE!"},{"$error":"#VALUE!"},{"$error":"#VALUE!"},{"$error":"#VALUE!"},{"$error":"#VALUE!"},{"$error":"#VALUE!"},{"$error":"#VALUE!"},{"$error":"#VALUE!"},{"$f":"IF(SUM(BR$1262:BR2580)>0,0,IF(MAX(BK2581:BK$2702)=MAX(BK$1262:BK$2702),0,IF(BI2581>0.03*BC$2703,0,$C2581/60)))","v":{"$error":"#VALUE!"}},{"$f":"IF(SUM(BS$1262:BS2580)>0,0,IF(MAX(BK2581:BK$2702)=MAX(BK$1262:BK$2702),0,IF(BI2581>0.01*BC$2703,0,$C2581/60)))","v":{"$error":"#VALUE!"}},0,0,0,0,{"$error":"#VALUE!"},{"$error":"#VALUE!"},{"$error":"#VALUE!"},{"$error":"#VALUE!"},{"$error":"#VALUE!"},{"$error":"#VALUE!"},{"$error":"#VALUE!"},{"$error":"#VALUE!"},{"$error":"#VALUE!"},{"$error":"#VALUE!"},{"$error":"#VALUE!"},{"$f":"IF(SUM(CI$1262:CI2580)>0,0,IF(MAX(CB2581:CB$2702)=MAX(CB$1262:CB$2702),0,IF(BZ2581>0.03*BT$2703,0,$C2581/60)))","v":{"$error":"#VALUE!"}},{"$f":"IF(SUM(CJ$1262:CJ2580)>0,0,IF(MAX(CB2581:CB$2702)=MAX(CB$1262:CB$2702),0,IF(BZ2581>0.01*BT$2703,0,$C2581/60)))","v":{"$error":"#VALUE!"}},0,0,0,0,{"$error":"#VALUE!"},{"$error":"#VALUE!"},{"$error":"#VALUE!"},{"$error":"#VALUE!"},{"$error":"#VALUE!"},{"$error":"#VALUE!"},{"$error":"#VALUE!"},{"$error":"#VALUE!"},{"$error":"#VALUE!"},{"$error":"#VALUE!"},{"$error":"#VALUE!"},{"$f":"IF(SUM(CZ$1262:CZ2580)>0,0,IF(MAX(CS2581:CS$2702)=MAX(CS$1262:CS$2702),0,IF(CQ2581>0.03*CK$2703,0,$C2581/60)))","v":{"$error":"#VALUE!"}},{"$f":"IF(SUM(DA$1262:DA2580)>0,0,IF(MAX(CS2581:CS$2702)=MAX(CS$1262:CS$2702),0,IF(CQ2581>0.01*CK$2703,0,$C2581/60)))","v":{"$error":"#VALUE!"}}]
[null,110,6600,0,0,0,0,0,0,0,0,0,{"$error":"#N/A"},{"$error":"#N/A"},{"$error":"#N/A"},{"$error":"#N/A"},{"$error":"#N/A"},{"$error":"#N/A"},{"$f":"IF(SUM(S$1262:S2581)>0,0,\nIF(MAX(L2582:L$2702)=MAX(L$1262:L$2702),0,\nIF(Hydrograph_Source_WQCV=\"USER\",IF(J2582>0.03*D$2703,0,$C2582/60),\nIF(J2582>0.03*J$2703,0,$C2582/60))))","v":0},{"$f":"IF(SUM(T$1262:T2581)>0,0,\nIF(MAX(L2582:L$2702)=MAX(L$1262:L$2702),0,\nIF(Hydrograph_Source_WQCV=\"USER\",IF(J2582>0.01*D$2703,0,$C2582/60),\nIF(J2582>0.01*J$2703,0,$C2582/60))))","v":0},0,0,0,0,{"$error":"#VALUE!"},{"$error":"#VALUE!"},{"$error":"#VALUE!"},{"$error":"#VALUE!"},{"$error":"#VALUE!"},{"$error":"#VALUE!"},{"$error":"#VALUE!"},{"$error":"#VALUE!"},{"$error":"#VALUE!"},{"$error":"#VALUE!"},{"$error":"#VALUE!"},{"$f":"IF(SUM(AJ$1262:AJ2581)>0,0,IF(MAX(AC2582:AC$2702)=MAX(AC$1262:AC$2702),0,IF(AA2582>0.03*U$2703,0,$C2582/60)))","v":{"$error":"#VALUE!"}},{"$f":"IF(SUM(AK$1262:AK2581)>0,0,IF(MAX(AC2582:AC$2702)=MAX(AC$1262:AC$2702),0,IF(AA2582>0.01*U$2703,0,$C2582/60)))","v":{"$error":"#VALUE!"}},0,0,0,0,{"$error":"#VALUE!"},{"$error":"#VALUE!"},{"$error":"#VALUE!"},{"$error":"#VALUE!"},{"$error":"#VALUE!"},{"$error":"#VALUE!"},{"$error":"#VALUE!"},{"$error":"#VALUE!"},{"$error":"#VALUE!"},{"$error":"#VALUE!"},{"$error":"#VALUE!"},{"$f":"IF(SUM(BA$1262:BA2581)>0,0,IF(MAX(AT2582:AT$2702)=MAX(AT$1262:AT$2702),0,IF(AR2582>0.03*AL$2703,0,$C2582/60)))","v":{"$error":"#VALUE!"}},{"$f":"IF(SUM(BB$1262:BB2581)>0,0,IF(MAX(AT2582:AT$2702)=MAX(AT$1262:AT$2702),0,IF(AR2582>0.01*AL$2703,0,$C2582/60)))","v":{"$error":"#VALUE!"}},0,0,0,0,{"$error":"#VALUE!"},{"$error":"#VALUE!"},{"$error":"#VALUE!"},{"$error":"#VALUE!"},{"$error":"#VALUE!"},{"$error":"#VALUE!"},{"$error":"#VALUE!"},{"$error":"#VALUE!"},{"$error":"#VALUE!"},{"$error":"#VALUE!"},{"$error":"#VALUE!"},{"$f":"IF(SUM(BR$1262:BR2581)>0,0,IF(MAX(BK2582:BK$2702)=MAX(BK$1262:BK$2702),0,IF(BI2582>0.03*BC$2703,0,$C2582/60)))","v":{"$error":"#VALUE!"}},{"$f":"IF(SUM(BS$1262:BS2581)>0,0,IF(MAX(BK2582:BK$2702)=MAX(BK$1262:BK$2702),0,IF(BI2582>0.01*BC$2703,0,$C2582/60)))","v":{"$error":"#VALUE!"}},0,0,0,0,{"$error":"#VALUE!"},{"$error":"#VALUE!"},{"$error":"#VALUE!"},{"$error":"#VALUE!"},{"$error":"#VALUE!"},{"$error":"#VALUE!"},{"$error":"#VALUE!"},{"$error":"#VALUE!"},{"$error":"#VALUE!"},{"$error":"#VALUE!"},{"$error":"#VALUE!"},{"$f":"IF(SUM(CI$1262:CI2581)>0,0,IF(MAX(CB2582:CB$2702)=MAX(CB$1262:CB$2702),0,IF(BZ2582>0.03*BT$2703,0,$C2582/60)))","v":{"$error":"#VALUE!"}},{"$f":"IF(SUM(CJ$1262:CJ2581)>0,0,IF(MAX(CB2582:CB$2702)=MAX(CB$1262:CB$2702),0,IF(BZ2582>0.01*BT$2703,0,$C2582/60)))","v":{"$error":"#VALUE!"}},0,0,0,0,{"$error":"#VALUE!"},{"$error":"#VALUE!"},{"$error":"#VALUE!"},{"$error":"#VALUE!"},{"$error":"#VALUE!"},{"$error":"#VALUE!"},{"$error":"#VALUE!"},{"$error":"#VALUE!"},{"$error":"#VALUE!"},{"$error":"#VALUE!"},{"$error":"#VALUE!"},{"$f":"IF(SUM(CZ$1262:CZ2581)>0,0,IF(MAX(CS2582:CS$2702)=MAX(CS$1262:CS$2702),0,IF(CQ2582>0.03*CK$2703,0,$C2582/60)))","v":{"$error":"#VALUE!"}},{"$f":"IF(SUM(DA$1262:DA2581)>0,0,IF(MAX(CS2582:CS$2702)=MAX(CS$1262:CS$2702),0,IF(CQ2582>0.01*CK$2703,0,$C2582/60)))","v":{"$error":"#VALUE!"}}]
[null,110.5,6630,0,0,0,0,0,0,0,0,0,{"$error":"#N/A"},{"$error":"#N/A"},{"$error":"#N/A"},{"$error":"#N/A"},{"$error":"#N/A"},{"$error":"#N/A"},{"$f":"IF(SUM(S$1262:S2587)>0,0,\nIF(MAX(L2588:L$2702)=MAX(L$1262:L$2702),0,\nIF(Hydrograph_Source_WQCV=\"USER\",IF(J2588>0.03*D$2703,0,$C2588/60),\nIF(J2588>0.03*J$2703,0,$C2588/60))))","v":0},{"$f":"IF(SUM(T$1262:T2587)>0,0,\nIF(MAX(L2588:L$2702)=MAX(L$1262:L$2702),0,\nIF(Hydrograph_Source_WQCV=\"USER\",IF(J2588>0.01*D$2703,0,$C2588/60),\nIF(J2588>0.01*J$2703,0,$C2588/60))))","v":0},0,0,0,0,{"$error":"#VALUE!"},{"$error":"#VALUE!"},{"$error":"#VALUE!"},{"$error":"#VALUE!"},{"$error":"#VALUE!"},{"$error":"#VALUE!"},{"$error":"#VALUE!"},{"$error":"#VALUE!"},{"$error":"#VALUE!"},{"$error":"#VALUE!"},{"$error":"#VALUE!"},{"$f":"IF(SUM(AJ$1262:AJ2587)>0,0,IF(MAX(AC2588:AC$2702)=MAX(AC$1262:AC$2702),0,IF(AA2588>0.03*U$2703,0,$C2588/60)))","v":{"$error":"#VALUE!"}},{"$f":"IF(SUM(AK$1262:AK2587)>0,0,IF(MAX(AC2588:AC$2702)=MAX(AC$1262:AC$2702),0,IF(AA2588>0.01*U$2703,0,$C2588/60)))","v":{"$error":"#VALUE!"}},0,0,0,0,{"$error":"#VALUE!"},{"$error":"#VALUE!"},{"$error":"#VALUE!"},{"$error":"#VALUE!"},{"$error":"#VALUE!"},{"$error":"#VALUE!"},{"$error":"#VALUE!"},{"$error":"#VALUE!"},{"$error":"#VALUE!"},{"$error":"#VALUE!"},{"$error":"#VALUE!"},{"$f":"IF(SUM(BA$1262:BA2587)>0,0,IF(MAX(AT2588:AT$2702)=MAX(AT$1262:AT$2702),0,IF(AR2588>0.03*AL$2703,0,$C2588/60)))","v":{"$error":"#VALUE!"}},{"$f":"IF(SUM(BB$1262:BB2587)>0,0,IF(MAX(AT2588:AT$2702)=MAX(AT$1262:AT$2702),0,IF(AR2588>0.01*AL$2703,0,$C2588/60)))","v":{"$error":"#VALUE!"}},0,0,0,0,{"$error":"#VALUE!"},{"$error":"#VALUE!"},{"$error":"#VALUE!"},{"$error":"#VALUE!"},{"$error":"#VALUE!"},{"$error":"#VALUE!"},{"$error":"#VALUE!"},{"$error":"#VALUE!"},{"$error":"#VALUE!"},{"$error":"#VALUE!"},{"$error":"#VALUE!"},{"$f":"IF(SUM(BR$1262:BR2587)>0,0,IF(MAX(BK2588:BK$2702)=MAX(BK$1262:BK$2702),0,IF(BI2588>0.03*BC$2703,0,$C2588/60)))","v":{"$error":"#VALUE!"}},{"$f":"IF(SUM(BS$1262:BS2587)>0,0,IF(MAX(BK2588:BK$2702)=MAX(BK$1262:BK$2702),0,IF(BI2588>0.01*BC$2703,0,$C2588/60)))","v":{"$error":"#VALUE!"}},0,0,0,0,{"$error":"#VALUE!"},{"$error":"#VALUE!"},{"$error":"#VALUE!"},{"$error":"#VALUE!"},{"$error":"#VALUE!"},{"$error":"#VALUE!"},{"$error":"#VALUE!"},{"$error":"#VALUE!"},{"$error":"#VALUE!"},{"$error":"#VALUE!"},{"$error":"#VALUE!"},{"$f":"IF(SUM(CI$1262:CI2587)>0,0,IF(MAX(CB2588:CB$2702)=MAX(CB$1262:CB$2702),0,IF(BZ2588>0.03*BT$2703,0,$C2588/60)))","v":{"$error":"#VALUE!"}},{"$f":"IF(SUM(CJ$1262:CJ2587)>0,0,IF(MAX(CB2588:CB$2702)=MAX(CB$1262:CB$2702),0,IF(BZ2588>0.01*BT$2703,0,$C2588/60)))","v":{"$error":"#VALUE!"}},0,0,0,0,{"$error":"#VALUE!"},{"$error":"#VALUE!"},{"$error":"#VALUE!"},{"$error":"#VALUE!"},{"$error":"#VALUE!"},{"$error":"#VALUE!"},{"$error":"#VALUE!"},{"$error":"#VALUE!"},{"$error":"#VALUE!"},{"$error":"#VALUE!"},{"$error":"#VALUE!"},{"$f":"IF(SUM(CZ$1262:CZ2587)>0,0,IF(MAX(CS2588:CS$2702)=MAX(CS$1262:CS$2702),0,IF(CQ2588>0.03*CK$2703,0,$C2588/60)))","v":{"$error":"#VALUE!"}},{"$f":"IF(SUM(DA$1262:DA2587)>0,0,IF(MAX(CS2588:CS$2702)=MAX(CS$1262:CS$2702),0,IF(CQ2588>0.01*CK$2703,0,$C2588/60)))","v":{"$error":"#VALUE!"}}]
[null,110.91666666666667,6655,0,0,0,0,0,0,0,0,0,{"$error":"#N/A"},{"$error":"#N/A"},{"$error":"#N/A"},{"$error":"#N/A"},{"$error":"#N/A"},{"$error":"#N/A"},{"$f":"IF(SUM(S$1262:S2592)>0,0,\nIF(MAX(L2593:L$2702)=MAX(L$1262:L$2702),0,\nIF(Hydrograph_Source_WQCV=\"USER\",IF(J2593>0.03*D$2703,0,$C2593/60),\nIF(J2593>0.03*J$2703,0,$C2593/60))))","v":0},{"$f":"IF(SUM(T$1262:T2592)>0,0,\nIF(MAX(L2593:L$2702)=MAX(L$1262:L$2702),0,\nIF(Hydrograph_Source_WQCV=\"USER\",IF(J2593>0.01*D$2703,0,$C2593/60),\nIF(J2593>0.01*J$2703,0,$C2593/60))))","v":0},0,0,0,0,{"$error":"#VALUE!"},{"$error":"#VALUE!"},{"$error":"#VALUE!"},{"$error":"#VALUE!"},{"$error":"#VALUE!"},{"$error":"#VALUE!"},{"$error":"#VALUE!"},{"$error":"#VALUE!"},{"$error":"#VALUE!"},{"$error":"#VALUE!"},{"$error":"#VALUE!"},{"$f":"IF(SUM(AJ$1262:AJ2592)>0,0,IF(MAX(AC2593:AC$2702)=MAX(AC$1262:AC$2702),0,IF(AA2593>0.03*U$2703,0,$C2593/60)))","v":{"$error":"#VALUE!"}},{"$f":"IF(SUM(AK$1262:AK2592)>0,0,IF(MAX(AC2593:AC$2702)=MAX(AC$1262:AC$2702),0,IF(AA2593>0.01*U$2703,0,$C2593/60)))","v":{"$error":"#VALUE!"}},0,0,0,0,{"$error":"#VALUE!"},{"$error":"#VALUE!"},{"$error":"#VALUE!"},{"$error":"#VALUE!"},{"$error":"#VALUE!"},{"$error":"#VALUE!"},{"$error":"#VALUE!"},{"$error":"#VALUE!"},{"$error":"#VALUE!"},{"$error":"#VALUE!"},{"$error":"#VALUE!"},{"$f":"IF(SUM(BA$1262:BA2592)>0,0,IF(MAX(AT2593:AT$2702)=MAX(AT$1262:AT$2702),0,IF(AR2593>0.03*AL$2703,0,$C2593/60)))","v":{"$error":"#VALUE!"}},{"$f":"IF(SUM(BB$1262:BB2592)>0,0,IF(MAX(AT2593:AT$2702)=MAX(AT$1262:AT$2702),0,IF(AR2593>0.01*AL$2703,0,$C2593/60)))","v":{"$error":"#VALUE!"}},0,0,0,0,{"$error":"#VALUE!"},{"$error":"#VALUE!"},{"$error":"#VALUE!"},{"$error":"#VALUE!"},{"$error":"#VALUE!"},{"$error":"#VALUE!"},{"$error":"#VALUE!"},{"$error":"#VALUE!"},{"$error":"#VALUE!"},{"$error":"#VALUE!"},{"$error":"#VALUE!"},{"$f":"IF(SUM(BR$1262:BR2592)>0,0,IF(MAX(BK2593:BK$2702)=MAX(BK$1262:BK$2702),0,IF(BI2593>0.03*BC$2703,0,$C2593/60)))","v":{"$error":"#VALUE!"}},{"$f":"IF(SUM(BS$1262:BS2592)>0,0,IF(MAX(BK2593:BK$2702)=MAX(BK$1262:BK$2702),0,IF(BI2593>0.01*BC$2703,0,$C2593/60)))","v":{"$error":"#VALUE!"}},0,0,0,0,{"$error":"#VALUE!"},{"$error":"#VALUE!"},{"$error":"#VALUE!"},{"$error":"#VALUE!"},{"$error":"#VALUE!"},{"$error":"#VALUE!"},{"$error":"#VALUE!"},{"$error":"#VALUE!"},{"$error":"#VALUE!"},{"$error":"#VALUE!"},{"$error":"#VALUE!"},{"$f":"IF(SUM(CI$1262:CI2592)>0,0,IF(MAX(CB2593:CB$2702)=MAX(CB$1262:CB$2702),0,IF(BZ2593>0.03*BT$2703,0,$C2593/60)))","v":{"$error":"#VALUE!"}},{"$f":"IF(SUM(CJ$1262:CJ2592)>0,0,IF(MAX(CB2593:CB$2702)=MAX(CB$1262:CB$2702),0,IF(BZ2593>0.01*BT$2703,0,$C2593/60)))","v":{"$error":"#VALUE!"}},0,0,0,0,{"$error":"#VALUE!"},{"$error":"#VALUE!"},{"$error":"#VALUE!"},{"$error":"#VALUE!"},{"$error":"#VALUE!"},{"$error":"#VALUE!"},{"$error":"#VALUE!"},{"$error":"#VALUE!"},{"$error":"#VALUE!"},{"$error":"#VALUE!"},{"$error":"#VALUE!"},{"$f":"IF(SUM(CZ$1262:CZ2592)>0,0,IF(MAX(CS2593:CS$2702)=MAX(CS$1262:CS$2702),0,IF(CQ2593>0.03*CK$2703,0,$C2593/60)))","v":{"$error":"#VALUE!"}},{"$f":"IF(SUM(DA$1262:DA2592)>0,0,IF(MAX(CS2593:CS$2702)=MAX(CS$1262:CS$2702),0,IF(CQ2593>0.01*CK$2703,0,$C2593/60)))","v":{"$error":"#VALUE!"}}]
[null,111.33333333333333,6680,0,0,0,0,0,0,0,0,0,{"$error":"#N/A"},{"$error":"#N/A"},{"$error":"#N/A"},{"$error":"#N/A"},{"$error":"#N/A"},{"$error":"#N/A"},{"$f":"IF(SUM(S$1262:S2597)>0,0,\nIF(MAX(L2598:L$2702)=MAX(L$1262:L$2702),0,\nIF(Hydrograph_Source_WQCV=\"USER\",IF(J2598>0.03*D$2703,0,$C2598/60),\nIF(J2598>0.03*J$2703,0,$C2598/60))))","v":0},{"$f":"IF(SUM(T$1262:T2597)>0,0,\nIF(MAX(L2598:L$2702)=MAX(L$1262:L$2702),0,\nIF(Hydrograph_Source_WQCV=\"USER\",IF(J2598>0.01*D$2703,0,$C2598/60),\nIF(J2598>0.01*J$2703,0,$C2598/60))))","v":0},0,0,0,0,{"$error":"#VALUE!"},{"$error":"#VALUE!"},{"$error":"#VALUE!"},{"$error":"#VALUE!"},{"$error":"#VALUE!"},{"$error":"#VALUE!"},{"$error":"#VALUE!"},{"$error":"#VALUE!"},{"$error":"#VALUE!"},{"$error":"#VALUE!"},{"$error":"#VALUE!"},{"$f":"IF(SUM(AJ$1262:AJ2597)>0,0,IF(MAX(AC2598:AC$2702)=MAX(AC$1262:AC$2702),0,IF(AA2598>0.03*U$2703,0,$C2598/60)))","v":{"$error":"#VALUE!"}},{"$f":"IF(SUM(AK$1262:AK2597)>0,0,IF(MAX(AC2598:AC$2702)=MAX(AC$1262:AC$2702),0,IF(AA2598>0.01*U$2703,0,$C2598/60)))","v":{"$error":"#VALUE!"}},0,0,0,0,{"$error":"#VALUE!"},{"$error":"#VALUE!"},{"$error":"#VALUE!"},{"$error":"#VALUE!"},{"$error":"#VALUE!"},{"$error":"#VALUE!"},{"$error":"#VALUE!"},{"$error":"#VALUE!"},{"$error":"#VALUE!"},{"$error":"#VALUE!"},{"$error":"#VALUE!"},{"$f":"IF(SUM(BA$1262:BA2597)>0,0,IF(MAX(AT2598:AT$2702)=MAX(AT$1262:AT$2702),0,IF(AR2598>0.03*AL$2703,0,$C2598/60)))","v":{"$error":"#VALUE!"}},{"$f":"IF(SUM(BB$1262:BB2597)>0,0,IF(MAX(AT2598:AT$2702)=MAX(AT$1262:AT$2702),0,IF(AR2598>0.01*AL$2703,0,$C2598/60)))","v":{"$error":"#VALUE!"}},0,0,0,0,{"$error":"#VALUE!"},{"$error":"#VALUE!"},{"$error":"#VALUE!"},{"$error":"#VALUE!"},{"$error":"#VALUE!"},{"$error":"#VALUE!"},{"$error":"#VALUE!"},{"$error":"#VALUE!"},{"$error":"#VALUE!"},{"$error":"#VALUE!"},{"$error":"#VALUE!"},{"$f":"IF(SUM(BR$1262:BR2597)>0,0,IF(MAX(BK2598:BK$2702)=MAX(BK$1262:BK$2702),0,IF(BI2598>0.03*BC$2703,0,$C2598/60)))","v":{"$error":"#VALUE!"}},{"$f":"IF(SUM(BS$1262:BS2597)>0,0,IF(MAX(BK2598:BK$2702)=MAX(BK$1262:BK$2702),0,IF(BI2598>0.01*BC$2703,0,$C2598/60)))","v":{"$error":"#VALUE!"}},0,0,0,0,{"$error":"#VALUE!"},{"$error":"#VALUE!"},{"$error":"#VALUE!"},{"$error":"#VALUE!"},{"$error":"#VALUE!"},{"$error":"#VALUE!"},{"$error":"#VALUE!"},{"$error":"#VALUE!"},{"$error":"#VALUE!"},{"$error":"#VALUE!"},{"$error":"#VALUE!"},{"$f":"IF(SUM(CI$1262:CI2597)>0,0,IF(MAX(CB2598:CB$2702)=MAX(CB$1262:CB$2702),0,IF(BZ2598>0.03*BT$2703,0,$C2598/60)))","v":{"$error":"#VALUE!"}},{"$f":"IF(SUM(CJ$1262:CJ2597)>0,0,IF(MAX(CB2598:CB$2702)=MAX(CB$1262:CB$2702),0,IF(BZ2598>0.01*BT$2703,0,$C2598/60)))","v":{"$error":"#VALUE!"}},0,0,0,0,{"$error":"#VALUE!"},{"$error":"#VALUE!"},{"$error":"#VALUE!"},{"$error":"#VALUE!"},{"$error":"#VALUE!"},{"$error":"#VALUE!"},{"$error":"#VALUE!"},{"$error":"#VALUE!"},{"$error":"#VALUE!"},{"$error":"#VALUE!"},{"$error":"#VALUE!"},{"$f":"IF(SUM(CZ$1262:CZ2597)>0,0,IF(MAX(CS2598:CS$2702)=MAX(CS$1262:CS$2702),0,IF(CQ2598>0.03*CK$2703,0,$C2598/60)))","v":{"$error":"#VALUE!"}},{"$f":"IF(SUM(DA$1262:DA2597)>0,0,IF(MAX(CS2598:CS$2702)=MAX(CS$1262:CS$2702),0,IF(CQ2598>0.01*CK$2703,0,$C2598/60)))","v":{"$error":"#VALUE!"}}]
[null,111.58333333333333,6695,0,0,0,0,0,0,0,0,0,{"$error":"#N/A"},{"$error":"#N/A"},{"$error":"#N/A"},{"$error":"#N/A"},{"$error":"#N/A"},{"$error":"#N/A"},{"$f":"IF(SUM(S$1262:S2600)>0,0,\nIF(MAX(L2601:L$2702)=MAX(L$1262:L$2702),0,\nIF(Hydrograph_Source_WQCV=\"USER\",IF(J2601>0.03*D$2703,0,$C2601/60),\nIF(J2601>0.03*J$2703,0,$C2601/60))))","v":0},{"$f":"IF(SUM(T$1262:T2600)>0,0,\nIF(MAX(L2601:L$2702)=MAX(L$1262:L$2702),0,\nIF(Hydrograph_Source_WQCV=\"USER\",IF(J2601>0.01*D$2703,0,$C2601/60),\nIF(J2601>0.01*J$2703,0,$C2601/60))))","v":0},0,0,0,0,{"$error":"#VALUE!"},{"$error":"#VALUE!"},{"$error":"#VALUE!"},{"$error":"#VALUE!"},{"$error":"#VALUE!"},{"$error":"#VALUE!"},{"$error":"#VALUE!"},{"$error":"#VALUE!"},{"$error":"#VALUE!"},{"$error":"#VALUE!"},{"$error":"#VALUE!"},{"$f":"IF(SUM(AJ$1262:AJ2600)>0,0,IF(MAX(AC2601:AC$2702)=MAX(AC$1262:AC$2702),0,IF(AA2601>0.03*U$2703,0,$C2601/60)))","v":{"$error":"#VALUE!"}},{"$f":"IF(SUM(AK$1262:AK2600)>0,0,IF(MAX(AC2601:AC$2702)=MAX(AC$1262:AC$2702),0,IF(AA2601>0.01*U$2703,0,$C2601/60)))","v":{"$error":"#VALUE!"}},0,0,0,0,{"$error":"#VALUE!"},{"$error":"#VALUE!"},{"$error":"#VALUE!"},{"$error":"#VALUE!"},{"$error":"#VALUE!"},{"$error":"#VALUE!"},{"$error":"#VALUE!"},{"$error":"#VALUE!"},{"$error":"#VALUE!"},{"$error":"#VALUE!"},{"$error":"#VALUE!"},{"$f":"IF(SUM(BA$1262:BA2600)>0,0,IF(MAX(AT2601:AT$2702)=MAX(AT$1262:AT$2702),0,IF(AR2601>0.03*AL$2703,0,$C2601/60)))","v":{"$error":"#VALUE!"}},{"$f":"IF(SUM(BB$1262:BB2600)>0,0,IF(MAX(AT2601:AT$2702)=MAX(AT$1262:AT$2702),0,IF(AR2601>0.01*AL$2703,0,$C2601/60)))","v":{"$error":"#VALUE!"}},0,0,0,0,{"$error":"#VALUE!"},{"$error":"#VALUE!"},{"$error":"#VALUE!"},{"$error":"#VALUE!"},{"$error":"#VALUE!"},{"$error":"#VALUE!"},{"$error":"#VALUE!"},{"$error":"#VALUE!"},{"$error":"#VALUE!"},{"$error":"#VALUE!"},{"$error":"#VALUE!"},{"$f":"IF(SUM(BR$1262:BR2600)>0,0,IF(MAX(BK2601:BK$2702)=MAX(BK$1262:BK$2702),0,IF(BI2601>0.03*BC$2703,0,$C2601/60)))","v":{"$error":"#VALUE!"}},{"$f":"IF(SUM(BS$1262:BS2600)>0,0,IF(MAX(BK2601:BK$2702)=MAX(BK$1262:BK$2702),0,IF(BI2601>0.01*BC$2703,0,$C2601/60)))","v":{"$error":"#VALUE!"}},0,0,0,0,{"$error":"#VALUE!"},{"$error":"#VALUE!"},{"$error":"#VALUE!"},{"$error":"#VALUE!"},{"$error":"#VALUE!"},{"$error":"#VALUE!"},{"$error":"#VALUE!"},{"$error":"#VALUE!"},{"$error":"#VALUE!"},{"$error":"#VALUE!"},{"$error":"#VALUE!"},{"$f":"IF(SUM(CI$1262:CI2600)>0,0,IF(MAX(CB2601:CB$2702)=MAX(CB$1262:CB$2702),0,IF(BZ2601>0.03*BT$2703,0,$C2601/60)))","v":{"$error":"#VALUE!"}},{"$f":"IF(SUM(CJ$1262:CJ2600)>0,0,IF(MAX(CB2601:CB$2702)=MAX(CB$1262:CB$2702),0,IF(BZ2601>0.01*BT$2703,0,$C2601/60)))","v":{"$error":"#VALUE!"}},0,0,0,0,{"$error":"#VALUE!"},{"$error":"#VALUE!"},{"$error":"#VALUE!"},{"$error":"#VALUE!"},{"$error":"#VALUE!"},{"$error":"#VALUE!"},{"$error":"#VALUE!"},{"$error":"#VALUE!"},{"$error":"#VALUE!"},{"$error":"#VALUE!"},{"$error":"#VALUE!"},{"$f":"IF(SUM(CZ$1262:CZ2600)>0,0,IF(MAX(CS2601:CS$2702)=MAX(CS$1262:CS$2702),0,IF(CQ2601>0.03*CK$2703,0,$C2601/60)))","v":{"$error":"#VALUE!"}},{"$f":"IF(SUM(DA$1262:DA2600)>0,0,IF(MAX(CS2601:CS$2702)=MAX(CS$1262:CS$2702),0,IF(CQ2601>0.01*CK$2703,0,$C2601/60)))","v":{"$error":"#VALUE!"}}]
[null,111.91666666666667,6715,0,0,0,0,0,0,0,0,0,{"$error":"#N/A"},{"$error":"#N/A"},{"$error":"#N/A"},{"$error":"#N/A"},{"$error":"#N/A"},{"$error":"#N/A"},{"$f":"IF(SUM(S$1262:S2604)>0,0,\nIF(MAX(L2605:L$2702)=MAX(L$1262:L$2702),0,\nIF(Hydrograph_Source_WQCV=\"USER\",IF(J2605>0.03*D$2703,0,$C2605/60),\nIF(J2605>0.03*J$2703,0,$C2605/60))))","v":0},{"$f":"IF(SUM(T$1262:T2604)>0,0,\nIF(MAX(L2605:L$2702)=MAX(L$1262:L$2702),0,\nIF(Hydrograph_Source_WQCV=\"USER\",IF(J2605>0.01*D$2703,0,$C2605/60),\nIF(J2605>0.01*J$2703,0,$C2605/60))))","v":0},0,0,0,0,{"$error":"#VALUE!"},{"$error":"#VALUE!"},{"$error":"#VALUE!"},{"$error":"#VALUE!"},{"$error":"#VALUE!"},{"$error":"#VALUE!"},{"$error":"#VALUE!"},{"$error":"#VALUE!"},{"$error":"#VALUE!"},{"$error":"#VALUE!"},{"$error":"#VALUE!"},{"$f":"IF(SUM(AJ$1262:AJ2604)>0,0,IF(MAX(AC2605:AC$2702)=MAX(AC$1262:AC$2702),0,IF(AA2605>0.03*U$2703,0,$C2605/60)))","v":{"$error":"#VALUE!"}},{"$f":"IF(SUM(AK$1262:AK2604)>0,0,IF(MAX(AC2605:AC$2702)=MAX(AC$1262:AC$2702),0,IF(AA2605>0.01*U$2703,0,$C2605/60)))","v":{"$error":"#VALUE!"}},0,0,0,0,{"$error":"#VALUE!"},{"$error":"#VALUE!"},{"$error":"#VALUE!"},{"$error":"#VALUE!"},{"$error":"#VALUE!"},{"$error":"#VALUE!"},{"$error":"#VALUE!"},{"$error":"#VALUE!"},{"$error":"#VALUE!"},{"$error":"#VALUE!"},{"$error":"#VALUE!"},{"$f":"IF(SUM(BA$1262:BA2604)>0,0,IF(MAX(AT2605:AT$2702)=MAX(AT$1262:AT$2702),0,IF(AR2605>0.03*AL$2703,0,$C2605/60)))","v":{"$error":"#VALUE!"}},{"$f":"IF(SUM(BB$1262:BB2604)>0,0,IF(MAX(AT2605:AT$2702)=MAX(AT$1262:AT$2702),0,IF(AR2605>0.01*AL$2703,0,$C2605/60)))","v":{"$error":"#VALUE!"}},0,0,0,0,{"$error":"#VALUE!"},{"$error":"#VALUE!"},{"$error":"#VALUE!"},{"$error":"#VALUE!"},{"$error":"#VALUE!"},{"$error":"#VALUE!"},{"$error":"#VALUE!"},{"$error":"#VALUE!"},{"$error":"#VALUE!"},{"$error":"#VALUE!"},{"$error":"#VALUE!"},{"$f":"IF(SUM(BR$1262:BR2604)>0,0,IF(MAX(BK2605:BK$2702)=MAX(BK$1262:BK$2702),0,IF(BI2605>0.03*BC$2703,0,$C2605/60)))","v":{"$error":"#VALUE!"}},{"$f":"IF(SUM(BS$1262:BS2604)>0,0,IF(MAX(BK2605:BK$2702)=MAX(BK$1262:BK$2702),0,IF(BI2605>0.01*BC$2703,0,$C2605/60)))","v":{"$error":"#VALUE!"}},0,0,0,0,{"$error":"#VALUE!"},{"$error":"#VALUE!"},{"$error":"#VALUE!"},{"$error":"#VALUE!"},{"$error":"#VALUE!"},{"$error":"#VALUE!"},{"$error":"#VALUE!"},{"$error":"#VALUE!"},{"$error":"#VALUE!"},{"$error":"#VALUE!"},{"$error":"#VALUE!"},{"$f":"IF(SUM(CI$1262:CI2604)>0,0,IF(MAX(CB2605:CB$2702)=MAX(CB$1262:CB$2702),0,IF(BZ2605>0.03*BT$2703,0,$C2605/60)))","v":{"$error":"#VALUE!"}},{"$f":"IF(SUM(CJ$1262:CJ2604)>0,0,IF(MAX(CB2605:CB$2702)=MAX(CB$1262:CB$2702),0,IF(BZ2605>0.01*BT$2703,0,$C2605/60)))","v":{"$error":"#VALUE!"}},0,0,0,0,{"$error":"#VALUE!"},{"$error":"#VALUE!"},{"$error":"#VALUE!"},{"$error":"#VALUE!"},{"$error":"#VALUE!"},{"$error":"#VALUE!"},{"$error":"#VALUE!"},{"$error":"#VALUE!"},{"$error":"#VALUE!"},{"$error":"#VALUE!"},{"$error":"#VALUE!"},{"$f":"IF(SUM(CZ$1262:CZ2604)>0,0,IF(MAX(CS2605:CS$2702)=MAX(CS$1262:CS$2702),0,IF(CQ2605>0.03*CK$2703,0,$C2605/60)))","v":{"$error":"#VALUE!"}},{"$f":"IF(SUM(DA$1262:DA2604)>0,0,IF(MAX(CS2605:CS$2702)=MAX(CS$1262:CS$2702),0,IF(CQ2605>0.01*CK$2703,0,$C2605/60)))","v":{"$error":"#VALUE!"}}]
[null,112.33333333333333,6740,0,0,0,0,0,0,0,0,0,{"$error":"#N/A"},{"$error":"#N/A"},{"$error":"#N/A"},{"$error":"#N/A"},{"$error":"#N/A"},{"$error":"#N/A"},{"$f":"IF(SUM(S$1262:S2609)>0,0,\nIF(MAX(L2610:L$2702)=MAX(L$1262:L$2702),0,\nIF(Hydrograph_Source_WQCV=\"USER\",IF(J2610>0.03*D$2703,0,$C2610/60),\nIF(J2610>0.03*J$2703,0,$C2610/60))))","v":0},{"$f":"IF(SUM(T$1262:T2609)>0,0,\nIF(MAX(L2610:L$2702)=MAX(L$1262:L$2702),0,\nIF(Hydrograph_Source_WQCV=\"USER\",IF(J2610>0.01*D$2703,0,$C2610/60),\nIF(J2610>0.01*J$2703,0,$C2610/60))))","v":0},0,0,0,0,{"$error":"#VALUE!"},{"$error":"#VALUE!"},{"$error":"#VALUE!"},{"$error":"#VALUE!"},{"$error":"#VALUE!"},{"$error":"#VALUE!"},{"$error":"#VALUE!"},{"$error":"#VALUE!"},{"$error":"#VALUE!"},{"$error":"#VALUE!"},{"$error":"#VALUE!"},{"$f":"IF(SUM(AJ$1262:AJ2609)>0,0,IF(MAX(AC2610:AC$2702)=MAX(AC$1262:AC$2702),0,IF(AA2610>0.03*U$2703,0,$C2610/60)))","v":{"$error":"#VALUE!"}},{"$f":"IF(SUM(AK$1262:AK2609)>0,0,IF(MAX(AC2610:AC$2702)=MAX(AC$1262:AC$2702),0,IF(AA2610>0.01*U$2703,0,$C2610/60)))","v":{"$error":"#VALUE!"}},0,0,0,0,{"$error":"#VALUE!"},{"$error":"#VALUE!"},{"$error":"#VALUE!"},{"$error":"#VALUE!"},{"$error":"#VALUE!"},{"$error":"#VALUE!"},{"$error":"#VALUE!"},{"$error":"#VALUE!"},{"$error":"#VALUE!"},{"$error":"#VALUE!"},{"$error":"#VALUE!"},{"$f":"IF(SUM(BA$1262:BA2609)>0,0,IF(MAX(AT2610:AT$2702)=MAX(AT$1262:AT$2702),0,IF(AR2610>0.03*AL$2703,0,$C2610/60)))","v":{"$error":"#VALUE!"}},{"$f":"IF(SUM(BB$1262:BB2609)>0,0,IF(MAX(AT2610:AT$2702)=MAX(AT$1262:AT$2702),0,IF(AR2610>0.01*AL$2703,0,$C2610/60)))","v":{"$error":"#VALUE!"}},0,0,0,0,{"$error":"#VALUE!"},{"$error":"#VALUE!"},{"$error":"#VALUE!"},{"$error":"#VALUE!"},{"$error":"#VALUE!"},{"$error":"#VALUE!"},{"$error":"#VALUE!"},{"$error":"#VALUE!"},{"$error":"#VALUE!"},{"$error":"#VALUE!"},{"$error":"#VALUE!"},{"$f":"IF(SUM(BR$1262:BR2609)>0,0,IF(MAX(BK2610:BK$2702)=MAX(BK$1262:BK$2702),0,IF(BI2610>0.03*BC$2703,0,$C2610/60)))","v":{"$error":"#VALUE!"}},{"$f":"IF(SUM(BS$1262:BS2609)>0,0,IF(MAX(BK2610:BK$2702)=MAX(BK$1262:BK$2702),0,IF(BI2610>0.01*BC$2703,0,$C2610/60)))","v":{"$error":"#VALUE!"}},0,0,0,0,{"$error":"#VALUE!"},{"$error":"#VALUE!"},{"$error":"#VALUE!"},{"$error":"#VALUE!"},{"$error":"#VALUE!"},{"$error":"#VALUE!"},{"$error":"#VALUE!"},{"$error":"#VALUE!"},{"$error":"#VALUE!"},{"$error":"#VALUE!"},{"$error":"#VALUE!"},{"$f":"IF(SUM(CI$1262:CI2609)>0,0,IF(MAX(CB2610:CB$2702)=MAX(CB$1262:CB$2702),0,IF(BZ2610>0.03*BT$2703,0,$C2610/60)))","v":{"$error":"#VALUE!"}},{"$f":"IF(SUM(CJ$1262:CJ2609)>0,0,IF(MAX(CB2610:CB$2702)=MAX(CB$1262:CB$2702),0,IF(BZ2610>0.01*BT$2703,0,$C2610/60)))","v":{"$error":"#VALUE!"}},0,0,0,0,{"$error":"#VALUE!"},{"$error":"#VALUE!"},{"$error":"#VALUE!"},{"$error":"#VALUE!"},{"$error":"#VALUE!"},{"$error":"#VALUE!"},{"$error":"#VALUE!"},{"$error":"#VALUE!"},{"$error":"#VALUE!"},{"$error":"#VALUE!"},{"$error":"#VALUE!"},{"$f":"IF(SUM(CZ$1262:CZ2609)>0,0,IF(MAX(CS2610:CS$2702)=MAX(CS$1262:CS$2702),0,IF(CQ2610>0.03*CK$2703,0,$C2610/60)))","v":{"$error":"#VALUE!"}},{"$f":"IF(SUM(DA$1262:DA2609)>0,0,IF(MAX(CS2610:CS$2702)=MAX(CS$1262:CS$2702),0,IF(CQ2610>0.01*CK$2703,0,$C2610/60)))","v":{"$error":"#VALUE!"}}]
[null,112.75,6765,0,0,0,0,0,0,0,0,0,{"$error":"#N/A"},{"$error":"#N/A"},{"$error":"#N/A"},{"$error":"#N/A"},{"$error":"#N/A"},{"$error":"#N/A"},{"$f":"IF(SUM(S$1262:S2614)>0,0,\nIF(MAX(L2615:L$2702)=MAX(L$1262:L$2702),0,\nIF(Hydrograph_Source_WQCV=\"USER\",IF(J2615>0.03*D$2703,0,$C2615/60),\nIF(J2615>0.03*J$2703,0,$C2615/60))))","v":0},{"$f":"IF(SUM(T$1262:T2614)>0,0,\nIF(MAX(L2615:L$2702)=MAX(L$1262:L$2702),0,\nIF(Hydrograph_Source_WQCV=\"USER\",IF(J2615>0.01*D$2703,0,$C2615/60),\nIF(J2615>0.01*J$2703,0,$C2615/60))))","v":0},0,0,0,0,{"$error":"#VALUE!"},{"$error":"#VALUE!"},{"$error":"#VALUE!"},{"$error":"#VALUE!"},{"$error":"#VALUE!"},{"$error":"#VALUE!"},{"$error":"#VALUE!"},{"$error":"#VALUE!"},{"$error":"#VALUE!"},{"$error":"#VALUE!"},{"$error":"#VALUE!"},{"$f":"IF(SUM(AJ$1262:AJ2614)>0,0,IF(MAX(AC2615:AC$2702)=MAX(AC$1262:AC$2702),0,IF(AA2615>0.03*U$2703,0,$C2615/60)))","v":{"$error":"#VALUE!"}},{"$f":"IF(SUM(AK$1262:AK2614)>0,0,IF(MAX(AC2615:AC$2702)=MAX(AC$1262:AC$2702),0,IF(AA2615>0.01*U$2703,0,$C2615/60)))","v":{"$error":"#VALUE!"}},0,0,0,0,{"$error":"#VALUE!"},{"$error":"#VALUE!"},{"$error":"#VALUE!"},{"$error":"#VALUE!"},{"$error":"#VALUE!"},{"$error":"#VALUE!"},{"$error":"#VALUE!"},{"$error":"#VALUE!"},{"$error":"#VALUE!"},{"$error":"#VALUE!"},{"$error":"#VALUE!"},{"$f":"IF(SUM(BA$1262:BA2614)>0,0,IF(MAX(AT2615:AT$2702)=MAX(AT$1262:AT$2702),0,IF(AR2615>0.03*AL$2703,0,$C2615/60)))","v":{"$error":"#VALUE!"}},{"$f":"IF(SUM(BB$1262:BB2614)>0,0,IF(MAX(AT2615:AT$2702)=MAX(AT$1262:AT$2702),0,IF(AR2615>0.01*AL$2703,0,$C2615/60)))","v":{"$error":"#VALUE!"}},0,0,0,0,{"$error":"#VALUE!"},{"$error":"#VALUE!"},{"$error":"#VALUE!"},{"$error":"#VALUE!"},{"$error":"#VALUE!"},{"$error":"#VALUE!"},{"$error":"#VALUE!"},{"$error":"#VALUE!"},{"$error":"#VALUE!"},{"$error":"#VALUE!"},{"$error":"#VALUE!"},{"$f":"IF(SUM(BR$1262:BR2614)>0,0,IF(MAX(BK2615:BK$2702)=MAX(BK$1262:BK$2702),0,IF(BI2615>0.03*BC$2703,0,$C2615/60)))","v":{"$error":"#VALUE!"}},{"$f":"IF(SUM(BS$1262:BS2614)>0,0,IF(MAX(BK2615:BK$2702)=MAX(BK$1262:BK$2702),0,IF(BI2615>0.01*BC$2703,0,$C2615/60)))","v":{"$error":"#VALUE!"}},0,0,0,0,{"$error":"#VALUE!"},{"$error":"#VALUE!"},{"$error":"#VALUE!"},{"$error":"#VALUE!"},{"$error":"#VALUE!"},{"$error":"#VALUE!"},{"$error":"#VALUE!"},{"$error":"#VALUE!"},{"$error":"#VALUE!"},{"$error":"#VALUE!"},{"$error":"#VALUE!"},{"$f":"IF(SUM(CI$1262:CI2614)>0,0,IF(MAX(CB2615:CB$2702)=MAX(CB$1262:CB$2702),0,IF(BZ2615>0.03*BT$2703,0,$C2615/60)))","v":{"$error":"#VALUE!"}},{"$f":"IF(SUM(CJ$1262:CJ2614)>0,0,IF(MAX(CB2615:CB$2702)=MAX(CB$1262:CB$2702),0,IF(BZ2615>0.01*BT$2703,0,$C2615/60)))","v":{"$error":"#VALUE!"}},0,0,0,0,{"$error":"#VALUE!"},{"$error":"#VALUE!"},{"$error":"#VALUE!"},{"$error":"#VALUE!"},{"$error":"#VALUE!"},{"$error":"#VALUE!"},{"$error":"#VALUE!"},{"$error":"#VALUE!"},{"$error":"#VALUE!"},{"$error":"#VALUE!"},{"$error":"#VALUE!"},{"$f":"IF(SUM(CZ$1262:CZ2614)>0,0,IF(MAX(CS2615:CS$2702)=MAX(CS$1262:CS$2702),0,IF(CQ2615>0.03*CK$2703,0,$C2615/60)))","v":{"$error":"#VALUE!"}},{"$f":"IF(SUM(DA$1262:DA2614)>0,0,IF(MAX(CS2615:CS$2702)=MAX(CS$1262:CS$2702),0,IF(CQ2615>0.01*CK$2703,0,$C2615/60)))","v":{"$error":"#VALUE!"}}]
[null,112.91666666666667,6775,0,0,0,0,0,0,0,0,0,{"$error":"#N/A"},{"$error":"#N/A"},{"$error":"#N/A"},{"$error":"#N/A"},{"$error":"#N/A"},{"$error":"#N/A"},{"$f":"IF(SUM(S$1262:S2616)>0,0,\nIF(MAX(L2617:L$2702)=MAX(L$1262:L$2702),0,\nIF(Hydrograph_Source_WQCV=\"USER\",IF(J2617>0.03*D$2703,0,$C2617/60),\nIF(J2617>0.03*J$2703,0,$C2617/60))))","v":0},{"$f":"IF(SUM(T$1262:T2616)>0,0,\nIF(MAX(L2617:L$2702)=MAX(L$1262:L$2702),0,\nIF(Hydrograph_Source_WQCV=\"USER\",IF(J2617>0.01*D$2703,0,$C2617/60),\nIF(J2617>0.01*J$2703,0,$C2617/60))))","v":0},0,0,0,0,{"$error":"#VALUE!"},{"$error":"#VALUE!"},{"$error":"#VALUE!"},{"$error":"#VALUE!"},{"$error":"#VALUE!"},{"$error":"#VALUE!"},{"$error":"#VALUE!"},{"$error":"#VALUE!"},{"$error":"#VALUE!"},{"$error":"#VALUE!"},{"$error":"#VALUE!"},{"$f":"IF(SUM(AJ$1262:AJ2616)>0,0,IF(MAX(AC2617:AC$2702)=MAX(AC$1262:AC$2702),0,IF(AA2617>0.03*U$2703,0,$C2617/60)))","v":{"$error":"#VALUE!"}},{"$f":"IF(SUM(AK$1262:AK2616)>0,0,IF(MAX(AC2617:AC$2702)=MAX(AC$1262:AC$2702),0,IF(AA2617>0.01*U$2703,0,$C2617/60)))","v":{"$error":"#VALUE!"}},0,0,0,0,{"$error":"#VALUE!"},{"$error":"#VALUE!"},{"$error":"#VALUE!"},{"$error":"#VALUE!"},{"$error":"#VALUE!"},{"$error":"#VALUE!"},{"$error":"#VALUE!"},{"$error":"#VALUE!"},{"$error":"#VALUE!"},{"$error":"#VALUE!"},{"$error":"#VALUE!"},{"$f":"IF(SUM(BA$1262:BA2616)>0,0,IF(MAX(AT2617:AT$2702)=MAX(AT$1262:AT$2702),0,IF(AR2617>0.03*AL$2703,0,$C2617/60)))","v":{"$error":"#VALUE!"}},{"$f":"IF(SUM(BB$1262:BB2616)>0,0,IF(MAX(AT2617:AT$2702)=MAX(AT$1262:AT$2702),0,IF(AR2617>0.01*AL$2703,0,$C2617/60)))","v":{"$error":"#VALUE!"}},0,0,0,0,{"$error":"#VALUE!"},{"$error":"#VALUE!"},{"$error":"#VALUE!"},{"$error":"#VALUE!"},{"$error":"#VALUE!"},{"$error":"#VALUE!"},{"$error":"#VALUE!"},{"$error":"#VALUE!"},{"$error":"#VALUE!"},{"$error":"#VALUE!"},{"$error":"#VALUE!"},{"$f":"IF(SUM(BR$1262:BR2616)>0,0,IF(MAX(BK2617:BK$2702)=MAX(BK$1262:BK$2702),0,IF(BI2617>0.03*BC$2703,0,$C2617/60)))","v":{"$error":"#VALUE!"}},{"$f":"IF(SUM(BS$1262:BS2616)>0,0,IF(MAX(BK2617:BK$2702)=MAX(BK$1262:BK$2702),0,IF(BI2617>0.01*BC$2703,0,$C2617/60)))","v":{"$error":"#VALUE!"}},0,0,0,0,{"$error":"#VALUE!"},{"$error":"#VALUE!"},{"$error":"#VALUE!"},{"$error":"#VALUE!"},{"$error":"#VALUE!"},{"$error":"#VALUE!"},{"$error":"#VALUE!"},{"$error":"#VALUE!"},{"$error":"#VALUE!"},{"$error":"#VALUE!"},{"$error":"#VALUE!"},{"$f":"IF(SUM(CI$1262:CI2616)>0,0,IF(MAX(CB2617:CB$2702)=MAX(CB$1262:CB$2702),0,IF(BZ2617>0.03*BT$2703,0,$C2617/60)))","v":{"$error":"#VALUE!"}},{"$f":"IF(SUM(CJ$1262:CJ2616)>0,0,IF(MAX(CB2617:CB$2702)=MAX(CB$1262:CB$2702),0,IF(BZ2617>0.01*BT$2703,0,$C2617/60)))","v":{"$error":"#VALUE!"}},0,0,0,0,{"$error":"#VALUE!"},{"$error":"#VALUE!"},{"$error":"#VALUE!"},{"$error":"#VALUE!"},{"$error":"#VALUE!"},{"$error":"#VALUE!"},{"$error":"#VALUE!"},{"$error":"#VALUE!"},{"$error":"#VALUE!"},{"$error":"#VALUE!"},{"$error":"#VALUE!"},{"$f":"IF(SUM(CZ$1262:CZ2616)>0,0,IF(MAX(CS2617:CS$2702)=MAX(CS$1262:CS$2702),0,IF(CQ2617>0.03*CK$2703,0,$C2617/60)))","v":{"$error":"#VALUE!"}},{"$f":"IF(SUM(DA$1262:DA2616)>0,0,IF(MAX(CS2617:CS$2702)=MAX(CS$1262:CS$2702),0,IF(CQ2617>0.01*CK$2703,0,$C2617/60)))","v":{"$error":"#VALUE!"}}]
[null,113.33333333333333,6800,0,0,0,0,0,0,0,0,0,{"$error":"#N/A"},{"$error":"#N/A"},{"$error":"#N/A"},{"$error":"#N/A"},{"$error":"#N/A"},{"$error":"#N/A"},{"$f":"IF(SUM(S$1262:S2621)>0,0,\nIF(MAX(L2622:L$2702)=MAX(L$1262:L$2702),0,\nIF(Hydrograph_Source_WQCV=\"USER\",IF(J2622>0.03*D$2703,0,$C2622/60),\nIF(J2622>0.03*J$2703,0,$C2622/60))))","v":0},{"$f":"IF(SUM(T$1262:T2621)>0,0,\nIF(MAX(L2622:L$2702)=MAX(L$1262:L$2702),0,\nIF(Hydrograph_Source_WQCV=\"USER\",IF(J2622>0.01*D$2703,0,$C2622/60),\nIF(J2622>0.01*J$2703,0,$C2622/60))))","v":0},0,0,0,0,{"$error":"#VALUE!"},{"$error":"#VALUE!"},{"$error":"#VALUE!"},{"$error":"#VALUE!"},{"$error":"#VALUE!"},{"$error":"#VALUE!"},{"$error":"#VALUE!"},{"$error":"#VALUE!"},{"$error":"#VALUE!"},{"$error":"#VALUE!"},{"$error":"#VALUE!"},{"$f":"IF(SUM(AJ$1262:AJ2621)>0,0,IF(MAX(AC2622:AC$2702)=MAX(AC$1262:AC$2702),0,IF(AA2622>0.03*U$2703,0,$C2622/60)))","v":{"$error":"#VALUE!"}},{"$f":"IF(SUM(AK$1262:AK2621)>0,0,IF(MAX(AC2622:AC$2702)=MAX(AC$1262:AC$2702),0,IF(AA2622>0.01*U$2703,0,$C2622/60)))","v":{"$error":"#VALUE!"}},0,0,0,0,{"$error":"#VALUE!"},{"$error":"#VALUE!"},{"$error":"#VALUE!"},{"$error":"#VALUE!"},{"$error":"#VALUE!"},{"$error":"#VALUE!"},{"$error":"#VALUE!"},{"$error":"#VALUE!"},{"$error":"#VALUE!"},{"$error":"#VALUE!"},{"$error":"#VALUE!"},{"$f":"IF(SUM(BA$1262:BA2621)>0,0,IF(MAX(AT2622:AT$2702)=MAX(AT$1262:AT$2702),0,IF(AR2622>0.03*AL$2703,0,$C2622/60)))","v":{"$error":"#VALUE!"}},{"$f":"IF(SUM(BB$1262:BB2621)>0,0,IF(MAX(AT2622:AT$2702)=MAX(AT$1262:AT$2702),0,IF(AR2622>0.01*AL$2703,0,$C2622/60)))","v":{"$error":"#VALUE!"}},0,0,0,0,{"$error":"#VALUE!"},{"$error":"#VALUE!"},{"$error":"#VALUE!"},{"$error":"#VALUE!"},{"$error":"#VALUE!"},{"$error":"#VALUE!"},{"$error":"#VALUE!"},{"$error":"#VALUE!"},{"$error":"#VALUE!"},{"$error":"#VALUE!"},{"$error":"#VALUE!"},{"$f":"IF(SUM(BR$1262:BR2621)>0,0,IF(MAX(BK2622:BK$2702)=MAX(BK$1262:BK$2702),0,IF(BI2622>0.03*BC$2703,0,$C2622/60)))","v":{"$error":"#VALUE!"}},{"$f":"IF(SUM(BS$1262:BS2621)>0,0,IF(MAX(BK2622:BK$2702)=MAX(BK$1262:BK$2702),0,IF(BI2622>0.01*BC$2703,0,$C2622/60)))","v":{"$error":"#VALUE!"}},0,0,0,0,{"$error":"#VALUE!"},{"$error":"#VALUE!"},{"$error":"#VALUE!"},{"$error":"#VALUE!"},{"$error":"#VALUE!"},{"$error":"#VALUE!"},{"$error":"#VALUE!"},{"$error":"#VALUE!"},{"$error":"#VALUE!"},{"$error":"#VALUE!"},{"$error":"#VALUE!"},{"$f":"IF(SUM(CI$1262:CI2621)>0,0,IF(MAX(CB2622:CB$2702)=MAX(CB$1262:CB$2702),0,IF(BZ2622>0.03*BT$2703,0,$C2622/60)))","v":{"$error":"#VALUE!"}},{"$f":"IF(SUM(CJ$1262:CJ2621)>0,0,IF(MAX(CB2622:CB$2702)=MAX(CB$1262:CB$2702),0,IF(BZ2622>0.01*BT$2703,0,$C2622/60)))","v":{"$error":"#VALUE!"}},0,0,0,0,{"$error":"#VALUE!"},{"$error":"#VALUE!"},{"$error":"#VALUE!"},{"$error":"#VALUE!"},{"$error":"#VALUE!"},{"$error":"#VALUE!"},{"$error":"#VALUE!"},{"$error":"#VALUE!"},{"$error":"#VALUE!"},{"$error":"#VALUE!"},{"$error":"#VALUE!"},{"$f":"IF(SUM(CZ$1262:CZ2621)>0,0,IF(MAX(CS2622:CS$2702)=MAX(CS$1262:CS$2702),0,IF(CQ2622>0.03*CK$2703,0,$C2622/60)))","v":{"$error":"#VALUE!"}},{"$f":"IF(SUM(DA$1262:DA2621)>0,0,IF(MAX(CS2622:CS$2702)=MAX(CS$1262:CS$2702),0,IF(CQ2622>0.01*CK$2703,0,$C2622/60)))","v":{"$error":"#VALUE!"}}]
[null,113.91666666666667,6835,0,0,0,0,0,0,0,0,0,{"$error":"#N/A"},{"$error":"#N/A"},{"$error":"#N/A"},{"$error":"#N/A"},{"$error":"#N/A"},{"$error":"#N/A"},{"$f":"IF(SUM(S$1262:S2628)>0,0,\nIF(MAX(L2629:L$2702)=MAX(L$1262:L$2702),0,\nIF(Hydrograph_Source_WQCV=\"USER\",IF(J2629>0.03*D$2703,0,$C2629/60),\nIF(J2629>0.03*J$2703,0,$C2629/60))))","v":0},{"$f":"IF(SUM(T$1262:T2628)>0,0,\nIF(MAX(L2629:L$2702)=MAX(L$1262:L$2702),0,\nIF(Hydrograph_Source_WQCV=\"USER\",IF(J2629>0.01*D$2703,0,$C2629/60),\nIF(J2629>0.01*J$2703,0,$C2629/60))))","v":0},0,0,0,0,{"$error":"#VALUE!"},{"$error":"#VALUE!"},{"$error":"#VALUE!"},{"$error":"#VALUE!"},{"$error":"#VALUE!"},{"$error":"#VALUE!"},{"$error":"#VALUE!"},{"$error":"#VALUE!"},{"$error":"#VALUE!"},{"$error":"#VALUE!"},{"$error":"#VALUE!"},{"$f":"IF(SUM(AJ$1262:AJ2628)>0,0,IF(MAX(AC2629:AC$2702)=MAX(AC$1262:AC$2702),0,IF(AA2629>0.03*U$2703,0,$C2629/60)))","v":{"$error":"#VALUE!"}},{"$f":"IF(SUM(AK$1262:AK2628)>0,0,IF(MAX(AC2629:AC$2702)=MAX(AC$1262:AC$2702),0,IF(AA2629>0.01*U$2703,0,$C2629/60)))","v":{"$error":"#VALUE!"}},0,0,0,0,{"$error":"#VALUE!"},{"$error":"#VALUE!"},{"$error":"#VALUE!"},{"$error":"#VALUE!"},{"$error":"#VALUE!"},{"$error":"#VALUE!"},{"$error":"#VALUE!"},{"$error":"#VALUE!"},{"$error":"#VALUE!"},{"$error":"#VALUE!"},{"$error":"#VALUE!"},{"$f":"IF(SUM(BA$1262:BA2628)>0,0,IF(MAX(AT2629:AT$2702)=MAX(AT$1262:AT$2702),0,IF(AR2629>0.03*AL$2703,0,$C2629/60)))","v":{"$error":"#VALUE!"}},{"$f":"IF(SUM(BB$1262:BB2628)>0,0,IF(MAX(AT2629:AT$2702)=MAX(AT$1262:AT$2702),0,IF(AR2629>0.01*AL$2703,0,$C2629/60)))","v":{"$error":"#VALUE!"}},0,0,0,0,{"$error":"#VALUE!"},{"$error":"#VALUE!"},{"$error":"#VALUE!"},{"$error":"#VALUE!"},{"$error":"#VALUE!"},{"$error":"#VALUE!"},{"$error":"#VALUE!"},{"$error":"#VALUE!"},{"$error":"#VALUE!"},{"$error":"#VALUE!"},{"$error":"#VALUE!"},{"$f":"IF(SUM(BR$1262:BR2628)>0,0,IF(MAX(BK2629:BK$2702)=MAX(BK$1262:BK$2702),0,IF(BI2629>0.03*BC$2703,0,$C2629/60)))","v":{"$error":"#VALUE!"}},{"$f":"IF(SUM(BS$1262:BS2628)>0,0,IF(MAX(BK2629:BK$2702)=MAX(BK$1262:BK$2702),0,IF(BI2629>0.01*BC$2703,0,$C2629/60)))","v":{"$error":"#VALUE!"}},0,0,0,0,{"$error":"#VALUE!"},{"$error":"#VALUE!"},{"$error":"#VALUE!"},{"$error":"#VALUE!"},{"$error":"#VALUE!"},{"$error":"#VALUE!"},{"$error":"#VALUE!"},{"$error":"#VALUE!"},{"$error":"#VALUE!"},{"$error":"#VALUE!"},{"$error":"#VALUE!"},{"$f":"IF(SUM(CI$1262:CI2628)>0,0,IF(MAX(CB2629:CB$2702)=MAX(CB$1262:CB$2702),0,IF(BZ2629>0.03*BT$2703,0,$C2629/60)))","v":{"$error":"#VALUE!"}},{"$f":"IF(SUM(CJ$1262:CJ2628)>0,0,IF(MAX(CB2629:CB$2702)=MAX(CB$1262:CB$2702),0,IF(BZ2629>0.01*BT$2703,0,$C2629/60)))","v":{"$error":"#VALUE!"}},0,0,0,0,{"$error":"#VALUE!"},{"$error":"#VALUE!"},{"$error":"#VALUE!"},{"$error":"#VALUE!"},{"$error":"#VALUE!"},{"$error":"#VALUE!"},{"$error":"#VALUE!"},{"$error":"#VALUE!"},{"$error":"#VALUE!"},{"$error":"#VALUE!"},{"$error":"#VALUE!"},{"$f":"IF(SUM(CZ$1262:CZ2628)>0,0,IF(MAX(CS2629:CS$2702)=MAX(CS$1262:CS$2702),0,IF(CQ2629>0.03*CK$2703,0,$C2629/60)))","v":{"$error":"#VALUE!"}},{"$f":"IF(SUM(DA$1262:DA2628)>0,0,IF(MAX(CS2629:CS$2702)=MAX(CS$1262:CS$2702),0,IF(CQ2629>0.01*CK$2703,0,$C2629/60)))","v":{"$error":"#VALUE!"}}]
[null,114.25,6855,0,0,0,0,0,0,0,0,0,{"$error":"#N/A"},{"$error":"#N/A"},{"$error":"#N/A"},{"$error":"#N/A"},{"$error":"#N/A"},{"$error":"#N/A"},{"$f":"IF(SUM(S$1262:S2632)>0,0,\nIF(MAX(L2633:L$2702)=MAX(L$1262:L$2702),0,\nIF(Hydrograph_Source_WQCV=\"USER\",IF(J2633>0.03*D$2703,0,$C2633/60),\nIF(J2633>0.03*J$2703,0,$C2633/60))))","v":0},{"$f":"IF(SUM(T$1262:T2632)>0,0,\nIF(MAX(L2633:L$2702)=MAX(L$1262:L$2702),0,\nIF(Hydrograph_Source_WQCV=\"USER\",IF(J2633>0.01*D$2703,0,$C2633/60),\nIF(J2633>0.01*J$2703,0,$C2633/60))))","v":0},0,0,0,0,{"$error":"#VALUE!"},{"$error":"#VALUE!"},{"$error":"#VALUE!"},{"$error":"#VALUE!"},{"$error":"#VALUE!"},{"$error":"#VALUE!"},{"$error":"#VALUE!"},{"$error":"#VALUE!"},{"$error":"#VALUE!"},{"$error":"#VALUE!"},{"$error":"#VALUE!"},{"$f":"IF(SUM(AJ$1262:AJ2632)>0,0,IF(MAX(AC2633:AC$2702)=MAX(AC$1262:AC$2702),0,IF(AA2633>0.03*U$2703,0,$C2633/60)))","v":{"$error":"#VALUE!"}},{"$f":"IF(SUM(AK$1262:AK2632)>0,0,IF(MAX(AC2633:AC$2702)=MAX(AC$1262:AC$2702),0,IF(AA2633>0.01*U$2703,0,$C2633/60)))","v":{"$error":"#VALUE!"}},0,0,0,0,{"$error":"#VALUE!"},{"$error":"#VALUE!"},{"$error":"#VALUE!"},{"$error":"#VALUE!"},{"$error":"#VALUE!"},{"$error":"#VALUE!"},{"$error":"#VALUE!"},{"$error":"#VALUE!"},{"$error":"#VALUE!"},{"$error":"#VALUE!"},{"$error":"#VALUE!"},{"$f":"IF(SUM(BA$1262:BA2632)>0,0,IF(MAX(AT2633:AT$2702)=MAX(AT$1262:AT$2702),0,IF(AR2633>0.03*AL$2703,0,$C2633/60)))","v":{"$error":"#VALUE!"}},{"$f":"IF(SUM(BB$1262:BB2632)>0,0,IF(MAX(AT2633:AT$2702)=MAX(AT$1262:AT$2702),0,IF(AR2633>0.01*AL$2703,0,$C2633/60)))","v":{"$error":"#VALUE!"}},0,0,0,0,{"$error":"#VALUE!"},{"$error":"#VALUE!"},{"$error":"#VALUE!"},{"$error":"#VALUE!"},{"$error":"#VALUE!"},{"$error":"#VALUE!"},{"$error":"#VALUE!"},{"$error":"#VALUE!"},{"$error":"#VALUE!"},{"$error":"#VALUE!"},{"$error":"#VALUE!"},{"$f":"IF(SUM(BR$1262:BR2632)>0,0,IF(MAX(BK2633:BK$2702)=MAX(BK$1262:BK$2702),0,IF(BI2633>0.03*BC$2703,0,$C2633/60)))","v":{"$error":"#VALUE!"}},{"$f":"IF(SUM(BS$1262:BS2632)>0,0,IF(MAX(BK2633:BK$2702)=MAX(BK$1262:BK$2702),0,IF(BI2633>0.01*BC$2703,0,$C2633/60)))","v":{"$error":"#VALUE!"}},0,0,0,0,{"$error":"#VALUE!"},{"$error":"#VALUE!"},{"$error":"#VALUE!"},{"$error":"#VALUE!"},{"$error":"#VALUE!"},{"$error":"#VALUE!"},{"$error":"#VALUE!"},{"$error":"#VALUE!"},{"$error":"#VALUE!"},{"$error":"#VALUE!"},{"$error":"#VALUE!"},{"$f":"IF(SUM(CI$1262:CI2632)>0,0,IF(MAX(CB2633:CB$2702)=MAX(CB$1262:CB$2702),0,IF(BZ2633>0.03*BT$2703,0,$C2633/60)))","v":{"$error":"#VALUE!"}},{"$f":"IF(SUM(CJ$1262:CJ2632)>0,0,IF(MAX(CB2633:CB$2702)=MAX(CB$1262:CB$2702),0,IF(BZ2633>0.01*BT$2703,0,$C2633/60)))","v":{"$error":"#VALUE!"}},0,0,0,0,{"$error":"#VALUE!"},{"$error":"#VALUE!"},{"$error":"#VALUE!"},{"$error":"#VALUE!"},{"$error":"#VALUE!"},{"$error":"#VALUE!"},{"$error":"#VALUE!"},{"$error":"#VALUE!"},{"$error":"#VALUE!"},{"$error":"#VALUE!"},{"$error":"#VALUE!"},{"$f":"IF(SUM(CZ$1262:CZ2632)>0,0,IF(MAX(CS2633:CS$2702)=MAX(CS$1262:CS$2702),0,IF(CQ2633>0.03*CK$2703,0,$C2633/60)))","v":{"$error":"#VALUE!"}},{"$f":"IF(SUM(DA$1262:DA2632)>0,0,IF(MAX(CS2633:CS$2702)=MAX(CS$1262:CS$2702),0,IF(CQ2633>0.01*CK$2703,0,$C2633/60)))","v":{"$error":"#VALUE!"}}]
[null,114.33333333333333,6860,0,0,0,0,0,0,0,0,0,{"$error":"#N/A"},{"$error":"#N/A"},{"$error":"#N/A"},{"$error":"#N/A"},{"$error":"#N/A"},{"$error":"#N/A"},{"$f":"IF(SUM(S$1262:S2633)>0,0,\nIF(MAX(L2634:L$2702)=MAX(L$1262:L$2702),0,\nIF(Hydrograph_Source_WQCV=\"USER\",IF(J2634>0.03*D$2703,0,$C2634/60),\nIF(J2634>0.03*J$2703,0,$C2634/60))))","v":0},{"$f":"IF(SUM(T$1262:T2633)>0,0,\nIF(MAX(L2634:L$2702)=MAX(L$1262:L$2702),0,\nIF(Hydrograph_Source_WQCV=\"USER\",IF(J2634>0.01*D$2703,0,$C2634/60),\nIF(J2634>0.01*J$2703,0,$C2634/60))))","v":0},0,0,0,0,{"$error":"#VALUE!"},{"$error":"#VALUE!"},{"$error":"#VALUE!"},{"$error":"#VALUE!"},{"$error":"#VALUE!"},{"$error":"#VALUE!"},{"$error":"#VALUE!"},{"$error":"#VALUE!"},{"$error":"#VALUE!"},{"$error":"#VALUE!"},{"$error":"#VALUE!"},{"$f":"IF(SUM(AJ$1262:AJ2633)>0,0,IF(MAX(AC2634:AC$2702)=MAX(AC$1262:AC$2702),0,IF(AA2634>0.03*U$2703,0,$C2634/60)))","v":{"$error":"#VALUE!"}},{"$f":"IF(SUM(AK$1262:AK2633)>0,0,IF(MAX(AC2634:AC$2702)=MAX(AC$1262:AC$2702),0,IF(AA2634>0.01*U$2703,0,$C2634/60)))","v":{"$error":"#VALUE!"}},0,0,0,0,{"$error":"#VALUE!"},{"$error":"#VALUE!"},{"$error":"#VALUE!"},{"$error":"#VALUE!"},{"$error":"#VALUE!"},{"$error":"#VALUE!"},{"$error":"#VALUE!"},{"$error":"#VALUE!"},{"$error":"#VALUE!"},{"$error":"#VALUE!"},{"$error":"#VALUE!"},{"$f":"IF(SUM(BA$1262:BA2633)>0,0,IF(MAX(AT2634:AT$2702)=MAX(AT$1262:AT$2702),0,IF(AR2634>0.03*AL$2703,0,$C2634/60)))","v":{"$error":"#VALUE!"}},{"$f":"IF(SUM(BB$1262:BB2633)>0,0,IF(MAX(AT2634:AT$2702)=MAX(AT$1262:AT$2702),0,IF(AR2634>0.01*AL$2703,0,$C2634/60)))","v":{"$error":"#VALUE!"}},0,0,0,0,{"$error":"#VALUE!"},{"$error":"#VALUE!"},{"$error":"#VALUE!"},{"$error":"#VALUE!"},{"$error":"#VALUE!"},{"$error":"#VALUE!"},{"$error":"#VALUE!"},{"$error":"#VALUE!"},{"$error":"#VALUE!"},{"$error":"#VALUE!"},{"$error":"#VALUE!"},{"$f":"IF(SUM(BR$1262:BR2633)>0,0,IF(MAX(BK2634:BK$2702)=MAX(BK$1262:BK$2702),0,IF(BI2634>0.03*BC$2703,0,$C2634/60)))","v":{"$error":"#VALUE!"}},{"$f":"IF(SUM(BS$1262:BS2633)>0,0,IF(MAX(BK2634:BK$2702)=MAX(BK$1262:BK$2702),0,IF(BI2634>0.01*BC$2703,0,$C2634/60)))","v":{"$error":"#VALUE!"}},0,0,0,0,{"$error":"#VALUE!"},{"$error":"#VALUE!"},{"$error":"#VALUE!"},{"$error":"#VALUE!"},{"$error":"#VALUE!"},{"$error":"#VALUE!"},{"$error":"#VALUE!"},{"$error":"#VALUE!"},{"$error":"#VALUE!"},{"$error":"#VALUE!"},{"$error":"#VALUE!"},{"$f":"IF(SUM(CI$1262:CI2633)>0,0,IF(MAX(CB2634:CB$2702)=MAX(CB$1262:CB$2702),0,IF(BZ2634>0.03*BT$2703,0,$C2634/60)))","v":{"$error":"#VALUE!"}},{"$f":"IF(SUM(CJ$1262:CJ2633)>0,0,IF(MAX(CB2634:CB$2702)=MAX(CB$1262:CB$2702),0,IF(BZ2634>0.01*BT$2703,0,$C2634/60)))","v":{"$error":"#VALUE!"}},0,0,0,0,{"$error":"#VALUE!"},{"$error":"#VALUE!"},{"$error":"#VALUE!"},{"$error":"#VALUE!"},{"$error":"#VALUE!"},{"$error":"#VALUE!"},{"$error":"#VALUE!"},{"$error":"#VALUE!"},{"$error":"#VALUE!"},{"$error":"#VALUE!"},{"$error":"#VALUE!"},{"$f":"IF(SUM(CZ$1262:CZ2633)>0,0,IF(MAX(CS2634:CS$2702)=MAX(CS$1262:CS$2702),0,IF(CQ2634>0.03*CK$2703,0,$C2634/60)))","v":{"$error":"#VALUE!"}},{"$f":"IF(SUM(DA$1262:DA2633)>0,0,IF(MAX(CS2634:CS$2702)=MAX(CS$1262:CS$2702),0,IF(CQ2634>0.01*CK$2703,0,$C2634/60)))","v":{"$error":"#VALUE!"}}]
[null,114.66666666666667,6880,0,0,0,0,0,0,0,0,0,{"$error":"#N/A"},{"$error":"#N/A"},{"$error":"#N/A"},{"$error":"#N/A"},{"$error":"#N/A"},{"$error":"#N/A"},{"$f":"IF(SUM(S$1262:S2637)>0,0,\nIF(MAX(L2638:L$2702)=MAX(L$1262:L$2702),0,\nIF(Hydrograph_Source_WQCV=\"USER\",IF(J2638>0.03*D$2703,0,$C2638/60),\nIF(J2638>0.03*J$2703,0,$C2638/60))))","v":0},{"$f":"IF(SUM(T$1262:T2637)>0,0,\nIF(MAX(L2638:L$2702)=MAX(L$1262:L$2702),0,\nIF(Hydrograph_Source_WQCV=\"USER\",IF(J2638>0.01*D$2703,0,$C2638/60),\nIF(J2638>0.01*J$2703,0,$C2638/60))))","v":0},0,0,0,0,{"$error":"#VALUE!"},{"$error":"#VALUE!"},{"$error":"#VALUE!"},{"$error":"#VALUE!"},{"$error":"#VALUE!"},{"$error":"#VALUE!"},{"$error":"#VALUE!"},{"$error":"#VALUE!"},{"$error":"#VALUE!"},{"$error":"#VALUE!"},{"$error":"#VALUE!"},{"$f":"IF(SUM(AJ$1262:AJ2637)>0,0,IF(MAX(AC2638:AC$2702)=MAX(AC$1262:AC$2702),0,IF(AA2638>0.03*U$2703,0,$C2638/60)))","v":{"$error":"#VALUE!"}},{"$f":"IF(SUM(AK$1262:AK2637)>0,0,IF(MAX(AC2638:AC$2702)=MAX(AC$1262:AC$2702),0,IF(AA2638>0.01*U$2703,0,$C2638/60)))","v":{"$error":"#VALUE!"}},0,0,0,0,{"$error":"#VALUE!"},{"$error":"#VALUE!"},{"$error":"#VALUE!"},{"$error":"#VALUE!"},{"$error":"#VALUE!"},{"$error":"#VALUE!"},{"$error":"#VALUE!"},{"$error":"#VALUE!"},{"$error":"#VALUE!"},{"$error":"#VALUE!"},{"$error":"#VALUE!"},{"$f":"IF(SUM(BA$1262:BA2637)>0,0,IF(MAX(AT2638:AT$2702)=MAX(AT$1262:AT$2702),0,IF(AR2638>0.03*AL$2703,0,$C2638/60)))","v":{"$error":"#VALUE!"}},{"$f":"IF(SUM(BB$1262:BB2637)>0,0,IF(MAX(AT2638:AT$2702)=MAX(AT$1262:AT$2702),0,IF(AR2638>0.01*AL$2703,0,$C2638/60)))","v":{"$error":"#VALUE!"}},0,0,0,0,{"$error":"#VALUE!"},{"$error":"#VALUE!"},{"$error":"#VALUE!"},{"$error":"#VALUE!"},{"$error":"#VALUE!"},{"$error":"#VALUE!"},{"$error":"#VALUE!"},{"$error":"#VALUE!"},{"$error":"#VALUE!"},{"$error":"#VALUE!"},{"$error":"#VALUE!"},{"$f":"IF(SUM(BR$1262:BR2637)>0,0,IF(MAX(BK2638:BK$2702)=MAX(BK$1262:BK$2702),0,IF(BI2638>0.03*BC$2703,0,$C2638/60)))","v":{"$error":"#VALUE!"}},{"$f":"IF(SUM(BS$1262:BS2637)>0,0,IF(MAX(BK2638:BK$2702)=MAX(BK$1262:BK$2702),0,IF(BI2638>0.01*BC$2703,0,$C2638/60)))","v":{"$error":"#VALUE!"}},0,0,0,0,{"$error":"#VALUE!"},{"$error":"#VALUE!"},{"$error":"#VALUE!"},{"$error":"#VALUE!"},{"$error":"#VALUE!"},{"$error":"#VALUE!"},{"$error":"#VALUE!"},{"$error":"#VALUE!"},{"$error":"#VALUE!"},{"$error":"#VALUE!"},{"$error":"#VALUE!"},{"$f":"IF(SUM(CI$1262:CI2637)>0,0,IF(MAX(CB2638:CB$2702)=MAX(CB$1262:CB$2702),0,IF(BZ2638>0.03*BT$2703,0,$C2638/60)))","v":{"$error":"#VALUE!"}},{"$f":"IF(SUM(CJ$1262:CJ2637)>0,0,IF(MAX(CB2638:CB$2702)=MAX(CB$1262:CB$2702),0,IF(BZ2638>0.01*BT$2703,0,$C2638/60)))","v":{"$error":"#VALUE!"}},0,0,0,0,{"$error":"#VALUE!"},{"$error":"#VALUE!"},{"$error":"#VALUE!"},{"$error":"#VALUE!"},{"$error":"#VALUE!"},{"$error":"#VALUE!"},{"$error":"#VALUE!"},{"$error":"#VALUE!"},{"$error":"#VALUE!"},{"$error":"#VALUE!"},{"$error":"#VALUE!"},{"$f":"IF(SUM(CZ$1262:CZ2637)>0,0,IF(MAX(CS2638:CS$2702)=MAX(CS$1262:CS$2702),0,IF(CQ2638>0.03*CK$2703,0,$C2638/60)))","v":{"$error":"#VALUE!"}},{"$f":"IF(SUM(DA$1262:DA2637)>0,0,IF(MAX(CS2638:CS$2702)=MAX(CS$1262:CS$2702),0,IF(CQ2638>0.01*CK$2703,0,$C2638/60)))","v":{"$error":"#VALUE!"}}]
[null,115.25,6915,0,0,0,0,0,0,0,0,0,{"$error":"#N/A"},{"$error":"#N/A"},{"$error":"#N/A"},{"$error":"#N/A"},{"$error":"#N/A"},{"$error":"#N/A"},{"$f":"IF(SUM(S$1262:S2644)>0,0,\nIF(MAX(L2645:L$2702)=MAX(L$1262:L$2702),0,\nIF(Hydrograph_Source_WQCV=\"USER\",IF(J2645>0.03*D$2703,0,$C2645/60),\nIF(J2645>0.03*J$2703,0,$C2645/60))))","v":0},{"$f":"IF(SUM(T$1262:T2644)>0,0,\nIF(MAX(L2645:L$2702)=MAX(L$1262:L$2702),0,\nIF(Hydrograph_Source_WQCV=\"USER\",IF(J2645>0.01*D$2703,0,$C2645/60),\nIF(J2645>0.01*J$2703,0,$C2645/60))))","v":0},0,0,0,0,{"$error":"#VALUE!"},{"$error":"#VALUE!"},{"$error":"#VALUE!"},{"$error":"#VALUE!"},{"$error":"#VALUE!"},{"$error":"#VALUE!"},{"$error":"#VALUE!"},{"$error":"#VALUE!"},{"$error":"#VALUE!"},{"$error":"#VALUE!"},{"$error":"#VALUE!"},{"$f":"IF(SUM(AJ$1262:AJ2644)>0,0,IF(MAX(AC2645:AC$2702)=MAX(AC$1262:AC$2702),0,IF(AA2645>0.03*U$2703,0,$C2645/60)))","v":{"$error":"#VALUE!"}},{"$f":"IF(SUM(AK$1262:AK2644)>0,0,IF(MAX(AC2645:AC$2702)=MAX(AC$1262:AC$2702),0,IF(AA2645>0.01*U$2703,0,$C2645/60)))","v":{"$error":"#VALUE!"}},0,0,0,0,{"$error":"#VALUE!"},{"$error":"#VALUE!"},{"$error":"#VALUE!"},{"$error":"#VALUE!"},{"$error":"#VALUE!"},{"$error":"#VALUE!"},{"$error":"#VALUE!"},{"$error":"#VALUE!"},{"$error":"#VALUE!"},{"$error":"#VALUE!"},{"$error":"#VALUE!"},{"$f":"IF(SUM(BA$1262:BA2644)>0,0,IF(MAX(AT2645:AT$2702)=MAX(AT$1262:AT$2702),0,IF(AR2645>0.03*AL$2703,0,$C2645/60)))","v":{"$error":"#VALUE!"}},{"$f":"IF(SUM(BB$1262:BB2644)>0,0,IF(MAX(AT2645:AT$2702)=MAX(AT$1262:AT$2702),0,IF(AR2645>0.01*AL$2703,0,$C2645/60)))","v":{"$error":"#VALUE!"}},0,0,0,0,{"$error":"#VALUE!"},{"$error":"#VALUE!"},{"$error":"#VALUE!"},{"$error":"#VALUE!"},{"$error":"#VALUE!"},{"$error":"#VALUE!"},{"$error":"#VALUE!"},{"$error":"#VALUE!"},{"$error":"#VALUE!"},{"$error":"#VALUE!"},{"$error":"#VALUE!"},{"$f":"IF(SUM(BR$1262:BR2644)>0,0,IF(MAX(BK2645:BK$2702)=MAX(BK$1262:BK$2702),0,IF(BI2645>0.03*BC$2703,0,$C2645/60)))","v":{"$error":"#VALUE!"}},{"$f":"IF(SUM(BS$1262:BS2644)>0,0,IF(MAX(BK2645:BK$2702)=MAX(BK$1262:BK$2702),0,IF(BI2645>0.01*BC$2703,0,$C2645/60)))","v":{"$error":"#VALUE!"}},0,0,0,0,{"$error":"#VALUE!"},{"$error":"#VALUE!"},{"$error":"#VALUE!"},{"$error":"#VALUE!"},{"$error":"#VALUE!"},{"$error":"#VALUE!"},{"$error":"#VALUE!"},{"$error":"#VALUE!"},{"$error":"#VALUE!"},{"$error":"#VALUE!"},{"$error":"#VALUE!"},{"$f":"IF(SUM(CI$1262:CI2644)>0,0,IF(MAX(CB2645:CB$2702)=MAX(CB$1262:CB$2702),0,IF(BZ2645>0.03*BT$2703,0,$C2645/60)))","v":{"$error":"#VALUE!"}},{"$f":"IF(SUM(CJ$1262:CJ2644)>0,0,IF(MAX(CB2645:CB$2702)=MAX(CB$1262:CB$2702),0,IF(BZ2645>0.01*BT$2703,0,$C2645/60)))","v":{"$error":"#VALUE!"}},0,0,0,0,{"$error":"#VALUE!"},{"$error":"#VALUE!"},{"$error":"#VALUE!"},{"$error":"#VALUE!"},{"$error":"#VALUE!"},{"$error":"#VALUE!"},{"$error":"#VALUE!"},{"$error":"#VALUE!"},{"$error":"#VALUE!"},{"$error":"#VALUE!"},{"$error":"#VALUE!"},{"$f":"IF(SUM(CZ$1262:CZ2644)>0,0,IF(MAX(CS2645:CS$2702)=MAX(CS$1262:CS$2702),0,IF(CQ2645>0.03*CK$2703,0,$C2645/60)))","v":{"$error":"#VALUE!"}},{"$f":"IF(SUM(DA$1262:DA2644)>0,0,IF(MAX(CS2645:CS$2702)=MAX(CS$1262:CS$2702),0,IF(CQ2645>0.01*CK$2703,0,$C2645/60)))","v":{"$error":"#VALUE!"}}]
[null,115.66666666666667,6940,0,0,0,0,0,0,0,0,0,{"$error":"#N/A"},{"$error":"#N/A"},{"$error":"#N/A"},{"$error":"#N/A"},{"$error":"#N/A"},{"$error":"#N/A"},{"$f":"IF(SUM(S$1262:S2649)>0,0,\nIF(MAX(L2650:L$2702)=MAX(L$1262:L$2702),0,\nIF(Hydrograph_Source_WQCV=\"USER\",IF(J2650>0.03*D$2703,0,$C2650/60),\nIF(J2650>0.03*J$2703,0,$C2650/60))))","v":0},{"$f":"IF(SUM(T$1262:T2649)>0,0,\nIF(MAX(L2650:L$2702)=MAX(L$1262:L$2702),0,\nIF(Hydrograph_Source_WQCV=\"USER\",IF(J2650>0.01*D$2703,0,$C2650/60),\nIF(J2650>0.01*J$2703,0,$C2650/60))))","v":0},0,0,0,0,{"$error":"#VALUE!"},{"$error":"#VALUE!"},{"$error":"#VALUE!"},{"$error":"#VALUE!"},{"$error":"#VALUE!"},{"$error":"#VALUE!"},{"$error":"#VALUE!"},{"$error":"#VALUE!"},{"$error":"#VALUE!"},{"$error":"#VALUE!"},{"$error":"#VALUE!"},{"$f":"IF(SUM(AJ$1262:AJ2649)>0,0,IF(MAX(AC2650:AC$2702)=MAX(AC$1262:AC$2702),0,IF(AA2650>0.03*U$2703,0,$C2650/60)))","v":{"$error":"#VALUE!"}},{"$f":"IF(SUM(AK$1262:AK2649)>0,0,IF(MAX(AC2650:AC$2702)=MAX(AC$1262:AC$2702),0,IF(AA2650>0.01*U$2703,0,$C2650/60)))","v":{"$error":"#VALUE!"}},0,0,0,0,{"$error":"#VALUE!"},{"$error":"#VALUE!"},{"$error":"#VALUE!"},{"$error":"#VALUE!"},{"$error":"#VALUE!"},{"$error":"#VALUE!"},{"$error":"#VALUE!"},{"$error":"#VALUE!"},{"$error":"#VALUE!"},{"$error":"#VALUE!"},{"$error":"#VALUE!"},{"$f":"IF(SUM(BA$1262:BA2649)>0,0,IF(MAX(AT2650:AT$2702)=MAX(AT$1262:AT$2702),0,IF(AR2650>0.03*AL$2703,0,$C2650/60)))","v":{"$error":"#VALUE!"}},{"$f":"IF(SUM(BB$1262:BB2649)>0,0,IF(MAX(AT2650:AT$2702)=MAX(AT$1262:AT$2702),0,IF(AR2650>0.01*AL$2703,0,$C2650/60)))","v":{"$error":"#VALUE!"}},0,0,0,0,{"$error":"#VALUE!"},{"$error":"#VALUE!"},{"$error":"#VALUE!"},{"$error":"#VALUE!"},{"$error":"#VALUE!"},{"$error":"#VALUE!"},{"$error":"#VALUE!"},{"$error":"#VALUE!"},{"$error":"#VALUE!"},{"$error":"#VALUE!"},{"$error":"#VALUE!"},{"$f":"IF(SUM(BR$1262:BR2649)>0,0,IF(MAX(BK2650:BK$2702)=MAX(BK$1262:BK$2702),0,IF(BI2650>0.03*BC$2703,0,$C2650/60)))","v":{"$error":"#VALUE!"}},{"$f":"IF(SUM(BS$1262:BS2649)>0,0,IF(MAX(BK2650:BK$2702)=MAX(BK$1262:BK$2702),0,IF(BI2650>0.01*BC$2703,0,$C2650/60)))","v":{"$error":"#VALUE!"}},0,0,0,0,{"$error":"#VALUE!"},{"$error":"#VALUE!"},{"$error":"#VALUE!"},{"$error":"#VALUE!"},{"$error":"#VALUE!"},{"$error":"#VALUE!"},{"$error":"#VALUE!"},{"$error":"#VALUE!"},{"$error":"#VALUE!"},{"$error":"#VALUE!"},{"$error":"#VALUE!"},{"$f":"IF(SUM(CI$1262:CI2649)>0,0,IF(MAX(CB2650:CB$2702)=MAX(CB$1262:CB$2702),0,IF(BZ2650>0.03*BT$2703,0,$C2650/60)))","v":{"$error":"#VALUE!"}},{"$f":"IF(SUM(CJ$1262:CJ2649)>0,0,IF(MAX(CB2650:CB$2702)=MAX(CB$1262:CB$2702),0,IF(BZ2650>0.01*BT$2703,0,$C2650/60)))","v":{"$error":"#VALUE!"}},0,0,0,0,{"$error":"#VALUE!"},{"$error":"#VALUE!"},{"$error":"#VALUE!"},{"$error":"#VALUE!"},{"$error":"#VALUE!"},{"$error":"#VALUE!"},{"$error":"#VALUE!"},{"$error":"#VALUE!"},{"$error":"#VALUE!"},{"$error":"#VALUE!"},{"$error":"#VALUE!"},{"$f":"IF(SUM(CZ$1262:CZ2649)>0,0,IF(MAX(CS2650:CS$2702)=MAX(CS$1262:CS$2702),0,IF(CQ2650>0.03*CK$2703,0,$C2650/60)))","v":{"$error":"#VALUE!"}},{"$f":"IF(SUM(DA$1262:DA2649)>0,0,IF(MAX(CS2650:CS$2702)=MAX(CS$1262:CS$2702),0,IF(CQ2650>0.01*CK$2703,0,$C2650/60)))","v":{"$error":"#VALUE!"}}]
[null,115.83333333333333,6950,0,0,0,0,0,0,0,0,0,{"$error":"#N/A"},{"$error":"#N/A"},{"$error":"#N/A"},{"$error":"#N/A"},{"$error":"#N/A"},{"$error":"#N/A"},{"$f":"IF(SUM(S$1262:S2651)>0,0,\nIF(MAX(L2652:L$2702)=MAX(L$1262:L$2702),0,\nIF(Hydrograph_Source_WQCV=\"USER\",IF(J2652>0.03*D$2703,0,$C2652/60),\nIF(J2652>0.03*J$2703,0,$C2652/60))))","v":0},{"$f":"IF(SUM(T$1262:T2651)>0,0,\nIF(MAX(L2652:L$2702)=MAX(L$1262:L$2702),0,\nIF(Hydrograph_Source_WQCV=\"USER\",IF(J2652>0.01*D$2703,0,$C2652/60),\nIF(J2652>0.01*J$2703,0,$C2652/60))))","v":0},0,0,0,0,{"$error":"#VALUE!"},{"$error":"#VALUE!"},{"$error":"#VALUE!"},{"$error":"#VALUE!"},{"$error":"#VALUE!"},{"$error":"#VALUE!"},{"$error":"#VALUE!"},{"$error":"#VALUE!"},{"$error":"#VALUE!"},{"$error":"#VALUE!"},{"$error":"#VALUE!"},{"$f":"IF(SUM(AJ$1262:AJ2651)>0,0,IF(MAX(AC2652:AC$2702)=MAX(AC$1262:AC$2702),0,IF(AA2652>0.03*U$2703,0,$C2652/60)))","v":{"$error":"#VALUE!"}},{"$f":"IF(SUM(AK$1262:AK2651)>0,0,IF(MAX(AC2652:AC$2702)=MAX(AC$1262:AC$2702),0,IF(AA2652>0.01*U$2703,0,$C2652/60)))","v":{"$error":"#VALUE!"}},0,0,0,0,{"$error":"#VALUE!"},{"$error":"#VALUE!"},{"$error":"#VALUE!"},{"$error":"#VALUE!"},{"$error":"#VALUE!"},{"$error":"#VALUE!"},{"$error":"#VALUE!"},{"$error":"#VALUE!"},{"$error":"#VALUE!"},{"$error":"#VALUE!"},{"$error":"#VALUE!"},{"$f":"IF(SUM(BA$1262:BA2651)>0,0,IF(MAX(AT2652:AT$2702)=MAX(AT$1262:AT$2702),0,IF(AR2652>0.03*AL$2703,0,$C2652/60)))","v":{"$error":"#VALUE!"}},{"$f":"IF(SUM(BB$1262:BB2651)>0,0,IF(MAX(AT2652:AT$2702)=MAX(AT$1262:AT$2702),0,IF(AR2652>0.01*AL$2703,0,$C2652/60)))","v":{"$error":"#VALUE!"}},0,0,0,0,{"$error":"#VALUE!"},{"$error":"#VALUE!"},{"$error":"#VALUE!"},{"$error":"#VALUE!"},{"$error":"#VALUE!"},{"$error":"#VALUE!"},{"$error":"#VALUE!"},{"$error":"#VALUE!"},{"$error":"#VALUE!"},{"$error":"#VALUE!"},{"$error":"#VALUE!"},{"$f":"IF(SUM(BR$1262:BR2651)>0,0,IF(MAX(BK2652:BK$2702)=MAX(BK$1262:BK$2702),0,IF(BI2652>0.03*BC$2703,0,$C2652/60)))","v":{"$error":"#VALUE!"}},{"$f":"IF(SUM(BS$1262:BS2651)>0,0,IF(MAX(BK2652:BK$2702)=MAX(BK$1262:BK$2702),0,IF(BI2652>0.01*BC$2703,0,$C2652/60)))","v":{"$error":"#VALUE!"}},0,0,0,0,{"$error":"#VALUE!"},{"$error":"#VALUE!"},{"$error":"#VALUE!"},{"$error":"#VALUE!"},{"$error":"#VALUE!"},{"$error":"#VALUE!"},{"$error":"#VALUE!"},{"$error":"#VALUE!"},{"$error":"#VALUE!"},{"$error":"#VALUE!"},{"$error":"#VALUE!"},{"$f":"IF(SUM(CI$1262:CI2651)>0,0,IF(MAX(CB2652:CB$2702)=MAX(CB$1262:CB$2702),0,IF(BZ2652>0.03*BT$2703,0,$C2652/60)))","v":{"$error":"#VALUE!"}},{"$f":"IF(SUM(CJ$1262:CJ2651)>0,0,IF(MAX(CB2652:CB$2702)=MAX(CB$1262:CB$2702),0,IF(BZ2652>0.01*BT$2703,0,$C2652/60)))","v":{"$error":"#VALUE!"}},0,0,0,0,{"$error":"#VALUE!"},{"$error":"#VALUE!"},{"$error":"#VALUE!"},{"$error":"#VALUE!"},{"$error":"#VALUE!"},{"$error":"#VALUE!"},{"$error":"#VALUE!"},{"$error":"#VALUE!"},{"$error":"#VALUE!"},{"$error":"#VALUE!"},{"$error":"#VALUE!"},{"$f":"IF(SUM(CZ$1262:CZ2651)>0,0,IF(MAX(CS2652:CS$2702)=MAX(CS$1262:CS$2702),0,IF(CQ2652>0.03*CK$2703,0,$C2652/60)))","v":{"$error":"#VALUE!"}},{"$f":"IF(SUM(DA$1262:DA2651)>0,0,IF(MAX(CS2652:CS$2702)=MAX(CS$1262:CS$2702),0,IF(CQ2652>0.01*CK$2703,0,$C2652/60)))","v":{"$error":"#VALUE!"}}]
[null,116.16666666666667,6970,0,0,0,0,0,0,0,0,0,{"$error":"#N/A"},{"$error":"#N/A"},{"$error":"#N/A"},{"$error":"#N/A"},{"$error":"#N/A"},{"$error":"#N/A"},{"$f":"IF(SUM(S$1262:S2655)>0,0,\nIF(MAX(L2656:L$2702)=MAX(L$1262:L$2702),0,\nIF(Hydrograph_Source_WQCV=\"USER\",IF(J2656>0.03*D$2703,0,$C2656/60),\nIF(J2656>0.03*J$2703,0,$C2656/60))))","v":0},{"$f":"IF(SUM(T$1262:T2655)>0,0,\nIF(MAX(L2656:L$2702)=MAX(L$1262:L$2702),0,\nIF(Hydrograph_Source_WQCV=\"USER\",IF(J2656>0.01*D$2703,0,$C2656/60),\nIF(J2656>0.01*J$2703,0,$C2656/60))))","v":0},0,0,0,0,{"$error":"#VALUE!"},{"$error":"#VALUE!"},{"$error":"#VALUE!"},{"$error":"#VALUE!"},{"$error":"#VALUE!"},{"$error":"#VALUE!"},{"$error":"#VALUE!"},{"$error":"#VALUE!"},{"$error":"#VALUE!"},{"$error":"#VALUE!"},{"$error":"#VALUE!"},{"$f":"IF(SUM(AJ$1262:AJ2655)>0,0,IF(MAX(AC2656:AC$2702)=MAX(AC$1262:AC$2702),0,IF(AA2656>0.03*U$2703,0,$C2656/60)))","v":{"$error":"#VALUE!"}},{"$f":"IF(SUM(AK$1262:AK2655)>0,0,IF(MAX(AC2656:AC$2702)=MAX(AC$1262:AC$2702),0,IF(AA2656>0.01*U$2703,0,$C2656/60)))","v":{"$error":"#VALUE!"}},0,0,0,0,{"$error":"#VALUE!"},{"$error":"#VALUE!"},{"$error":"#VALUE!"},{"$error":"#VALUE!"},{"$error":"#VALUE!"},{"$error":"#VALUE!"},{"$error":"#VALUE!"},{"$error":"#VALUE!"},{"$error":"#VALUE!"},{"$error":"#VALUE!"},{"$error":"#VALUE!"},{"$f":"IF(SUM(BA$1262:BA2655)>0,0,IF(MAX(AT2656:AT$2702)=MAX(AT$1262:AT$2702),0,IF(AR2656>0.03*AL$2703,0,$C2656/60)))","v":{"$error":"#VALUE!"}},{"$f":"IF(SUM(BB$1262:BB2655)>0,0,IF(MAX(AT2656:AT$2702)=MAX(AT$1262:AT$2702),0,IF(AR2656>0.01*AL$2703,0,$C2656/60)))","v":{"$error":"#VALUE!"}},0,0,0,0,{"$error":"#VALUE!"},{"$error":"#VALUE!"},{"$error":"#VALUE!"},{"$error":"#VALUE!"},{"$error":"#VALUE!"},{"$error":"#VALUE!"},{"$error":"#VALUE!"},{"$error":"#VALUE!"},{"$error":"#VALUE!"},{"$error":"#VALUE!"},{"$error":"#VALUE!"},{"$f":"IF(SUM(BR$1262:BR2655)>0,0,IF(MAX(BK2656:BK$2702)=MAX(BK$1262:BK$2702),0,IF(BI2656>0.03*BC$2703,0,$C2656/60)))","v":{"$error":"#VALUE!"}},{"$f":"IF(SUM(BS$1262:BS2655)>0,0,IF(MAX(BK2656:BK$2702)=MAX(BK$1262:BK$2702),0,IF(BI2656>0.01*BC$2703,0,$C2656/60)))","v":{"$error":"#VALUE!"}},0,0,0,0,{"$error":"#VALUE!"},{"$error":"#VALUE!"},{"$error":"#VALUE!"},{"$error":"#VALUE!"},{"$error":"#VALUE!"},{"$error":"#VALUE!"},{"$error":"#VALUE!"},{"$error":"#VALUE!"},{"$error":"#VALUE!"},{"$error":"#VALUE!"},{"$error":"#VALUE!"},{"$f":"IF(SUM(CI$1262:CI2655)>0,0,IF(MAX(CB2656:CB$2702)=MAX(CB$1262:CB$2702),0,IF(BZ2656>0.03*BT$2703,0,$C2656/60)))","v":{"$error":"#VALUE!"}},{"$f":"IF(SUM(CJ$1262:CJ2655)>0,0,IF(MAX(CB2656:CB$2702)=MAX(CB$1262:CB$2702),0,IF(BZ2656>0.01*BT$2703,0,$C2656/60)))","v":{"$error":"#VALUE!"}},0,0,0,0,{"$error":"#VALUE!"},{"$error":"#VALUE!"},{"$error":"#VALUE!"},{"$error":"#VALUE!"},{"$error":"#VALUE!"},{"$error":"#VALUE!"},{"$error":"#VALUE!"},{"$error":"#VALUE!"},{"$error":"#VALUE!"},{"$error":"#VALUE!"},{"$error":"#VALUE!"},{"$f":"IF(SUM(CZ$1262:CZ2655)>0,0,IF(MAX(CS2656:CS$2702)=MAX(CS$1262:CS$2702),0,IF(CQ2656>0.03*CK$2703,0,$C2656/60)))","v":{"$error":"#VALUE!"}},{"$f":"IF(SUM(DA$1262:DA2655)>0,0,IF(MAX(CS2656:CS$2702)=MAX(CS$1262:CS$2702),0,IF(CQ2656>0.01*CK$2703,0,$C2656/60)))","v":{"$error":"#VALUE!"}}]
[null,116.25,6975,0,0,0,0,0,0,0,0,0,{"$error":"#N/A"},{"$error":"#N/A"},{"$error":"#N/A"},{"$error":"#N/A"},{"$error":"#N/A"},{"$error":"#N/A"},{"$f":"IF(SUM(S$1262:S2656)>0,0,\nIF(MAX(L2657:L$2702)=MAX(L$1262:L$2702),0,\nIF(Hydrograph_Source_WQCV=\"USER\",IF(J2657>0.03*D$2703,0,$C2657/60),\nIF(J2657>0.03*J$2703,0,$C2657/60))))","v":0},{"$f":"IF(SUM(T$1262:T2656)>0,0,\nIF(MAX(L2657:L$2702)=MAX(L$1262:L$2702),0,\nIF(Hydrograph_Source_WQCV=\"USER\",IF(J2657>0.01*D$2703,0,$C2657/60),\nIF(J2657>0.01*J$2703,0,$C2657/60))))","v":0},0,0,0,0,{"$error":"#VALUE!"},{"$error":"#VALUE!"},{"$error":"#VALUE!"},{"$error":"#VALUE!"},{"$error":"#VALUE!"},{"$error":"#VALUE!"},{"$error":"#VALUE!"},{"$error":"#VALUE!"},{"$error":"#VALUE!"},{"$error":"#VALUE!"},{"$error":"#VALUE!"},{"$f":"IF(SUM(AJ$1262:AJ2656)>0,0,IF(MAX(AC2657:AC$2702)=MAX(AC$1262:AC$2702),0,IF(AA2657>0.03*U$2703,0,$C2657/60)))","v":{"$error":"#VALUE!"}},{"$f":"IF(SUM(AK$1262:AK2656)>0,0,IF(MAX(AC2657:AC$2702)=MAX(AC$1262:AC$2702),0,IF(AA2657>0.01*U$2703,0,$C2657/60)))","v":{"$error":"#VALUE!"}},0,0,0,0,{"$error":"#VALUE!"},{"$error":"#VALUE!"},{"$error":"#VALUE!"},{"$error":"#VALUE!"},{"$error":"#VALUE!"},{"$error":"#VALUE!"},{"$error":"#VALUE!"},{"$error":"#VALUE!"},{"$error":"#VALUE!"},{"$error":"#VALUE!"},{"$error":"#VALUE!"},{"$f":"IF(SUM(BA$1262:BA2656)>0,0,IF(MAX(AT2657:AT$2702)=MAX(AT$1262:AT$2702),0,IF(AR2657>0.03*AL$2703,0,$C2657/60)))","v":{"$error":"#VALUE!"}},{"$f":"IF(SUM(BB$1262:BB2656)>0,0,IF(MAX(AT2657:AT$2702)=MAX(AT$1262:AT$2702),0,IF(AR2657>0.01*AL$2703,0,$C2657/60)))","v":{"$error":"#VALUE!"}},0,0,0,0,{"$error":"#VALUE!"},{"$error":"#VALUE!"},{"$error":"#VALUE!"},{"$error":"#VALUE!"},{"$error":"#VALUE!"},{"$error":"#VALUE!"},{"$error":"#VALUE!"},{"$error":"#VALUE!"},{"$error":"#VALUE!"},{"$error":"#VALUE!"},{"$error":"#VALUE!"},{"$f":"IF(SUM(BR$1262:BR2656)>0,0,IF(MAX(BK2657:BK$2702)=MAX(BK$1262:BK$2702),0,IF(BI2657>0.03*BC$2703,0,$C2657/60)))","v":{"$error":"#VALUE!"}},{"$f":"IF(SUM(BS$1262:BS2656)>0,0,IF(MAX(BK2657:BK$2702)=MAX(BK$1262:BK$2702),0,IF(BI2657>0.01*BC$2703,0,$C2657/60)))","v":{"$error":"#VALUE!"}},0,0,0,0,{"$error":"#VALUE!"},{"$error":"#VALUE!"},{"$error":"#VALUE!"},{"$error":"#VALUE!"},{"$error":"#VALUE!"},{"$error":"#VALUE!"},{"$error":"#VALUE!"},{"$error":"#VALUE!"},{"$error":"#VALUE!"},{"$error":"#VALUE!"},{"$error":"#VALUE!"},{"$f":"IF(SUM(CI$1262:CI2656)>0,0,IF(MAX(CB2657:CB$2702)=MAX(CB$1262:CB$2702),0,IF(BZ2657>0.03*BT$2703,0,$C2657/60)))","v":{"$error":"#VALUE!"}},{"$f":"IF(SUM(CJ$1262:CJ2656)>0,0,IF(MAX(CB2657:CB$2702)=MAX(CB$1262:CB$2702),0,IF(BZ2657>0.01*BT$2703,0,$C2657/60)))","v":{"$error":"#VALUE!"}},0,0,0,0,{"$error":"#VALUE!"},{"$error":"#VALUE!"},{"$error":"#VALUE!"},{"$error":"#VALUE!"},{"$error":"#VALUE!"},{"$error":"#VALUE!"},{"$error":"#VALUE!"},{"$error":"#VALUE!"},{"$error":"#VALUE!"},{"$error":"#VALUE!"},{"$error":"#VALUE!"},{"$f":"IF(SUM(CZ$1262:CZ2656)>0,0,IF(MAX(CS2657:CS$2702)=MAX(CS$1262:CS$2702),0,IF(CQ2657>0.03*CK$2703,0,$C2657/60)))","v":{"$error":"#VALUE!"}},{"$f":"IF(SUM(DA$1262:DA2656)>0,0,IF(MAX(CS2657:CS$2702)=MAX(CS$1262:CS$2702),0,IF(CQ2657>0.01*CK$2703,0,$C2657/60)))","v":{"$error":"#VALUE!"}}]
[null,116.33333333333333,6980,0,0,0,0,0,0,0,0,0,{"$error":"#N/A"},{"$error":"#N/A"},{"$error":"#N/A"},{"$error":"#N/A"},{"$error":"#N/A"},{"$error":"#N/A"},{"$f":"IF(SUM(S$1262:S2657)>0,0,\nIF(MAX(L2658:L$2702)=MAX(L$1262:L$2702),0,\nIF(Hydrograph_Source_WQCV=\"USER\",IF(J2658>0.03*D$2703,0,$C2658/60),\nIF(J2658>0.03*J$2703,0,$C2658/60))))","v":0},{"$f":"IF(SUM(T$1262:T2657)>0,0,\nIF(MAX(L2658:L$2702)=MAX(L$1262:L$2702),0,\nIF(Hydrograph_Source_WQCV=\"USER\",IF(J2658>0.01*D$2703,0,$C2658/60),\nIF(J2658>0.01*J$2703,0,$C2658/60))))","v":0},0,0,0,0,{"$error":"#VALUE!"},{"$error":"#VALUE!"},{"$error":"#VALUE!"},{"$error":"#VALUE!"},{"$error":"#VALUE!"},{"$error":"#VALUE!"},{"$error":"#VALUE!"},{"$error":"#VALUE!"},{"$error":"#VALUE!"},{"$error":"#VALUE!"},{"$error":"#VALUE!"},{"$f":"IF(SUM(AJ$1262:AJ2657)>0,0,IF(MAX(AC2658:AC$2702)=MAX(AC$1262:AC$2702),0,IF(AA2658>0.03*U$2703,0,$C2658/60)))","v":{"$error":"#VALUE!"}},{"$f":"IF(SUM(AK$1262:AK2657)>0,0,IF(MAX(AC2658:AC$2702)=MAX(AC$1262:AC$2702),0,IF(AA2658>0.01*U$2703,0,$C2658/60)))","v":{"$error":"#VALUE!"}},0,0,0,0,{"$error":"#VALUE!"},{"$error":"#VALUE!"},{"$error":"#VALUE!"},{"$error":"#VALUE!"},{"$error":"#VALUE!"},{"$error":"#VALUE!"},{"$error":"#VALUE!"},{"$error":"#VALUE!"},{"$error":"#VALUE!"},{"$error":"#VALUE!"},{"$error":"#VALUE!"},{"$f":"IF(SUM(BA$1262:BA2657)>0,0,IF(MAX(AT2658:AT$2702)=MAX(AT$1262:AT$2702),0,IF(AR2658>0.03*AL$2703,0,$C2658/60)))","v":{"$error":"#VALUE!"}},{"$f":"IF(SUM(BB$1262:BB2657)>0,0,IF(MAX(AT2658:AT$2702)=MAX(AT$1262:AT$2702),0,IF(AR2658>0.01*AL$2703,0,$C2658/60)))","v":{"$error":"#VALUE!"}},0,0,0,0,{"$error":"#VALUE!"},{"$error":"#VALUE!"},{"$error":"#VALUE!"},{"$error":"#VALUE!"},{"$error":"#VALUE!"},{"$error":"#VALUE!"},{"$error":"#VALUE!"},{"$error":"#VALUE!"},{"$error":"#VALUE!"},{"$error":"#VALUE!"},{"$error":"#VALUE!"},{"$f":"IF(SUM(BR$1262:BR2657)>0,0,IF(MAX(BK2658:BK$2702)=MAX(BK$1262:BK$2702),0,IF(BI2658>0.03*BC$2703,0,$C2658/60)))","v":{"$error":"#VALUE!"}},{"$f":"IF(SUM(BS$1262:BS2657)>0,0,IF(MAX(BK2658:BK$2702)=MAX(BK$1262:BK$2702),0,IF(BI2658>0.01*BC$2703,0,$C2658/60)))","v":{"$error":"#VALUE!"}},0,0,0,0,{"$error":"#VALUE!"},{"$error":"#VALUE!"},{"$error":"#VALUE!"},{"$error":"#VALUE!"},{"$error":"#VALUE!"},{"$error":"#VALUE!"},{"$error":"#VALUE!"},{"$error":"#VALUE!"},{"$error":"#VALUE!"},{"$error":"#VALUE!"},{"$error":"#VALUE!"},{"$f":"IF(SUM(CI$1262:CI2657)>0,0,IF(MAX(CB2658:CB$2702)=MAX(CB$1262:CB$2702),0,IF(BZ2658>0.03*BT$2703,0,$C2658/60)))","v":{"$error":"#VALUE!"}},{"$f":"IF(SUM(CJ$1262:CJ2657)>0,0,IF(MAX(CB2658:CB$2702)=MAX(CB$1262:CB$2702),0,IF(BZ2658>0.01*BT$2703,0,$C2658/60)))","v":{"$error":"#VALUE!"}},0,0,0,0,{"$error":"#VALUE!"},{"$error":"#VALUE!"},{"$error":"#VALUE!"},{"$error":"#VALUE!"},{"$error":"#VALUE!"},{"$error":"#VALUE!"},{"$error":"#VALUE!"},{"$error":"#VALUE!"},{"$error":"#VALUE!"},{"$error":"#VALUE!"},{"$error":"#VALUE!"},{"$f":"IF(SUM(CZ$1262:CZ2657)>0,0,IF(MAX(CS2658:CS$2702)=MAX(CS$1262:CS$2702),0,IF(CQ2658>0.03*CK$2703,0,$C2658/60)))","v":{"$error":"#VALUE!"}},{"$f":"IF(SUM(DA$1262:DA2657)>0,0,IF(MAX(CS2658:CS$2702)=MAX(CS$1262:CS$2702),0,IF(CQ2658>0.01*CK$2703,0,$C2658/60)))","v":{"$error":"#VALUE!"}}]
[null,116.41666666666667,6985,0,0,0,0,0,0,0,0,0,{"$error":"#N/A"},{"$error":"#N/A"},{"$error":"#N/A"},{"$error":"#N/A"},{"$error":"#N/A"},{"$error":"#N/A"},{"$f":"IF(SUM(S$1262:S2658)>0,0,\nIF(MAX(L2659:L$2702)=MAX(L$1262:L$2702),0,\nIF(Hydrograph_Source_WQCV=\"USER\",IF(J2659>0.03*D$2703,0,$C2659/60),\nIF(J2659>0.03*J$2703,0,$C2659/60))))","v":0},{"$f":"IF(SUM(T$1262:T2658)>0,0,\nIF(MAX(L2659:L$2702)=MAX(L$1262:L$2702),0,\nIF(Hydrograph_Source_WQCV=\"USER\",IF(J2659>0.01*D$2703,0,$C2659/60),\nIF(J2659>0.01*J$2703,0,$C2659/60))))","v":0},0,0,0,0,{"$error":"#VALUE!"},{"$error":"#VALUE!"},{"$error":"#VALUE!"},{"$error":"#VALUE!"},{"$error":"#VALUE!"},{"$error":"#VALUE!"},{"$error":"#VALUE!"},{"$error":"#VALUE!"},{"$error":"#VALUE!"},{"$error":"#VALUE!"},{"$error":"#VALUE!"},{"$f":"IF(SUM(AJ$1262:AJ2658)>0,0,IF(MAX(AC2659:AC$2702)=MAX(AC$1262:AC$2702),0,IF(AA2659>0.03*U$2703,0,$C2659/60)))","v":{"$error":"#VALUE!"}},{"$f":"IF(SUM(AK$1262:AK2658)>0,0,IF(MAX(AC2659:AC$2702)=MAX(AC$1262:AC$2702),0,IF(AA2659>0.01*U$2703,0,$C2659/60)))","v":{"$error":"#VALUE!"}},0,0,0,0,{"$error":"#VALUE!"},{"$error":"#VALUE!"},{"$error":"#VALUE!"},{"$error":"#VALUE!"},{"$error":"#VALUE!"},{"$error":"#VALUE!"},{"$error":"#VALUE!"},{"$error":"#VALUE!"},{"$error":"#VALUE!"},{"$error":"#VALUE!"},{"$error":"#VALUE!"},{"$f":"IF(SUM(BA$1262:BA2658)>0,0,IF(MAX(AT2659:AT$2702)=MAX(AT$1262:AT$2702),0,IF(AR2659>0.03*AL$2703,0,$C2659/60)))","v":{"$error":"#VALUE!"}},{"$f":"IF(SUM(BB$1262:BB2658)>0,0,IF(MAX(AT2659:AT$2702)=MAX(AT$1262:AT$2702),0,IF(AR2659>0.01*AL$2703,0,$C2659/60)))","v":{"$error":"#VALUE!"}},0,0,0,0,{"$error":"#VALUE!"},{"$error":"#VALUE!"},{"$error":"#VALUE!"},{"$error":"#VALUE!"},{"$error":"#VALUE!"},{"$error":"#VALUE!"},{"$error":"#VALUE!"},{"$error":"#VALUE!"},{"$error":"#VALUE!"},{"$error":"#VALUE!"},{"$error":"#VALUE!"},{"$f":"IF(SUM(BR$1262:BR2658)>0,0,IF(MAX(BK2659:BK$2702)=MAX(BK$1262:BK$2702),0,IF(BI2659>0.03*BC$2703,0,$C2659/60)))","v":{"$error":"#VALUE!"}},{"$f":"IF(SUM(BS$1262:BS2658)>0,0,IF(MAX(BK2659:BK$2702)=MAX(BK$1262:BK$2702),0,IF(BI2659>0.01*BC$2703,0,$C2659/60)))","v":{"$error":"#VALUE!"}},0,0,0,0,{"$error":"#VALUE!"},{"$error":"#VALUE!"},{"$error":"#VALUE!"},{"$error":"#VALUE!"},{"$error":"#VALUE!"},{"$error":"#VALUE!"},{"$error":"#VALUE!"},{"$error":"#VALUE!"},{"$error":"#VALUE!"},{"$error":"#VALUE!"},{"$error":"#VALUE!"},{"$f":"IF(SUM(CI$1262:CI2658)>0,0,IF(MAX(CB2659:CB$2702)=MAX(CB$1262:CB$2702),0,IF(BZ2659>0.03*BT$2703,0,$C2659/60)))","v":{"$error":"#VALUE!"}},{"$f":"IF(SUM(CJ$1262:CJ2658)>0,0,IF(MAX(CB2659:CB$2702)=MAX(CB$1262:CB$2702),0,IF(BZ2659>0.01*BT$2703,0,$C2659/60)))","v":{"$error":"#VALUE!"}},0,0,0,0,{"$error":"#VALUE!"},{"$error":"#VALUE!"},{"$error":"#VALUE!"},{"$error":"#VALUE!"},{"$error":"#VALUE!"},{"$error":"#VALUE!"},{"$error":"#VALUE!"},{"$error":"#VALUE!"},{"$error":"#VALUE!"},{"$error":"#VALUE!"},{"$error":"#VALUE!"},{"$f":"IF(SUM(CZ$1262:CZ2658)>0,0,IF(MAX(CS2659:CS$2702)=MAX(CS$1262:CS$2702),0,IF(CQ2659>0.03*CK$2703,0,$C2659/60)))","v":{"$error":"#VALUE!"}},{"$f":"IF(SUM(DA$1262:DA2658)>0,0,IF(MAX(CS2659:CS$2702)=MAX(CS$1262:CS$2702),0,IF(CQ2659>0.01*CK$2703,0,$C2659/60)))","v":{"$error":"#VALUE!"}}]
[null,116.5,6990,0,0,0,0,0,0,0,0,0,{"$error":"#N/A"},{"$error":"#N/A"},{"$error":"#N/A"},{"$error":"#N/A"},{"$error":"#N/A"},{"$error":"#N/A"},{"$f":"IF(SUM(S$1262:S2659)>0,0,\nIF(MAX(L2660:L$2702)=MAX(L$1262:L$2702),0,\nIF(Hydrograph_Source_WQCV=\"USER\",IF(J2660>0.03*D$2703,0,$C2660/60),\nIF(J2660>0.03*J$2703,0,$C2660/60))))","v":0},{"$f":"IF(SUM(T$1262:T2659)>0,0,\nIF(MAX(L2660:L$2702)=MAX(L$1262:L$2702),0,\nIF(Hydrograph_Source_WQCV=\"USER\",IF(J2660>0.01*D$2703,0,$C2660/60),\nIF(J2660>0.01*J$2703,0,$C2660/60))))","v":0},0,0,0,0,{"$error":"#VALUE!"},{"$error":"#VALUE!"},{"$error":"#VALUE!"},{"$error":"#VALUE!"},{"$error":"#VALUE!"},{"$error":"#VALUE!"},{"$error":"#VALUE!"},{"$error":"#VALUE!"},{"$error":"#VALUE!"},{"$error":"#VALUE!"},{"$error":"#VALUE!"},{"$f":"IF(SUM(AJ$1262:AJ2659)>0,0,IF(MAX(AC2660:AC$2702)=MAX(AC$1262:AC$2702),0,IF(AA2660>0.03*U$2703,0,$C2660/60)))","v":{"$error":"#VALUE!"}},{"$f":"IF(SUM(AK$1262:AK2659)>0,0,IF(MAX(AC2660:AC$2702)=MAX(AC$1262:AC$2702),0,IF(AA2660>0.01*U$2703,0,$C2660/60)))","v":{"$error":"#VALUE!"}},0,0,0,0,{"$error":"#VALUE!"},{"$error":"#VALUE!"},{"$error":"#VALUE!"},{"$error":"#VALUE!"},{"$error":"#VALUE!"},{"$error":"#VALUE!"},{"$error":"#VALUE!"},{"$error":"#VALUE!"},{"$error":"#VALUE!"},{"$error":"#VALUE!"},{"$error":"#VALUE!"},{"$f":"IF(SUM(BA$1262:BA2659)>0,0,IF(MAX(AT2660:AT$2702)=MAX(AT$1262:AT$2702),0,IF(AR2660>0.03*AL$2703,0,$C2660/60)))","v":{"$error":"#VALUE!"}},{"$f":"IF(SUM(BB$1262:BB2659)>0,0,IF(MAX(AT2660:AT$2702)=MAX(AT$1262:AT$2702),0,IF(AR2660>0.01*AL$2703,0,$C2660/60)))","v":{"$error":"#VALUE!"}},0,0,0,0,{"$error":"#VALUE!"},{"$error":"#VALUE!"},{"$error":"#VALUE!"},{"$error":"#VALUE!"},{"$error":"#VALUE!"},{"$error":"#VALUE!"},{"$error":"#VALUE!"},{"$error":"#VALUE!"},{"$error":"#VALUE!"},{"$error":"#VALUE!"},{"$error":"#VALUE!"},{"$f":"IF(SUM(BR$1262:BR2659)>0,0,IF(MAX(BK2660:BK$2702)=MAX(BK$1262:BK$2702),0,IF(BI2660>0.03*BC$2703,0,$C2660/60)))","v":{"$error":"#VALUE!"}},{"$f":"IF(SUM(BS$1262:BS2659)>0,0,IF(MAX(BK2660:BK$2702)=MAX(BK$1262:BK$2702),0,IF(BI2660>0.01*BC$2703,0,$C2660/60)))","v":{"$error":"#VALUE!"}},0,0,0,0,{"$error":"#VALUE!"},{"$error":"#VALUE!"},{"$error":"#VALUE!"},{"$error":"#VALUE!"},{"$error":"#VALUE!"},{"$error":"#VALUE!"},{"$error":"#VALUE!"},{"$error":"#VALUE!"},{"$error":"#VALUE!"},{"$error":"#VALUE!"},{"$error":"#VALUE!"},{"$f":"IF(SUM(CI$1262:CI2659)>0,0,IF(MAX(CB2660:CB$2702)=MAX(CB$1262:CB$2702),0,IF(BZ2660>0.03*BT$2703,0,$C2660/60)))","v":{"$error":"#VALUE!"}},{"$f":"IF(SUM(CJ$1262:CJ2659)>0,0,IF(MAX(CB2660:CB$2702)=MAX(CB$1262:CB$2702),0,IF(BZ2660>0.01*BT$2703,0,$C2660/60)))","v":{"$error":"#VALUE!"}},0,0,0,0,{"$error":"#VALUE!"},{"$error":"#VALUE!"},{"$error":"#VALUE!"},{"$error":"#VALUE!"},{"$error":"#VALUE!"},{"$error":"#VALUE!"},{"$error":"#VALUE!"},{"$error":"#VALUE!"},{"$error":"#VALUE!"},{"$error":"#VALUE!"},{"$error":"#VALUE!"},{"$f":"IF(SUM(CZ$1262:CZ2659)>0,0,IF(MAX(CS2660:CS$2702)=MAX(CS$1262:CS$2702),0,IF(CQ2660>0.03*CK$2703,0,$C2660/60)))","v":{"$error":"#VALUE!"}},{"$f":"IF(SUM(DA$1262:DA2659)>0,0,IF(MAX(CS2660:CS$2702)=MAX(CS$1262:CS$2702),0,IF(CQ2660>0.01*CK$2703,0,$C2660/60)))","v":{"$error":"#VALUE!"}}]
[null,116.58333333333333,6995,0,0,0,0,0,0,0,0,0,{"$error":"#N/A"},{"$error":"#N/A"},{"$error":"#N/A"},{"$error":"#N/A"},{"$error":"#N/A"},{"$error":"#N/A"},{"$f":"IF(SUM(S$1262:S2660)>0,0,\nIF(MAX(L2661:L$2702)=MAX(L$1262:L$2702),0,\nIF(Hydrograph_Source_WQCV=\"USER\",IF(J2661>0.03*D$2703,0,$C2661/60),\nIF(J2661>0.03*J$2703,0,$C2661/60))))","v":0},{"$f":"IF(SUM(T$1262:T2660)>0,0,\nIF(MAX(L2661:L$2702)=MAX(L$1262:L$2702),0,\nIF(Hydrograph_Source_WQCV=\"USER\",IF(J2661>0.01*D$2703,0,$C2661/60),\nIF(J2661>0.01*J$2703,0,$C2661/60))))","v":0},0,0,0,0,{"$error":"#VALUE!"},{"$error":"#VALUE!"},{"$error":"#VALUE!"},{"$error":"#VALUE!"},{"$error":"#VALUE!"},{"$error":"#VALUE!"},{"$error":"#VALUE!"},{"$error":"#VALUE!"},{"$error":"#VALUE!"},{"$error":"#VALUE!"},{"$error":"#VALUE!"},{"$f":"IF(SUM(AJ$1262:AJ2660)>0,0,IF(MAX(AC2661:AC$2702)=MAX(AC$1262:AC$2702),0,IF(AA2661>0.03*U$2703,0,$C2661/60)))","v":{"$error":"#VALUE!"}},{"$f":"IF(SUM(AK$1262:AK2660)>0,0,IF(MAX(AC2661:AC$2702)=MAX(AC$1262:AC$2702),0,IF(AA2661>0.01*U$2703,0,$C2661/60)))","v":{"$error":"#VALUE!"}},0,0,0,0,{"$error":"#VALUE!"},{"$error":"#VALUE!"},{"$error":"#VALUE!"},{"$error":"#VALUE!"},{"$error":"#VALUE!"},{"$error":"#VALUE!"},{"$error":"#VALUE!"},{"$error":"#VALUE!"},{"$error":"#VALUE!"},{"$error":"#VALUE!"},{"$error":"#VALUE!"},{"$f":"IF(SUM(BA$1262:BA2660)>0,0,IF(MAX(AT2661:AT$2702)=MAX(AT$1262:AT$2702),0,IF(AR2661>0.03*AL$2703,0,$C2661/60)))","v":{"$error":"#VALUE!"}},{"$f":"IF(SUM(BB$1262:BB2660)>0,0,IF(MAX(AT2661:AT$2702)=MAX(AT$1262:AT$2702),0,IF(AR2661>0.01*AL$2703,0,$C2661/60)))","v":{"$error":"#VALUE!"}},0,0,0,0,{"$error":"#VALUE!"},{"$error":"#VALUE!"},{"$error":"#VALUE!"},{"$error":"#VALUE!"},{"$error":"#VALUE!"},{"$error":"#VALUE!"},{"$error":"#VALUE!"},{"$error":"#VALUE!"},{"$error":"#VALUE!"},{"$error":"#VALUE!"},{"$error":"#VALUE!"},{"$f":"IF(SUM(BR$1262:BR2660)>0,0,IF(MAX(BK2661:BK$2702)=MAX(BK$1262:BK$2702),0,IF(BI2661>0.03*BC$2703,0,$C2661/60)))","v":{"$error":"#VALUE!"}},{"$f":"IF(SUM(BS$1262:BS2660)>0,0,IF(MAX(BK2661:BK$2702)=MAX(BK$1262:BK$2702),0,IF(BI2661>0.01*BC$2703,0,$C2661/60)))","v":{"$error":"#VALUE!"}},0,0,0,0,{"$error":"#VALUE!"},{"$error":"#VALUE!"},{"$error":"#VALUE!"},{"$error":"#VALUE!"},{"$error":"#VALUE!"},{"$error":"#VALUE!"},{"$error":"#VALUE!"},{"$error":"#VALUE!"},{"$error":"#VALUE!"},{"$error":"#VALUE!"},{"$error":"#VALUE!"},{"$f":"IF(SUM(CI$1262:CI2660)>0,0,IF(MAX(CB2661:CB$2702)=MAX(CB$1262:CB$2702),0,IF(BZ2661>0.03*BT$2703,0,$C2661/60)))","v":{"$error":"#VALUE!"}},{"$f":"IF(SUM(CJ$1262:CJ2660)>0,0,IF(MAX(CB2661:CB$2702)=MAX(CB$1262:CB$2702),0,IF(BZ2661>0.01*BT$2703,0,$C2661/60)))","v":{"$error":"#VALUE!"}},0,0,0,0,{"$error":"#VALUE!"},{"$error":"#VALUE!"},{"$error":"#VALUE!"},{"$error":"#VALUE!"},{"$error":"#VALUE!"},{"$error":"#VALUE!"},{"$error":"#VALUE!"},{"$error":"#VALUE!"},{"$error":"#VALUE!"},{"$error":"#VALUE!"},{"$error":"#VALUE!"},{"$f":"IF(SUM(CZ$1262:CZ2660)>0,0,IF(MAX(CS2661:CS$2702)=MAX(CS$1262:CS$2702),0,IF(CQ2661>0.03*CK$2703,0,$C2661/60)))","v":{"$error":"#VALUE!"}},{"$f":"IF(SUM(DA$1262:DA2660)>0,0,IF(MAX(CS2661:CS$2702)=MAX(CS$1262:CS$2702),0,IF(CQ2661>0.01*CK$2703,0,$C2661/60)))","v":{"$error":"#VALUE!"}}]
[null,116.66666666666667,7000,0,0,0,0,0,0,0,0,0,{"$error":"#N/A"},{"$error":"#N/A"},{"$error":"#N/A"},{"$error":"#N/A"},{"$error":"#N/A"},{"$error":"#N/A"},{"$f":"IF(SUM(S$1262:S2661)>0,0,\nIF(MAX(L2662:L$2702)=MAX(L$1262:L$2702),0,\nIF(Hydrograph_Source_WQCV=\"USER\",IF(J2662>0.03*D$2703,0,$C2662/60),\nIF(J2662>0.03*J$2703,0,$C2662/60))))","v":0},{"$f":"IF(SUM(T$1262:T2661)>0,0,\nIF(MAX(L2662:L$2702)=MAX(L$1262:L$2702),0,\nIF(Hydrograph_Source_WQCV=\"USER\",IF(J2662>0.01*D$2703,0,$C2662/60),\nIF(J2662>0.01*J$2703,0,$C2662/60))))","v":0},0,0,0,0,{"$error":"#VALUE!"},{"$error":"#VALUE!"},{"$error":"#VALUE!"},{"$error":"#VALUE!"},{"$error":"#VALUE!"},{"$error":"#VALUE!"},{"$error":"#VALUE!"},{"$error":"#VALUE!"},{"$error":"#VALUE!"},{"$error":"#VALUE!"},{"$error":"#VALUE!"},{"$f":"IF(SUM(AJ$1262:AJ2661)>0,0,IF(MAX(AC2662:AC$2702)=MAX(AC$1262:AC$2702),0,IF(AA2662>0.03*U$2703,0,$C2662/60)))","v":{"$error":"#VALUE!"}},{"$f":"IF(SUM(AK$1262:AK2661)>0,0,IF(MAX(AC2662:AC$2702)=MAX(AC$1262:AC$2702),0,IF(AA2662>0.01*U$2703,0,$C2662/60)))","v":{"$error":"#VALUE!"}},0,0,0,0,{"$error":"#VALUE!"},{"$error":"#VALUE!"},{"$error":"#VALUE!"},{"$error":"#VALUE!"},{"$error":"#VALUE!"},{"$error":"#VALUE!"},{"$error":"#VALUE!"},{"$error":"#VALUE!"},{"$error":"#VALUE!"},{"$error":"#VALUE!"},{"$error":"#VALUE!"},{"$f":"IF(SUM(BA$1262:BA2661)>0,0,IF(MAX(AT2662:AT$2702)=MAX(AT$1262:AT$2702),0,IF(AR2662>0.03*AL$2703,0,$C2662/60)))","v":{"$error":"#VALUE!"}},{"$f":"IF(SUM(BB$1262:BB2661)>0,0,IF(MAX(AT2662:AT$2702)=MAX(AT$1262:AT$2702),0,IF(AR2662>0.01*AL$2703,0,$C2662/60)))","v":{"$error":"#VALUE!"}},0,0,0,0,{"$error":"#VALUE!"},{"$error":"#VALUE!"},{"$error":"#VALUE!"},{"$error":"#VALUE!"},{"$error":"#VALUE!"},{"$error":"#VALUE!"},{"$error":"#VALUE!"},{"$error":"#VALUE!"},{"$error":"#VALUE!"},{"$error":"#VALUE!"},{"$error":"#VALUE!"},{"$f":"IF(SUM(BR$1262:BR2661)>0,0,IF(MAX(BK2662:BK$2702)=MAX(BK$1262:BK$2702),0,IF(BI2662>0.03*BC$2703,0,$C2662/60)))","v":{"$error":"#VALUE!"}},{"$f":"IF(SUM(BS$1262:BS2661)>0,0,IF(MAX(BK2662:BK$2702)=MAX(BK$1262:BK$2702),0,IF(BI2662>0.01*BC$2703,0,$C2662/60)))","v":{"$error":"#VALUE!"}},0,0,0,0,{"$error":"#VALUE!"},{"$error":"#VALUE!"},{"$error":"#VALUE!"},{"$error":"#VALUE!"},{"$error":"#VALUE!"},{"$error":"#VALUE!"},{"$error":"#VALUE!"},{"$error":"#VALUE!"},{"$error":"#VALUE!"},{"$error":"#VALUE!"},{"$error":"#VALUE!"},{"$f":"IF(SUM(CI$1262:CI2661)>0,0,IF(MAX(CB2662:CB$2702)=MAX(CB$1262:CB$2702),0,IF(BZ2662>0.03*BT$2703,0,$C2662/60)))","v":{"$error":"#VALUE!"}},{"$f":"IF(SUM(CJ$1262:CJ2661)>0,0,IF(MAX(CB2662:CB$2702)=MAX(CB$1262:CB$2702),0,IF(BZ2662>0.01*BT$2703,0,$C2662/60)))","v":{"$error":"#VALUE!"}},0,0,0,0,{"$error":"#VALUE!"},{"$error":"#VALUE!"},{"$error":"#VALUE!"},{"$error":"#VALUE!"},{"$error":"#VALUE!"},{"$error":"#VALUE!"},{"$error":"#VALUE!"},{"$error":"#VALUE!"},{"$error":"#VALUE!"},{"$error":"#VALUE!"},{"$error":"#VALUE!"},{"$f":"IF(SUM(CZ$1262:CZ2661)>0,0,IF(MAX(CS2662:CS$2702)=MAX(CS$1262:CS$2702),0,IF(CQ2662>0.03*CK$2703,0,$C2662/60)))","v":{"$error":"#VALUE!"}},{"$f":"IF(SUM(DA$1262:DA2661)>0,0,IF(MAX(CS2662:CS$2702)=MAX(CS$1262:CS$2702),0,IF(CQ2662>0.01*CK$2703,0,$C2662/60)))","v":{"$error":"#VALUE!"}}]
[null,116.75,7005,0,0,0,0,0,0,0,0,0,{"$error":"#N/A"},{"$error":"#N/A"},{"$error":"#N/A"},{"$error":"#N/A"},{"$error":"#N/A"},{"$error":"#N/A"},{"$f":"IF(SUM(S$1262:S2662)>0,0,\nIF(MAX(L2663:L$2702)=MAX(L$1262:L$2702),0,\nIF(Hydrograph_Source_WQCV=\"USER\",IF(J2663>0.03*D$2703,0,$C2663/60),\nIF(J2663>0.03*J$2703,0,$C2663/60))))","v":0},{"$f":"IF(SUM(T$1262:T2662)>0,0,\nIF(MAX(L2663:L$2702)=MAX(L$1262:L$2702),0,\nIF(Hydrograph_Source_WQCV=\"USER\",IF(J2663>0.01*D$2703,0,$C2663/60),\nIF(J2663>0.01*J$2703,0,$C2663/60))))","v":0},0,0,0,0,{"$error":"#VALUE!"},{"$error":"#VALUE!"},{"$error":"#VALUE!"},{"$error":"#VALUE!"},{"$error":"#VALUE!"},{"$error":"#VALUE!"},{"$error":"#VALUE!"},{"$error":"#VALUE!"},{"$error":"#VALUE!"},{"$error":"#VALUE!"},{"$error":"#VALUE!"},{"$f":"IF(SUM(AJ$1262:AJ2662)>0,0,IF(MAX(AC2663:AC$2702)=MAX(AC$1262:AC$2702),0,IF(AA2663>0.03*U$2703,0,$C2663/60)))","v":{"$error":"#VALUE!"}},{"$f":"IF(SUM(AK$1262:AK2662)>0,0,IF(MAX(AC2663:AC$2702)=MAX(AC$1262:AC$2702),0,IF(AA2663>0.01*U$2703,0,$C2663/60)))","v":{"$error":"#VALUE!"}},0,0,0,0,{"$error":"#VALUE!"},{"$error":"#VALUE!"},{"$error":"#VALUE!"},{"$error":"#VALUE!"},{"$error":"#VALUE!"},{"$error":"#VALUE!"},{"$error":"#VALUE!"},{"$error":"#VALUE!"},{"$error":"#VALUE!"},{"$error":"#VALUE!"},{"$error":"#VALUE!"},{"$f":"IF(SUM(BA$1262:BA2662)>0,0,IF(MAX(AT2663:AT$2702)=MAX(AT$1262:AT$2702),0,IF(AR2663>0.03*AL$2703,0,$C2663/60)))","v":{"$error":"#VALUE!"}},{"$f":"IF(SUM(BB$1262:BB2662)>0,0,IF(MAX(AT2663:AT$2702)=MAX(AT$1262:AT$2702),0,IF(AR2663>0.01*AL$2703,0,$C2663/60)))","v":{"$error":"#VALUE!"}},0,0,0,0,{"$error":"#VALUE!"},{"$error":"#VALUE!"},{"$error":"#VALUE!"},{"$error":"#VALUE!"},{"$error":"#VALUE!"},{"$error":"#VALUE!"},{"$error":"#VALUE!"},{"$error":"#VALUE!"},{"$error":"#VALUE!"},{"$error":"#VALUE!"},{"$error":"#VALUE!"},{"$f":"IF(SUM(BR$1262:BR2662)>0,0,IF(MAX(BK2663:BK$2702)=MAX(BK$1262:BK$2702),0,IF(BI2663>0.03*BC$2703,0,$C2663/60)))","v":{"$error":"#VALUE!"}},{"$f":"IF(SUM(BS$1262:BS2662)>0,0,IF(MAX(BK2663:BK$2702)=MAX(BK$1262:BK$2702),0,IF(BI2663>0.01*BC$2703,0,$C2663/60)))","v":{"$error":"#VALUE!"}},0,0,0,0,{"$error":"#VALUE!"},{"$error":"#VALUE!"},{"$error":"#VALUE!"},{"$error":"#VALUE!"},{"$error":"#VALUE!"},{"$error":"#VALUE!"},{"$error":"#VALUE!"},{"$error":"#VALUE!"},{"$error":"#VALUE!"},{"$error":"#VALUE!"},{"$error":"#VALUE!"},{"$f":"IF(SUM(CI$1262:CI2662)>0,0,IF(MAX(CB2663:CB$2702)=MAX(CB$1262:CB$2702),0,IF(BZ2663>0.03*BT$2703,0,$C2663/60)))","v":{"$error":"#VALUE!"}},{"$f":"IF(SUM(CJ$1262:CJ2662)>0,0,IF(MAX(CB2663:CB$2702)=MAX(CB$1262:CB$2702),0,IF(BZ2663>0.01*BT$2703,0,$C2663/60)))","v":{"$error":"#VALUE!"}},0,0,0,0,{"$error":"#VALUE!"},{"$error":"#VALUE!"},{"$error":"#VALUE!"},{"$error":"#VALUE!"},{"$error":"#VALUE!"},{"$error":"#VALUE!"},{"$error":"#VALUE!"},{"$error":"#VALUE!"},{"$error":"#VALUE!"},{"$error":"#VALUE!"},{"$error":"#VALUE!"},{"$f":"IF(SUM(CZ$1262:CZ2662)>0,0,IF(MAX(CS2663:CS$2702)=MAX(CS$1262:CS$2702),0,IF(CQ2663>0.03*CK$2703,0,$C2663/60)))","v":{"$error":"#VALUE!"}},{"$f":"IF(SUM(DA$1262:DA2662)>0,0,IF(MAX(CS2663:CS$2702)=MAX(CS$1262:CS$2702),0,IF(CQ2663>0.01*CK$2703,0,$C2663/60)))","v":{"$error":"#VALUE!"}}]
[null,116.83333333333333,7010,0,0,0,0,0,0,0,0,0,{"$error":"#N/A"},{"$error":"#N/A"},{"$error":"#N/A"},{"$error":"#N/A"},{"$error":"#N/A"},{"$error":"#N/A"},{"$f":"IF(SUM(S$1262:S2663)>0,0,\nIF(MAX(L2664:L$2702)=MAX(L$1262:L$2702),0,\nIF(Hydrograph_Source_WQCV=\"USER\",IF(J2664>0.03*D$2703,0,$C2664/60),\nIF(J2664>0.03*J$2703,0,$C2664/60))))","v":0},{"$f":"IF(SUM(T$1262:T2663)>0,0,\nIF(MAX(L2664:L$2702)=MAX(L$1262:L$2702),0,\nIF(Hydrograph_Source_WQCV=\"USER\",IF(J2664>0.01*D$2703,0,$C2664/60),\nIF(J2664>0.01*J$2703,0,$C2664/60))))","v":0},0,0,0,0,{"$error":"#VALUE!"},{"$error":"#VALUE!"},{"$error":"#VALUE!"},{"$error":"#VALUE!"},{"$error":"#VALUE!"},{"$error":"#VALUE!"},{"$error":"#VALUE!"},{"$error":"#VALUE!"},{"$error":"#VALUE!"},{"$error":"#VALUE!"},{"$error":"#VALUE!"},{"$f":"IF(SUM(AJ$1262:AJ2663)>0,0,IF(MAX(AC2664:AC$2702)=MAX(AC$1262:AC$2702),0,IF(AA2664>0.03*U$2703,0,$C2664/60)))","v":{"$error":"#VALUE!"}},{"$f":"IF(SUM(AK$1262:AK2663)>0,0,IF(MAX(AC2664:AC$2702)=MAX(AC$1262:AC$2702),0,IF(AA2664>0.01*U$2703,0,$C2664/60)))","v":{"$error":"#VALUE!"}},0,0,0,0,{"$error":"#VALUE!"},{"$error":"#VALUE!"},{"$error":"#VALUE!"},{"$error":"#VALUE!"},{"$error":"#VALUE!"},{"$error":"#VALUE!"},{"$error":"#VALUE!"},{"$error":"#VALUE!"},{"$error":"#VALUE!"},{"$error":"#VALUE!"},{"$error":"#VALUE!"},{"$f":"IF(SUM(BA$1262:BA2663)>0,0,IF(MAX(AT2664:AT$2702)=MAX(AT$1262:AT$2702),0,IF(AR2664>0.03*AL$2703,0,$C2664/60)))","v":{"$error":"#VALUE!"}},{"$f":"IF(SUM(BB$1262:BB2663)>0,0,IF(MAX(AT2664:AT$2702)=MAX(AT$1262:AT$2702),0,IF(AR2664>0.01*AL$2703,0,$C2664/60)))","v":{"$error":"#VALUE!"}},0,0,0,0,{"$error":"#VALUE!"},{"$error":"#VALUE!"},{"$error":"#VALUE!"},{"$error":"#VALUE!"},{"$error":"#VALUE!"},{"$error":"#VALUE!"},{"$error":"#VALUE!"},{"$error":"#VALUE!"},{"$error":"#VALUE!"},{"$error":"#VALUE!"},{"$error":"#VALUE!"},{"$f":"IF(SUM(BR$1262:BR2663)>0,0,IF(MAX(BK2664:BK$2702)=MAX(BK$1262:BK$2702),0,IF(BI2664>0.03*BC$2703,0,$C2664/60)))","v":{"$error":"#VALUE!"}},{"$f":"IF(SUM(BS$1262:BS2663)>0,0,IF(MAX(BK2664:BK$2702)=MAX(BK$1262:BK$2702),0,IF(BI2664>0.01*BC$2703,0,$C2664/60)))","v":{"$error":"#VALUE!"}},0,0,0,0,{"$error":"#VALUE!"},{"$error":"#VALUE!"},{"$error":"#VALUE!"},{"$error":"#VALUE!"},{"$error":"#VALUE!"},{"$error":"#VALUE!"},{"$error":"#VALUE!"},{"$error":"#VALUE!"},{"$error":"#VALUE!"},{"$error":"#VALUE!"},{"$error":"#VALUE!"},{"$f":"IF(SUM(CI$1262:CI2663)>0,0,IF(MAX(CB2664:CB$2702)=MAX(CB$1262:CB$2702),0,IF(BZ2664>0.03*BT$2703,0,$C2664/60)))","v":{"$error":"#VALUE!"}},{"$f":"IF(SUM(CJ$1262:CJ2663)>0,0,IF(MAX(CB2664:CB$2702)=MAX(CB$1262:CB$2702),0,IF(BZ2664>0.01*BT$2703,0,$C2664/60)))","v":{"$error":"#VALUE!"}},0,0,0,0,{"$error":"#VALUE!"},{"$error":"#VALUE!"},{"$error":"#VALUE!"},{"$error":"#VALUE!"},{"$error":"#VALUE!"},{"$error":"#VALUE!"},{"$error":"#VALUE!"},{"$error":"#VALUE!"},{"$error":"#VALUE!"},{"$error":"#VALUE!"},{"$error":"#VALUE!"},{"$f":"IF(SUM(CZ$1262:CZ2663)>0,0,IF(MAX(CS2664:CS$2702)=MAX(CS$1262:CS$2702),0,IF(CQ2664>0.03*CK$2703,0,$C2664/60)))","v":{"$error":"#VALUE!"}},{"$f":"IF(SUM(DA$1262:DA2663)>0,0,IF(MAX(CS2664:CS$2702)=MAX(CS$1262:CS$2702),0,IF(CQ2664>0.01*CK$2703,0,$C2664/60)))","v":{"$error":"#VALUE!"}}]
[null,116.91666666666667,7015,0,0,0,0,0,0,0,0,0,{"$error":"#N/A"},{"$error":"#N/A"},{"$error":"#N/A"},{"$error":"#N/A"},{"$error":"#N/A"},{"$error":"#N/A"},{"$f":"IF(SUM(S$1262:S2664)>0,0,\nIF(MAX(L2665:L$2702)=MAX(L$1262:L$2702),0,\nIF(Hydrograph_Source_WQCV=\"USER\",IF(J2665>0.03*D$2703,0,$C2665/60),\nIF(J2665>0.03*J$2703,0,$C2665/60))))","v":0},{"$f":"IF(SUM(T$1262:T2664)>0,0,\nIF(MAX(L2665:L$2702)=MAX(L$1262:L$2702),0,\nIF(Hydrograph_Source_WQCV=\"USER\",IF(J2665>0.01*D$2703,0,$C2665/60),\nIF(J2665>0.01*J$2703,0,$C2665/60))))","v":0},0,0,0,0,{"$error":"#VALUE!"},{"$error":"#VALUE!"},{"$error":"#VALUE!"},{"$error":"#VALUE!"},{"$error":"#VALUE!"},{"$error":"#VALUE!"},{"$error":"#VALUE!"},{"$error":"#VALUE!"},{"$error":"#VALUE!"},{"$error":"#VALUE!"},{"$error":"#VALUE!"},{"$f":"IF(SUM(AJ$1262:AJ2664)>0,0,IF(MAX(AC2665:AC$2702)=MAX(AC$1262:AC$2702),0,IF(AA2665>0.03*U$2703,0,$C2665/60)))","v":{"$error":"#VALUE!"}},{"$f":"IF(SUM(AK$1262:AK2664)>0,0,IF(MAX(AC2665:AC$2702)=MAX(AC$1262:AC$2702),0,IF(AA2665>0.01*U$2703,0,$C2665/60)))","v":{"$error":"#VALUE!"}},0,0,0,0,{"$error":"#VALUE!"},{"$error":"#VALUE!"},{"$error":"#VALUE!"},{"$error":"#VALUE!"},{"$error":"#VALUE!"},{"$error":"#VALUE!"},{"$error":"#VALUE!"},{"$error":"#VALUE!"},{"$error":"#VALUE!"},{"$error":"#VALUE!"},{"$error":"#VALUE!"},{"$f":"IF(SUM(BA$1262:BA2664)>0,0,IF(MAX(AT2665:AT$2702)=MAX(AT$1262:AT$2702),0,IF(AR2665>0.03*AL$2703,0,$C2665/60)))","v":{"$error":"#VALUE!"}},{"$f":"IF(SUM(BB$1262:BB2664)>0,0,IF(MAX(AT2665:AT$2702)=MAX(AT$1262:AT$2702),0,IF(AR2665>0.01*AL$2703,0,$C2665/60)))","v":{"$error":"#VALUE!"}},0,0,0,0,{"$error":"#VALUE!"},{"$error":"#VALUE!"},{"$error":"#VALUE!"},{"$error":"#VALUE!"},{"$error":"#VALUE!"},{"$error":"#VALUE!"},{"$error":"#VALUE!"},{"$error":"#VALUE!"},{"$error":"#VALUE!"},{"$error":"#VALUE!"},{"$error":"#VALUE!"},{"$f":"IF(SUM(BR$1262:BR2664)>0,0,IF(MAX(BK2665:BK$2702)=MAX(BK$1262:BK$2702),0,IF(BI2665>0.03*BC$2703,0,$C2665/60)))","v":{"$error":"#VALUE!"}},{"$f":"IF(SUM(BS$1262:BS2664)>0,0,IF(MAX(BK2665:BK$2702)=MAX(BK$1262:BK$2702),0,IF(BI2665>0.01*BC$2703,0,$C2665/60)))","v":{"$error":"#VALUE!"}},0,0,0,0,{"$error":"#VALUE!"},{"$error":"#VALUE!"},{"$error":"#VALUE!"},{"$error":"#VALUE!"},{"$error":"#VALUE!"},{"$error":"#VALUE!"},{"$error":"#VALUE!"},{"$error":"#VALUE!"},{"$error":"#VALUE!"},{"$error":"#VALUE!"},{"$error":"#VALUE!"},{"$f":"IF(SUM(CI$1262:CI2664)>0,0,IF(MAX(CB2665:CB$2702)=MAX(CB$1262:CB$2702),0,IF(BZ2665>0.03*BT$2703,0,$C2665/60)))","v":{"$error":"#VALUE!"}},{"$f":"IF(SUM(CJ$1262:CJ2664)>0,0,IF(MAX(CB2665:CB$2702)=MAX(CB$1262:CB$2702),0,IF(BZ2665>0.01*BT$2703,0,$C2665/60)))","v":{"$error":"#VALUE!"}},0,0,0,0,{"$error":"#VALUE!"},{"$error":"#VALUE!"},{"$error":"#VALUE!"},{"$error":"#VALUE!"},{"$error":"#VALUE!"},{"$error":"#VALUE!"},{"$error":"#VALUE!"},{"$error":"#VALUE!"},{"$error":"#VALUE!"},{"$error":"#VALUE!"},{"$error":"#VALUE!"},{"$f":"IF(SUM(CZ$1262:CZ2664)>0,0,IF(MAX(CS2665:CS$2702)=MAX(CS$1262:CS$2702),0,IF(CQ2665>0.03*CK$2703,0,$C2665/60)))","v":{"$error":"#VALUE!"}},{"$f":"IF(SUM(DA$1262:DA2664)>0,0,IF(MAX(CS2665:CS$2702)=MAX(CS$1262:CS$2702),0,IF(CQ2665>0.01*CK$2703,0,$C2665/60)))","v":{"$error":"#VALUE!"}}]
[null,117,7020,0,0,0,0,0,0,0,0,0,{"$error":"#N/A"},{"$error":"#N/A"},{"$error":"#N/A"},{"$error":"#N/A"},{"$error":"#N/A"},{"$error":"#N/A"},{"$f":"IF(SUM(S$1262:S2665)>0,0,\nIF(MAX(L2666:L$2702)=MAX(L$1262:L$2702),0,\nIF(Hydrograph_Source_WQCV=\"USER\",IF(J2666>0.03*D$2703,0,$C2666/60),\nIF(J2666>0.03*J$2703,0,$C2666/60))))","v":0},{"$f":"IF(SUM(T$1262:T2665)>0,0,\nIF(MAX(L2666:L$2702)=MAX(L$1262:L$2702),0,\nIF(Hydrograph_Source_WQCV=\"USER\",IF(J2666>0.01*D$2703,0,$C2666/60),\nIF(J2666>0.01*J$2703,0,$C2666/60))))","v":0},0,0,0,0,{"$error":"#VALUE!"},{"$error":"#VALUE!"},{"$error":"#VALUE!"},{"$error":"#VALUE!"},{"$error":"#VALUE!"},{"$error":"#VALUE!"},{"$error":"#VALUE!"},{"$error":"#VALUE!"},{"$error":"#VALUE!"},{"$error":"#VALUE!"},{"$error":"#VALUE!"},{"$f":"IF(SUM(AJ$1262:AJ2665)>0,0,IF(MAX(AC2666:AC$2702)=MAX(AC$1262:AC$2702),0,IF(AA2666>0.03*U$2703,0,$C2666/60)))","v":{"$error":"#VALUE!"}},{"$f":"IF(SUM(AK$1262:AK2665)>0,0,IF(MAX(AC2666:AC$2702)=MAX(AC$1262:AC$2702),0,IF(AA2666>0.01*U$2703,0,$C2666/60)))","v":{"$error":"#VALUE!"}},0,0,0,0,{"$error":"#VALUE!"},{"$error":"#VALUE!"},{"$error":"#VALUE!"},{"$error":"#VALUE!"},{"$error":"#VALUE!"},{"$error":"#VALUE!"},{"$error":"#VALUE!"},{"$error":"#VALUE!"},{"$error":"#VALUE!"},{"$error":"#VALUE!"},{"$error":"#VALUE!"},{"$f":"IF(SUM(BA$1262:BA2665)>0,0,IF(MAX(AT2666:AT$2702)=MAX(AT$1262:AT$2702),0,IF(AR2666>0.03*AL$2703,0,$C2666/60)))","v":{"$error":"#VALUE!"}},{"$f":"IF(SUM(BB$1262:BB2665)>0,0,IF(MAX(AT2666:AT$2702)=MAX(AT$1262:AT$2702),0,IF(AR2666>0.01*AL$2703,0,$C2666/60)))","v":{"$error":"#VALUE!"}},0,0,0,0,{"$error":"#VALUE!"},{"$error":"#VALUE!"},{"$error":"#VALUE!"},{"$error":"#VALUE!"},{"$error":"#VALUE!"},{"$error":"#VALUE!"},{"$error":"#VALUE!"},{"$error":"#VALUE!"},{"$error":"#VALUE!"},{"$error":"#VALUE!"},{"$error":"#VALUE!"},{"$f":"IF(SUM(BR$1262:BR2665)>0,0,IF(MAX(BK2666:BK$2702)=MAX(BK$1262:BK$2702),0,IF(BI2666>0.03*BC$2703,0,$C2666/60)))","v":{"$error":"#VALUE!"}},{"$f":"IF(SUM(BS$1262:BS2665)>0,0,IF(MAX(BK2666:BK$2702)=MAX(BK$1262:BK$2702),0,IF(BI2666>0.01*BC$2703,0,$C2666/60)))","v":{"$error":"#VALUE!"}},0,0,0,0,{"$error":"#VALUE!"},{"$error":"#VALUE!"},{"$error":"#VALUE!"},{"$error":"#VALUE!"},{"$error":"#VALUE!"},{"$error":"#VALUE!"},{"$error":"#VALUE!"},{"$error":"#VALUE!"},{"$error":"#VALUE!"},{"$error":"#VALUE!"},{"$error":"#VALUE!"},{"$f":"IF(SUM(CI$1262:CI2665)>0,0,IF(MAX(CB2666:CB$2702)=MAX(CB$1262:CB$2702),0,IF(BZ2666>0.03*BT$2703,0,$C2666/60)))","v":{"$error":"#VALUE!"}},{"$f":"IF(SUM(CJ$1262:CJ2665)>0,0,IF(MAX(CB2666:CB$2702)=MAX(CB$1262:CB$2702),0,IF(BZ2666>0.01*BT$2703,0,$C2666/60)))","v":{"$error":"#VALUE!"}},0,0,0,0,{"$error":"#VALUE!"},{"$error":"#VALUE!"},{"$error":"#VALUE!"},{"$error":"#VALUE!"},{"$error":"#VALUE!"},{"$error":"#VALUE!"},{"$error":"#VALUE!"},{"$error":"#VALUE!"},{"$error":"#VALUE!"},{"$error":"#VALUE!"},{"$error":"#VALUE!"},{"$f":"IF(SUM(CZ$1262:CZ2665)>0,0,IF(MAX(CS2666:CS$2702)=MAX(CS$1262:CS$2702),0,IF(CQ2666>0.03*CK$2703,0,$C2666/60)))","v":{"$error":"#VALUE!"}},{"$f":"IF(SUM(DA$1262:DA2665)>0,0,IF(MAX(CS2666:CS$2702)=MAX(CS$1262:CS$2702),0,IF(CQ2666>0.01*CK$2703,0,$C2666/60)))","v":{"$error":"#VALUE!"}}]
[null,117.08333333333333,7025,0,0,0,0,0,0,0,0,0,{"$error":"#N/A"},{"$error":"#N/A"},{"$error":"#N/A"},{"$error":"#N/A"},{"$error":"#N/A"},{"$error":"#N/A"},{"$f":"IF(SUM(S$1262:S2666)>0,0,\nIF(MAX(L2667:L$2702)=MAX(L$1262:L$2702),0,\nIF(Hydrograph_Source_WQCV=\"USER\",IF(J2667>0.03*D$2703,0,$C2667/60),\nIF(J2667>0.03*J$2703,0,$C2667/60))))","v":0},{"$f":"IF(SUM(T$1262:T2666)>0,0,\nIF(MAX(L2667:L$2702)=MAX(L$1262:L$2702),0,\nIF(Hydrograph_Source_WQCV=\"USER\",IF(J2667>0.01*D$2703,0,$C2667/60),\nIF(J2667>0.01*J$2703,0,$C2667/60))))","v":0},0,0,0,0,{"$error":"#VALUE!"},{"$error":"#VALUE!"},{"$error":"#VALUE!"},{"$error":"#VALUE!"},{"$error":"#VALUE!"},{"$error":"#VALUE!"},{"$error":"#VALUE!"},{"$error":"#VALUE!"},{"$error":"#VALUE!"},{"$error":"#VALUE!"},{"$error":"#VALUE!"},{"$f":"IF(SUM(AJ$1262:AJ2666)>0,0,IF(MAX(AC2667:AC$2702)=MAX(AC$1262:AC$2702),0,IF(AA2667>0.03*U$2703,0,$C2667/60)))","v":{"$error":"#VALUE!"}},{"$f":"IF(SUM(AK$1262:AK2666)>0,0,IF(MAX(AC2667:AC$2702)=MAX(AC$1262:AC$2702),0,IF(AA2667>0.01*U$2703,0,$C2667/60)))","v":{"$error":"#VALUE!"}},0,0,0,0,{"$error":"#VALUE!"},{"$error":"#VALUE!"},{"$error":"#VALUE!"},{"$error":"#VALUE!"},{"$error":"#VALUE!"},{"$error":"#VALUE!"},{"$error":"#VALUE!"},{"$error":"#VALUE!"},{"$error":"#VALUE!"},{"$error":"#VALUE!"},{"$error":"#VALUE!"},{"$f":"IF(SUM(BA$1262:BA2666)>0,0,IF(MAX(AT2667:AT$2702)=MAX(AT$1262:AT$2702),0,IF(AR2667>0.03*AL$2703,0,$C2667/60)))","v":{"$error":"#VALUE!"}},{"$f":"IF(SUM(BB$1262:BB2666)>0,0,IF(MAX(AT2667:AT$2702)=MAX(AT$1262:AT$2702),0,IF(AR2667>0.01*AL$2703,0,$C2667/60)))","v":{"$error":"#VALUE!"}},0,0,0,0,{"$error":"#VALUE!"},{"$error":"#VALUE!"},{"$error":"#VALUE!"},{"$error":"#VALUE!"},{"$error":"#VALUE!"},{"$error":"#VALUE!"},{"$error":"#VALUE!"},{"$error":"#VALUE!"},{"$error":"#VALUE!"},{"$error":"#VALUE!"},{"$error":"#VALUE!"},{"$f":"IF(SUM(BR$1262:BR2666)>0,0,IF(MAX(BK2667:BK$2702)=MAX(BK$1262:BK$2702),0,IF(BI2667>0.03*BC$2703,0,$C2667/60)))","v":{"$error":"#VALUE!"}},{"$f":"IF(SUM(BS$1262:BS2666)>0,0,IF(MAX(BK2667:BK$2702)=MAX(BK$1262:BK$2702),0,IF(BI2667>0.01*BC$2703,0,$C2667/60)))","v":{"$error":"#VALUE!"}},0,0,0,0,{"$error":"#VALUE!"},{"$error":"#VALUE!"},{"$error":"#VALUE!"},{"$error":"#VALUE!"},{"$error":"#VALUE!"},{"$error":"#VALUE!"},{"$error":"#VALUE!"},{"$error":"#VALUE!"},{"$error":"#VALUE!"},{"$error":"#VALUE!"},{"$error":"#VALUE!"},{"$f":"IF(SUM(CI$1262:CI2666)>0,0,IF(MAX(CB2667:CB$2702)=MAX(CB$1262:CB$2702),0,IF(BZ2667>0.03*BT$2703,0,$C2667/60)))","v":{"$error":"#VALUE!"}},{"$f":"IF(SUM(CJ$1262:CJ2666)>0,0,IF(MAX(CB2667:CB$2702)=MAX(CB$1262:CB$2702),0,IF(BZ2667>0.01*BT$2703,0,$C2667/60)))","v":{"$error":"#VALUE!"}},0,0,0,0,{"$error":"#VALUE!"},{"$error":"#VALUE!"},{"$error":"#VALUE!"},{"$error":"#VALUE!"},{"$error":"#VALUE!"},{"$error":"#VALUE!"},{"$error":"#VALUE!"},{"$error":"#VALUE!"},{"$error":"#VALUE!"},{"$error":"#VALUE!"},{"$error":"#VALUE!"},{"$f":"IF(SUM(CZ$1262:CZ2666)>0,0,IF(MAX(CS2667:CS$2702)=MAX(CS$1262:CS$2702),0,IF(CQ2667>0.03*CK$2703,0,$C2667/60)))","v":{"$error":"#VALUE!"}},{"$f":"IF(SUM(DA$1262:DA2666)>0,0,IF(MAX(CS2667:CS$2702)=MAX(CS$1262:CS$2702),0,IF(CQ2667>0.01*CK$2703,0,$C2667/60)))","v":{"$error":"#VALUE!"}}]
[null,117.16666666666667,7030,0,0,0,0,0,0,0,0,0,{"$error":"#N/A"},{"$error":"#N/A"},{"$error":"#N/A"},{"$error":"#N/A"},{"$error":"#N/A"},{"$error":"#N/A"},{"$f":"IF(SUM(S$1262:S2667)>0,0,\nIF(MAX(L2668:L$2702)=MAX(L$1262:L$2702),0,\nIF(Hydrograph_Source_WQCV=\"USER\",IF(J2668>0.03*D$2703,0,$C2668/60),\nIF(J2668>0.03*J$2703,0,$C2668/60))))","v":0},{"$f":"IF(SUM(T$1262:T2667)>0,0,\nIF(MAX(L2668:L$2702)=MAX(L$1262:L$2702),0,\nIF(Hydrograph_Source_WQCV=\"USER\",IF(J2668>0.01*D$2703,0,$C2668/60),\nIF(J2668>0.01*J$2703,0,$C2668/60))))","v":0},0,0,0,0,{"$error":"#VALUE!"},{"$error":"#VALUE!"},{"$error":"#VALUE!"},{"$error":"#VALUE!"},{"$error":"#VALUE!"},{"$error":"#VALUE!"},{"$error":"#VALUE!"},{"$error":"#VALUE!"},{"$error":"#VALUE!"},{"$error":"#VALUE!"},{"$error":"#VALUE!"},{"$f":"IF(SUM(AJ$1262:AJ2667)>0,0,IF(MAX(AC2668:AC$2702)=MAX(AC$1262:AC$2702),0,IF(AA2668>0.03*U$2703,0,$C2668/60)))","v":{"$error":"#VALUE!"}},{"$f":"IF(SUM(AK$1262:AK2667)>0,0,IF(MAX(AC2668:AC$2702)=MAX(AC$1262:AC$2702),0,IF(AA2668>0.01*U$2703,0,$C2668/60)))","v":{"$error":"#VALUE!"}},0,0,0,0,{"$error":"#VALUE!"},{"$error":"#VALUE!"},{"$error":"#VALUE!"},{"$error":"#VALUE!"},{"$error":"#VALUE!"},{"$error":"#VALUE!"},{"$error":"#VALUE!"},{"$error":"#VALUE!"},{"$error":"#VALUE!"},{"$error":"#VALUE!"},{"$error":"#VALUE!"},{"$f":"IF(SUM(BA$1262:BA2667)>0,0,IF(MAX(AT2668:AT$2702)=MAX(AT$1262:AT$2702),0,IF(AR2668>0.03*AL$2703,0,$C2668/60)))","v":{"$error":"#VALUE!"}},{"$f":"IF(SUM(BB$1262:BB2667)>0,0,IF(MAX(AT2668:AT$2702)=MAX(AT$1262:AT$2702),0,IF(AR2668>0.01*AL$2703,0,$C2668/60)))","v":{"$error":"#VALUE!"}},0,0,0,0,{"$error":"#VALUE!"},{"$error":"#VALUE!"},{"$error":"#VALUE!"},{"$error":"#VALUE!"},{"$error":"#VALUE!"},{"$error":"#VALUE!"},{"$error":"#VALUE!"},{"$error":"#VALUE!"},{"$error":"#VALUE!"},{"$error":"#VALUE!"},{"$error":"#VALUE!"},{"$f":"IF(SUM(BR$1262:BR2667)>0,0,IF(MAX(BK2668:BK$2702)=MAX(BK$1262:BK$2702),0,IF(BI2668>0.03*BC$2703,0,$C2668/60)))","v":{"$error":"#VALUE!"}},{"$f":"IF(SUM(BS$1262:BS2667)>0,0,IF(MAX(BK2668:BK$2702)=MAX(BK$1262:BK$2702),0,IF(BI2668>0.01*BC$2703,0,$C2668/60)))","v":{"$error":"#VALUE!"}},0,0,0,0,{"$error":"#VALUE!"},{"$error":"#VALUE!"},{"$error":"#VALUE!"},{"$error":"#VALUE!"},{"$error":"#VALUE!"},{"$error":"#VALUE!"},{"$error":"#VALUE!"},{"$error":"#VALUE!"},{"$error":"#VALUE!"},{"$error":"#VALUE!"},{"$error":"#VALUE!"},{"$f":"IF(SUM(CI$1262:CI2667)>0,0,IF(MAX(CB2668:CB$2702)=MAX(CB$1262:CB$2702),0,IF(BZ2668>0.03*BT$2703,0,$C2668/60)))","v":{"$error":"#VALUE!"}},{"$f":"IF(SUM(CJ$1262:CJ2667)>0,0,IF(MAX(CB2668:CB$2702)=MAX(CB$1262:CB$2702),0,IF(BZ2668>0.01*BT$2703,0,$C2668/60)))","v":{"$error":"#VALUE!"}},0,0,0,0,{"$error":"#VALUE!"},{"$error":"#VALUE!"},{"$error":"#VALUE!"},{"$error":"#VALUE!"},{"$error":"#VALUE!"},{"$error":"#VALUE!"},{"$error":"#VALUE!"},{"$error":"#VALUE!"},{"$error":"#VALUE!"},{"$error":"#VALUE!"},{"$error":"#VALUE!"},{"$f":"IF(SUM(CZ$1262:CZ2667)>0,0,IF(MAX(CS2668:CS$2702)=MAX(CS$1262:CS$2702),0,IF(CQ2668>0.03*CK$2703,0,$C2668/60)))","v":{"$error":"#VALUE!"}},{"$f":"IF(SUM(DA$1262:DA2667)>0,0,IF(MAX(CS2668:CS$2702)=MAX(CS$1262:CS$2702),0,IF(CQ2668>0.01*CK$2703,0,$C2668/60)))","v":{"$error":"#VALUE!"}}]
[null,117.25,7035,0,0,0,0,0,0,0,0,0,{"$error":"#N/A"},{"$error":"#N/A"},{"$error":"#N/A"},{"$error":"#N/A"},{"$error":"#N/A"},{"$error":"#N/A"},{"$f":"IF(SUM(S$1262:S2668)>0,0,\nIF(MAX(L2669:L$2702)=MAX(L$1262:L$2702),0,\nIF(Hydrograph_Source_WQCV=\"USER\",IF(J2669>0.03*D$2703,0,$C2669/60),\nIF(J2669>0.03*J$2703,0,$C2669/60))))","v":0},{"$f":"IF(SUM(T$1262:T2668)>0,0,\nIF(MAX(L2669:L$2702)=MAX(L$1262:L$2702),0,\nIF(Hydrograph_Source_WQCV=\"USER\",IF(J2669>0.01*D$2703,0,$C2669/60),\nIF(J2669>0.01*J$2703,0,$C2669/60))))","v":0},0,0,0,0,{"$error":"#VALUE!"},{"$error":"#VALUE!"},{"$error":"#VALUE!"},{"$error":"#VALUE!"},{"$error":"#VALUE!"},{"$error":"#VALUE!"},{"$error":"#VALUE!"},{"$error":"#VALUE!"},{"$error":"#VALUE!"},{"$error":"#VALUE!"},{"$error":"#VALUE!"},{"$f":"IF(SUM(AJ$1262:AJ2668)>0,0,IF(MAX(AC2669:AC$2702)=MAX(AC$1262:AC$2702),0,IF(AA2669>0.03*U$2703,0,$C2669/60)))","v":{"$error":"#VALUE!"}},{"$f":"IF(SUM(AK$1262:AK2668)>0,0,IF(MAX(AC2669:AC$2702)=MAX(AC$1262:AC$2702),0,IF(AA2669>0.01*U$2703,0,$C2669/60)))","v":{"$error":"#VALUE!"}},0,0,0,0,{"$error":"#VALUE!"},{"$error":"#VALUE!"},{"$error":"#VALUE!"},{"$error":"#VALUE!"},{"$error":"#VALUE!"},{"$error":"#VALUE!"},{"$error":"#VALUE!"},{"$error":"#VALUE!"},{"$error":"#VALUE!"},{"$error":"#VALUE!"},{"$error":"#VALUE!"},{"$f":"IF(SUM(BA$1262:BA2668)>0,0,IF(MAX(AT2669:AT$2702)=MAX(AT$1262:AT$2702),0,IF(AR2669>0.03*AL$2703,0,$C2669/60)))","v":{"$error":"#VALUE!"}},{"$f":"IF(SUM(BB$1262:BB2668)>0,0,IF(MAX(AT2669:AT$2702)=MAX(AT$1262:AT$2702),0,IF(AR2669>0.01*AL$2703,0,$C2669/60)))","v":{"$error":"#VALUE!"}},0,0,0,0,{"$error":"#VALUE!"},{"$error":"#VALUE!"},{"$error":"#VALUE!"},{"$error":"#VALUE!"},{"$error":"#VALUE!"},{"$error":"#VALUE!"},{"$error":"#VALUE!"},{"$error":"#VALUE!"},{"$error":"#VALUE!"},{"$error":"#VALUE!"},{"$error":"#VALUE!"},{"$f":"IF(SUM(BR$1262:BR2668)>0,0,IF(MAX(BK2669:BK$2702)=MAX(BK$1262:BK$2702),0,IF(BI2669>0.03*BC$2703,0,$C2669/60)))","v":{"$error":"#VALUE!"}},{"$f":"IF(SUM(BS$1262:BS2668)>0,0,IF(MAX(BK2669:BK$2702)=MAX(BK$1262:BK$2702),0,IF(BI2669>0.01*BC$2703,0,$C2669/60)))","v":{"$error":"#VALUE!"}},0,0,0,0,{"$error":"#VALUE!"},{"$error":"#VALUE!"},{"$error":"#VALUE!"},{"$error":"#VALUE!"},{"$error":"#VALUE!"},{"$error":"#VALUE!"},{"$error":"#VALUE!"},{"$error":"#VALUE!"},{"$error":"#VALUE!"},{"$error":"#VALUE!"},{"$error":"#VALUE!"},{"$f":"IF(SUM(CI$1262:CI2668)>0,0,IF(MAX(CB2669:CB$2702)=MAX(CB$1262:CB$2702),0,IF(BZ2669>0.03*BT$2703,0,$C2669/60)))","v":{"$error":"#VALUE!"}},{"$f":"IF(SUM(CJ$1262:CJ2668)>0,0,IF(MAX(CB2669:CB$2702)=MAX(CB$1262:CB$2702),0,IF(BZ2669>0.01*BT$2703,0,$C2669/60)))","v":{"$error":"#VALUE!"}},0,0,0,0,{"$error":"#VALUE!"},{"$error":"#VALUE!"},{"$error":"#VALUE!"},{"$error":"#VALUE!"},{"$error":"#VALUE!"},{"$error":"#VALUE!"},{"$error":"#VALUE!"},{"$error":"#VALUE!"},{"$error":"#VALUE!"},{"$error":"#VALUE!"},{"$error":"#VALUE!"},{"$f":"IF(SUM(CZ$1262:CZ2668)>0,0,IF(MAX(CS2669:CS$2702)=MAX(CS$1262:CS$2702),0,IF(CQ2669>0.03*CK$2703,0,$C2669/60)))","v":{"$error":"#VALUE!"}},{"$f":"IF(SUM(DA$1262:DA2668)>0,0,IF(MAX(CS2669:CS$2702)=MAX(CS$1262:CS$2702),0,IF(CQ2669>0.01*CK$2703,0,$C2669/60)))","v":{"$error":"#VALUE!"}}]
[null,{"$f":"C2670/60","v":117.33333333333333},7040,0,{"$f":"D2671","v":0},0,{"$f":"IF(D2670=\"\",0,IF($G$87=\"\",0,(M2670*K2670+O2670-M2670*P2670)))","v":0},0,{"$f":"IF($D$1263=\"\",0,(K2670-$C$1260*60*G2670)/2)","v":0},{"$f":"I2670/43560","v":0},{"$f":"IF((D2670+E2670-F2670)*$C$1260*60+2*H2670<0,0,(D2670+E2670-F2670)*$C$1260*60+2*H2670)","v":0},0,{"$f":"INDEX($J$88:$J$1258,N2670,1)","v":{"$error":"#N/A"}},{"$f":"MATCH(K2670,$I$87:$I$1257,1)","v":{"$error":"#N/A"}},{"$f":"INDEX($H$87:$H$1257,N2670,1)","v":{"$error":"#N/A"}},{"$f":"INDEX($I$87:$I$1257,N2670,1)","v":{"$error":"#N/A"}},{"$f":"INDEX($B$87:$B$1257,N2670,1)","v":{"$error":"#N/A"}},{"$f":"INDEX($K$88:$K$1258,N2670,1)","v":{"$error":"#N/A"}},{"$f":"IF(SUM(S$1262:S2669)>0,0,\nIF(MAX(L2670:L$2702)=MAX(L$1262:L$2702),0,\nIF(Hydrograph_Source_WQCV=\"USER\",IF(J2670>0.03*D$2703,0,$C2670/60),\nIF(J2670>0.03*J$2703,0,$C2670/60))))","v":0},{"$f":"IF(SUM(T$1262:T2669)>0,0,\nIF(MAX(L2670:L$2702)=MAX(L$1262:L$2702),0,\nIF(Hydrograph_Source_WQCV=\"USER\",IF(J2670>0.01*D$2703,0,$C2670/60),\nIF(J2670>0.01*J$2703,0,$C2670/60))))","v":0},0,{"$f":"U2671","v":0},0,{"$f":"IF(U2670=\"\",0,IF($G$87=\"\",0,(AD2670*AB2670+AF2670-AD2670*AG2670)))","v":0},{"$error":"#VALUE!"},{"$f":"IF($U$1263=\"\",0,(AB2670-$C$1260*60*X2670)/2)","v":{"$error":"#VALUE!"}},{"$f":"Z2670/43560","v":{"$error":"#VALUE!"}},{"$f":"IF((U2670+V2670-W2670)*$C$1260*60+2*Y2670<0,0,(U2670+V2670-W2670)*$C$1260*60+2*Y2670)","v":{"$error":"#VALUE!"}},{"$error":"#VALUE!"},{"$f":"INDEX($J$88:$J$1258,AE2670,1)","v":{"$error":"#VALUE!"}},{"$f":"MATCH(AB2670,$I$87:$I$1257,1)","v":{"$error":"#VALUE!"}},{"$f":"INDEX($H$87:$H$1257,AE2670,1)","v":{"$error":"#VALUE!"}},{"$f":"INDEX($I$87:$I$1257,AE2670,1)","v":{"$error":"#VALUE!"}},{"$f":"INDEX($B$87:$B$1257,AE2670,1)","v":{"$error":"#VALUE!"}},{"$f":"INDEX($K$88:$K$1258,AE2670,1)","v":{"$error":"#VALUE!"}},{"$f":"IF(SUM(AJ$1262:AJ2669)>0,0,IF(MAX(AC2670:AC$2702)=MAX(AC$1262:AC$2702),0,IF(AA2670>0.03*U$2703,0,$C2670/60)))","v":{"$error":"#VALUE!"}},{"$f":"IF(SUM(AK$1262:AK2669)>0,0,IF(MAX(AC2670:AC$2702)=MAX(AC$1262:AC$2702),0,IF(AA2670>0.01*U$2703,0,$C2670/60)))","v":{"$error":"#VALUE!"}},0,{"$f":"AL2671","v":0},0,{"$f":"IF(AL2670=\"\",0,IF($G$87=\"\",0,(AU2670*AS2670+AW2670-AU2670*AX2670)))","v":0},{"$error":"#VALUE!"},{"$f":"IF($AL$1263=\"\",0,(AS2670-$C$1260*60*AO2670)/2)","v":{"$error":"#VALUE!"}},{"$f":"AQ2670/43560","v":{"$error":"#VALUE!"}},{"$f":"IF((AL2670+AM2670-AN2670)*$C$1260*60+2*AP2670<0,0,(AL2670+AM2670-AN2670)*$C$1260*60+2*AP2670)","v":{"$error":"#VALUE!"}},{"$error":"#VALUE!"},{"$f":"INDEX($J$88:$J$1258,AV2670,1)","v":{"$error":"#VALUE!"}},{"$f":"MATCH(AS2670,$I$87:$I$1257,1)","v":{"$error":"#VALUE!"}},{"$f":"INDEX($H$87:$H$1257,AV2670,1)","v":{"$error":"#VALUE!"}},{"$f":"INDEX($I$87:$I$1257,AV2670,1)","v":{"$error":"#VALUE!"}},{"$f":"INDEX($B$87:$B$1257,AV2670,1)","v":{"$error":"#VALUE!"}},{"$f":"INDEX($K$88:$K$1258,AV2670,1)","v":{"$error":"#VALUE!"}},{"$f":"IF(SUM(BA$1262:BA2669)>0,0,IF(MAX(AT2670:AT$2702)=MAX(AT$1262:AT$2702),0,IF(AR2670>0.03*AL$2703,0,$C2670/60)))","v":{"$error":"#VALUE!"}},{"$f":"IF(SUM(BB$1262:BB2669)>0,0,IF(MAX(AT2670:AT$2702)=MAX(AT$1262:AT$2702),0,IF(AR2670>0.01*AL$2703,0,$C2670/60)))","v":{"$error":"#VALUE!"}},0,{"$f":"BC2671","v":0},0,{"$f":"IF(BC2670=\"\",0,IF($G$87=\"\",0,(BL2670*BJ2670+BN2670-BL2670*BO2670)))","v":0},{"$error":"#VALUE!"},{"$f":"IF($BC$1263=\"\",0,(BJ2670-$C$1260*60*BF2670)/2)","v":{"$error":"#VALUE!"}},{"$f":"BH2670/43560","v":{"$error":"#VALUE!"}},{"$f":"IF((BC2670+BD2670-BE2670)*$C$1260*60+2*BG2670<0,0,(BC2670+BD2670-BE2670)*$C$1260*60+2*BG2670)","v":{"$error":"#VALUE!"}},{"$error":"#VALUE!"},{"$f":"INDEX($J$88:$J$1258,BM2670,1)","v":{"$error":"#VALUE!"}},{"$f":"MATCH(BJ2670,$I$87:$I$1257,1)","v":{"$error":"#VALUE!"}},{"$f":"INDEX($H$87:$H$1257,BM2670,1)","v":{"$error":"#VALUE!"}},{"$f":"INDEX($I$87:$I$1257,BM2670,1)","v":{"$error":"#VALUE!"}},{"$f":"INDEX($B$87:$B$1257,BM2670,1)","v":{"$error":"#VALUE!"}},{"$f":"INDEX($K$88:$K$1258,BM2670,1)","v":{"$error":"#VALUE!"}},{"$f":"IF(SUM(BR$1262:BR2669)>0,0,IF(MAX(BK2670:BK$2702)=MAX(BK$1262:BK$2702),0,IF(BI2670>0.03*BC$2703,0,$C2670/60)))","v":{"$error":"#VALUE!"}},{"$f":"IF(SUM(BS$1262:BS2669)>0,0,IF(MAX(BK2670:BK$2702)=MAX(BK$1262:BK$2702),0,IF(BI2670>0.01*BC$2703,0,$C2670/60)))","v":{"$error":"#VALUE!"}},0,{"$f":"BT2671","v":0},0,{"$f":"IF(BT2670=\"\",0,IF($G$87=\"\",0,(CC2670*CA2670+CE2670-CC2670*CF2670)))","v":0},{"$error":"#VALUE!"},{"$f":"IF($BT$1263=\"\",0,(CA2670-$C$1260*60*BW2670)/2)","v":{"$error":"#VALUE!"}},{"$f":"BY2670/43560","v":{"$error":"#VALUE!"}},{"$f":"IF((BT2670+BU2670-BV2670)*$C$1260*60+2*BX2670<0,0,(BT2670+BU2670-BV2670)*$C$1260*60+2*BX2670)","v":{"$error":"#VALUE!"}},{"$error":"#VALUE!"},{"$f":"INDEX($J$88:$J$1258,CD2670,1)","v":{"$error":"#VALUE!"}},{"$f":"MATCH(CA2670,$I$87:$I$1257,1)","v":{"$error":"#VALUE!"}},{"$f":"INDEX($H$87:$H$1257,CD2670,1)","v":{"$error":"#VALUE!"}},{"$f":"INDEX($I$87:$I$1257,CD2670,1)","v":{"$error":"#VALUE!"}},{"$f":"INDEX($B$87:$B$1257,CD2670,1)","v":{"$error":"#VALUE!"}},{"$f":"INDEX($K$88:$K$1258,CD2670,1)","v":{"$error":"#VALUE!"}},{"$f":"IF(SUM(CI$1262:CI2669)>0,0,IF(MAX(CB2670:CB$2702)=MAX(CB$1262:CB$2702),0,IF(BZ2670>0.03*BT$2703,0,$C2670/60)))","v":{"$error":"#VALUE!"}},{"$f":"IF(SUM(CJ$1262:CJ2669)>0,0,IF(MAX(CB2670:CB$2702)=MAX(CB$1262:CB$2702),0,IF(BZ2670>0.01*BT$2703,0,$C2670/60)))","v":{"$error":"#VALUE!"}},0,{"$f":"CK2671","v":0},0,{"$f":"IF(CK2670=\"\",0,IF($G$87=\"\",0,(CT2670*CR2670+CV2670-CT2670*CW2670)))","v":0},{"$error":"#VALUE!"},{"$f":"IF($CK$1263=\"\",0,(CR2670-$C$1260*60*CN2670)/2)","v":{"$error":"#VALUE!"}},{"$f":"CP2670/43560","v":{"$error":"#VALUE!"}},{"$f":"IF((CK2670+CL2670-CM2670)*$C$1260*60+2*CO2670<0,0,(CK2670+CL2670-CM2670)*$C$1260*60+2*CO2670)","v":{"$error":"#VALUE!"}},{"$error":"#VALUE!"},{"$f":"INDEX($J$88:$J$1258,CU2670,1)","v":{"$error":"#VALUE!"}},{"$f":"MATCH(CR2670,$I$87:$I$1257,1)","v":{"$error":"#VALUE!"}},{"$f":"INDEX($H$87:$H$1257,CU2670,1)","v":{"$error":"#VALUE!"}},{"$f":"INDEX($I$87:$I$1257,CU2670,1)","v":{"$error":"#VALUE!"}},{"$f":"INDEX($B$87:$B$1257,CU2670,1)","v":{"$error":"#VALUE!"}},{"$f":"INDEX($K$88:$K$1258,CU2670,1)","v":{"$error":"#VALUE!"}},{"$f":"IF(SUM(CZ$1262:CZ2669)>0,0,IF(MAX(CS2670:CS$2702)=MAX(CS$1262:CS$2702),0,IF(CQ2670>0.03*CK$2703,0,$C2670/60)))","v":{"$error":"#VALUE!"}},{"$f":"IF(SUM(DA$1262:DA2669)>0,0,IF(MAX(CS2670:CS$2702)=MAX(CS$1262:CS$2702),0,IF(CQ2670>0.01*CK$2703,0,$C2670/60)))","v":{"$error":"#VALUE!"}}]
[null,117.41666666666667,{"$f":"C2670+$C$1260","v":7045},0,0,{"$f":"G2670","v":0},0,{"$f":"I2670","v":0},0,0,0,{"$f":"IF($D$1263=\"\",0,ROUND((R2671*K2671+Q2671-R2671*P2671),7))","v":0},{"$error":"#N/A"},{"$error":"#N/A"},{"$error":"#N/A"},{"$error":"#N/A"},{"$error":"#N/A"},{"$error":"#N/A"},{"$f":"IF(SUM(S$1262:S2670)>0,0,\nIF(MAX(L2671:L$2702)=MAX(L$1262:L$2702),0,\nIF(Hydrograph_Source_WQCV=\"USER\",IF(J2671>0.03*D$2703,0,$C2671/60),\nIF(J2671>0.03*J$2703,0,$C2671/60))))","v":0},{"$f":"IF(SUM(T$1262:T2670)>0,0,\nIF(MAX(L2671:L$2702)=MAX(L$1262:L$2702),0,\nIF(Hydrograph_Source_WQCV=\"USER\",IF(J2671>0.01*D$2703,0,$C2671/60),\nIF(J2671>0.01*J$2703,0,$C2671/60))))","v":0},0,0,{"$f":"X2670","v":0},0,{"$f":"Z2670","v":{"$error":"#VALUE!"}},{"$error":"#VALUE!"},{"$error":"#VALUE!"},{"$error":"#VALUE!"},{"$f":"IF($U$1263=\"\",0,ROUND((AI2671*AB2671+AH2671-AI2671*AG2671),7))","v":{"$error":"#VALUE!"}},{"$error":"#VALUE!"},{"$error":"#VALUE!"},{"$error":"#VALUE!"},{"$error":"#VALUE!"},{"$error":"#VALUE!"},{"$error":"#VALUE!"},{"$f":"IF(SUM(AJ$1262:AJ2670)>0,0,IF(MAX(AC2671:AC$2702)=MAX(AC$1262:AC$2702),0,IF(AA2671>0.03*U$2703,0,$C2671/60)))","v":{"$error":"#VALUE!"}},{"$f":"IF(SUM(AK$1262:AK2670)>0,0,IF(MAX(AC2671:AC$2702)=MAX(AC$1262:AC$2702),0,IF(AA2671>0.01*U$2703,0,$C2671/60)))","v":{"$error":"#VALUE!"}},0,0,{"$f":"AO2670","v":0},0,{"$f":"AQ2670","v":{"$error":"#VALUE!"}},{"$error":"#VALUE!"},{"$error":"#VALUE!"},{"$error":"#VALUE!"},{"$f":"IF($AL$1263=\"\",0,ROUND((AZ2671*AS2671+AY2671-AZ2671*AX2671),7))","v":{"$error":"#VALUE!"}},{"$error":"#VALUE!"},{"$error":"#VALUE!"},{"$error":"#VALUE!"},{"$error":"#VALUE!"},{"$error":"#VALUE!"},{"$error":"#VALUE!"},{"$f":"IF(SUM(BA$1262:BA2670)>0,0,IF(MAX(AT2671:AT$2702)=MAX(AT$1262:AT$2702),0,IF(AR2671>0.03*AL$2703,0,$C2671/60)))","v":{"$error":"#VALUE!"}},{"$f":"IF(SUM(BB$1262:BB2670)>0,0,IF(MAX(AT2671:AT$2702)=MAX(AT$1262:AT$2702),0,IF(AR2671>0.01*AL$2703,0,$C2671/60)))","v":{"$error":"#VALUE!"}},0,0,{"$f":"BF2670","v":0},0,{"$f":"BH2670","v":{"$error":"#VALUE!"}},{"$error":"#VALUE!"},{"$error":"#VALUE!"},{"$error":"#VALUE!"},{"$f":"IF($BC$1263=\"\",0,ROUND((BQ2671*BJ2671+BP2671-BQ2671*BO2671),7))","v":{"$error":"#VALUE!"}},{"$error":"#VALUE!"},{"$error":"#VALUE!"},{"$error":"#VALUE!"},{"$error":"#VALUE!"},{"$error":"#VALUE!"},{"$error":"#VALUE!"},{"$f":"IF(SUM(BR$1262:BR2670)>0,0,IF(MAX(BK2671:BK$2702)=MAX(BK$1262:BK$2702),0,IF(BI2671>0.03*BC$2703,0,$C2671/60)))","v":{"$error":"#VALUE!"}},{"$f":"IF(SUM(BS$1262:BS2670)>0,0,IF(MAX(BK2671:BK$2702)=MAX(BK$1262:BK$2702),0,IF(BI2671>0.01*BC$2703,0,$C2671/60)))","v":{"$error":"#VALUE!"}},0,0,{"$f":"BW2670","v":0},0,{"$f":"BY2670","v":{"$error":"#VALUE!"}},{"$error":"#VALUE!"},{"$error":"#VALUE!"},{"$error":"#VALUE!"},{"$f":"IF($BT$1263=\"\",0,ROUND((CH2671*CA2671+CG2671-CH2671*CF2671),7))","v":{"$error":"#VALUE!"}},{"$error":"#VALUE!"},{"$error":"#VALUE!"},{"$error":"#VALUE!"},{"$error":"#VALUE!"},{"$error":"#VALUE!"},{"$error":"#VALUE!"},{"$f":"IF(SUM(CI$1262:CI2670)>0,0,IF(MAX(CB2671:CB$2702)=MAX(CB$1262:CB$2702),0,IF(BZ2671>0.03*BT$2703,0,$C2671/60)))","v":{"$error":"#VALUE!"}},{"$f":"IF(SUM(CJ$1262:CJ2670)>0,0,IF(MAX(CB2671:CB$2702)=MAX(CB$1262:CB$2702),0,IF(BZ2671>0.01*BT$2703,0,$C2671/60)))","v":{"$error":"#VALUE!"}},0,0,{"$f":"CN2670","v":0},0,{"$f":"CP2670","v":{"$error":"#VALUE!"}},{"$error":"#VALUE!"},{"$error":"#VALUE!"},{"$error":"#VALUE!"},{"$error":"#VALUE!"},{"$error":"#VALUE!"},{"$error":"#VALUE!"},{"$error":"#VALUE!"},{"$error":"#VALUE!"},{"$error":"#VALUE!"},{"$error":"#VALUE!"},{"$f":"IF(SUM(CZ$1262:CZ2670)>0,0,IF(MAX(CS2671:CS$2702)=MAX(CS$1262:CS$2702),0,IF(CQ2671>0.03*CK$2703,0,$C2671/60)))","v":{"$error":"#VALUE!"}},{"$f":"IF(SUM(DA$1262:DA2670)>0,0,IF(MAX(CS2671:CS$2702)=MAX(CS$1262:CS$2702),0,IF(CQ2671>0.01*CK$2703,0,$C2671/60)))","v":{"$error":"#VALUE!"}}]
[null,117.5,7050,0,0,0,0,0,0,0,0,0,{"$error":"#N/A"},{"$error":"#N/A"},{"$error":"#N/A"},{"$error":"#N/A"},{"$error":"#N/A"},{"$error":"#N/A"},{"$f":"IF(SUM(S$1262:S2671)>0,0,\nIF(MAX(L2672:L$2702)=MAX(L$1262:L$2702),0,\nIF(Hydrograph_Source_WQCV=\"USER\",IF(J2672>0.03*D$2703,0,$C2672/60),\nIF(J2672>0.03*J$2703,0,$C2672/60))))","v":0},{"$f":"IF(SUM(T$1262:T2671)>0,0,\nIF(MAX(L2672:L$2702)=MAX(L$1262:L$2702),0,\nIF(Hydrograph_Source_WQCV=\"USER\",IF(J2672>0.01*D$2703,0,$C2672/60),\nIF(J2672>0.01*J$2703,0,$C2672/60))))","v":0},0,0,0,0,{"$error":"#VALUE!"},{"$error":"#VALUE!"},{"$error":"#VALUE!"},{"$error":"#VALUE!"},{"$error":"#VALUE!"},{"$error":"#VALUE!"},{"$error":"#VALUE!"},{"$error":"#VALUE!"},{"$error":"#VALUE!"},{"$error":"#VALUE!"},{"$error":"#VALUE!"},{"$f":"IF(SUM(AJ$1262:AJ2671)>0,0,IF(MAX(AC2672:AC$2702)=MAX(AC$1262:AC$2702),0,IF(AA2672>0.03*U$2703,0,$C2672/60)))","v":{"$error":"#VALUE!"}},{"$f":"IF(SUM(AK$1262:AK2671)>0,0,IF(MAX(AC2672:AC$2702)=MAX(AC$1262:AC$2702),0,IF(AA2672>0.01*U$2703,0,$C2672/60)))","v":{"$error":"#VALUE!"}},0,0,0,0,{"$error":"#VALUE!"},{"$error":"#VALUE!"},{"$error":"#VALUE!"},{"$error":"#VALUE!"},{"$error":"#VALUE!"},{"$error":"#VALUE!"},{"$error":"#VALUE!"},{"$error":"#VALUE!"},{"$error":"#VALUE!"},{"$error":"#VALUE!"},{"$error":"#VALUE!"},{"$f":"IF(SUM(BA$1262:BA2671)>0,0,IF(MAX(AT2672:AT$2702)=MAX(AT$1262:AT$2702),0,IF(AR2672>0.03*AL$2703,0,$C2672/60)))","v":{"$error":"#VALUE!"}},{"$f":"IF(SUM(BB$1262:BB2671)>0,0,IF(MAX(AT2672:AT$2702)=MAX(AT$1262:AT$2702),0,IF(AR2672>0.01*AL$2703,0,$C2672/60)))","v":{"$error":"#VALUE!"}},0,0,0,0,{"$error":"#VALUE!"},{"$error":"#VALUE!"},{"$error":"#VALUE!"},{"$error":"#VALUE!"},{"$error":"#VALUE!"},{"$error":"#VALUE!"},{"$error":"#VALUE!"},{"$error":"#VALUE!"},{"$error":"#VALUE!"},{"$error":"#VALUE!"},{"$error":"#VALUE!"},{"$f":"IF(SUM(BR$1262:BR2671)>0,0,IF(MAX(BK2672:BK$2702)=MAX(BK$1262:BK$2702),0,IF(BI2672>0.03*BC$2703,0,$C2672/60)))","v":{"$error":"#VALUE!"}},{"$f":"IF(SUM(BS$1262:BS2671)>0,0,IF(MAX(BK2672:BK$2702)=MAX(BK$1262:BK$2702),0,IF(BI2672>0.01*BC$2703,0,$C2672/60)))","v":{"$error":"#VALUE!"}},0,0,0,0,{"$error":"#VALUE!"},{"$error":"#VALUE!"},{"$error":"#VALUE!"},{"$error":"#VALUE!"},{"$error":"#VALUE!"},{"$error":"#VALUE!"},{"$error":"#VALUE!"},{"$error":"#VALUE!"},{"$error":"#VALUE!"},{"$error":"#VALUE!"},{"$error":"#VALUE!"},{"$f":"IF(SUM(CI$1262:CI2671)>0,0,IF(MAX(CB2672:CB$2702)=MAX(CB$1262:CB$2702),0,IF(BZ2672>0.03*BT$2703,0,$C2672/60)))","v":{"$error":"#VALUE!"}},{"$f":"IF(SUM(CJ$1262:CJ2671)>0,0,IF(MAX(CB2672:CB$2702)=MAX(CB$1262:CB$2702),0,IF(BZ2672>0.01*BT$2703,0,$C2672/60)))","v":{"$error":"#VALUE!"}},0,0,0,0,{"$error":"#VALUE!"},{"$error":"#VALUE!"},{"$error":"#VALUE!"},{"$error":"#VALUE!"},{"$f":"IF(CK$1263=\"\",0,ROUND((CY2672*CR2672+CX2672-CY2672*CW2672),7))","v":{"$error":"#VALUE!"}},{"$error":"#VALUE!"},{"$error":"#VALUE!"},{"$error":"#VALUE!"},{"$error":"#VALUE!"},{"$error":"#VALUE!"},{"$error":"#VALUE!"},{"$f":"IF(SUM(CZ$1262:CZ2671)>0,0,IF(MAX(CS2672:CS$2702)=MAX(CS$1262:CS$2702),0,IF(CQ2672>0.03*CK$2703,0,$C2672/60)))","v":{"$error":"#VALUE!"}},{"$f":"IF(SUM(DA$1262:DA2671)>0,0,IF(MAX(CS2672:CS$2702)=MAX(CS$1262:CS$2702),0,IF(CQ2672>0.01*CK$2703,0,$C2672/60)))","v":{"$error":"#VALUE!"}}]
[null,117.58333333333333,7055,0,0,0,0,0,0,0,0,0,{"$error":"#N/A"},{"$error":"#N/A"},{"$error":"#N/A"},{"$error":"#N/A"},{"$error":"#N/A"},{"$error":"#N/A"},{"$f":"IF(SUM(S$1262:S2672)>0,0,\nIF(MAX(L2673:L$2702)=MAX(L$1262:L$2702),0,\nIF(Hydrograph_Source_WQCV=\"USER\",IF(J2673>0.03*D$2703,0,$C2673/60),\nIF(J2673>0.03*J$2703,0,$C2673/60))))","v":0},{"$f":"IF(SUM(T$1262:T2672)>0,0,\nIF(MAX(L2673:L$2702)=MAX(L$1262:L$2702),0,\nIF(Hydrograph_Source_WQCV=\"USER\",IF(J2673>0.01*D$2703,0,$C2673/60),\nIF(J2673>0.01*J$2703,0,$C2673/60))))","v":0},0,0,0,0,{"$error":"#VALUE!"},{"$error":"#VALUE!"},{"$error":"#VALUE!"},{"$error":"#VALUE!"},{"$error":"#VALUE!"},{"$error":"#VALUE!"},{"$error":"#VALUE!"},{"$error":"#VALUE!"},{"$error":"#VALUE!"},{"$error":"#VALUE!"},{"$error":"#VALUE!"},{"$f":"IF(SUM(AJ$1262:AJ2672)>0,0,IF(MAX(AC2673:AC$2702)=MAX(AC$1262:AC$2702),0,IF(AA2673>0.03*U$2703,0,$C2673/60)))","v":{"$error":"#VALUE!"}},{"$f":"IF(SUM(AK$1262:AK2672)>0,0,IF(MAX(AC2673:AC$2702)=MAX(AC$1262:AC$2702),0,IF(AA2673>0.01*U$2703,0,$C2673/60)))","v":{"$error":"#VALUE!"}},0,0,0,0,{"$error":"#VALUE!"},{"$error":"#VALUE!"},{"$error":"#VALUE!"},{"$error":"#VALUE!"},{"$error":"#VALUE!"},{"$error":"#VALUE!"},{"$error":"#VALUE!"},{"$error":"#VALUE!"},{"$error":"#VALUE!"},{"$error":"#VALUE!"},{"$error":"#VALUE!"},{"$f":"IF(SUM(BA$1262:BA2672)>0,0,IF(MAX(AT2673:AT$2702)=MAX(AT$1262:AT$2702),0,IF(AR2673>0.03*AL$2703,0,$C2673/60)))","v":{"$error":"#VALUE!"}},{"$f":"IF(SUM(BB$1262:BB2672)>0,0,IF(MAX(AT2673:AT$2702)=MAX(AT$1262:AT$2702),0,IF(AR2673>0.01*AL$2703,0,$C2673/60)))","v":{"$error":"#VALUE!"}},0,0,0,0,{"$error":"#VALUE!"},{"$error":"#VALUE!"},{"$error":"#VALUE!"},{"$error":"#VALUE!"},{"$error":"#VALUE!"},{"$error":"#VALUE!"},{"$error":"#VALUE!"},{"$error":"#VALUE!"},{"$error":"#VALUE!"},{"$error":"#VALUE!"},{"$error":"#VALUE!"},{"$f":"IF(SUM(BR$1262:BR2672)>0,0,IF(MAX(BK2673:BK$2702)=MAX(BK$1262:BK$2702),0,IF(BI2673>0.03*BC$2703,0,$C2673/60)))","v":{"$error":"#VALUE!"}},{"$f":"IF(SUM(BS$1262:BS2672)>0,0,IF(MAX(BK2673:BK$2702)=MAX(BK$1262:BK$2702),0,IF(BI2673>0.01*BC$2703,0,$C2673/60)))","v":{"$error":"#VALUE!"}},0,0,0,0,{"$error":"#VALUE!"},{"$error":"#VALUE!"},{"$error":"#VALUE!"},{"$error":"#VALUE!"},{"$error":"#VALUE!"},{"$error":"#VALUE!"},{"$error":"#VALUE!"},{"$error":"#VALUE!"},{"$error":"#VALUE!"},{"$error":"#VALUE!"},{"$error":"#VALUE!"},{"$f":"IF(SUM(CI$1262:CI2672)>0,0,IF(MAX(CB2673:CB$2702)=MAX(CB$1262:CB$2702),0,IF(BZ2673>0.03*BT$2703,0,$C2673/60)))","v":{"$error":"#VALUE!"}},{"$f":"IF(SUM(CJ$1262:CJ2672)>0,0,IF(MAX(CB2673:CB$2702)=MAX(CB$1262:CB$2702),0,IF(BZ2673>0.01*BT$2703,0,$C2673/60)))","v":{"$error":"#VALUE!"}},0,0,0,0,{"$error":"#VALUE!"},{"$error":"#VALUE!"},{"$error":"#VALUE!"},{"$error":"#VALUE!"},{"$error":"#VALUE!"},{"$error":"#VALUE!"},{"$error":"#VALUE!"},{"$error":"#VALUE!"},{"$error":"#VALUE!"},{"$error":"#VALUE!"},{"$error":"#VALUE!"},{"$f":"IF(SUM(CZ$1262:CZ2672)>0,0,IF(MAX(CS2673:CS$2702)=MAX(CS$1262:CS$2702),0,IF(CQ2673>0.03*CK$2703,0,$C2673/60)))","v":{"$error":"#VALUE!"}},{"$f":"IF(SUM(DA$1262:DA2672)>0,0,IF(MAX(CS2673:CS$2702)=MAX(CS$1262:CS$2702),0,IF(CQ2673>0.01*CK$2703,0,$C2673/60)))","v":{"$error":"#VALUE!"}}]
[null,117.66666666666667,7060,0,0,0,0,0,0,0,0,0,{"$error":"#N/A"},{"$error":"#N/A"},{"$error":"#N/A"},{"$error":"#N/A"},{"$error":"#N/A"},{"$error":"#N/A"},{"$f":"IF(SUM(S$1262:S2673)>0,0,\nIF(MAX(L2674:L$2702)=MAX(L$1262:L$2702),0,\nIF(Hydrograph_Source_WQCV=\"USER\",IF(J2674>0.03*D$2703,0,$C2674/60),\nIF(J2674>0.03*J$2703,0,$C2674/60))))","v":0},{"$f":"IF(SUM(T$1262:T2673)>0,0,\nIF(MAX(L2674:L$2702)=MAX(L$1262:L$2702),0,\nIF(Hydrograph_Source_WQCV=\"USER\",IF(J2674>0.01*D$2703,0,$C2674/60),\nIF(J2674>0.01*J$2703,0,$C2674/60))))","v":0},0,0,0,0,{"$error":"#VALUE!"},{"$error":"#VALUE!"},{"$error":"#VALUE!"},{"$error":"#VALUE!"},{"$error":"#VALUE!"},{"$error":"#VALUE!"},{"$error":"#VALUE!"},{"$error":"#VALUE!"},{"$error":"#VALUE!"},{"$error":"#VALUE!"},{"$error":"#VALUE!"},{"$f":"IF(SUM(AJ$1262:AJ2673)>0,0,IF(MAX(AC2674:AC$2702)=MAX(AC$1262:AC$2702),0,IF(AA2674>0.03*U$2703,0,$C2674/60)))","v":{"$error":"#VALUE!"}},{"$f":"IF(SUM(AK$1262:AK2673)>0,0,IF(MAX(AC2674:AC$2702)=MAX(AC$1262:AC$2702),0,IF(AA2674>0.01*U$2703,0,$C2674/60)))","v":{"$error":"#VALUE!"}},0,0,0,0,{"$error":"#VALUE!"},{"$error":"#VALUE!"},{"$error":"#VALUE!"},{"$error":"#VALUE!"},{"$error":"#VALUE!"},{"$error":"#VALUE!"},{"$error":"#VALUE!"},{"$error":"#VALUE!"},{"$error":"#VALUE!"},{"$error":"#VALUE!"},{"$error":"#VALUE!"},{"$f":"IF(SUM(BA$1262:BA2673)>0,0,IF(MAX(AT2674:AT$2702)=MAX(AT$1262:AT$2702),0,IF(AR2674>0.03*AL$2703,0,$C2674/60)))","v":{"$error":"#VALUE!"}},{"$f":"IF(SUM(BB$1262:BB2673)>0,0,IF(MAX(AT2674:AT$2702)=MAX(AT$1262:AT$2702),0,IF(AR2674>0.01*AL$2703,0,$C2674/60)))","v":{"$error":"#VALUE!"}},0,0,0,0,{"$error":"#VALUE!"},{"$error":"#VALUE!"},{"$error":"#VALUE!"},{"$error":"#VALUE!"},{"$error":"#VALUE!"},{"$error":"#VALUE!"},{"$error":"#VALUE!"},{"$error":"#VALUE!"},{"$error":"#VALUE!"},{"$error":"#VALUE!"},{"$error":"#VALUE!"},{"$f":"IF(SUM(BR$1262:BR2673)>0,0,IF(MAX(BK2674:BK$2702)=MAX(BK$1262:BK$2702),0,IF(BI2674>0.03*BC$2703,0,$C2674/60)))","v":{"$error":"#VALUE!"}},{"$f":"IF(SUM(BS$1262:BS2673)>0,0,IF(MAX(BK2674:BK$2702)=MAX(BK$1262:BK$2702),0,IF(BI2674>0.01*BC$2703,0,$C2674/60)))","v":{"$error":"#VALUE!"}},0,0,0,0,{"$error":"#VALUE!"},{"$error":"#VALUE!"},{"$error":"#VALUE!"},{"$error":"#VALUE!"},{"$error":"#VALUE!"},{"$error":"#VALUE!"},{"$error":"#VALUE!"},{"$error":"#VALUE!"},{"$error":"#VALUE!"},{"$error":"#VALUE!"},{"$error":"#VALUE!"},{"$f":"IF(SUM(CI$1262:CI2673)>0,0,IF(MAX(CB2674:CB$2702)=MAX(CB$1262:CB$2702),0,IF(BZ2674>0.03*BT$2703,0,$C2674/60)))","v":{"$error":"#VALUE!"}},{"$f":"IF(SUM(CJ$1262:CJ2673)>0,0,IF(MAX(CB2674:CB$2702)=MAX(CB$1262:CB$2702),0,IF(BZ2674>0.01*BT$2703,0,$C2674/60)))","v":{"$error":"#VALUE!"}},0,0,0,0,{"$error":"#VALUE!"},{"$error":"#VALUE!"},{"$error":"#VALUE!"},{"$error":"#VALUE!"},{"$error":"#VALUE!"},{"$error":"#VALUE!"},{"$error":"#VALUE!"},{"$error":"#VALUE!"},{"$error":"#VALUE!"},{"$error":"#VALUE!"},{"$error":"#VALUE!"},{"$f":"IF(SUM(CZ$1262:CZ2673)>0,0,IF(MAX(CS2674:CS$2702)=MAX(CS$1262:CS$2702),0,IF(CQ2674>0.03*CK$2703,0,$C2674/60)))","v":{"$error":"#VALUE!"}},{"$f":"IF(SUM(DA$1262:DA2673)>0,0,IF(MAX(CS2674:CS$2702)=MAX(CS$1262:CS$2702),0,IF(CQ2674>0.01*CK$2703,0,$C2674/60)))","v":{"$error":"#VALUE!"}}]
[null,117.75,7065,0,0,0,0,0,0,0,0,0,{"$error":"#N/A"},{"$error":"#N/A"},{"$error":"#N/A"},{"$error":"#N/A"},{"$error":"#N/A"},{"$error":"#N/A"},{"$f":"IF(SUM(S$1262:S2674)>0,0,\nIF(MAX(L2675:L$2702)=MAX(L$1262:L$2702),0,\nIF(Hydrograph_Source_WQCV=\"USER\",IF(J2675>0.03*D$2703,0,$C2675/60),\nIF(J2675>0.03*J$2703,0,$C2675/60))))","v":0},{"$f":"IF(SUM(T$1262:T2674)>0,0,\nIF(MAX(L2675:L$2702)=MAX(L$1262:L$2702),0,\nIF(Hydrograph_Source_WQCV=\"USER\",IF(J2675>0.01*D$2703,0,$C2675/60),\nIF(J2675>0.01*J$2703,0,$C2675/60))))","v":0},0,0,0,0,{"$error":"#VALUE!"},{"$error":"#VALUE!"},{"$error":"#VALUE!"},{"$error":"#VALUE!"},{"$error":"#VALUE!"},{"$error":"#VALUE!"},{"$error":"#VALUE!"},{"$error":"#VALUE!"},{"$error":"#VALUE!"},{"$error":"#VALUE!"},{"$error":"#VALUE!"},{"$f":"IF(SUM(AJ$1262:AJ2674)>0,0,IF(MAX(AC2675:AC$2702)=MAX(AC$1262:AC$2702),0,IF(AA2675>0.03*U$2703,0,$C2675/60)))","v":{"$error":"#VALUE!"}},{"$f":"IF(SUM(AK$1262:AK2674)>0,0,IF(MAX(AC2675:AC$2702)=MAX(AC$1262:AC$2702),0,IF(AA2675>0.01*U$2703,0,$C2675/60)))","v":{"$error":"#VALUE!"}},0,0,0,0,{"$error":"#VALUE!"},{"$error":"#VALUE!"},{"$error":"#VALUE!"},{"$error":"#VALUE!"},{"$error":"#VALUE!"},{"$error":"#VALUE!"},{"$error":"#VALUE!"},{"$error":"#VALUE!"},{"$error":"#VALUE!"},{"$error":"#VALUE!"},{"$error":"#VALUE!"},{"$f":"IF(SUM(BA$1262:BA2674)>0,0,IF(MAX(AT2675:AT$2702)=MAX(AT$1262:AT$2702),0,IF(AR2675>0.03*AL$2703,0,$C2675/60)))","v":{"$error":"#VALUE!"}},{"$f":"IF(SUM(BB$1262:BB2674)>0,0,IF(MAX(AT2675:AT$2702)=MAX(AT$1262:AT$2702),0,IF(AR2675>0.01*AL$2703,0,$C2675/60)))","v":{"$error":"#VALUE!"}},0,0,0,0,{"$error":"#VALUE!"},{"$error":"#VALUE!"},{"$error":"#VALUE!"},{"$error":"#VALUE!"},{"$error":"#VALUE!"},{"$error":"#VALUE!"},{"$error":"#VALUE!"},{"$error":"#VALUE!"},{"$error":"#VALUE!"},{"$error":"#VALUE!"},{"$error":"#VALUE!"},{"$f":"IF(SUM(BR$1262:BR2674)>0,0,IF(MAX(BK2675:BK$2702)=MAX(BK$1262:BK$2702),0,IF(BI2675>0.03*BC$2703,0,$C2675/60)))","v":{"$error":"#VALUE!"}},{"$f":"IF(SUM(BS$1262:BS2674)>0,0,IF(MAX(BK2675:BK$2702)=MAX(BK$1262:BK$2702),0,IF(BI2675>0.01*BC$2703,0,$C2675/60)))","v":{"$error":"#VALUE!"}},0,0,0,0,{"$error":"#VALUE!"},{"$error":"#VALUE!"},{"$error":"#VALUE!"},{"$error":"#VALUE!"},{"$error":"#VALUE!"},{"$error":"#VALUE!"},{"$error":"#VALUE!"},{"$error":"#VALUE!"},{"$error":"#VALUE!"},{"$error":"#VALUE!"},{"$error":"#VALUE!"},{"$f":"IF(SUM(CI$1262:CI2674)>0,0,IF(MAX(CB2675:CB$2702)=MAX(CB$1262:CB$2702),0,IF(BZ2675>0.03*BT$2703,0,$C2675/60)))","v":{"$error":"#VALUE!"}},{"$f":"IF(SUM(CJ$1262:CJ2674)>0,0,IF(MAX(CB2675:CB$2702)=MAX(CB$1262:CB$2702),0,IF(BZ2675>0.01*BT$2703,0,$C2675/60)))","v":{"$error":"#VALUE!"}},0,0,0,0,{"$error":"#VALUE!"},{"$error":"#VALUE!"},{"$error":"#VALUE!"},{"$error":"#VALUE!"},{"$error":"#VALUE!"},{"$error":"#VALUE!"},{"$error":"#VALUE!"},{"$error":"#VALUE!"},{"$error":"#VALUE!"},{"$error":"#VALUE!"},{"$error":"#VALUE!"},{"$f":"IF(SUM(CZ$1262:CZ2674)>0,0,IF(MAX(CS2675:CS$2702)=MAX(CS$1262:CS$2702),0,IF(CQ2675>0.03*CK$2703,0,$C2675/60)))","v":{"$error":"#VALUE!"}},{"$f":"IF(SUM(DA$1262:DA2674)>0,0,IF(MAX(CS2675:CS$2702)=MAX(CS$1262:CS$2702),0,IF(CQ2675>0.01*CK$2703,0,$C2675/60)))","v":{"$error":"#VALUE!"}}]
[null,117.83333333333333,7070,0,0,0,0,0,0,0,0,0,{"$error":"#N/A"},{"$error":"#N/A"},{"$error":"#N/A"},{"$error":"#N/A"},{"$error":"#N/A"},{"$error":"#N/A"},{"$f":"IF(SUM(S$1262:S2675)>0,0,\nIF(MAX(L2676:L$2702)=MAX(L$1262:L$2702),0,\nIF(Hydrograph_Source_WQCV=\"USER\",IF(J2676>0.03*D$2703,0,$C2676/60),\nIF(J2676>0.03*J$2703,0,$C2676/60))))","v":0},{"$f":"IF(SUM(T$1262:T2675)>0,0,\nIF(MAX(L2676:L$2702)=MAX(L$1262:L$2702),0,\nIF(Hydrograph_Source_WQCV=\"USER\",IF(J2676>0.01*D$2703,0,$C2676/60),\nIF(J2676>0.01*J$2703,0,$C2676/60))))","v":0},0,0,0,0,{"$error":"#VALUE!"},{"$error":"#VALUE!"},{"$error":"#VALUE!"},{"$error":"#VALUE!"},{"$error":"#VALUE!"},{"$error":"#VALUE!"},{"$error":"#VALUE!"},{"$error":"#VALUE!"},{"$error":"#VALUE!"},{"$error":"#VALUE!"},{"$error":"#VALUE!"},{"$f":"IF(SUM(AJ$1262:AJ2675)>0,0,IF(MAX(AC2676:AC$2702)=MAX(AC$1262:AC$2702),0,IF(AA2676>0.03*U$2703,0,$C2676/60)))","v":{"$error":"#VALUE!"}},{"$f":"IF(SUM(AK$1262:AK2675)>0,0,IF(MAX(AC2676:AC$2702)=MAX(AC$1262:AC$2702),0,IF(AA2676>0.01*U$2703,0,$C2676/60)))","v":{"$error":"#VALUE!"}},0,0,0,0,{"$error":"#VALUE!"},{"$error":"#VALUE!"},{"$error":"#VALUE!"},{"$error":"#VALUE!"},{"$error":"#VALUE!"},{"$error":"#VALUE!"},{"$error":"#VALUE!"},{"$error":"#VALUE!"},{"$error":"#VALUE!"},{"$error":"#VALUE!"},{"$error":"#VALUE!"},{"$f":"IF(SUM(BA$1262:BA2675)>0,0,IF(MAX(AT2676:AT$2702)=MAX(AT$1262:AT$2702),0,IF(AR2676>0.03*AL$2703,0,$C2676/60)))","v":{"$error":"#VALUE!"}},{"$f":"IF(SUM(BB$1262:BB2675)>0,0,IF(MAX(AT2676:AT$2702)=MAX(AT$1262:AT$2702),0,IF(AR2676>0.01*AL$2703,0,$C2676/60)))","v":{"$error":"#VALUE!"}},0,0,0,0,{"$error":"#VALUE!"},{"$error":"#VALUE!"},{"$error":"#VALUE!"},{"$error":"#VALUE!"},{"$error":"#VALUE!"},{"$error":"#VALUE!"},{"$error":"#VALUE!"},{"$error":"#VALUE!"},{"$error":"#VALUE!"},{"$error":"#VALUE!"},{"$error":"#VALUE!"},{"$f":"IF(SUM(BR$1262:BR2675)>0,0,IF(MAX(BK2676:BK$2702)=MAX(BK$1262:BK$2702),0,IF(BI2676>0.03*BC$2703,0,$C2676/60)))","v":{"$error":"#VALUE!"}},{"$f":"IF(SUM(BS$1262:BS2675)>0,0,IF(MAX(BK2676:BK$2702)=MAX(BK$1262:BK$2702),0,IF(BI2676>0.01*BC$2703,0,$C2676/60)))","v":{"$error":"#VALUE!"}},0,0,0,0,{"$error":"#VALUE!"},{"$error":"#VALUE!"},{"$error":"#VALUE!"},{"$error":"#VALUE!"},{"$error":"#VALUE!"},{"$error":"#VALUE!"},{"$error":"#VALUE!"},{"$error":"#VALUE!"},{"$error":"#VALUE!"},{"$error":"#VALUE!"},{"$error":"#VALUE!"},{"$f":"IF(SUM(CI$1262:CI2675)>0,0,IF(MAX(CB2676:CB$2702)=MAX(CB$1262:CB$2702),0,IF(BZ2676>0.03*BT$2703,0,$C2676/60)))","v":{"$error":"#VALUE!"}},{"$f":"IF(SUM(CJ$1262:CJ2675)>0,0,IF(MAX(CB2676:CB$2702)=MAX(CB$1262:CB$2702),0,IF(BZ2676>0.01*BT$2703,0,$C2676/60)))","v":{"$error":"#VALUE!"}},0,0,0,0,{"$error":"#VALUE!"},{"$error":"#VALUE!"},{"$error":"#VALUE!"},{"$error":"#VALUE!"},{"$error":"#VALUE!"},{"$error":"#VALUE!"},{"$error":"#VALUE!"},{"$error":"#VALUE!"},{"$error":"#VALUE!"},{"$error":"#VALUE!"},{"$error":"#VALUE!"},{"$f":"IF(SUM(CZ$1262:CZ2675)>0,0,IF(MAX(CS2676:CS$2702)=MAX(CS$1262:CS$2702),0,IF(CQ2676>0.03*CK$2703,0,$C2676/60)))","v":{"$error":"#VALUE!"}},{"$f":"IF(SUM(DA$1262:DA2675)>0,0,IF(MAX(CS2676:CS$2702)=MAX(CS$1262:CS$2702),0,IF(CQ2676>0.01*CK$2703,0,$C2676/60)))","v":{"$error":"#VALUE!"}}]
[null,117.91666666666667,7075,0,0,0,0,0,0,0,0,0,{"$error":"#N/A"},{"$error":"#N/A"},{"$error":"#N/A"},{"$error":"#N/A"},{"$error":"#N/A"},{"$error":"#N/A"},{"$f":"IF(SUM(S$1262:S2676)>0,0,\nIF(MAX(L2677:L$2702)=MAX(L$1262:L$2702),0,\nIF(Hydrograph_Source_WQCV=\"USER\",IF(J2677>0.03*D$2703,0,$C2677/60),\nIF(J2677>0.03*J$2703,0,$C2677/60))))","v":0},{"$f":"IF(SUM(T$1262:T2676)>0,0,\nIF(MAX(L2677:L$2702)=MAX(L$1262:L$2702),0,\nIF(Hydrograph_Source_WQCV=\"USER\",IF(J2677>0.01*D$2703,0,$C2677/60),\nIF(J2677>0.01*J$2703,0,$C2677/60))))","v":0},0,0,0,0,{"$error":"#VALUE!"},{"$error":"#VALUE!"},{"$error":"#VALUE!"},{"$error":"#VALUE!"},{"$error":"#VALUE!"},{"$error":"#VALUE!"},{"$error":"#VALUE!"},{"$error":"#VALUE!"},{"$error":"#VALUE!"},{"$error":"#VALUE!"},{"$error":"#VALUE!"},{"$f":"IF(SUM(AJ$1262:AJ2676)>0,0,IF(MAX(AC2677:AC$2702)=MAX(AC$1262:AC$2702),0,IF(AA2677>0.03*U$2703,0,$C2677/60)))","v":{"$error":"#VALUE!"}},{"$f":"IF(SUM(AK$1262:AK2676)>0,0,IF(MAX(AC2677:AC$2702)=MAX(AC$1262:AC$2702),0,IF(AA2677>0.01*U$2703,0,$C2677/60)))","v":{"$error":"#VALUE!"}},0,0,0,0,{"$error":"#VALUE!"},{"$error":"#VALUE!"},{"$error":"#VALUE!"},{"$error":"#VALUE!"},{"$error":"#VALUE!"},{"$error":"#VALUE!"},{"$error":"#VALUE!"},{"$error":"#VALUE!"},{"$error":"#VALUE!"},{"$error":"#VALUE!"},{"$error":"#VALUE!"},{"$f":"IF(SUM(BA$1262:BA2676)>0,0,IF(MAX(AT2677:AT$2702)=MAX(AT$1262:AT$2702),0,IF(AR2677>0.03*AL$2703,0,$C2677/60)))","v":{"$error":"#VALUE!"}},{"$f":"IF(SUM(BB$1262:BB2676)>0,0,IF(MAX(AT2677:AT$2702)=MAX(AT$1262:AT$2702),0,IF(AR2677>0.01*AL$2703,0,$C2677/60)))","v":{"$error":"#VALUE!"}},0,0,0,0,{"$error":"#VALUE!"},{"$error":"#VALUE!"},{"$error":"#VALUE!"},{"$error":"#VALUE!"},{"$error":"#VALUE!"},{"$error":"#VALUE!"},{"$error":"#VALUE!"},{"$error":"#VALUE!"},{"$error":"#VALUE!"},{"$error":"#VALUE!"},{"$error":"#VALUE!"},{"$f":"IF(SUM(BR$1262:BR2676)>0,0,IF(MAX(BK2677:BK$2702)=MAX(BK$1262:BK$2702),0,IF(BI2677>0.03*BC$2703,0,$C2677/60)))","v":{"$error":"#VALUE!"}},{"$f":"IF(SUM(BS$1262:BS2676)>0,0,IF(MAX(BK2677:BK$2702)=MAX(BK$1262:BK$2702),0,IF(BI2677>0.01*BC$2703,0,$C2677/60)))","v":{"$error":"#VALUE!"}},0,0,0,0,{"$error":"#VALUE!"},{"$error":"#VALUE!"},{"$error":"#VALUE!"},{"$error":"#VALUE!"},{"$error":"#VALUE!"},{"$error":"#VALUE!"},{"$error":"#VALUE!"},{"$error":"#VALUE!"},{"$error":"#VALUE!"},{"$error":"#VALUE!"},{"$error":"#VALUE!"},{"$f":"IF(SUM(CI$1262:CI2676)>0,0,IF(MAX(CB2677:CB$2702)=MAX(CB$1262:CB$2702),0,IF(BZ2677>0.03*BT$2703,0,$C2677/60)))","v":{"$error":"#VALUE!"}},{"$f":"IF(SUM(CJ$1262:CJ2676)>0,0,IF(MAX(CB2677:CB$2702)=MAX(CB$1262:CB$2702),0,IF(BZ2677>0.01*BT$2703,0,$C2677/60)))","v":{"$error":"#VALUE!"}},0,0,0,0,{"$error":"#VALUE!"},{"$error":"#VALUE!"},{"$error":"#VALUE!"},{"$error":"#VALUE!"},{"$error":"#VALUE!"},{"$error":"#VALUE!"},{"$error":"#VALUE!"},{"$error":"#VALUE!"},{"$error":"#VALUE!"},{"$error":"#VALUE!"},{"$error":"#VALUE!"},{"$f":"IF(SUM(CZ$1262:CZ2676)>0,0,IF(MAX(CS2677:CS$2702)=MAX(CS$1262:CS$2702),0,IF(CQ2677>0.03*CK$2703,0,$C2677/60)))","v":{"$error":"#VALUE!"}},{"$f":"IF(SUM(DA$1262:DA2676)>0,0,IF(MAX(CS2677:CS$2702)=MAX(CS$1262:CS$2702),0,IF(CQ2677>0.01*CK$2703,0,$C2677/60)))","v":{"$error":"#VALUE!"}}]
[null,118,7080,0,0,0,0,0,0,0,0,0,{"$error":"#N/A"},{"$error":"#N/A"},{"$error":"#N/A"},{"$error":"#N/A"},{"$error":"#N/A"},{"$error":"#N/A"},{"$f":"IF(SUM(S$1262:S2677)>0,0,\nIF(MAX(L2678:L$2702)=MAX(L$1262:L$2702),0,\nIF(Hydrograph_Source_WQCV=\"USER\",IF(J2678>0.03*D$2703,0,$C2678/60),\nIF(J2678>0.03*J$2703,0,$C2678/60))))","v":0},{"$f":"IF(SUM(T$1262:T2677)>0,0,\nIF(MAX(L2678:L$2702)=MAX(L$1262:L$2702),0,\nIF(Hydrograph_Source_WQCV=\"USER\",IF(J2678>0.01*D$2703,0,$C2678/60),\nIF(J2678>0.01*J$2703,0,$C2678/60))))","v":0},0,0,0,0,{"$error":"#VALUE!"},{"$error":"#VALUE!"},{"$error":"#VALUE!"},{"$error":"#VALUE!"},{"$error":"#VALUE!"},{"$error":"#VALUE!"},{"$error":"#VALUE!"},{"$error":"#VALUE!"},{"$error":"#VALUE!"},{"$error":"#VALUE!"},{"$error":"#VALUE!"},{"$f":"IF(SUM(AJ$1262:AJ2677)>0,0,IF(MAX(AC2678:AC$2702)=MAX(AC$1262:AC$2702),0,IF(AA2678>0.03*U$2703,0,$C2678/60)))","v":{"$error":"#VALUE!"}},{"$f":"IF(SUM(AK$1262:AK2677)>0,0,IF(MAX(AC2678:AC$2702)=MAX(AC$1262:AC$2702),0,IF(AA2678>0.01*U$2703,0,$C2678/60)))","v":{"$error":"#VALUE!"}},0,0,0,0,{"$error":"#VALUE!"},{"$error":"#VALUE!"},{"$error":"#VALUE!"},{"$error":"#VALUE!"},{"$error":"#VALUE!"},{"$error":"#VALUE!"},{"$error":"#VALUE!"},{"$error":"#VALUE!"},{"$error":"#VALUE!"},{"$error":"#VALUE!"},{"$error":"#VALUE!"},{"$f":"IF(SUM(BA$1262:BA2677)>0,0,IF(MAX(AT2678:AT$2702)=MAX(AT$1262:AT$2702),0,IF(AR2678>0.03*AL$2703,0,$C2678/60)))","v":{"$error":"#VALUE!"}},{"$f":"IF(SUM(BB$1262:BB2677)>0,0,IF(MAX(AT2678:AT$2702)=MAX(AT$1262:AT$2702),0,IF(AR2678>0.01*AL$2703,0,$C2678/60)))","v":{"$error":"#VALUE!"}},0,0,0,0,{"$error":"#VALUE!"},{"$error":"#VALUE!"},{"$error":"#VALUE!"},{"$error":"#VALUE!"},{"$error":"#VALUE!"},{"$error":"#VALUE!"},{"$error":"#VALUE!"},{"$error":"#VALUE!"},{"$error":"#VALUE!"},{"$error":"#VALUE!"},{"$error":"#VALUE!"},{"$f":"IF(SUM(BR$1262:BR2677)>0,0,IF(MAX(BK2678:BK$2702)=MAX(BK$1262:BK$2702),0,IF(BI2678>0.03*BC$2703,0,$C2678/60)))","v":{"$error":"#VALUE!"}},{"$f":"IF(SUM(BS$1262:BS2677)>0,0,IF(MAX(BK2678:BK$2702)=MAX(BK$1262:BK$2702),0,IF(BI2678>0.01*BC$2703,0,$C2678/60)))","v":{"$error":"#VALUE!"}},0,0,0,0,{"$error":"#VALUE!"},{"$error":"#VALUE!"},{"$error":"#VALUE!"},{"$error":"#VALUE!"},{"$error":"#VALUE!"},{"$error":"#VALUE!"},{"$error":"#VALUE!"},{"$error":"#VALUE!"},{"$error":"#VALUE!"},{"$error":"#VALUE!"},{"$error":"#VALUE!"},{"$f":"IF(SUM(CI$1262:CI2677)>0,0,IF(MAX(CB2678:CB$2702)=MAX(CB$1262:CB$2702),0,IF(BZ2678>0.03*BT$2703,0,$C2678/60)))","v":{"$error":"#VALUE!"}},{"$f":"IF(SUM(CJ$1262:CJ2677)>0,0,IF(MAX(CB2678:CB$2702)=MAX(CB$1262:CB$2702),0,IF(BZ2678>0.01*BT$2703,0,$C2678/60)))","v":{"$error":"#VALUE!"}},0,0,0,0,{"$error":"#VALUE!"},{"$error":"#VALUE!"},{"$error":"#VALUE!"},{"$error":"#VALUE!"},{"$error":"#VALUE!"},{"$error":"#VALUE!"},{"$error":"#VALUE!"},{"$error":"#VALUE!"},{"$error":"#VALUE!"},{"$error":"#VALUE!"},{"$error":"#VALUE!"},{"$f":"IF(SUM(CZ$1262:CZ2677)>0,0,IF(MAX(CS2678:CS$2702)=MAX(CS$1262:CS$2702),0,IF(CQ2678>0.03*CK$2703,0,$C2678/60)))","v":{"$error":"#VALUE!"}},{"$f":"IF(SUM(DA$1262:DA2677)>0,0,IF(MAX(CS2678:CS$2702)=MAX(CS$1262:CS$2702),0,IF(CQ2678>0.01*CK$2703,0,$C2678/60)))","v":{"$error":"#VALUE!"}}]
[null,118.08333333333333,7085,0,0,0,0,0,0,0,0,0,{"$error":"#N/A"},{"$error":"#N/A"},{"$error":"#N/A"},{"$error":"#N/A"},{"$error":"#N/A"},{"$error":"#N/A"},{"$f":"IF(SUM(S$1262:S2678)>0,0,\nIF(MAX(L2679:L$2702)=MAX(L$1262:L$2702),0,\nIF(Hydrograph_Source_WQCV=\"USER\",IF(J2679>0.03*D$2703,0,$C2679/60),\nIF(J2679>0.03*J$2703,0,$C2679/60))))","v":0},{"$f":"IF(SUM(T$1262:T2678)>0,0,\nIF(MAX(L2679:L$2702)=MAX(L$1262:L$2702),0,\nIF(Hydrograph_Source_WQCV=\"USER\",IF(J2679>0.01*D$2703,0,$C2679/60),\nIF(J2679>0.01*J$2703,0,$C2679/60))))","v":0},0,0,0,0,{"$error":"#VALUE!"},{"$error":"#VALUE!"},{"$error":"#VALUE!"},{"$error":"#VALUE!"},{"$error":"#VALUE!"},{"$error":"#VALUE!"},{"$error":"#VALUE!"},{"$error":"#VALUE!"},{"$error":"#VALUE!"},{"$error":"#VALUE!"},{"$error":"#VALUE!"},{"$f":"IF(SUM(AJ$1262:AJ2678)>0,0,IF(MAX(AC2679:AC$2702)=MAX(AC$1262:AC$2702),0,IF(AA2679>0.03*U$2703,0,$C2679/60)))","v":{"$error":"#VALUE!"}},{"$f":"IF(SUM(AK$1262:AK2678)>0,0,IF(MAX(AC2679:AC$2702)=MAX(AC$1262:AC$2702),0,IF(AA2679>0.01*U$2703,0,$C2679/60)))","v":{"$error":"#VALUE!"}},0,0,0,0,{"$error":"#VALUE!"},{"$error":"#VALUE!"},{"$error":"#VALUE!"},{"$error":"#VALUE!"},{"$error":"#VALUE!"},{"$error":"#VALUE!"},{"$error":"#VALUE!"},{"$error":"#VALUE!"},{"$error":"#VALUE!"},{"$error":"#VALUE!"},{"$error":"#VALUE!"},{"$f":"IF(SUM(BA$1262:BA2678)>0,0,IF(MAX(AT2679:AT$2702)=MAX(AT$1262:AT$2702),0,IF(AR2679>0.03*AL$2703,0,$C2679/60)))","v":{"$error":"#VALUE!"}},{"$f":"IF(SUM(BB$1262:BB2678)>0,0,IF(MAX(AT2679:AT$2702)=MAX(AT$1262:AT$2702),0,IF(AR2679>0.01*AL$2703,0,$C2679/60)))","v":{"$error":"#VALUE!"}},0,0,0,0,{"$error":"#VALUE!"},{"$error":"#VALUE!"},{"$error":"#VALUE!"},{"$error":"#VALUE!"},{"$error":"#VALUE!"},{"$error":"#VALUE!"},{"$error":"#VALUE!"},{"$error":"#VALUE!"},{"$error":"#VALUE!"},{"$error":"#VALUE!"},{"$error":"#VALUE!"},{"$f":"IF(SUM(BR$1262:BR2678)>0,0,IF(MAX(BK2679:BK$2702)=MAX(BK$1262:BK$2702),0,IF(BI2679>0.03*BC$2703,0,$C2679/60)))","v":{"$error":"#VALUE!"}},{"$f":"IF(SUM(BS$1262:BS2678)>0,0,IF(MAX(BK2679:BK$2702)=MAX(BK$1262:BK$2702),0,IF(BI2679>0.01*BC$2703,0,$C2679/60)))","v":{"$error":"#VALUE!"}},0,0,0,0,{"$error":"#VALUE!"},{"$error":"#VALUE!"},{"$error":"#VALUE!"},{"$error":"#VALUE!"},{"$error":"#VALUE!"},{"$error":"#VALUE!"},{"$error":"#VALUE!"},{"$error":"#VALUE!"},{"$error":"#VALUE!"},{"$error":"#VALUE!"},{"$error":"#VALUE!"},{"$f":"IF(SUM(CI$1262:CI2678)>0,0,IF(MAX(CB2679:CB$2702)=MAX(CB$1262:CB$2702),0,IF(BZ2679>0.03*BT$2703,0,$C2679/60)))","v":{"$error":"#VALUE!"}},{"$f":"IF(SUM(CJ$1262:CJ2678)>0,0,IF(MAX(CB2679:CB$2702)=MAX(CB$1262:CB$2702),0,IF(BZ2679>0.01*BT$2703,0,$C2679/60)))","v":{"$error":"#VALUE!"}},0,0,0,0,{"$error":"#VALUE!"},{"$error":"#VALUE!"},{"$error":"#VALUE!"},{"$error":"#VALUE!"},{"$error":"#VALUE!"},{"$error":"#VALUE!"},{"$error":"#VALUE!"},{"$error":"#VALUE!"},{"$error":"#VALUE!"},{"$error":"#VALUE!"},{"$error":"#VALUE!"},{"$f":"IF(SUM(CZ$1262:CZ2678)>0,0,IF(MAX(CS2679:CS$2702)=MAX(CS$1262:CS$2702),0,IF(CQ2679>0.03*CK$2703,0,$C2679/60)))","v":{"$error":"#VALUE!"}},{"$f":"IF(SUM(DA$1262:DA2678)>0,0,IF(MAX(CS2679:CS$2702)=MAX(CS$1262:CS$2702),0,IF(CQ2679>0.01*CK$2703,0,$C2679/60)))","v":{"$error":"#VALUE!"}}]
[null,118.16666666666667,7090,0,0,0,0,0,0,0,0,0,{"$error":"#N/A"},{"$error":"#N/A"},{"$error":"#N/A"},{"$error":"#N/A"},{"$error":"#N/A"},{"$error":"#N/A"},{"$f":"IF(SUM(S$1262:S2679)>0,0,\nIF(MAX(L2680:L$2702)=MAX(L$1262:L$2702),0,\nIF(Hydrograph_Source_WQCV=\"USER\",IF(J2680>0.03*D$2703,0,$C2680/60),\nIF(J2680>0.03*J$2703,0,$C2680/60))))","v":0},{"$f":"IF(SUM(T$1262:T2679)>0,0,\nIF(MAX(L2680:L$2702)=MAX(L$1262:L$2702),0,\nIF(Hydrograph_Source_WQCV=\"USER\",IF(J2680>0.01*D$2703,0,$C2680/60),\nIF(J2680>0.01*J$2703,0,$C2680/60))))","v":0},0,0,0,0,{"$error":"#VALUE!"},{"$error":"#VALUE!"},{"$error":"#VALUE!"},{"$error":"#VALUE!"},{"$error":"#VALUE!"},{"$error":"#VALUE!"},{"$error":"#VALUE!"},{"$error":"#VALUE!"},{"$error":"#VALUE!"},{"$error":"#VALUE!"},{"$error":"#VALUE!"},{"$f":"IF(SUM(AJ$1262:AJ2679)>0,0,IF(MAX(AC2680:AC$2702)=MAX(AC$1262:AC$2702),0,IF(AA2680>0.03*U$2703,0,$C2680/60)))","v":{"$error":"#VALUE!"}},{"$f":"IF(SUM(AK$1262:AK2679)>0,0,IF(MAX(AC2680:AC$2702)=MAX(AC$1262:AC$2702),0,IF(AA2680>0.01*U$2703,0,$C2680/60)))","v":{"$error":"#VALUE!"}},0,0,0,0,{"$error":"#VALUE!"},{"$error":"#VALUE!"},{"$error":"#VALUE!"},{"$error":"#VALUE!"},{"$error":"#VALUE!"},{"$error":"#VALUE!"},{"$error":"#VALUE!"},{"$error":"#VALUE!"},{"$error":"#VALUE!"},{"$error":"#VALUE!"},{"$error":"#VALUE!"},{"$f":"IF(SUM(BA$1262:BA2679)>0,0,IF(MAX(AT2680:AT$2702)=MAX(AT$1262:AT$2702),0,IF(AR2680>0.03*AL$2703,0,$C2680/60)))","v":{"$error":"#VALUE!"}},{"$f":"IF(SUM(BB$1262:BB2679)>0,0,IF(MAX(AT2680:AT$2702)=MAX(AT$1262:AT$2702),0,IF(AR2680>0.01*AL$2703,0,$C2680/60)))","v":{"$error":"#VALUE!"}},0,0,0,0,{"$error":"#VALUE!"},{"$error":"#VALUE!"},{"$error":"#VALUE!"},{"$error":"#VALUE!"},{"$error":"#VALUE!"},{"$error":"#VALUE!"},{"$error":"#VALUE!"},{"$error":"#VALUE!"},{"$error":"#VALUE!"},{"$error":"#VALUE!"},{"$error":"#VALUE!"},{"$f":"IF(SUM(BR$1262:BR2679)>0,0,IF(MAX(BK2680:BK$2702)=MAX(BK$1262:BK$2702),0,IF(BI2680>0.03*BC$2703,0,$C2680/60)))","v":{"$error":"#VALUE!"}},{"$f":"IF(SUM(BS$1262:BS2679)>0,0,IF(MAX(BK2680:BK$2702)=MAX(BK$1262:BK$2702),0,IF(BI2680>0.01*BC$2703,0,$C2680/60)))","v":{"$error":"#VALUE!"}},0,0,0,0,{"$error":"#VALUE!"},{"$error":"#VALUE!"},{"$error":"#VALUE!"},{"$error":"#VALUE!"},{"$error":"#VALUE!"},{"$error":"#VALUE!"},{"$error":"#VALUE!"},{"$error":"#VALUE!"},{"$error":"#VALUE!"},{"$error":"#VALUE!"},{"$error":"#VALUE!"},{"$f":"IF(SUM(CI$1262:CI2679)>0,0,IF(MAX(CB2680:CB$2702)=MAX(CB$1262:CB$2702),0,IF(BZ2680>0.03*BT$2703,0,$C2680/60)))","v":{"$error":"#VALUE!"}},{"$f":"IF(SUM(CJ$1262:CJ2679)>0,0,IF(MAX(CB2680:CB$2702)=MAX(CB$1262:CB$2702),0,IF(BZ2680>0.01*BT$2703,0,$C2680/60)))","v":{"$error":"#VALUE!"}},0,0,0,0,{"$error":"#VALUE!"},{"$error":"#VALUE!"},{"$error":"#VALUE!"},{"$error":"#VALUE!"},{"$error":"#VALUE!"},{"$error":"#VALUE!"},{"$error":"#VALUE!"},{"$error":"#VALUE!"},{"$error":"#VALUE!"},{"$error":"#VALUE!"},{"$error":"#VALUE!"},{"$f":"IF(SUM(CZ$1262:CZ2679)>0,0,IF(MAX(CS2680:CS$2702)=MAX(CS$1262:CS$2702),0,IF(CQ2680>0.03*CK$2703,0,$C2680/60)))","v":{"$error":"#VALUE!"}},{"$f":"IF(SUM(DA$1262:DA2679)>0,0,IF(MAX(CS2680:CS$2702)=MAX(CS$1262:CS$2702),0,IF(CQ2680>0.01*CK$2703,0,$C2680/60)))","v":{"$error":"#VALUE!"}}]
[null,118.25,7095,0,0,0,0,0,0,0,0,0,{"$error":"#N/A"},{"$error":"#N/A"},{"$error":"#N/A"},{"$error":"#N/A"},{"$error":"#N/A"},{"$error":"#N/A"},{"$f":"IF(SUM(S$1262:S2680)>0,0,\nIF(MAX(L2681:L$2702)=MAX(L$1262:L$2702),0,\nIF(Hydrograph_Source_WQCV=\"USER\",IF(J2681>0.03*D$2703,0,$C2681/60),\nIF(J2681>0.03*J$2703,0,$C2681/60))))","v":0},{"$f":"IF(SUM(T$1262:T2680)>0,0,\nIF(MAX(L2681:L$2702)=MAX(L$1262:L$2702),0,\nIF(Hydrograph_Source_WQCV=\"USER\",IF(J2681>0.01*D$2703,0,$C2681/60),\nIF(J2681>0.01*J$2703,0,$C2681/60))))","v":0},0,0,0,0,{"$error":"#VALUE!"},{"$error":"#VALUE!"},{"$error":"#VALUE!"},{"$error":"#VALUE!"},{"$error":"#VALUE!"},{"$error":"#VALUE!"},{"$error":"#VALUE!"},{"$error":"#VALUE!"},{"$error":"#VALUE!"},{"$error":"#VALUE!"},{"$error":"#VALUE!"},{"$f":"IF(SUM(AJ$1262:AJ2680)>0,0,IF(MAX(AC2681:AC$2702)=MAX(AC$1262:AC$2702),0,IF(AA2681>0.03*U$2703,0,$C2681/60)))","v":{"$error":"#VALUE!"}},{"$f":"IF(SUM(AK$1262:AK2680)>0,0,IF(MAX(AC2681:AC$2702)=MAX(AC$1262:AC$2702),0,IF(AA2681>0.01*U$2703,0,$C2681/60)))","v":{"$error":"#VALUE!"}},0,0,0,0,{"$error":"#VALUE!"},{"$error":"#VALUE!"},{"$error":"#VALUE!"},{"$error":"#VALUE!"},{"$error":"#VALUE!"},{"$error":"#VALUE!"},{"$error":"#VALUE!"},{"$error":"#VALUE!"},{"$error":"#VALUE!"},{"$error":"#VALUE!"},{"$error":"#VALUE!"},{"$f":"IF(SUM(BA$1262:BA2680)>0,0,IF(MAX(AT2681:AT$2702)=MAX(AT$1262:AT$2702),0,IF(AR2681>0.03*AL$2703,0,$C2681/60)))","v":{"$error":"#VALUE!"}},{"$f":"IF(SUM(BB$1262:BB2680)>0,0,IF(MAX(AT2681:AT$2702)=MAX(AT$1262:AT$2702),0,IF(AR2681>0.01*AL$2703,0,$C2681/60)))","v":{"$error":"#VALUE!"}},0,0,0,0,{"$error":"#VALUE!"},{"$error":"#VALUE!"},{"$error":"#VALUE!"},{"$error":"#VALUE!"},{"$error":"#VALUE!"},{"$error":"#VALUE!"},{"$error":"#VALUE!"},{"$error":"#VALUE!"},{"$error":"#VALUE!"},{"$error":"#VALUE!"},{"$error":"#VALUE!"},{"$f":"IF(SUM(BR$1262:BR2680)>0,0,IF(MAX(BK2681:BK$2702)=MAX(BK$1262:BK$2702),0,IF(BI2681>0.03*BC$2703,0,$C2681/60)))","v":{"$error":"#VALUE!"}},{"$f":"IF(SUM(BS$1262:BS2680)>0,0,IF(MAX(BK2681:BK$2702)=MAX(BK$1262:BK$2702),0,IF(BI2681>0.01*BC$2703,0,$C2681/60)))","v":{"$error":"#VALUE!"}},0,0,0,0,{"$error":"#VALUE!"},{"$error":"#VALUE!"},{"$error":"#VALUE!"},{"$error":"#VALUE!"},{"$error":"#VALUE!"},{"$error":"#VALUE!"},{"$error":"#VALUE!"},{"$error":"#VALUE!"},{"$error":"#VALUE!"},{"$error":"#VALUE!"},{"$error":"#VALUE!"},{"$f":"IF(SUM(CI$1262:CI2680)>0,0,IF(MAX(CB2681:CB$2702)=MAX(CB$1262:CB$2702),0,IF(BZ2681>0.03*BT$2703,0,$C2681/60)))","v":{"$error":"#VALUE!"}},{"$f":"IF(SUM(CJ$1262:CJ2680)>0,0,IF(MAX(CB2681:CB$2702)=MAX(CB$1262:CB$2702),0,IF(BZ2681>0.01*BT$2703,0,$C2681/60)))","v":{"$error":"#VALUE!"}},0,0,0,0,{"$error":"#VALUE!"},{"$error":"#VALUE!"},{"$error":"#VALUE!"},{"$error":"#VALUE!"},{"$error":"#VALUE!"},{"$error":"#VALUE!"},{"$error":"#VALUE!"},{"$error":"#VALUE!"},{"$error":"#VALUE!"},{"$error":"#VALUE!"},{"$error":"#VALUE!"},{"$f":"IF(SUM(CZ$1262:CZ2680)>0,0,IF(MAX(CS2681:CS$2702)=MAX(CS$1262:CS$2702),0,IF(CQ2681>0.03*CK$2703,0,$C2681/60)))","v":{"$error":"#VALUE!"}},{"$f":"IF(SUM(DA$1262:DA2680)>0,0,IF(MAX(CS2681:CS$2702)=MAX(CS$1262:CS$2702),0,IF(CQ2681>0.01*CK$2703,0,$C2681/60)))","v":{"$error":"#VALUE!"}}]
[null,118.33333333333333,7100,0,0,0,0,0,0,0,0,0,{"$error":"#N/A"},{"$error":"#N/A"},{"$error":"#N/A"},{"$error":"#N/A"},{"$error":"#N/A"},{"$error":"#N/A"},{"$f":"IF(SUM(S$1262:S2681)>0,0,\nIF(MAX(L2682:L$2702)=MAX(L$1262:L$2702),0,\nIF(Hydrograph_Source_WQCV=\"USER\",IF(J2682>0.03*D$2703,0,$C2682/60),\nIF(J2682>0.03*J$2703,0,$C2682/60))))","v":0},{"$f":"IF(SUM(T$1262:T2681)>0,0,\nIF(MAX(L2682:L$2702)=MAX(L$1262:L$2702),0,\nIF(Hydrograph_Source_WQCV=\"USER\",IF(J2682>0.01*D$2703,0,$C2682/60),\nIF(J2682>0.01*J$2703,0,$C2682/60))))","v":0},0,0,0,0,{"$error":"#VALUE!"},{"$error":"#VALUE!"},{"$error":"#VALUE!"},{"$error":"#VALUE!"},{"$error":"#VALUE!"},{"$error":"#VALUE!"},{"$error":"#VALUE!"},{"$error":"#VALUE!"},{"$error":"#VALUE!"},{"$error":"#VALUE!"},{"$error":"#VALUE!"},{"$f":"IF(SUM(AJ$1262:AJ2681)>0,0,IF(MAX(AC2682:AC$2702)=MAX(AC$1262:AC$2702),0,IF(AA2682>0.03*U$2703,0,$C2682/60)))","v":{"$error":"#VALUE!"}},{"$f":"IF(SUM(AK$1262:AK2681)>0,0,IF(MAX(AC2682:AC$2702)=MAX(AC$1262:AC$2702),0,IF(AA2682>0.01*U$2703,0,$C2682/60)))","v":{"$error":"#VALUE!"}},0,0,0,0,{"$error":"#VALUE!"},{"$error":"#VALUE!"},{"$error":"#VALUE!"},{"$error":"#VALUE!"},{"$error":"#VALUE!"},{"$error":"#VALUE!"},{"$error":"#VALUE!"},{"$error":"#VALUE!"},{"$error":"#VALUE!"},{"$error":"#VALUE!"},{"$error":"#VALUE!"},{"$f":"IF(SUM(BA$1262:BA2681)>0,0,IF(MAX(AT2682:AT$2702)=MAX(AT$1262:AT$2702),0,IF(AR2682>0.03*AL$2703,0,$C2682/60)))","v":{"$error":"#VALUE!"}},{"$f":"IF(SUM(BB$1262:BB2681)>0,0,IF(MAX(AT2682:AT$2702)=MAX(AT$1262:AT$2702),0,IF(AR2682>0.01*AL$2703,0,$C2682/60)))","v":{"$error":"#VALUE!"}},0,0,0,0,{"$error":"#VALUE!"},{"$error":"#VALUE!"},{"$error":"#VALUE!"},{"$error":"#VALUE!"},{"$error":"#VALUE!"},{"$error":"#VALUE!"},{"$error":"#VALUE!"},{"$error":"#VALUE!"},{"$error":"#VALUE!"},{"$error":"#VALUE!"},{"$error":"#VALUE!"},{"$f":"IF(SUM(BR$1262:BR2681)>0,0,IF(MAX(BK2682:BK$2702)=MAX(BK$1262:BK$2702),0,IF(BI2682>0.03*BC$2703,0,$C2682/60)))","v":{"$error":"#VALUE!"}},{"$f":"IF(SUM(BS$1262:BS2681)>0,0,IF(MAX(BK2682:BK$2702)=MAX(BK$1262:BK$2702),0,IF(BI2682>0.01*BC$2703,0,$C2682/60)))","v":{"$error":"#VALUE!"}},0,0,0,0,{"$error":"#VALUE!"},{"$error":"#VALUE!"},{"$error":"#VALUE!"},{"$error":"#VALUE!"},{"$error":"#VALUE!"},{"$error":"#VALUE!"},{"$error":"#VALUE!"},{"$error":"#VALUE!"},{"$error":"#VALUE!"},{"$error":"#VALUE!"},{"$error":"#VALUE!"},{"$f":"IF(SUM(CI$1262:CI2681)>0,0,IF(MAX(CB2682:CB$2702)=MAX(CB$1262:CB$2702),0,IF(BZ2682>0.03*BT$2703,0,$C2682/60)))","v":{"$error":"#VALUE!"}},{"$f":"IF(SUM(CJ$1262:CJ2681)>0,0,IF(MAX(CB2682:CB$2702)=MAX(CB$1262:CB$2702),0,IF(BZ2682>0.01*BT$2703,0,$C2682/60)))","v":{"$error":"#VALUE!"}},0,0,0,0,{"$error":"#VALUE!"},{"$error":"#VALUE!"},{"$error":"#VALUE!"},{"$error":"#VALUE!"},{"$error":"#VALUE!"},{"$error":"#VALUE!"},{"$error":"#VALUE!"},{"$error":"#VALUE!"},{"$error":"#VALUE!"},{"$error":"#VALUE!"},{"$error":"#VALUE!"},{"$f":"IF(SUM(CZ$1262:CZ2681)>0,0,IF(MAX(CS2682:CS$2702)=MAX(CS$1262:CS$2702),0,IF(CQ2682>0.03*CK$2703,0,$C2682/60)))","v":{"$error":"#VALUE!"}},{"$f":"IF(SUM(DA$1262:DA2681)>0,0,IF(MAX(CS2682:CS$2702)=MAX(CS$1262:CS$2702),0,IF(CQ2682>0.01*CK$2703,0,$C2682/60)))","v":{"$error":"#VALUE!"}}]
[null,118.41666666666667,7105,0,0,0,0,0,0,0,0,0,{"$error":"#N/A"},{"$error":"#N/A"},{"$error":"#N/A"},{"$error":"#N/A"},{"$error":"#N/A"},{"$error":"#N/A"},{"$f":"IF(SUM(S$1262:S2682)>0,0,\nIF(MAX(L2683:L$2702)=MAX(L$1262:L$2702),0,\nIF(Hydrograph_Source_WQCV=\"USER\",IF(J2683>0.03*D$2703,0,$C2683/60),\nIF(J2683>0.03*J$2703,0,$C2683/60))))","v":0},{"$f":"IF(SUM(T$1262:T2682)>0,0,\nIF(MAX(L2683:L$2702)=MAX(L$1262:L$2702),0,\nIF(Hydrograph_Source_WQCV=\"USER\",IF(J2683>0.01*D$2703,0,$C2683/60),\nIF(J2683>0.01*J$2703,0,$C2683/60))))","v":0},0,0,0,0,{"$error":"#VALUE!"},{"$error":"#VALUE!"},{"$error":"#VALUE!"},{"$error":"#VALUE!"},{"$error":"#VALUE!"},{"$error":"#VALUE!"},{"$error":"#VALUE!"},{"$error":"#VALUE!"},{"$error":"#VALUE!"},{"$error":"#VALUE!"},{"$error":"#VALUE!"},{"$f":"IF(SUM(AJ$1262:AJ2682)>0,0,IF(MAX(AC2683:AC$2702)=MAX(AC$1262:AC$2702),0,IF(AA2683>0.03*U$2703,0,$C2683/60)))","v":{"$error":"#VALUE!"}},{"$f":"IF(SUM(AK$1262:AK2682)>0,0,IF(MAX(AC2683:AC$2702)=MAX(AC$1262:AC$2702),0,IF(AA2683>0.01*U$2703,0,$C2683/60)))","v":{"$error":"#VALUE!"}},0,0,0,0,{"$error":"#VALUE!"},{"$error":"#VALUE!"},{"$error":"#VALUE!"},{"$error":"#VALUE!"},{"$error":"#VALUE!"},{"$error":"#VALUE!"},{"$error":"#VALUE!"},{"$error":"#VALUE!"},{"$error":"#VALUE!"},{"$error":"#VALUE!"},{"$error":"#VALUE!"},{"$f":"IF(SUM(BA$1262:BA2682)>0,0,IF(MAX(AT2683:AT$2702)=MAX(AT$1262:AT$2702),0,IF(AR2683>0.03*AL$2703,0,$C2683/60)))","v":{"$error":"#VALUE!"}},{"$f":"IF(SUM(BB$1262:BB2682)>0,0,IF(MAX(AT2683:AT$2702)=MAX(AT$1262:AT$2702),0,IF(AR2683>0.01*AL$2703,0,$C2683/60)))","v":{"$error":"#VALUE!"}},0,0,0,0,{"$error":"#VALUE!"},{"$error":"#VALUE!"},{"$error":"#VALUE!"},{"$error":"#VALUE!"},{"$error":"#VALUE!"},{"$error":"#VALUE!"},{"$error":"#VALUE!"},{"$error":"#VALUE!"},{"$error":"#VALUE!"},{"$error":"#VALUE!"},{"$error":"#VALUE!"},{"$f":"IF(SUM(BR$1262:BR2682)>0,0,IF(MAX(BK2683:BK$2702)=MAX(BK$1262:BK$2702),0,IF(BI2683>0.03*BC$2703,0,$C2683/60)))","v":{"$error":"#VALUE!"}},{"$f":"IF(SUM(BS$1262:BS2682)>0,0,IF(MAX(BK2683:BK$2702)=MAX(BK$1262:BK$2702),0,IF(BI2683>0.01*BC$2703,0,$C2683/60)))","v":{"$error":"#VALUE!"}},0,0,0,0,{"$error":"#VALUE!"},{"$error":"#VALUE!"},{"$error":"#VALUE!"},{"$error":"#VALUE!"},{"$error":"#VALUE!"},{"$error":"#VALUE!"},{"$error":"#VALUE!"},{"$error":"#VALUE!"},{"$error":"#VALUE!"},{"$error":"#VALUE!"},{"$error":"#VALUE!"},{"$f":"IF(SUM(CI$1262:CI2682)>0,0,IF(MAX(CB2683:CB$2702)=MAX(CB$1262:CB$2702),0,IF(BZ2683>0.03*BT$2703,0,$C2683/60)))","v":{"$error":"#VALUE!"}},{"$f":"IF(SUM(CJ$1262:CJ2682)>0,0,IF(MAX(CB2683:CB$2702)=MAX(CB$1262:CB$2702),0,IF(BZ2683>0.01*BT$2703,0,$C2683/60)))","v":{"$error":"#VALUE!"}},0,0,0,0,{"$error":"#VALUE!"},{"$error":"#VALUE!"},{"$error":"#VALUE!"},{"$error":"#VALUE!"},{"$error":"#VALUE!"},{"$error":"#VALUE!"},{"$error":"#VALUE!"},{"$error":"#VALUE!"},{"$error":"#VALUE!"},{"$error":"#VALUE!"},{"$error":"#VALUE!"},{"$f":"IF(SUM(CZ$1262:CZ2682)>0,0,IF(MAX(CS2683:CS$2702)=MAX(CS$1262:CS$2702),0,IF(CQ2683>0.03*CK$2703,0,$C2683/60)))","v":{"$error":"#VALUE!"}},{"$f":"IF(SUM(DA$1262:DA2682)>0,0,IF(MAX(CS2683:CS$2702)=MAX(CS$1262:CS$2702),0,IF(CQ2683>0.01*CK$2703,0,$C2683/60)))","v":{"$error":"#VALUE!"}}]
[null,118.5,7110,0,0,0,0,0,0,0,0,0,{"$error":"#N/A"},{"$error":"#N/A"},{"$error":"#N/A"},{"$error":"#N/A"},{"$error":"#N/A"},{"$error":"#N/A"},{"$f":"IF(SUM(S$1262:S2683)>0,0,\nIF(MAX(L2684:L$2702)=MAX(L$1262:L$2702),0,\nIF(Hydrograph_Source_WQCV=\"USER\",IF(J2684>0.03*D$2703,0,$C2684/60),\nIF(J2684>0.03*J$2703,0,$C2684/60))))","v":0},{"$f":"IF(SUM(T$1262:T2683)>0,0,\nIF(MAX(L2684:L$2702)=MAX(L$1262:L$2702),0,\nIF(Hydrograph_Source_WQCV=\"USER\",IF(J2684>0.01*D$2703,0,$C2684/60),\nIF(J2684>0.01*J$2703,0,$C2684/60))))","v":0},0,0,0,0,{"$error":"#VALUE!"},{"$error":"#VALUE!"},{"$error":"#VALUE!"},{"$error":"#VALUE!"},{"$error":"#VALUE!"},{"$error":"#VALUE!"},{"$error":"#VALUE!"},{"$error":"#VALUE!"},{"$error":"#VALUE!"},{"$error":"#VALUE!"},{"$error":"#VALUE!"},{"$f":"IF(SUM(AJ$1262:AJ2683)>0,0,IF(MAX(AC2684:AC$2702)=MAX(AC$1262:AC$2702),0,IF(AA2684>0.03*U$2703,0,$C2684/60)))","v":{"$error":"#VALUE!"}},{"$f":"IF(SUM(AK$1262:AK2683)>0,0,IF(MAX(AC2684:AC$2702)=MAX(AC$1262:AC$2702),0,IF(AA2684>0.01*U$2703,0,$C2684/60)))","v":{"$error":"#VALUE!"}},0,0,0,0,{"$error":"#VALUE!"},{"$error":"#VALUE!"},{"$error":"#VALUE!"},{"$error":"#VALUE!"},{"$error":"#VALUE!"},{"$error":"#VALUE!"},{"$error":"#VALUE!"},{"$error":"#VALUE!"},{"$error":"#VALUE!"},{"$error":"#VALUE!"},{"$error":"#VALUE!"},{"$f":"IF(SUM(BA$1262:BA2683)>0,0,IF(MAX(AT2684:AT$2702)=MAX(AT$1262:AT$2702),0,IF(AR2684>0.03*AL$2703,0,$C2684/60)))","v":{"$error":"#VALUE!"}},{"$f":"IF(SUM(BB$1262:BB2683)>0,0,IF(MAX(AT2684:AT$2702)=MAX(AT$1262:AT$2702),0,IF(AR2684>0.01*AL$2703,0,$C2684/60)))","v":{"$error":"#VALUE!"}},0,0,0,0,{"$error":"#VALUE!"},{"$error":"#VALUE!"},{"$error":"#VALUE!"},{"$error":"#VALUE!"},{"$error":"#VALUE!"},{"$error":"#VALUE!"},{"$error":"#VALUE!"},{"$error":"#VALUE!"},{"$error":"#VALUE!"},{"$error":"#VALUE!"},{"$error":"#VALUE!"},{"$f":"IF(SUM(BR$1262:BR2683)>0,0,IF(MAX(BK2684:BK$2702)=MAX(BK$1262:BK$2702),0,IF(BI2684>0.03*BC$2703,0,$C2684/60)))","v":{"$error":"#VALUE!"}},{"$f":"IF(SUM(BS$1262:BS2683)>0,0,IF(MAX(BK2684:BK$2702)=MAX(BK$1262:BK$2702),0,IF(BI2684>0.01*BC$2703,0,$C2684/60)))","v":{"$error":"#VALUE!"}},0,0,0,0,{"$error":"#VALUE!"},{"$error":"#VALUE!"},{"$error":"#VALUE!"},{"$error":"#VALUE!"},{"$error":"#VALUE!"},{"$error":"#VALUE!"},{"$error":"#VALUE!"},{"$error":"#VALUE!"},{"$error":"#VALUE!"},{"$error":"#VALUE!"},{"$error":"#VALUE!"},{"$f":"IF(SUM(CI$1262:CI2683)>0,0,IF(MAX(CB2684:CB$2702)=MAX(CB$1262:CB$2702),0,IF(BZ2684>0.03*BT$2703,0,$C2684/60)))","v":{"$error":"#VALUE!"}},{"$f":"IF(SUM(CJ$1262:CJ2683)>0,0,IF(MAX(CB2684:CB$2702)=MAX(CB$1262:CB$2702),0,IF(BZ2684>0.01*BT$2703,0,$C2684/60)))","v":{"$error":"#VALUE!"}},0,0,0,0,{"$error":"#VALUE!"},{"$error":"#VALUE!"},{"$error":"#VALUE!"},{"$error":"#VALUE!"},{"$error":"#VALUE!"},{"$error":"#VALUE!"},{"$error":"#VALUE!"},{"$error":"#VALUE!"},{"$error":"#VALUE!"},{"$error":"#VALUE!"},{"$error":"#VALUE!"},{"$f":"IF(SUM(CZ$1262:CZ2683)>0,0,IF(MAX(CS2684:CS$2702)=MAX(CS$1262:CS$2702),0,IF(CQ2684>0.03*CK$2703,0,$C2684/60)))","v":{"$error":"#VALUE!"}},{"$f":"IF(SUM(DA$1262:DA2683)>0,0,IF(MAX(CS2684:CS$2702)=MAX(CS$1262:CS$2702),0,IF(CQ2684>0.01*CK$2703,0,$C2684/60)))","v":{"$error":"#VALUE!"}}]
[null,118.58333333333333,7115,0,0,0,0,0,0,0,0,0,{"$error":"#N/A"},{"$error":"#N/A"},{"$error":"#N/A"},{"$error":"#N/A"},{"$error":"#N/A"},{"$error":"#N/A"},{"$f":"IF(SUM(S$1262:S2684)>0,0,\nIF(MAX(L2685:L$2702)=MAX(L$1262:L$2702),0,\nIF(Hydrograph_Source_WQCV=\"USER\",IF(J2685>0.03*D$2703,0,$C2685/60),\nIF(J2685>0.03*J$2703,0,$C2685/60))))","v":0},{"$f":"IF(SUM(T$1262:T2684)>0,0,\nIF(MAX(L2685:L$2702)=MAX(L$1262:L$2702),0,\nIF(Hydrograph_Source_WQCV=\"USER\",IF(J2685>0.01*D$2703,0,$C2685/60),\nIF(J2685>0.01*J$2703,0,$C2685/60))))","v":0},0,0,0,0,{"$error":"#VALUE!"},{"$error":"#VALUE!"},{"$error":"#VALUE!"},{"$error":"#VALUE!"},{"$error":"#VALUE!"},{"$error":"#VALUE!"},{"$error":"#VALUE!"},{"$error":"#VALUE!"},{"$error":"#VALUE!"},{"$error":"#VALUE!"},{"$error":"#VALUE!"},{"$f":"IF(SUM(AJ$1262:AJ2684)>0,0,IF(MAX(AC2685:AC$2702)=MAX(AC$1262:AC$2702),0,IF(AA2685>0.03*U$2703,0,$C2685/60)))","v":{"$error":"#VALUE!"}},{"$f":"IF(SUM(AK$1262:AK2684)>0,0,IF(MAX(AC2685:AC$2702)=MAX(AC$1262:AC$2702),0,IF(AA2685>0.01*U$2703,0,$C2685/60)))","v":{"$error":"#VALUE!"}},0,0,0,0,{"$error":"#VALUE!"},{"$error":"#VALUE!"},{"$error":"#VALUE!"},{"$error":"#VALUE!"},{"$error":"#VALUE!"},{"$error":"#VALUE!"},{"$error":"#VALUE!"},{"$error":"#VALUE!"},{"$error":"#VALUE!"},{"$error":"#VALUE!"},{"$error":"#VALUE!"},{"$f":"IF(SUM(BA$1262:BA2684)>0,0,IF(MAX(AT2685:AT$2702)=MAX(AT$1262:AT$2702),0,IF(AR2685>0.03*AL$2703,0,$C2685/60)))","v":{"$error":"#VALUE!"}},{"$f":"IF(SUM(BB$1262:BB2684)>0,0,IF(MAX(AT2685:AT$2702)=MAX(AT$1262:AT$2702),0,IF(AR2685>0.01*AL$2703,0,$C2685/60)))","v":{"$error":"#VALUE!"}},0,0,0,0,{"$error":"#VALUE!"},{"$error":"#VALUE!"},{"$error":"#VALUE!"},{"$error":"#VALUE!"},{"$error":"#VALUE!"},{"$error":"#VALUE!"},{"$error":"#VALUE!"},{"$error":"#VALUE!"},{"$error":"#VALUE!"},{"$error":"#VALUE!"},{"$error":"#VALUE!"},{"$f":"IF(SUM(BR$1262:BR2684)>0,0,IF(MAX(BK2685:BK$2702)=MAX(BK$1262:BK$2702),0,IF(BI2685>0.03*BC$2703,0,$C2685/60)))","v":{"$error":"#VALUE!"}},{"$f":"IF(SUM(BS$1262:BS2684)>0,0,IF(MAX(BK2685:BK$2702)=MAX(BK$1262:BK$2702),0,IF(BI2685>0.01*BC$2703,0,$C2685/60)))","v":{"$error":"#VALUE!"}},0,0,0,0,{"$error":"#VALUE!"},{"$error":"#VALUE!"},{"$error":"#VALUE!"},{"$error":"#VALUE!"},{"$error":"#VALUE!"},{"$error":"#VALUE!"},{"$error":"#VALUE!"},{"$error":"#VALUE!"},{"$error":"#VALUE!"},{"$error":"#VALUE!"},{"$error":"#VALUE!"},{"$f":"IF(SUM(CI$1262:CI2684)>0,0,IF(MAX(CB2685:CB$2702)=MAX(CB$1262:CB$2702),0,IF(BZ2685>0.03*BT$2703,0,$C2685/60)))","v":{"$error":"#VALUE!"}},{"$f":"IF(SUM(CJ$1262:CJ2684)>0,0,IF(MAX(CB2685:CB$2702)=MAX(CB$1262:CB$2702),0,IF(BZ2685>0.01*BT$2703,0,$C2685/60)))","v":{"$error":"#VALUE!"}},0,0,0,0,{"$error":"#VALUE!"},{"$error":"#VALUE!"},{"$error":"#VALUE!"},{"$error":"#VALUE!"},{"$error":"#VALUE!"},{"$error":"#VALUE!"},{"$error":"#VALUE!"},{"$error":"#VALUE!"},{"$error":"#VALUE!"},{"$error":"#VALUE!"},{"$error":"#VALUE!"},{"$f":"IF(SUM(CZ$1262:CZ2684)>0,0,IF(MAX(CS2685:CS$2702)=MAX(CS$1262:CS$2702),0,IF(CQ2685>0.03*CK$2703,0,$C2685/60)))","v":{"$error":"#VALUE!"}},{"$f":"IF(SUM(DA$1262:DA2684)>0,0,IF(MAX(CS2685:CS$2702)=MAX(CS$1262:CS$2702),0,IF(CQ2685>0.01*CK$2703,0,$C2685/60)))","v":{"$error":"#VALUE!"}}]
[null,118.66666666666667,7120,0,0,0,0,0,0,0,0,0,{"$error":"#N/A"},{"$error":"#N/A"},{"$error":"#N/A"},{"$error":"#N/A"},{"$error":"#N/A"},{"$error":"#N/A"},{"$f":"IF(SUM(S$1262:S2685)>0,0,\nIF(MAX(L2686:L$2702)=MAX(L$1262:L$2702),0,\nIF(Hydrograph_Source_WQCV=\"USER\",IF(J2686>0.03*D$2703,0,$C2686/60),\nIF(J2686>0.03*J$2703,0,$C2686/60))))","v":0},{"$f":"IF(SUM(T$1262:T2685)>0,0,\nIF(MAX(L2686:L$2702)=MAX(L$1262:L$2702),0,\nIF(Hydrograph_Source_WQCV=\"USER\",IF(J2686>0.01*D$2703,0,$C2686/60),\nIF(J2686>0.01*J$2703,0,$C2686/60))))","v":0},0,0,0,0,{"$error":"#VALUE!"},{"$error":"#VALUE!"},{"$error":"#VALUE!"},{"$error":"#VALUE!"},{"$error":"#VALUE!"},{"$error":"#VALUE!"},{"$error":"#VALUE!"},{"$error":"#VALUE!"},{"$error":"#VALUE!"},{"$error":"#VALUE!"},{"$error":"#VALUE!"},{"$f":"IF(SUM(AJ$1262:AJ2685)>0,0,IF(MAX(AC2686:AC$2702)=MAX(AC$1262:AC$2702),0,IF(AA2686>0.03*U$2703,0,$C2686/60)))","v":{"$error":"#VALUE!"}},{"$f":"IF(SUM(AK$1262:AK2685)>0,0,IF(MAX(AC2686:AC$2702)=MAX(AC$1262:AC$2702),0,IF(AA2686>0.01*U$2703,0,$C2686/60)))","v":{"$error":"#VALUE!"}},0,0,0,0,{"$error":"#VALUE!"},{"$error":"#VALUE!"},{"$error":"#VALUE!"},{"$error":"#VALUE!"},{"$error":"#VALUE!"},{"$error":"#VALUE!"},{"$error":"#VALUE!"},{"$error":"#VALUE!"},{"$error":"#VALUE!"},{"$error":"#VALUE!"},{"$error":"#VALUE!"},{"$f":"IF(SUM(BA$1262:BA2685)>0,0,IF(MAX(AT2686:AT$2702)=MAX(AT$1262:AT$2702),0,IF(AR2686>0.03*AL$2703,0,$C2686/60)))","v":{"$error":"#VALUE!"}},{"$f":"IF(SUM(BB$1262:BB2685)>0,0,IF(MAX(AT2686:AT$2702)=MAX(AT$1262:AT$2702),0,IF(AR2686>0.01*AL$2703,0,$C2686/60)))","v":{"$error":"#VALUE!"}},0,0,0,0,{"$error":"#VALUE!"},{"$error":"#VALUE!"},{"$error":"#VALUE!"},{"$error":"#VALUE!"},{"$error":"#VALUE!"},{"$error":"#VALUE!"},{"$error":"#VALUE!"},{"$error":"#VALUE!"},{"$error":"#VALUE!"},{"$error":"#VALUE!"},{"$error":"#VALUE!"},{"$f":"IF(SUM(BR$1262:BR2685)>0,0,IF(MAX(BK2686:BK$2702)=MAX(BK$1262:BK$2702),0,IF(BI2686>0.03*BC$2703,0,$C2686/60)))","v":{"$error":"#VALUE!"}},{"$f":"IF(SUM(BS$1262:BS2685)>0,0,IF(MAX(BK2686:BK$2702)=MAX(BK$1262:BK$2702),0,IF(BI2686>0.01*BC$2703,0,$C2686/60)))","v":{"$error":"#VALUE!"}},0,0,0,0,{"$error":"#VALUE!"},{"$error":"#VALUE!"},{"$error":"#VALUE!"},{"$error":"#VALUE!"},{"$error":"#VALUE!"},{"$error":"#VALUE!"},{"$error":"#VALUE!"},{"$error":"#VALUE!"},{"$error":"#VALUE!"},{"$error":"#VALUE!"},{"$error":"#VALUE!"},{"$f":"IF(SUM(CI$1262:CI2685)>0,0,IF(MAX(CB2686:CB$2702)=MAX(CB$1262:CB$2702),0,IF(BZ2686>0.03*BT$2703,0,$C2686/60)))","v":{"$error":"#VALUE!"}},{"$f":"IF(SUM(CJ$1262:CJ2685)>0,0,IF(MAX(CB2686:CB$2702)=MAX(CB$1262:CB$2702),0,IF(BZ2686>0.01*BT$2703,0,$C2686/60)))","v":{"$error":"#VALUE!"}},0,0,0,0,{"$error":"#VALUE!"},{"$error":"#VALUE!"},{"$error":"#VALUE!"},{"$error":"#VALUE!"},{"$error":"#VALUE!"},{"$error":"#VALUE!"},{"$error":"#VALUE!"},{"$error":"#VALUE!"},{"$error":"#VALUE!"},{"$error":"#VALUE!"},{"$error":"#VALUE!"},{"$f":"IF(SUM(CZ$1262:CZ2685)>0,0,IF(MAX(CS2686:CS$2702)=MAX(CS$1262:CS$2702),0,IF(CQ2686>0.03*CK$2703,0,$C2686/60)))","v":{"$error":"#VALUE!"}},{"$f":"IF(SUM(DA$1262:DA2685)>0,0,IF(MAX(CS2686:CS$2702)=MAX(CS$1262:CS$2702),0,IF(CQ2686>0.01*CK$2703,0,$C2686/60)))","v":{"$error":"#VALUE!"}}]
[null,118.75,7125,0,0,0,0,0,0,0,0,0,{"$error":"#N/A"},{"$error":"#N/A"},{"$error":"#N/A"},{"$error":"#N/A"},{"$error":"#N/A"},{"$error":"#N/A"},{"$f":"IF(SUM(S$1262:S2686)>0,0,\nIF(MAX(L2687:L$2702)=MAX(L$1262:L$2702),0,\nIF(Hydrograph_Source_WQCV=\"USER\",IF(J2687>0.03*D$2703,0,$C2687/60),\nIF(J2687>0.03*J$2703,0,$C2687/60))))","v":0},{"$f":"IF(SUM(T$1262:T2686)>0,0,\nIF(MAX(L2687:L$2702)=MAX(L$1262:L$2702),0,\nIF(Hydrograph_Source_WQCV=\"USER\",IF(J2687>0.01*D$2703,0,$C2687/60),\nIF(J2687>0.01*J$2703,0,$C2687/60))))","v":0},0,0,0,0,{"$error":"#VALUE!"},{"$error":"#VALUE!"},{"$error":"#VALUE!"},{"$error":"#VALUE!"},{"$error":"#VALUE!"},{"$error":"#VALUE!"},{"$error":"#VALUE!"},{"$error":"#VALUE!"},{"$error":"#VALUE!"},{"$error":"#VALUE!"},{"$error":"#VALUE!"},{"$f":"IF(SUM(AJ$1262:AJ2686)>0,0,IF(MAX(AC2687:AC$2702)=MAX(AC$1262:AC$2702),0,IF(AA2687>0.03*U$2703,0,$C2687/60)))","v":{"$error":"#VALUE!"}},{"$f":"IF(SUM(AK$1262:AK2686)>0,0,IF(MAX(AC2687:AC$2702)=MAX(AC$1262:AC$2702),0,IF(AA2687>0.01*U$2703,0,$C2687/60)))","v":{"$error":"#VALUE!"}},0,0,0,0,{"$error":"#VALUE!"},{"$error":"#VALUE!"},{"$error":"#VALUE!"},{"$error":"#VALUE!"},{"$error":"#VALUE!"},{"$error":"#VALUE!"},{"$error":"#VALUE!"},{"$error":"#VALUE!"},{"$error":"#VALUE!"},{"$error":"#VALUE!"},{"$error":"#VALUE!"},{"$f":"IF(SUM(BA$1262:BA2686)>0,0,IF(MAX(AT2687:AT$2702)=MAX(AT$1262:AT$2702),0,IF(AR2687>0.03*AL$2703,0,$C2687/60)))","v":{"$error":"#VALUE!"}},{"$f":"IF(SUM(BB$1262:BB2686)>0,0,IF(MAX(AT2687:AT$2702)=MAX(AT$1262:AT$2702),0,IF(AR2687>0.01*AL$2703,0,$C2687/60)))","v":{"$error":"#VALUE!"}},0,0,0,0,{"$error":"#VALUE!"},{"$error":"#VALUE!"},{"$error":"#VALUE!"},{"$error":"#VALUE!"},{"$error":"#VALUE!"},{"$error":"#VALUE!"},{"$error":"#VALUE!"},{"$error":"#VALUE!"},{"$error":"#VALUE!"},{"$error":"#VALUE!"},{"$error":"#VALUE!"},{"$f":"IF(SUM(BR$1262:BR2686)>0,0,IF(MAX(BK2687:BK$2702)=MAX(BK$1262:BK$2702),0,IF(BI2687>0.03*BC$2703,0,$C2687/60)))","v":{"$error":"#VALUE!"}},{"$f":"IF(SUM(BS$1262:BS2686)>0,0,IF(MAX(BK2687:BK$2702)=MAX(BK$1262:BK$2702),0,IF(BI2687>0.01*BC$2703,0,$C2687/60)))","v":{"$error":"#VALUE!"}},0,0,0,0,{"$error":"#VALUE!"},{"$error":"#VALUE!"},{"$error":"#VALUE!"},{"$error":"#VALUE!"},{"$error":"#VALUE!"},{"$error":"#VALUE!"},{"$error":"#VALUE!"},{"$error":"#VALUE!"},{"$error":"#VALUE!"},{"$error":"#VALUE!"},{"$error":"#VALUE!"},{"$f":"IF(SUM(CI$1262:CI2686)>0,0,IF(MAX(CB2687:CB$2702)=MAX(CB$1262:CB$2702),0,IF(BZ2687>0.03*BT$2703,0,$C2687/60)))","v":{"$error":"#VALUE!"}},{"$f":"IF(SUM(CJ$1262:CJ2686)>0,0,IF(MAX(CB2687:CB$2702)=MAX(CB$1262:CB$2702),0,IF(BZ2687>0.01*BT$2703,0,$C2687/60)))","v":{"$error":"#VALUE!"}},0,0,0,0,{"$error":"#VALUE!"},{"$error":"#VALUE!"},{"$error":"#VALUE!"},{"$error":"#VALUE!"},{"$error":"#VALUE!"},{"$error":"#VALUE!"},{"$error":"#VALUE!"},{"$error":"#VALUE!"},{"$error":"#VALUE!"},{"$error":"#VALUE!"},{"$error":"#VALUE!"},{"$f":"IF(SUM(CZ$1262:CZ2686)>0,0,IF(MAX(CS2687:CS$2702)=MAX(CS$1262:CS$2702),0,IF(CQ2687>0.03*CK$2703,0,$C2687/60)))","v":{"$error":"#VALUE!"}},{"$f":"IF(SUM(DA$1262:DA2686)>0,0,IF(MAX(CS2687:CS$2702)=MAX(CS$1262:CS$2702),0,IF(CQ2687>0.01*CK$2703,0,$C2687/60)))","v":{"$error":"#VALUE!"}}]
[null,118.83333333333333,7130,0,0,0,0,0,0,0,0,0,{"$error":"#N/A"},{"$error":"#N/A"},{"$error":"#N/A"},{"$error":"#N/A"},{"$error":"#N/A"},{"$error":"#N/A"},{"$f":"IF(SUM(S$1262:S2687)>0,0,\nIF(MAX(L2688:L$2702)=MAX(L$1262:L$2702),0,\nIF(Hydrograph_Source_WQCV=\"USER\",IF(J2688>0.03*D$2703,0,$C2688/60),\nIF(J2688>0.03*J$2703,0,$C2688/60))))","v":0},{"$f":"IF(SUM(T$1262:T2687)>0,0,\nIF(MAX(L2688:L$2702)=MAX(L$1262:L$2702),0,\nIF(Hydrograph_Source_WQCV=\"USER\",IF(J2688>0.01*D$2703,0,$C2688/60),\nIF(J2688>0.01*J$2703,0,$C2688/60))))","v":0},0,0,0,0,{"$error":"#VALUE!"},{"$error":"#VALUE!"},{"$error":"#VALUE!"},{"$error":"#VALUE!"},{"$error":"#VALUE!"},{"$error":"#VALUE!"},{"$error":"#VALUE!"},{"$error":"#VALUE!"},{"$error":"#VALUE!"},{"$error":"#VALUE!"},{"$error":"#VALUE!"},{"$f":"IF(SUM(AJ$1262:AJ2687)>0,0,IF(MAX(AC2688:AC$2702)=MAX(AC$1262:AC$2702),0,IF(AA2688>0.03*U$2703,0,$C2688/60)))","v":{"$error":"#VALUE!"}},{"$f":"IF(SUM(AK$1262:AK2687)>0,0,IF(MAX(AC2688:AC$2702)=MAX(AC$1262:AC$2702),0,IF(AA2688>0.01*U$2703,0,$C2688/60)))","v":{"$error":"#VALUE!"}},0,0,0,0,{"$error":"#VALUE!"},{"$error":"#VALUE!"},{"$error":"#VALUE!"},{"$error":"#VALUE!"},{"$error":"#VALUE!"},{"$error":"#VALUE!"},{"$error":"#VALUE!"},{"$error":"#VALUE!"},{"$error":"#VALUE!"},{"$error":"#VALUE!"},{"$error":"#VALUE!"},{"$f":"IF(SUM(BA$1262:BA2687)>0,0,IF(MAX(AT2688:AT$2702)=MAX(AT$1262:AT$2702),0,IF(AR2688>0.03*AL$2703,0,$C2688/60)))","v":{"$error":"#VALUE!"}},{"$f":"IF(SUM(BB$1262:BB2687)>0,0,IF(MAX(AT2688:AT$2702)=MAX(AT$1262:AT$2702),0,IF(AR2688>0.01*AL$2703,0,$C2688/60)))","v":{"$error":"#VALUE!"}},0,0,0,0,{"$error":"#VALUE!"},{"$error":"#VALUE!"},{"$error":"#VALUE!"},{"$error":"#VALUE!"},{"$error":"#VALUE!"},{"$error":"#VALUE!"},{"$error":"#VALUE!"},{"$error":"#VALUE!"},{"$error":"#VALUE!"},{"$error":"#VALUE!"},{"$error":"#VALUE!"},{"$f":"IF(SUM(BR$1262:BR2687)>0,0,IF(MAX(BK2688:BK$2702)=MAX(BK$1262:BK$2702),0,IF(BI2688>0.03*BC$2703,0,$C2688/60)))","v":{"$error":"#VALUE!"}},{"$f":"IF(SUM(BS$1262:BS2687)>0,0,IF(MAX(BK2688:BK$2702)=MAX(BK$1262:BK$2702),0,IF(BI2688>0.01*BC$2703,0,$C2688/60)))","v":{"$error":"#VALUE!"}},0,0,0,0,{"$error":"#VALUE!"},{"$error":"#VALUE!"},{"$error":"#VALUE!"},{"$error":"#VALUE!"},{"$error":"#VALUE!"},{"$error":"#VALUE!"},{"$error":"#VALUE!"},{"$error":"#VALUE!"},{"$error":"#VALUE!"},{"$error":"#VALUE!"},{"$error":"#VALUE!"},{"$f":"IF(SUM(CI$1262:CI2687)>0,0,IF(MAX(CB2688:CB$2702)=MAX(CB$1262:CB$2702),0,IF(BZ2688>0.03*BT$2703,0,$C2688/60)))","v":{"$error":"#VALUE!"}},{"$f":"IF(SUM(CJ$1262:CJ2687)>0,0,IF(MAX(CB2688:CB$2702)=MAX(CB$1262:CB$2702),0,IF(BZ2688>0.01*BT$2703,0,$C2688/60)))","v":{"$error":"#VALUE!"}},0,0,0,0,{"$error":"#VALUE!"},{"$error":"#VALUE!"},{"$error":"#VALUE!"},{"$error":"#VALUE!"},{"$error":"#VALUE!"},{"$error":"#VALUE!"},{"$error":"#VALUE!"},{"$error":"#VALUE!"},{"$error":"#VALUE!"},{"$error":"#VALUE!"},{"$error":"#VALUE!"},{"$f":"IF(SUM(CZ$1262:CZ2687)>0,0,IF(MAX(CS2688:CS$2702)=MAX(CS$1262:CS$2702),0,IF(CQ2688>0.03*CK$2703,0,$C2688/60)))","v":{"$error":"#VALUE!"}},{"$f":"IF(SUM(DA$1262:DA2687)>0,0,IF(MAX(CS2688:CS$2702)=MAX(CS$1262:CS$2702),0,IF(CQ2688>0.01*CK$2703,0,$C2688/60)))","v":{"$error":"#VALUE!"}}]
[null,118.91666666666667,7135,0,0,0,0,0,0,0,0,0,{"$error":"#N/A"},{"$error":"#N/A"},{"$error":"#N/A"},{"$error":"#N/A"},{"$error":"#N/A"},{"$error":"#N/A"},{"$f":"IF(SUM(S$1262:S2688)>0,0,\nIF(MAX(L2689:L$2702)=MAX(L$1262:L$2702),0,\nIF(Hydrograph_Source_WQCV=\"USER\",IF(J2689>0.03*D$2703,0,$C2689/60),\nIF(J2689>0.03*J$2703,0,$C2689/60))))","v":0},{"$f":"IF(SUM(T$1262:T2688)>0,0,\nIF(MAX(L2689:L$2702)=MAX(L$1262:L$2702),0,\nIF(Hydrograph_Source_WQCV=\"USER\",IF(J2689>0.01*D$2703,0,$C2689/60),\nIF(J2689>0.01*J$2703,0,$C2689/60))))","v":0},0,0,0,0,{"$error":"#VALUE!"},{"$error":"#VALUE!"},{"$error":"#VALUE!"},{"$error":"#VALUE!"},{"$error":"#VALUE!"},{"$error":"#VALUE!"},{"$error":"#VALUE!"},{"$error":"#VALUE!"},{"$error":"#VALUE!"},{"$error":"#VALUE!"},{"$error":"#VALUE!"},{"$f":"IF(SUM(AJ$1262:AJ2688)>0,0,IF(MAX(AC2689:AC$2702)=MAX(AC$1262:AC$2702),0,IF(AA2689>0.03*U$2703,0,$C2689/60)))","v":{"$error":"#VALUE!"}},{"$f":"IF(SUM(AK$1262:AK2688)>0,0,IF(MAX(AC2689:AC$2702)=MAX(AC$1262:AC$2702),0,IF(AA2689>0.01*U$2703,0,$C2689/60)))","v":{"$error":"#VALUE!"}},0,0,0,0,{"$error":"#VALUE!"},{"$error":"#VALUE!"},{"$error":"#VALUE!"},{"$error":"#VALUE!"},{"$error":"#VALUE!"},{"$error":"#VALUE!"},{"$error":"#VALUE!"},{"$error":"#VALUE!"},{"$error":"#VALUE!"},{"$error":"#VALUE!"},{"$error":"#VALUE!"},{"$f":"IF(SUM(BA$1262:BA2688)>0,0,IF(MAX(AT2689:AT$2702)=MAX(AT$1262:AT$2702),0,IF(AR2689>0.03*AL$2703,0,$C2689/60)))","v":{"$error":"#VALUE!"}},{"$f":"IF(SUM(BB$1262:BB2688)>0,0,IF(MAX(AT2689:AT$2702)=MAX(AT$1262:AT$2702),0,IF(AR2689>0.01*AL$2703,0,$C2689/60)))","v":{"$error":"#VALUE!"}},0,0,0,0,{"$error":"#VALUE!"},{"$error":"#VALUE!"},{"$error":"#VALUE!"},{"$error":"#VALUE!"},{"$error":"#VALUE!"},{"$error":"#VALUE!"},{"$error":"#VALUE!"},{"$error":"#VALUE!"},{"$error":"#VALUE!"},{"$error":"#VALUE!"},{"$error":"#VALUE!"},{"$f":"IF(SUM(BR$1262:BR2688)>0,0,IF(MAX(BK2689:BK$2702)=MAX(BK$1262:BK$2702),0,IF(BI2689>0.03*BC$2703,0,$C2689/60)))","v":{"$error":"#VALUE!"}},{"$f":"IF(SUM(BS$1262:BS2688)>0,0,IF(MAX(BK2689:BK$2702)=MAX(BK$1262:BK$2702),0,IF(BI2689>0.01*BC$2703,0,$C2689/60)))","v":{"$error":"#VALUE!"}},0,0,0,0,{"$error":"#VALUE!"},{"$error":"#VALUE!"},{"$error":"#VALUE!"},{"$error":"#VALUE!"},{"$error":"#VALUE!"},{"$error":"#VALUE!"},{"$error":"#VALUE!"},{"$error":"#VALUE!"},{"$error":"#VALUE!"},{"$error":"#VALUE!"},{"$error":"#VALUE!"},{"$f":"IF(SUM(CI$1262:CI2688)>0,0,IF(MAX(CB2689:CB$2702)=MAX(CB$1262:CB$2702),0,IF(BZ2689>0.03*BT$2703,0,$C2689/60)))","v":{"$error":"#VALUE!"}},{"$f":"IF(SUM(CJ$1262:CJ2688)>0,0,IF(MAX(CB2689:CB$2702)=MAX(CB$1262:CB$2702),0,IF(BZ2689>0.01*BT$2703,0,$C2689/60)))","v":{"$error":"#VALUE!"}},0,0,0,0,{"$error":"#VALUE!"},{"$error":"#VALUE!"},{"$error":"#VALUE!"},{"$error":"#VALUE!"},{"$error":"#VALUE!"},{"$error":"#VALUE!"},{"$error":"#VALUE!"},{"$error":"#VALUE!"},{"$error":"#VALUE!"},{"$error":"#VALUE!"},{"$error":"#VALUE!"},{"$f":"IF(SUM(CZ$1262:CZ2688)>0,0,IF(MAX(CS2689:CS$2702)=MAX(CS$1262:CS$2702),0,IF(CQ2689>0.03*CK$2703,0,$C2689/60)))","v":{"$error":"#VALUE!"}},{"$f":"IF(SUM(DA$1262:DA2688)>0,0,IF(MAX(CS2689:CS$2702)=MAX(CS$1262:CS$2702),0,IF(CQ2689>0.01*CK$2703,0,$C2689/60)))","v":{"$error":"#VALUE!"}}]
[null,119,7140,0,0,0,0,0,0,0,0,0,{"$error":"#N/A"},{"$error":"#N/A"},{"$error":"#N/A"},{"$error":"#N/A"},{"$error":"#N/A"},{"$error":"#N/A"},{"$f":"IF(SUM(S$1262:S2689)>0,0,\nIF(MAX(L2690:L$2702)=MAX(L$1262:L$2702),0,\nIF(Hydrograph_Source_WQCV=\"USER\",IF(J2690>0.03*D$2703,0,$C2690/60),\nIF(J2690>0.03*J$2703,0,$C2690/60))))","v":0},{"$f":"IF(SUM(T$1262:T2689)>0,0,\nIF(MAX(L2690:L$2702)=MAX(L$1262:L$2702),0,\nIF(Hydrograph_Source_WQCV=\"USER\",IF(J2690>0.01*D$2703,0,$C2690/60),\nIF(J2690>0.01*J$2703,0,$C2690/60))))","v":0},0,0,0,0,{"$error":"#VALUE!"},{"$error":"#VALUE!"},{"$error":"#VALUE!"},{"$error":"#VALUE!"},{"$error":"#VALUE!"},{"$error":"#VALUE!"},{"$error":"#VALUE!"},{"$error":"#VALUE!"},{"$error":"#VALUE!"},{"$error":"#VALUE!"},{"$error":"#VALUE!"},{"$f":"IF(SUM(AJ$1262:AJ2689)>0,0,IF(MAX(AC2690:AC$2702)=MAX(AC$1262:AC$2702),0,IF(AA2690>0.03*U$2703,0,$C2690/60)))","v":{"$error":"#VALUE!"}},{"$f":"IF(SUM(AK$1262:AK2689)>0,0,IF(MAX(AC2690:AC$2702)=MAX(AC$1262:AC$2702),0,IF(AA2690>0.01*U$2703,0,$C2690/60)))","v":{"$error":"#VALUE!"}},0,0,0,0,{"$error":"#VALUE!"},{"$error":"#VALUE!"},{"$error":"#VALUE!"},{"$error":"#VALUE!"},{"$error":"#VALUE!"},{"$error":"#VALUE!"},{"$error":"#VALUE!"},{"$error":"#VALUE!"},{"$error":"#VALUE!"},{"$error":"#VALUE!"},{"$error":"#VALUE!"},{"$f":"IF(SUM(BA$1262:BA2689)>0,0,IF(MAX(AT2690:AT$2702)=MAX(AT$1262:AT$2702),0,IF(AR2690>0.03*AL$2703,0,$C2690/60)))","v":{"$error":"#VALUE!"}},{"$f":"IF(SUM(BB$1262:BB2689)>0,0,IF(MAX(AT2690:AT$2702)=MAX(AT$1262:AT$2702),0,IF(AR2690>0.01*AL$2703,0,$C2690/60)))","v":{"$error":"#VALUE!"}},0,0,0,0,{"$error":"#VALUE!"},{"$error":"#VALUE!"},{"$error":"#VALUE!"},{"$error":"#VALUE!"},{"$error":"#VALUE!"},{"$error":"#VALUE!"},{"$error":"#VALUE!"},{"$error":"#VALUE!"},{"$error":"#VALUE!"},{"$error":"#VALUE!"},{"$error":"#VALUE!"},{"$f":"IF(SUM(BR$1262:BR2689)>0,0,IF(MAX(BK2690:BK$2702)=MAX(BK$1262:BK$2702),0,IF(BI2690>0.03*BC$2703,0,$C2690/60)))","v":{"$error":"#VALUE!"}},{"$f":"IF(SUM(BS$1262:BS2689)>0,0,IF(MAX(BK2690:BK$2702)=MAX(BK$1262:BK$2702),0,IF(BI2690>0.01*BC$2703,0,$C2690/60)))","v":{"$error":"#VALUE!"}},0,0,0,0,{"$error":"#VALUE!"},{"$error":"#VALUE!"},{"$error":"#VALUE!"},{"$error":"#VALUE!"},{"$error":"#VALUE!"},{"$error":"#VALUE!"},{"$error":"#VALUE!"},{"$error":"#VALUE!"},{"$error":"#VALUE!"},{"$error":"#VALUE!"},{"$error":"#VALUE!"},{"$f":"IF(SUM(CI$1262:CI2689)>0,0,IF(MAX(CB2690:CB$2702)=MAX(CB$1262:CB$2702),0,IF(BZ2690>0.03*BT$2703,0,$C2690/60)))","v":{"$error":"#VALUE!"}},{"$f":"IF(SUM(CJ$1262:CJ2689)>0,0,IF(MAX(CB2690:CB$2702)=MAX(CB$1262:CB$2702),0,IF(BZ2690>0.01*BT$2703,0,$C2690/60)))","v":{"$error":"#VALUE!"}},0,0,0,0,{"$error":"#VALUE!"},{"$error":"#VALUE!"},{"$error":"#VALUE!"},{"$error":"#VALUE!"},{"$error":"#VALUE!"},{"$error":"#VALUE!"},{"$error":"#VALUE!"},{"$error":"#VALUE!"},{"$error":"#VALUE!"},{"$error":"#VALUE!"},{"$error":"#VALUE!"},{"$f":"IF(SUM(CZ$1262:CZ2689)>0,0,IF(MAX(CS2690:CS$2702)=MAX(CS$1262:CS$2702),0,IF(CQ2690>0.03*CK$2703,0,$C2690/60)))","v":{"$error":"#VALUE!"}},{"$f":"IF(SUM(DA$1262:DA2689)>0,0,IF(MAX(CS2690:CS$2702)=MAX(CS$1262:CS$2702),0,IF(CQ2690>0.01*CK$2703,0,$C2690/60)))","v":{"$error":"#VALUE!"}}]
[null,119.08333333333333,7145,0,0,0,0,0,0,0,0,0,{"$error":"#N/A"},{"$error":"#N/A"},{"$error":"#N/A"},{"$error":"#N/A"},{"$error":"#N/A"},{"$error":"#N/A"},{"$f":"IF(SUM(S$1262:S2690)>0,0,\nIF(MAX(L2691:L$2702)=MAX(L$1262:L$2702),0,\nIF(Hydrograph_Source_WQCV=\"USER\",IF(J2691>0.03*D$2703,0,$C2691/60),\nIF(J2691>0.03*J$2703,0,$C2691/60))))","v":0},{"$f":"IF(SUM(T$1262:T2690)>0,0,\nIF(MAX(L2691:L$2702)=MAX(L$1262:L$2702),0,\nIF(Hydrograph_Source_WQCV=\"USER\",IF(J2691>0.01*D$2703,0,$C2691/60),\nIF(J2691>0.01*J$2703,0,$C2691/60))))","v":0},0,0,0,0,{"$error":"#VALUE!"},{"$error":"#VALUE!"},{"$error":"#VALUE!"},{"$error":"#VALUE!"},{"$error":"#VALUE!"},{"$error":"#VALUE!"},{"$error":"#VALUE!"},{"$error":"#VALUE!"},{"$error":"#VALUE!"},{"$error":"#VALUE!"},{"$error":"#VALUE!"},{"$f":"IF(SUM(AJ$1262:AJ2690)>0,0,IF(MAX(AC2691:AC$2702)=MAX(AC$1262:AC$2702),0,IF(AA2691>0.03*U$2703,0,$C2691/60)))","v":{"$error":"#VALUE!"}},{"$f":"IF(SUM(AK$1262:AK2690)>0,0,IF(MAX(AC2691:AC$2702)=MAX(AC$1262:AC$2702),0,IF(AA2691>0.01*U$2703,0,$C2691/60)))","v":{"$error":"#VALUE!"}},0,0,0,0,{"$error":"#VALUE!"},{"$error":"#VALUE!"},{"$error":"#VALUE!"},{"$error":"#VALUE!"},{"$error":"#VALUE!"},{"$error":"#VALUE!"},{"$error":"#VALUE!"},{"$error":"#VALUE!"},{"$error":"#VALUE!"},{"$error":"#VALUE!"},{"$error":"#VALUE!"},{"$f":"IF(SUM(BA$1262:BA2690)>0,0,IF(MAX(AT2691:AT$2702)=MAX(AT$1262:AT$2702),0,IF(AR2691>0.03*AL$2703,0,$C2691/60)))","v":{"$error":"#VALUE!"}},{"$f":"IF(SUM(BB$1262:BB2690)>0,0,IF(MAX(AT2691:AT$2702)=MAX(AT$1262:AT$2702),0,IF(AR2691>0.01*AL$2703,0,$C2691/60)))","v":{"$error":"#VALUE!"}},0,0,0,0,{"$error":"#VALUE!"},{"$error":"#VALUE!"},{"$error":"#VALUE!"},{"$error":"#VALUE!"},{"$error":"#VALUE!"},{"$error":"#VALUE!"},{"$error":"#VALUE!"},{"$error":"#VALUE!"},{"$error":"#VALUE!"},{"$error":"#VALUE!"},{"$error":"#VALUE!"},{"$f":"IF(SUM(BR$1262:BR2690)>0,0,IF(MAX(BK2691:BK$2702)=MAX(BK$1262:BK$2702),0,IF(BI2691>0.03*BC$2703,0,$C2691/60)))","v":{"$error":"#VALUE!"}},{"$f":"IF(SUM(BS$1262:BS2690)>0,0,IF(MAX(BK2691:BK$2702)=MAX(BK$1262:BK$2702),0,IF(BI2691>0.01*BC$2703,0,$C2691/60)))","v":{"$error":"#VALUE!"}},0,0,0,0,{"$error":"#VALUE!"},{"$error":"#VALUE!"},{"$error":"#VALUE!"},{"$error":"#VALUE!"},{"$error":"#VALUE!"},{"$error":"#VALUE!"},{"$error":"#VALUE!"},{"$error":"#VALUE!"},{"$error":"#VALUE!"},{"$error":"#VALUE!"},{"$error":"#VALUE!"},{"$f":"IF(SUM(CI$1262:CI2690)>0,0,IF(MAX(CB2691:CB$2702)=MAX(CB$1262:CB$2702),0,IF(BZ2691>0.03*BT$2703,0,$C2691/60)))","v":{"$error":"#VALUE!"}},{"$f":"IF(SUM(CJ$1262:CJ2690)>0,0,IF(MAX(CB2691:CB$2702)=MAX(CB$1262:CB$2702),0,IF(BZ2691>0.01*BT$2703,0,$C2691/60)))","v":{"$error":"#VALUE!"}},0,0,0,0,{"$error":"#VALUE!"},{"$error":"#VALUE!"},{"$error":"#VALUE!"},{"$error":"#VALUE!"},{"$error":"#VALUE!"},{"$error":"#VALUE!"},{"$error":"#VALUE!"},{"$error":"#VALUE!"},{"$error":"#VALUE!"},{"$error":"#VALUE!"},{"$error":"#VALUE!"},{"$f":"IF(SUM(CZ$1262:CZ2690)>0,0,IF(MAX(CS2691:CS$2702)=MAX(CS$1262:CS$2702),0,IF(CQ2691>0.03*CK$2703,0,$C2691/60)))","v":{"$error":"#VALUE!"}},{"$f":"IF(SUM(DA$1262:DA2690)>0,0,IF(MAX(CS2691:CS$2702)=MAX(CS$1262:CS$2702),0,IF(CQ2691>0.01*CK$2703,0,$C2691/60)))","v":{"$error":"#VALUE!"}}]
[null,119.16666666666667,7150,0,0,0,0,0,0,0,0,0,{"$error":"#N/A"},{"$error":"#N/A"},{"$error":"#N/A"},{"$error":"#N/A"},{"$error":"#N/A"},{"$error":"#N/A"},{"$f":"IF(SUM(S$1262:S2691)>0,0,\nIF(MAX(L2692:L$2702)=MAX(L$1262:L$2702),0,\nIF(Hydrograph_Source_WQCV=\"USER\",IF(J2692>0.03*D$2703,0,$C2692/60),\nIF(J2692>0.03*J$2703,0,$C2692/60))))","v":0},{"$f":"IF(SUM(T$1262:T2691)>0,0,\nIF(MAX(L2692:L$2702)=MAX(L$1262:L$2702),0,\nIF(Hydrograph_Source_WQCV=\"USER\",IF(J2692>0.01*D$2703,0,$C2692/60),\nIF(J2692>0.01*J$2703,0,$C2692/60))))","v":0},0,0,0,0,{"$error":"#VALUE!"},{"$error":"#VALUE!"},{"$error":"#VALUE!"},{"$error":"#VALUE!"},{"$error":"#VALUE!"},{"$error":"#VALUE!"},{"$error":"#VALUE!"},{"$error":"#VALUE!"},{"$error":"#VALUE!"},{"$error":"#VALUE!"},{"$error":"#VALUE!"},{"$f":"IF(SUM(AJ$1262:AJ2691)>0,0,IF(MAX(AC2692:AC$2702)=MAX(AC$1262:AC$2702),0,IF(AA2692>0.03*U$2703,0,$C2692/60)))","v":{"$error":"#VALUE!"}},{"$f":"IF(SUM(AK$1262:AK2691)>0,0,IF(MAX(AC2692:AC$2702)=MAX(AC$1262:AC$2702),0,IF(AA2692>0.01*U$2703,0,$C2692/60)))","v":{"$error":"#VALUE!"}},0,0,0,0,{"$error":"#VALUE!"},{"$error":"#VALUE!"},{"$error":"#VALUE!"},{"$error":"#VALUE!"},{"$error":"#VALUE!"},{"$error":"#VALUE!"},{"$error":"#VALUE!"},{"$error":"#VALUE!"},{"$error":"#VALUE!"},{"$error":"#VALUE!"},{"$error":"#VALUE!"},{"$f":"IF(SUM(BA$1262:BA2691)>0,0,IF(MAX(AT2692:AT$2702)=MAX(AT$1262:AT$2702),0,IF(AR2692>0.03*AL$2703,0,$C2692/60)))","v":{"$error":"#VALUE!"}},{"$f":"IF(SUM(BB$1262:BB2691)>0,0,IF(MAX(AT2692:AT$2702)=MAX(AT$1262:AT$2702),0,IF(AR2692>0.01*AL$2703,0,$C2692/60)))","v":{"$error":"#VALUE!"}},0,0,0,0,{"$error":"#VALUE!"},{"$error":"#VALUE!"},{"$error":"#VALUE!"},{"$error":"#VALUE!"},{"$error":"#VALUE!"},{"$error":"#VALUE!"},{"$error":"#VALUE!"},{"$error":"#VALUE!"},{"$error":"#VALUE!"},{"$error":"#VALUE!"},{"$error":"#VALUE!"},{"$f":"IF(SUM(BR$1262:BR2691)>0,0,IF(MAX(BK2692:BK$2702)=MAX(BK$1262:BK$2702),0,IF(BI2692>0.03*BC$2703,0,$C2692/60)))","v":{"$error":"#VALUE!"}},{"$f":"IF(SUM(BS$1262:BS2691)>0,0,IF(MAX(BK2692:BK$2702)=MAX(BK$1262:BK$2702),0,IF(BI2692>0.01*BC$2703,0,$C2692/60)))","v":{"$error":"#VALUE!"}},0,0,0,0,{"$error":"#VALUE!"},{"$error":"#VALUE!"},{"$error":"#VALUE!"},{"$error":"#VALUE!"},{"$error":"#VALUE!"},{"$error":"#VALUE!"},{"$error":"#VALUE!"},{"$error":"#VALUE!"},{"$error":"#VALUE!"},{"$error":"#VALUE!"},{"$error":"#VALUE!"},{"$f":"IF(SUM(CI$1262:CI2691)>0,0,IF(MAX(CB2692:CB$2702)=MAX(CB$1262:CB$2702),0,IF(BZ2692>0.03*BT$2703,0,$C2692/60)))","v":{"$error":"#VALUE!"}},{"$f":"IF(SUM(CJ$1262:CJ2691)>0,0,IF(MAX(CB2692:CB$2702)=MAX(CB$1262:CB$2702),0,IF(BZ2692>0.01*BT$2703,0,$C2692/60)))","v":{"$error":"#VALUE!"}},0,0,0,0,{"$error":"#VALUE!"},{"$error":"#VALUE!"},{"$error":"#VALUE!"},{"$error":"#VALUE!"},{"$error":"#VALUE!"},{"$error":"#VALUE!"},{"$error":"#VALUE!"},{"$error":"#VALUE!"},{"$error":"#VALUE!"},{"$error":"#VALUE!"},{"$error":"#VALUE!"},{"$f":"IF(SUM(CZ$1262:CZ2691)>0,0,IF(MAX(CS2692:CS$2702)=MAX(CS$1262:CS$2702),0,IF(CQ2692>0.03*CK$2703,0,$C2692/60)))","v":{"$error":"#VALUE!"}},{"$f":"IF(SUM(DA$1262:DA2691)>0,0,IF(MAX(CS2692:CS$2702)=MAX(CS$1262:CS$2702),0,IF(CQ2692>0.01*CK$2703,0,$C2692/60)))","v":{"$error":"#VALUE!"}}]
[null,119.25,7155,0,0,0,0,0,0,0,0,0,{"$error":"#N/A"},{"$error":"#N/A"},{"$error":"#N/A"},{"$error":"#N/A"},{"$error":"#N/A"},{"$error":"#N/A"},{"$f":"IF(SUM(S$1262:S2692)>0,0,\nIF(MAX(L2693:L$2702)=MAX(L$1262:L$2702),0,\nIF(Hydrograph_Source_WQCV=\"USER\",IF(J2693>0.03*D$2703,0,$C2693/60),\nIF(J2693>0.03*J$2703,0,$C2693/60))))","v":0},{"$f":"IF(SUM(T$1262:T2692)>0,0,\nIF(MAX(L2693:L$2702)=MAX(L$1262:L$2702),0,\nIF(Hydrograph_Source_WQCV=\"USER\",IF(J2693>0.01*D$2703,0,$C2693/60),\nIF(J2693>0.01*J$2703,0,$C2693/60))))","v":0},0,0,0,0,{"$error":"#VALUE!"},{"$error":"#VALUE!"},{"$error":"#VALUE!"},{"$error":"#VALUE!"},{"$error":"#VALUE!"},{"$error":"#VALUE!"},{"$error":"#VALUE!"},{"$error":"#VALUE!"},{"$error":"#VALUE!"},{"$error":"#VALUE!"},{"$error":"#VALUE!"},{"$f":"IF(SUM(AJ$1262:AJ2692)>0,0,IF(MAX(AC2693:AC$2702)=MAX(AC$1262:AC$2702),0,IF(AA2693>0.03*U$2703,0,$C2693/60)))","v":{"$error":"#VALUE!"}},{"$f":"IF(SUM(AK$1262:AK2692)>0,0,IF(MAX(AC2693:AC$2702)=MAX(AC$1262:AC$2702),0,IF(AA2693>0.01*U$2703,0,$C2693/60)))","v":{"$error":"#VALUE!"}},0,0,0,0,{"$error":"#VALUE!"},{"$error":"#VALUE!"},{"$error":"#VALUE!"},{"$error":"#VALUE!"},{"$error":"#VALUE!"},{"$error":"#VALUE!"},{"$error":"#VALUE!"},{"$error":"#VALUE!"},{"$error":"#VALUE!"},{"$error":"#VALUE!"},{"$error":"#VALUE!"},{"$f":"IF(SUM(BA$1262:BA2692)>0,0,IF(MAX(AT2693:AT$2702)=MAX(AT$1262:AT$2702),0,IF(AR2693>0.03*AL$2703,0,$C2693/60)))","v":{"$error":"#VALUE!"}},{"$f":"IF(SUM(BB$1262:BB2692)>0,0,IF(MAX(AT2693:AT$2702)=MAX(AT$1262:AT$2702),0,IF(AR2693>0.01*AL$2703,0,$C2693/60)))","v":{"$error":"#VALUE!"}},0,0,0,0,{"$error":"#VALUE!"},{"$error":"#VALUE!"},{"$error":"#VALUE!"},{"$error":"#VALUE!"},{"$error":"#VALUE!"},{"$error":"#VALUE!"},{"$error":"#VALUE!"},{"$error":"#VALUE!"},{"$error":"#VALUE!"},{"$error":"#VALUE!"},{"$error":"#VALUE!"},{"$f":"IF(SUM(BR$1262:BR2692)>0,0,IF(MAX(BK2693:BK$2702)=MAX(BK$1262:BK$2702),0,IF(BI2693>0.03*BC$2703,0,$C2693/60)))","v":{"$error":"#VALUE!"}},{"$f":"IF(SUM(BS$1262:BS2692)>0,0,IF(MAX(BK2693:BK$2702)=MAX(BK$1262:BK$2702),0,IF(BI2693>0.01*BC$2703,0,$C2693/60)))","v":{"$error":"#VALUE!"}},0,0,0,0,{"$error":"#VALUE!"},{"$error":"#VALUE!"},{"$error":"#VALUE!"},{"$error":"#VALUE!"},{"$error":"#VALUE!"},{"$error":"#VALUE!"},{"$error":"#VALUE!"},{"$error":"#VALUE!"},{"$error":"#VALUE!"},{"$error":"#VALUE!"},{"$error":"#VALUE!"},{"$f":"IF(SUM(CI$1262:CI2692)>0,0,IF(MAX(CB2693:CB$2702)=MAX(CB$1262:CB$2702),0,IF(BZ2693>0.03*BT$2703,0,$C2693/60)))","v":{"$error":"#VALUE!"}},{"$f":"IF(SUM(CJ$1262:CJ2692)>0,0,IF(MAX(CB2693:CB$2702)=MAX(CB$1262:CB$2702),0,IF(BZ2693>0.01*BT$2703,0,$C2693/60)))","v":{"$error":"#VALUE!"}},0,0,0,0,{"$error":"#VALUE!"},{"$error":"#VALUE!"},{"$error":"#VALUE!"},{"$error":"#VALUE!"},{"$error":"#VALUE!"},{"$error":"#VALUE!"},{"$error":"#VALUE!"},{"$error":"#VALUE!"},{"$error":"#VALUE!"},{"$error":"#VALUE!"},{"$error":"#VALUE!"},{"$f":"IF(SUM(CZ$1262:CZ2692)>0,0,IF(MAX(CS2693:CS$2702)=MAX(CS$1262:CS$2702),0,IF(CQ2693>0.03*CK$2703,0,$C2693/60)))","v":{"$error":"#VALUE!"}},{"$f":"IF(SUM(DA$1262:DA2692)>0,0,IF(MAX(CS2693:CS$2702)=MAX(CS$1262:CS$2702),0,IF(CQ2693>0.01*CK$2703,0,$C2693/60)))","v":{"$error":"#VALUE!"}}]
[null,119.33333333333333,7160,0,0,0,0,0,0,0,0,0,{"$error":"#N/A"},{"$error":"#N/A"},{"$error":"#N/A"},{"$error":"#N/A"},{"$error":"#N/A"},{"$error":"#N/A"},{"$f":"IF(SUM(S$1262:S2693)>0,0,\nIF(MAX(L2694:L$2702)=MAX(L$1262:L$2702),0,\nIF(Hydrograph_Source_WQCV=\"USER\",IF(J2694>0.03*D$2703,0,$C2694/60),\nIF(J2694>0.03*J$2703,0,$C2694/60))))","v":0},{"$f":"IF(SUM(T$1262:T2693)>0,0,\nIF(MAX(L2694:L$2702)=MAX(L$1262:L$2702),0,\nIF(Hydrograph_Source_WQCV=\"USER\",IF(J2694>0.01*D$2703,0,$C2694/60),\nIF(J2694>0.01*J$2703,0,$C2694/60))))","v":0},0,0,0,0,{"$error":"#VALUE!"},{"$error":"#VALUE!"},{"$error":"#VALUE!"},{"$error":"#VALUE!"},{"$error":"#VALUE!"},{"$error":"#VALUE!"},{"$error":"#VALUE!"},{"$error":"#VALUE!"},{"$error":"#VALUE!"},{"$error":"#VALUE!"},{"$error":"#VALUE!"},{"$f":"IF(SUM(AJ$1262:AJ2693)>0,0,IF(MAX(AC2694:AC$2702)=MAX(AC$1262:AC$2702),0,IF(AA2694>0.03*U$2703,0,$C2694/60)))","v":{"$error":"#VALUE!"}},{"$f":"IF(SUM(AK$1262:AK2693)>0,0,IF(MAX(AC2694:AC$2702)=MAX(AC$1262:AC$2702),0,IF(AA2694>0.01*U$2703,0,$C2694/60)))","v":{"$error":"#VALUE!"}},0,0,0,0,{"$error":"#VALUE!"},{"$error":"#VALUE!"},{"$error":"#VALUE!"},{"$error":"#VALUE!"},{"$error":"#VALUE!"},{"$error":"#VALUE!"},{"$error":"#VALUE!"},{"$error":"#VALUE!"},{"$error":"#VALUE!"},{"$error":"#VALUE!"},{"$error":"#VALUE!"},{"$f":"IF(SUM(BA$1262:BA2693)>0,0,IF(MAX(AT2694:AT$2702)=MAX(AT$1262:AT$2702),0,IF(AR2694>0.03*AL$2703,0,$C2694/60)))","v":{"$error":"#VALUE!"}},{"$f":"IF(SUM(BB$1262:BB2693)>0,0,IF(MAX(AT2694:AT$2702)=MAX(AT$1262:AT$2702),0,IF(AR2694>0.01*AL$2703,0,$C2694/60)))","v":{"$error":"#VALUE!"}},0,0,0,0,{"$error":"#VALUE!"},{"$error":"#VALUE!"},{"$error":"#VALUE!"},{"$error":"#VALUE!"},{"$error":"#VALUE!"},{"$error":"#VALUE!"},{"$error":"#VALUE!"},{"$error":"#VALUE!"},{"$error":"#VALUE!"},{"$error":"#VALUE!"},{"$error":"#VALUE!"},{"$f":"IF(SUM(BR$1262:BR2693)>0,0,IF(MAX(BK2694:BK$2702)=MAX(BK$1262:BK$2702),0,IF(BI2694>0.03*BC$2703,0,$C2694/60)))","v":{"$error":"#VALUE!"}},{"$f":"IF(SUM(BS$1262:BS2693)>0,0,IF(MAX(BK2694:BK$2702)=MAX(BK$1262:BK$2702),0,IF(BI2694>0.01*BC$2703,0,$C2694/60)))","v":{"$error":"#VALUE!"}},0,0,0,0,{"$error":"#VALUE!"},{"$error":"#VALUE!"},{"$error":"#VALUE!"},{"$error":"#VALUE!"},{"$error":"#VALUE!"},{"$error":"#VALUE!"},{"$error":"#VALUE!"},{"$error":"#VALUE!"},{"$error":"#VALUE!"},{"$error":"#VALUE!"},{"$error":"#VALUE!"},{"$f":"IF(SUM(CI$1262:CI2693)>0,0,IF(MAX(CB2694:CB$2702)=MAX(CB$1262:CB$2702),0,IF(BZ2694>0.03*BT$2703,0,$C2694/60)))","v":{"$error":"#VALUE!"}},{"$f":"IF(SUM(CJ$1262:CJ2693)>0,0,IF(MAX(CB2694:CB$2702)=MAX(CB$1262:CB$2702),0,IF(BZ2694>0.01*BT$2703,0,$C2694/60)))","v":{"$error":"#VALUE!"}},0,0,0,0,{"$error":"#VALUE!"},{"$error":"#VALUE!"},{"$error":"#VALUE!"},{"$error":"#VALUE!"},{"$error":"#VALUE!"},{"$error":"#VALUE!"},{"$error":"#VALUE!"},{"$error":"#VALUE!"},{"$error":"#VALUE!"},{"$error":"#VALUE!"},{"$error":"#VALUE!"},{"$f":"IF(SUM(CZ$1262:CZ2693)>0,0,IF(MAX(CS2694:CS$2702)=MAX(CS$1262:CS$2702),0,IF(CQ2694>0.03*CK$2703,0,$C2694/60)))","v":{"$error":"#VALUE!"}},{"$f":"IF(SUM(DA$1262:DA2693)>0,0,IF(MAX(CS2694:CS$2702)=MAX(CS$1262:CS$2702),0,IF(CQ2694>0.01*CK$2703,0,$C2694/60)))","v":{"$error":"#VALUE!"}}]
[null,119.41666666666667,7165,0,0,0,0,0,0,0,0,0,{"$error":"#N/A"},{"$error":"#N/A"},{"$error":"#N/A"},{"$error":"#N/A"},{"$error":"#N/A"},{"$error":"#N/A"},{"$f":"IF(SUM(S$1262:S2694)>0,0,\nIF(MAX(L2695:L$2702)=MAX(L$1262:L$2702),0,\nIF(Hydrograph_Source_WQCV=\"USER\",IF(J2695>0.03*D$2703,0,$C2695/60),\nIF(J2695>0.03*J$2703,0,$C2695/60))))","v":0},{"$f":"IF(SUM(T$1262:T2694)>0,0,\nIF(MAX(L2695:L$2702)=MAX(L$1262:L$2702),0,\nIF(Hydrograph_Source_WQCV=\"USER\",IF(J2695>0.01*D$2703,0,$C2695/60),\nIF(J2695>0.01*J$2703,0,$C2695/60))))","v":0},0,0,0,0,{"$error":"#VALUE!"},{"$error":"#VALUE!"},{"$error":"#VALUE!"},{"$error":"#VALUE!"},{"$error":"#VALUE!"},{"$error":"#VALUE!"},{"$error":"#VALUE!"},{"$error":"#VALUE!"},{"$error":"#VALUE!"},{"$error":"#VALUE!"},{"$error":"#VALUE!"},{"$f":"IF(SUM(AJ$1262:AJ2694)>0,0,IF(MAX(AC2695:AC$2702)=MAX(AC$1262:AC$2702),0,IF(AA2695>0.03*U$2703,0,$C2695/60)))","v":{"$error":"#VALUE!"}},{"$f":"IF(SUM(AK$1262:AK2694)>0,0,IF(MAX(AC2695:AC$2702)=MAX(AC$1262:AC$2702),0,IF(AA2695>0.01*U$2703,0,$C2695/60)))","v":{"$error":"#VALUE!"}},0,0,0,0,{"$error":"#VALUE!"},{"$error":"#VALUE!"},{"$error":"#VALUE!"},{"$error":"#VALUE!"},{"$error":"#VALUE!"},{"$error":"#VALUE!"},{"$error":"#VALUE!"},{"$error":"#VALUE!"},{"$error":"#VALUE!"},{"$error":"#VALUE!"},{"$error":"#VALUE!"},{"$f":"IF(SUM(BA$1262:BA2694)>0,0,IF(MAX(AT2695:AT$2702)=MAX(AT$1262:AT$2702),0,IF(AR2695>0.03*AL$2703,0,$C2695/60)))","v":{"$error":"#VALUE!"}},{"$f":"IF(SUM(BB$1262:BB2694)>0,0,IF(MAX(AT2695:AT$2702)=MAX(AT$1262:AT$2702),0,IF(AR2695>0.01*AL$2703,0,$C2695/60)))","v":{"$error":"#VALUE!"}},0,0,0,0,{"$error":"#VALUE!"},{"$error":"#VALUE!"},{"$error":"#VALUE!"},{"$error":"#VALUE!"},{"$error":"#VALUE!"},{"$error":"#VALUE!"},{"$error":"#VALUE!"},{"$error":"#VALUE!"},{"$error":"#VALUE!"},{"$error":"#VALUE!"},{"$error":"#VALUE!"},{"$f":"IF(SUM(BR$1262:BR2694)>0,0,IF(MAX(BK2695:BK$2702)=MAX(BK$1262:BK$2702),0,IF(BI2695>0.03*BC$2703,0,$C2695/60)))","v":{"$error":"#VALUE!"}},{"$f":"IF(SUM(BS$1262:BS2694)>0,0,IF(MAX(BK2695:BK$2702)=MAX(BK$1262:BK$2702),0,IF(BI2695>0.01*BC$2703,0,$C2695/60)))","v":{"$error":"#VALUE!"}},0,0,0,0,{"$error":"#VALUE!"},{"$error":"#VALUE!"},{"$error":"#VALUE!"},{"$error":"#VALUE!"},{"$error":"#VALUE!"},{"$error":"#VALUE!"},{"$error":"#VALUE!"},{"$error":"#VALUE!"},{"$error":"#VALUE!"},{"$error":"#VALUE!"},{"$error":"#VALUE!"},{"$f":"IF(SUM(CI$1262:CI2694)>0,0,IF(MAX(CB2695:CB$2702)=MAX(CB$1262:CB$2702),0,IF(BZ2695>0.03*BT$2703,0,$C2695/60)))","v":{"$error":"#VALUE!"}},{"$f":"IF(SUM(CJ$1262:CJ2694)>0,0,IF(MAX(CB2695:CB$2702)=MAX(CB$1262:CB$2702),0,IF(BZ2695>0.01*BT$2703,0,$C2695/60)))","v":{"$error":"#VALUE!"}},0,0,0,0,{"$error":"#VALUE!"},{"$error":"#VALUE!"},{"$error":"#VALUE!"},{"$error":"#VALUE!"},{"$error":"#VALUE!"},{"$error":"#VALUE!"},{"$error":"#VALUE!"},{"$error":"#VALUE!"},{"$error":"#VALUE!"},{"$error":"#VALUE!"},{"$error":"#VALUE!"},{"$f":"IF(SUM(CZ$1262:CZ2694)>0,0,IF(MAX(CS2695:CS$2702)=MAX(CS$1262:CS$2702),0,IF(CQ2695>0.03*CK$2703,0,$C2695/60)))","v":{"$error":"#VALUE!"}},{"$f":"IF(SUM(DA$1262:DA2694)>0,0,IF(MAX(CS2695:CS$2702)=MAX(CS$1262:CS$2702),0,IF(CQ2695>0.01*CK$2703,0,$C2695/60)))","v":{"$error":"#VALUE!"}}]
[null,119.5,7170,0,0,0,0,0,0,0,0,0,{"$error":"#N/A"},{"$error":"#N/A"},{"$error":"#N/A"},{"$error":"#N/A"},{"$error":"#N/A"},{"$error":"#N/A"},{"$f":"IF(SUM(S$1262:S2695)>0,0,\nIF(MAX(L2696:L$2702)=MAX(L$1262:L$2702),0,\nIF(Hydrograph_Source_WQCV=\"USER\",IF(J2696>0.03*D$2703,0,$C2696/60),\nIF(J2696>0.03*J$2703,0,$C2696/60))))","v":0},{"$f":"IF(SUM(T$1262:T2695)>0,0,\nIF(MAX(L2696:L$2702)=MAX(L$1262:L$2702),0,\nIF(Hydrograph_Source_WQCV=\"USER\",IF(J2696>0.01*D$2703,0,$C2696/60),\nIF(J2696>0.01*J$2703,0,$C2696/60))))","v":0},0,0,0,0,{"$error":"#VALUE!"},{"$error":"#VALUE!"},{"$error":"#VALUE!"},{"$error":"#VALUE!"},{"$error":"#VALUE!"},{"$error":"#VALUE!"},{"$error":"#VALUE!"},{"$error":"#VALUE!"},{"$error":"#VALUE!"},{"$error":"#VALUE!"},{"$error":"#VALUE!"},{"$f":"IF(SUM(AJ$1262:AJ2695)>0,0,IF(MAX(AC2696:AC$2702)=MAX(AC$1262:AC$2702),0,IF(AA2696>0.03*U$2703,0,$C2696/60)))","v":{"$error":"#VALUE!"}},{"$f":"IF(SUM(AK$1262:AK2695)>0,0,IF(MAX(AC2696:AC$2702)=MAX(AC$1262:AC$2702),0,IF(AA2696>0.01*U$2703,0,$C2696/60)))","v":{"$error":"#VALUE!"}},0,0,0,0,{"$error":"#VALUE!"},{"$error":"#VALUE!"},{"$error":"#VALUE!"},{"$error":"#VALUE!"},{"$error":"#VALUE!"},{"$error":"#VALUE!"},{"$error":"#VALUE!"},{"$error":"#VALUE!"},{"$error":"#VALUE!"},{"$error":"#VALUE!"},{"$error":"#VALUE!"},{"$f":"IF(SUM(BA$1262:BA2695)>0,0,IF(MAX(AT2696:AT$2702)=MAX(AT$1262:AT$2702),0,IF(AR2696>0.03*AL$2703,0,$C2696/60)))","v":{"$error":"#VALUE!"}},{"$f":"IF(SUM(BB$1262:BB2695)>0,0,IF(MAX(AT2696:AT$2702)=MAX(AT$1262:AT$2702),0,IF(AR2696>0.01*AL$2703,0,$C2696/60)))","v":{"$error":"#VALUE!"}},0,0,0,0,{"$error":"#VALUE!"},{"$error":"#VALUE!"},{"$error":"#VALUE!"},{"$error":"#VALUE!"},{"$error":"#VALUE!"},{"$error":"#VALUE!"},{"$error":"#VALUE!"},{"$error":"#VALUE!"},{"$error":"#VALUE!"},{"$error":"#VALUE!"},{"$error":"#VALUE!"},{"$f":"IF(SUM(BR$1262:BR2695)>0,0,IF(MAX(BK2696:BK$2702)=MAX(BK$1262:BK$2702),0,IF(BI2696>0.03*BC$2703,0,$C2696/60)))","v":{"$error":"#VALUE!"}},{"$f":"IF(SUM(BS$1262:BS2695)>0,0,IF(MAX(BK2696:BK$2702)=MAX(BK$1262:BK$2702),0,IF(BI2696>0.01*BC$2703,0,$C2696/60)))","v":{"$error":"#VALUE!"}},0,0,0,0,{"$error":"#VALUE!"},{"$error":"#VALUE!"},{"$error":"#VALUE!"},{"$error":"#VALUE!"},{"$error":"#VALUE!"},{"$error":"#VALUE!"},{"$error":"#VALUE!"},{"$error":"#VALUE!"},{"$error":"#VALUE!"},{"$error":"#VALUE!"},{"$error":"#VALUE!"},{"$f":"IF(SUM(CI$1262:CI2695)>0,0,IF(MAX(CB2696:CB$2702)=MAX(CB$1262:CB$2702),0,IF(BZ2696>0.03*BT$2703,0,$C2696/60)))","v":{"$error":"#VALUE!"}},{"$f":"IF(SUM(CJ$1262:CJ2695)>0,0,IF(MAX(CB2696:CB$2702)=MAX(CB$1262:CB$2702),0,IF(BZ2696>0.01*BT$2703,0,$C2696/60)))","v":{"$error":"#VALUE!"}},0,0,0,0,{"$error":"#VALUE!"},{"$error":"#VALUE!"},{"$error":"#VALUE!"},{"$error":"#VALUE!"},{"$error":"#VALUE!"},{"$error":"#VALUE!"},{"$error":"#VALUE!"},{"$error":"#VALUE!"},{"$error":"#VALUE!"},{"$error":"#VALUE!"},{"$error":"#VALUE!"},{"$f":"IF(SUM(CZ$1262:CZ2695)>0,0,IF(MAX(CS2696:CS$2702)=MAX(CS$1262:CS$2702),0,IF(CQ2696>0.03*CK$2703,0,$C2696/60)))","v":{"$error":"#VALUE!"}},{"$f":"IF(SUM(DA$1262:DA2695)>0,0,IF(MAX(CS2696:CS$2702)=MAX(CS$1262:CS$2702),0,IF(CQ2696>0.01*CK$2703,0,$C2696/60)))","v":{"$error":"#VALUE!"}}]
[null,119.58333333333333,7175,0,0,0,0,0,0,0,0,0,{"$error":"#N/A"},{"$error":"#N/A"},{"$error":"#N/A"},{"$error":"#N/A"},{"$error":"#N/A"},{"$error":"#N/A"},{"$f":"IF(SUM(S$1262:S2696)>0,0,\nIF(MAX(L2697:L$2702)=MAX(L$1262:L$2702),0,\nIF(Hydrograph_Source_WQCV=\"USER\",IF(J2697>0.03*D$2703,0,$C2697/60),\nIF(J2697>0.03*J$2703,0,$C2697/60))))","v":0},{"$f":"IF(SUM(T$1262:T2696)>0,0,\nIF(MAX(L2697:L$2702)=MAX(L$1262:L$2702),0,\nIF(Hydrograph_Source_WQCV=\"USER\",IF(J2697>0.01*D$2703,0,$C2697/60),\nIF(J2697>0.01*J$2703,0,$C2697/60))))","v":0},0,0,0,0,{"$error":"#VALUE!"},{"$error":"#VALUE!"},{"$error":"#VALUE!"},{"$error":"#VALUE!"},{"$error":"#VALUE!"},{"$error":"#VALUE!"},{"$error":"#VALUE!"},{"$error":"#VALUE!"},{"$error":"#VALUE!"},{"$error":"#VALUE!"},{"$error":"#VALUE!"},{"$f":"IF(SUM(AJ$1262:AJ2696)>0,0,IF(MAX(AC2697:AC$2702)=MAX(AC$1262:AC$2702),0,IF(AA2697>0.03*U$2703,0,$C2697/60)))","v":{"$error":"#VALUE!"}},{"$f":"IF(SUM(AK$1262:AK2696)>0,0,IF(MAX(AC2697:AC$2702)=MAX(AC$1262:AC$2702),0,IF(AA2697>0.01*U$2703,0,$C2697/60)))","v":{"$error":"#VALUE!"}},0,0,0,0,{"$error":"#VALUE!"},{"$error":"#VALUE!"},{"$error":"#VALUE!"},{"$error":"#VALUE!"},{"$error":"#VALUE!"},{"$error":"#VALUE!"},{"$error":"#VALUE!"},{"$error":"#VALUE!"},{"$error":"#VALUE!"},{"$error":"#VALUE!"},{"$error":"#VALUE!"},{"$f":"IF(SUM(BA$1262:BA2696)>0,0,IF(MAX(AT2697:AT$2702)=MAX(AT$1262:AT$2702),0,IF(AR2697>0.03*AL$2703,0,$C2697/60)))","v":{"$error":"#VALUE!"}},{"$f":"IF(SUM(BB$1262:BB2696)>0,0,IF(MAX(AT2697:AT$2702)=MAX(AT$1262:AT$2702),0,IF(AR2697>0.01*AL$2703,0,$C2697/60)))","v":{"$error":"#VALUE!"}},0,0,0,0,{"$error":"#VALUE!"},{"$error":"#VALUE!"},{"$error":"#VALUE!"},{"$error":"#VALUE!"},{"$error":"#VALUE!"},{"$error":"#VALUE!"},{"$error":"#VALUE!"},{"$error":"#VALUE!"},{"$error":"#VALUE!"},{"$error":"#VALUE!"},{"$error":"#VALUE!"},{"$f":"IF(SUM(BR$1262:BR2696)>0,0,IF(MAX(BK2697:BK$2702)=MAX(BK$1262:BK$2702),0,IF(BI2697>0.03*BC$2703,0,$C2697/60)))","v":{"$error":"#VALUE!"}},{"$f":"IF(SUM(BS$1262:BS2696)>0,0,IF(MAX(BK2697:BK$2702)=MAX(BK$1262:BK$2702),0,IF(BI2697>0.01*BC$2703,0,$C2697/60)))","v":{"$error":"#VALUE!"}},0,0,0,0,{"$error":"#VALUE!"},{"$error":"#VALUE!"},{"$error":"#VALUE!"},{"$error":"#VALUE!"},{"$error":"#VALUE!"},{"$error":"#VALUE!"},{"$error":"#VALUE!"},{"$error":"#VALUE!"},{"$error":"#VALUE!"},{"$error":"#VALUE!"},{"$error":"#VALUE!"},{"$f":"IF(SUM(CI$1262:CI2696)>0,0,IF(MAX(CB2697:CB$2702)=MAX(CB$1262:CB$2702),0,IF(BZ2697>0.03*BT$2703,0,$C2697/60)))","v":{"$error":"#VALUE!"}},{"$f":"IF(SUM(CJ$1262:CJ2696)>0,0,IF(MAX(CB2697:CB$2702)=MAX(CB$1262:CB$2702),0,IF(BZ2697>0.01*BT$2703,0,$C2697/60)))","v":{"$error":"#VALUE!"}},0,0,0,0,{"$error":"#VALUE!"},{"$error":"#VALUE!"},{"$error":"#VALUE!"},{"$error":"#VALUE!"},{"$error":"#VALUE!"},{"$error":"#VALUE!"},{"$error":"#VALUE!"},{"$error":"#VALUE!"},{"$error":"#VALUE!"},{"$error":"#VALUE!"},{"$error":"#VALUE!"},{"$f":"IF(SUM(CZ$1262:CZ2696)>0,0,IF(MAX(CS2697:CS$2702)=MAX(CS$1262:CS$2702),0,IF(CQ2697>0.03*CK$2703,0,$C2697/60)))","v":{"$error":"#VALUE!"}},{"$f":"IF(SUM(DA$1262:DA2696)>0,0,IF(MAX(CS2697:CS$2702)=MAX(CS$1262:CS$2702),0,IF(CQ2697>0.01*CK$2703,0,$C2697/60)))","v":{"$error":"#VALUE!"}}]
[null,119.66666666666667,7180,0,0,0,0,0,0,0,0,0,{"$error":"#N/A"},{"$error":"#N/A"},{"$error":"#N/A"},{"$error":"#N/A"},{"$error":"#N/A"},{"$error":"#N/A"},{"$f":"IF(SUM(S$1262:S2697)>0,0,\nIF(MAX(L2698:L$2702)=MAX(L$1262:L$2702),0,\nIF(Hydrograph_Source_WQCV=\"USER\",IF(J2698>0.03*D$2703,0,$C2698/60),\nIF(J2698>0.03*J$2703,0,$C2698/60))))","v":0},{"$f":"IF(SUM(T$1262:T2697)>0,0,\nIF(MAX(L2698:L$2702)=MAX(L$1262:L$2702),0,\nIF(Hydrograph_Source_WQCV=\"USER\",IF(J2698>0.01*D$2703,0,$C2698/60),\nIF(J2698>0.01*J$2703,0,$C2698/60))))","v":0},0,0,0,0,{"$error":"#VALUE!"},{"$error":"#VALUE!"},{"$error":"#VALUE!"},{"$error":"#VALUE!"},{"$error":"#VALUE!"},{"$error":"#VALUE!"},{"$error":"#VALUE!"},{"$error":"#VALUE!"},{"$error":"#VALUE!"},{"$error":"#VALUE!"},{"$error":"#VALUE!"},{"$f":"IF(SUM(AJ$1262:AJ2697)>0,0,IF(MAX(AC2698:AC$2702)=MAX(AC$1262:AC$2702),0,IF(AA2698>0.03*U$2703,0,$C2698/60)))","v":{"$error":"#VALUE!"}},{"$f":"IF(SUM(AK$1262:AK2697)>0,0,IF(MAX(AC2698:AC$2702)=MAX(AC$1262:AC$2702),0,IF(AA2698>0.01*U$2703,0,$C2698/60)))","v":{"$error":"#VALUE!"}},0,0,0,0,{"$error":"#VALUE!"},{"$error":"#VALUE!"},{"$error":"#VALUE!"},{"$error":"#VALUE!"},{"$error":"#VALUE!"},{"$error":"#VALUE!"},{"$error":"#VALUE!"},{"$error":"#VALUE!"},{"$error":"#VALUE!"},{"$error":"#VALUE!"},{"$error":"#VALUE!"},{"$f":"IF(SUM(BA$1262:BA2697)>0,0,IF(MAX(AT2698:AT$2702)=MAX(AT$1262:AT$2702),0,IF(AR2698>0.03*AL$2703,0,$C2698/60)))","v":{"$error":"#VALUE!"}},{"$f":"IF(SUM(BB$1262:BB2697)>0,0,IF(MAX(AT2698:AT$2702)=MAX(AT$1262:AT$2702),0,IF(AR2698>0.01*AL$2703,0,$C2698/60)))","v":{"$error":"#VALUE!"}},0,0,0,0,{"$error":"#VALUE!"},{"$error":"#VALUE!"},{"$error":"#VALUE!"},{"$error":"#VALUE!"},{"$error":"#VALUE!"},{"$error":"#VALUE!"},{"$error":"#VALUE!"},{"$error":"#VALUE!"},{"$error":"#VALUE!"},{"$error":"#VALUE!"},{"$error":"#VALUE!"},{"$f":"IF(SUM(BR$1262:BR2697)>0,0,IF(MAX(BK2698:BK$2702)=MAX(BK$1262:BK$2702),0,IF(BI2698>0.03*BC$2703,0,$C2698/60)))","v":{"$error":"#VALUE!"}},{"$f":"IF(SUM(BS$1262:BS2697)>0,0,IF(MAX(BK2698:BK$2702)=MAX(BK$1262:BK$2702),0,IF(BI2698>0.01*BC$2703,0,$C2698/60)))","v":{"$error":"#VALUE!"}},0,0,0,0,{"$error":"#VALUE!"},{"$error":"#VALUE!"},{"$error":"#VALUE!"},{"$error":"#VALUE!"},{"$error":"#VALUE!"},{"$error":"#VALUE!"},{"$error":"#VALUE!"},{"$error":"#VALUE!"},{"$error":"#VALUE!"},{"$error":"#VALUE!"},{"$error":"#VALUE!"},{"$f":"IF(SUM(CI$1262:CI2697)>0,0,IF(MAX(CB2698:CB$2702)=MAX(CB$1262:CB$2702),0,IF(BZ2698>0.03*BT$2703,0,$C2698/60)))","v":{"$error":"#VALUE!"}},{"$f":"IF(SUM(CJ$1262:CJ2697)>0,0,IF(MAX(CB2698:CB$2702)=MAX(CB$1262:CB$2702),0,IF(BZ2698>0.01*BT$2703,0,$C2698/60)))","v":{"$error":"#VALUE!"}},0,0,0,0,{"$error":"#VALUE!"},{"$error":"#VALUE!"},{"$error":"#VALUE!"},{"$error":"#VALUE!"},{"$error":"#VALUE!"},{"$error":"#VALUE!"},{"$error":"#VALUE!"},{"$error":"#VALUE!"},{"$error":"#VALUE!"},{"$error":"#VALUE!"},{"$error":"#VALUE!"},{"$f":"IF(SUM(CZ$1262:CZ2697)>0,0,IF(MAX(CS2698:CS$2702)=MAX(CS$1262:CS$2702),0,IF(CQ2698>0.03*CK$2703,0,$C2698/60)))","v":{"$error":"#VALUE!"}},{"$f":"IF(SUM(DA$1262:DA2697)>0,0,IF(MAX(CS2698:CS$2702)=MAX(CS$1262:CS$2702),0,IF(CQ2698>0.01*CK$2703,0,$C2698/60)))","v":{"$error":"#VALUE!"}}]
[null,119.75,7185,0,0,0,0,0,0,0,0,0,{"$error":"#N/A"},{"$error":"#N/A"},{"$error":"#N/A"},{"$error":"#N/A"},{"$error":"#N/A"},{"$error":"#N/A"},{"$f":"IF(SUM(S$1262:S2698)>0,0,\nIF(MAX(L2699:L$2702)=MAX(L$1262:L$2702),0,\nIF(Hydrograph_Source_WQCV=\"USER\",IF(J2699>0.03*D$2703,0,$C2699/60),\nIF(J2699>0.03*J$2703,0,$C2699/60))))","v":0},{"$f":"IF(SUM(T$1262:T2698)>0,0,\nIF(MAX(L2699:L$2702)=MAX(L$1262:L$2702),0,\nIF(Hydrograph_Source_WQCV=\"USER\",IF(J2699>0.01*D$2703,0,$C2699/60),\nIF(J2699>0.01*J$2703,0,$C2699/60))))","v":0},0,0,0,0,{"$error":"#VALUE!"},{"$error":"#VALUE!"},{"$error":"#VALUE!"},{"$error":"#VALUE!"},{"$error":"#VALUE!"},{"$error":"#VALUE!"},{"$error":"#VALUE!"},{"$error":"#VALUE!"},{"$error":"#VALUE!"},{"$error":"#VALUE!"},{"$error":"#VALUE!"},{"$f":"IF(SUM(AJ$1262:AJ2698)>0,0,IF(MAX(AC2699:AC$2702)=MAX(AC$1262:AC$2702),0,IF(AA2699>0.03*U$2703,0,$C2699/60)))","v":{"$error":"#VALUE!"}},{"$f":"IF(SUM(AK$1262:AK2698)>0,0,IF(MAX(AC2699:AC$2702)=MAX(AC$1262:AC$2702),0,IF(AA2699>0.01*U$2703,0,$C2699/60)))","v":{"$error":"#VALUE!"}},0,0,0,0,{"$error":"#VALUE!"},{"$error":"#VALUE!"},{"$error":"#VALUE!"},{"$error":"#VALUE!"},{"$error":"#VALUE!"},{"$error":"#VALUE!"},{"$error":"#VALUE!"},{"$error":"#VALUE!"},{"$error":"#VALUE!"},{"$error":"#VALUE!"},{"$error":"#VALUE!"},{"$f":"IF(SUM(BA$1262:BA2698)>0,0,IF(MAX(AT2699:AT$2702)=MAX(AT$1262:AT$2702),0,IF(AR2699>0.03*AL$2703,0,$C2699/60)))","v":{"$error":"#VALUE!"}},{"$f":"IF(SUM(BB$1262:BB2698)>0,0,IF(MAX(AT2699:AT$2702)=MAX(AT$1262:AT$2702),0,IF(AR2699>0.01*AL$2703,0,$C2699/60)))","v":{"$error":"#VALUE!"}},0,0,0,0,{"$error":"#VALUE!"},{"$error":"#VALUE!"},{"$error":"#VALUE!"},{"$error":"#VALUE!"},{"$error":"#VALUE!"},{"$error":"#VALUE!"},{"$error":"#VALUE!"},{"$error":"#VALUE!"},{"$error":"#VALUE!"},{"$error":"#VALUE!"},{"$error":"#VALUE!"},{"$f":"IF(SUM(BR$1262:BR2698)>0,0,IF(MAX(BK2699:BK$2702)=MAX(BK$1262:BK$2702),0,IF(BI2699>0.03*BC$2703,0,$C2699/60)))","v":{"$error":"#VALUE!"}},{"$f":"IF(SUM(BS$1262:BS2698)>0,0,IF(MAX(BK2699:BK$2702)=MAX(BK$1262:BK$2702),0,IF(BI2699>0.01*BC$2703,0,$C2699/60)))","v":{"$error":"#VALUE!"}},0,0,0,0,{"$error":"#VALUE!"},{"$error":"#VALUE!"},{"$error":"#VALUE!"},{"$error":"#VALUE!"},{"$error":"#VALUE!"},{"$error":"#VALUE!"},{"$error":"#VALUE!"},{"$error":"#VALUE!"},{"$error":"#VALUE!"},{"$error":"#VALUE!"},{"$error":"#VALUE!"},{"$f":"IF(SUM(CI$1262:CI2698)>0,0,IF(MAX(CB2699:CB$2702)=MAX(CB$1262:CB$2702),0,IF(BZ2699>0.03*BT$2703,0,$C2699/60)))","v":{"$error":"#VALUE!"}},{"$f":"IF(SUM(CJ$1262:CJ2698)>0,0,IF(MAX(CB2699:CB$2702)=MAX(CB$1262:CB$2702),0,IF(BZ2699>0.01*BT$2703,0,$C2699/60)))","v":{"$error":"#VALUE!"}},0,0,0,0,{"$error":"#VALUE!"},{"$error":"#VALUE!"},{"$error":"#VALUE!"},{"$error":"#VALUE!"},{"$error":"#VALUE!"},{"$error":"#VALUE!"},{"$error":"#VALUE!"},{"$error":"#VALUE!"},{"$error":"#VALUE!"},{"$error":"#VALUE!"},{"$error":"#VALUE!"},{"$f":"IF(SUM(CZ$1262:CZ2698)>0,0,IF(MAX(CS2699:CS$2702)=MAX(CS$1262:CS$2702),0,IF(CQ2699>0.03*CK$2703,0,$C2699/60)))","v":{"$error":"#VALUE!"}},{"$f":"IF(SUM(DA$1262:DA2698)>0,0,IF(MAX(CS2699:CS$2702)=MAX(CS$1262:CS$2702),0,IF(CQ2699>0.01*CK$2703,0,$C2699/60)))","v":{"$error":"#VALUE!"}}]
[null,119.83333333333333,7190,0,0,0,0,0,0,0,0,0,{"$error":"#N/A"},{"$error":"#N/A"},{"$error":"#N/A"},{"$error":"#N/A"},{"$error":"#N/A"},{"$error":"#N/A"},{"$f":"IF(SUM(S$1262:S2699)>0,0,\nIF(MAX(L2700:L$2702)=MAX(L$1262:L$2702),0,\nIF(Hydrograph_Source_WQCV=\"USER\",IF(J2700>0.03*D$2703,0,$C2700/60),\nIF(J2700>0.03*J$2703,0,$C2700/60))))","v":0},{"$f":"IF(SUM(T$1262:T2699)>0,0,\nIF(MAX(L2700:L$2702)=MAX(L$1262:L$2702),0,\nIF(Hydrograph_Source_WQCV=\"USER\",IF(J2700>0.01*D$2703,0,$C2700/60),\nIF(J2700>0.01*J$2703,0,$C2700/60))))","v":0},0,0,0,0,{"$error":"#VALUE!"},{"$error":"#VALUE!"},{"$error":"#VALUE!"},{"$error":"#VALUE!"},{"$error":"#VALUE!"},{"$error":"#VALUE!"},{"$error":"#VALUE!"},{"$error":"#VALUE!"},{"$error":"#VALUE!"},{"$error":"#VALUE!"},{"$error":"#VALUE!"},{"$f":"IF(SUM(AJ$1262:AJ2699)>0,0,IF(MAX(AC2700:AC$2702)=MAX(AC$1262:AC$2702),0,IF(AA2700>0.03*U$2703,0,$C2700/60)))","v":{"$error":"#VALUE!"}},{"$f":"IF(SUM(AK$1262:AK2699)>0,0,IF(MAX(AC2700:AC$2702)=MAX(AC$1262:AC$2702),0,IF(AA2700>0.01*U$2703,0,$C2700/60)))","v":{"$error":"#VALUE!"}},0,0,0,0,{"$error":"#VALUE!"},{"$error":"#VALUE!"},{"$error":"#VALUE!"},{"$error":"#VALUE!"},{"$error":"#VALUE!"},{"$error":"#VALUE!"},{"$error":"#VALUE!"},{"$error":"#VALUE!"},{"$error":"#VALUE!"},{"$error":"#VALUE!"},{"$error":"#VALUE!"},{"$f":"IF(SUM(BA$1262:BA2699)>0,0,IF(MAX(AT2700:AT$2702)=MAX(AT$1262:AT$2702),0,IF(AR2700>0.03*AL$2703,0,$C2700/60)))","v":{"$error":"#VALUE!"}},{"$f":"IF(SUM(BB$1262:BB2699)>0,0,IF(MAX(AT2700:AT$2702)=MAX(AT$1262:AT$2702),0,IF(AR2700>0.01*AL$2703,0,$C2700/60)))","v":{"$error":"#VALUE!"}},0,0,0,0,{"$error":"#VALUE!"},{"$error":"#VALUE!"},{"$error":"#VALUE!"},{"$error":"#VALUE!"},{"$error":"#VALUE!"},{"$error":"#VALUE!"},{"$error":"#VALUE!"},{"$error":"#VALUE!"},{"$error":"#VALUE!"},{"$error":"#VALUE!"},{"$error":"#VALUE!"},{"$f":"IF(SUM(BR$1262:BR2699)>0,0,IF(MAX(BK2700:BK$2702)=MAX(BK$1262:BK$2702),0,IF(BI2700>0.03*BC$2703,0,$C2700/60)))","v":{"$error":"#VALUE!"}},{"$f":"IF(SUM(BS$1262:BS2699)>0,0,IF(MAX(BK2700:BK$2702)=MAX(BK$1262:BK$2702),0,IF(BI2700>0.01*BC$2703,0,$C2700/60)))","v":{"$error":"#VALUE!"}},0,0,0,0,{"$error":"#VALUE!"},{"$error":"#VALUE!"},{"$error":"#VALUE!"},{"$error":"#VALUE!"},{"$error":"#VALUE!"},{"$error":"#VALUE!"},{"$error":"#VALUE!"},{"$error":"#VALUE!"},{"$error":"#VALUE!"},{"$error":"#VALUE!"},{"$error":"#VALUE!"},{"$f":"IF(SUM(CI$1262:CI2699)>0,0,IF(MAX(CB2700:CB$2702)=MAX(CB$1262:CB$2702),0,IF(BZ2700>0.03*BT$2703,0,$C2700/60)))","v":{"$error":"#VALUE!"}},{"$f":"IF(SUM(CJ$1262:CJ2699)>0,0,IF(MAX(CB2700:CB$2702)=MAX(CB$1262:CB$2702),0,IF(BZ2700>0.01*BT$2703,0,$C2700/60)))","v":{"$error":"#VALUE!"}},0,0,0,0,{"$error":"#VALUE!"},{"$error":"#VALUE!"},{"$error":"#VALUE!"},{"$error":"#VALUE!"},{"$error":"#VALUE!"},{"$error":"#VALUE!"},{"$error":"#VALUE!"},{"$error":"#VALUE!"},{"$error":"#VALUE!"},{"$error":"#VALUE!"},{"$error":"#VALUE!"},{"$f":"IF(SUM(CZ$1262:CZ2699)>0,0,IF(MAX(CS2700:CS$2702)=MAX(CS$1262:CS$2702),0,IF(CQ2700>0.03*CK$2703,0,$C2700/60)))","v":{"$error":"#VALUE!"}},{"$f":"IF(SUM(DA$1262:DA2699)>0,0,IF(MAX(CS2700:CS$2702)=MAX(CS$1262:CS$2702),0,IF(CQ2700>0.01*CK$2703,0,$C2700/60)))","v":{"$error":"#VALUE!"}}]
[null,119.91666666666667,7195,0,0,0,0,0,0,0,0,0,{"$error":"#N/A"},{"$error":"#N/A"},{"$error":"#N/A"},{"$error":"#N/A"},{"$error":"#N/A"},{"$error":"#N/A"},{"$f":"IF(SUM(S$1262:S2700)>0,0,\nIF(MAX(L2701:L$2702)=MAX(L$1262:L$2702),0,\nIF(Hydrograph_Source_WQCV=\"USER\",IF(J2701>0.03*D$2703,0,$C2701/60),\nIF(J2701>0.03*J$2703,0,$C2701/60))))","v":0},{"$f":"IF(SUM(T$1262:T2700)>0,0,\nIF(MAX(L2701:L$2702)=MAX(L$1262:L$2702),0,\nIF(Hydrograph_Source_WQCV=\"USER\",IF(J2701>0.01*D$2703,0,$C2701/60),\nIF(J2701>0.01*J$2703,0,$C2701/60))))","v":0},0,0,0,0,{"$error":"#VALUE!"},{"$error":"#VALUE!"},{"$error":"#VALUE!"},{"$error":"#VALUE!"},{"$error":"#VALUE!"},{"$error":"#VALUE!"},{"$error":"#VALUE!"},{"$error":"#VALUE!"},{"$error":"#VALUE!"},{"$error":"#VALUE!"},{"$error":"#VALUE!"},{"$f":"IF(SUM(AJ$1262:AJ2700)>0,0,IF(MAX(AC2701:AC$2702)=MAX(AC$1262:AC$2702),0,IF(AA2701>0.03*U$2703,0,$C2701/60)))","v":{"$error":"#VALUE!"}},{"$f":"IF(SUM(AK$1262:AK2700)>0,0,IF(MAX(AC2701:AC$2702)=MAX(AC$1262:AC$2702),0,IF(AA2701>0.01*U$2703,0,$C2701/60)))","v":{"$error":"#VALUE!"}},0,0,0,0,{"$error":"#VALUE!"},{"$error":"#VALUE!"},{"$error":"#VALUE!"},{"$error":"#VALUE!"},{"$error":"#VALUE!"},{"$error":"#VALUE!"},{"$error":"#VALUE!"},{"$error":"#VALUE!"},{"$error":"#VALUE!"},{"$error":"#VALUE!"},{"$error":"#VALUE!"},{"$f":"IF(SUM(BA$1262:BA2700)>0,0,IF(MAX(AT2701:AT$2702)=MAX(AT$1262:AT$2702),0,IF(AR2701>0.03*AL$2703,0,$C2701/60)))","v":{"$error":"#VALUE!"}},{"$f":"IF(SUM(BB$1262:BB2700)>0,0,IF(MAX(AT2701:AT$2702)=MAX(AT$1262:AT$2702),0,IF(AR2701>0.01*AL$2703,0,$C2701/60)))","v":{"$error":"#VALUE!"}},0,0,0,0,{"$error":"#VALUE!"},{"$error":"#VALUE!"},{"$error":"#VALUE!"},{"$error":"#VALUE!"},{"$error":"#VALUE!"},{"$error":"#VALUE!"},{"$error":"#VALUE!"},{"$error":"#VALUE!"},{"$error":"#VALUE!"},{"$error":"#VALUE!"},{"$error":"#VALUE!"},{"$f":"IF(SUM(BR$1262:BR2700)>0,0,IF(MAX(BK2701:BK$2702)=MAX(BK$1262:BK$2702),0,IF(BI2701>0.03*BC$2703,0,$C2701/60)))","v":{"$error":"#VALUE!"}},{"$f":"IF(SUM(BS$1262:BS2700)>0,0,IF(MAX(BK2701:BK$2702)=MAX(BK$1262:BK$2702),0,IF(BI2701>0.01*BC$2703,0,$C2701/60)))","v":{"$error":"#VALUE!"}},0,0,0,0,{"$error":"#VALUE!"},{"$error":"#VALUE!"},{"$error":"#VALUE!"},{"$error":"#VALUE!"},{"$error":"#VALUE!"},{"$error":"#VALUE!"},{"$error":"#VALUE!"},{"$error":"#VALUE!"},{"$error":"#VALUE!"},{"$error":"#VALUE!"},{"$error":"#VALUE!"},{"$f":"IF(SUM(CI$1262:CI2700)>0,0,IF(MAX(CB2701:CB$2702)=MAX(CB$1262:CB$2702),0,IF(BZ2701>0.03*BT$2703,0,$C2701/60)))","v":{"$error":"#VALUE!"}},{"$f":"IF(SUM(CJ$1262:CJ2700)>0,0,IF(MAX(CB2701:CB$2702)=MAX(CB$1262:CB$2702),0,IF(BZ2701>0.01*BT$2703,0,$C2701/60)))","v":{"$error":"#VALUE!"}},0,0,0,0,{"$error":"#VALUE!"},{"$error":"#VALUE!"},{"$error":"#VALUE!"},{"$error":"#VALUE!"},{"$error":"#VALUE!"},{"$error":"#VALUE!"},{"$error":"#VALUE!"},{"$error":"#VALUE!"},{"$error":"#VALUE!"},{"$error":"#VALUE!"},{"$error":"#VALUE!"},{"$f":"IF(SUM(CZ$1262:CZ2700)>0,0,IF(MAX(CS2701:CS$2702)=MAX(CS$1262:CS$2702),0,IF(CQ2701>0.03*CK$2703,0,$C2701/60)))","v":{"$error":"#VALUE!"}},{"$f":"IF(SUM(DA$1262:DA2700)>0,0,IF(MAX(CS2701:CS$2702)=MAX(CS$1262:CS$2702),0,IF(CQ2701>0.01*CK$2703,0,$C2701/60)))","v":{"$error":"#VALUE!"}}]
[null,120,7200,0,0,0,0,0,0,0,0,0,{"$error":"#N/A"},{"$error":"#N/A"},{"$error":"#N/A"},{"$error":"#N/A"},{"$error":"#N/A"},{"$error":"#N/A"},{"$f":"IF(SUM(S$1262:S2701)>0,0,\nIF(MAX(L2702:L$2702)=MAX(L$1262:L$2702),0,\nIF(Hydrograph_Source_WQCV=\"USER\",IF(J2702>0.03*D$2703,0,$C2702/60),\nIF(J2702>0.03*J$2703,0,$C2702/60))))","v":0},{"$f":"IF(SUM(T$1262:T2701)>0,0,\nIF(MAX(L2702:L$2702)=MAX(L$1262:L$2702),0,\nIF(Hydrograph_Source_WQCV=\"USER\",IF(J2702>0.01*D$2703,0,$C2702/60),\nIF(J2702>0.01*J$2703,0,$C2702/60))))","v":0},0,0,0,0,{"$error":"#VALUE!"},{"$error":"#VALUE!"},{"$error":"#VALUE!"},{"$error":"#VALUE!"},{"$error":"#VALUE!"},{"$error":"#VALUE!"},{"$error":"#VALUE!"},{"$error":"#VALUE!"},{"$error":"#VALUE!"},{"$error":"#VALUE!"},{"$error":"#VALUE!"},{"$f":"IF(SUM(AJ$1262:AJ2701)>0,0,IF(MAX(AC2702:AC$2702)=MAX(AC$1262:AC$2702),0,IF(AA2702>0.03*U$2703,0,$C2702/60)))","v":{"$error":"#VALUE!"}},{"$f":"IF(SUM(AK$1262:AK2701)>0,0,IF(MAX(AC2702:AC$2702)=MAX(AC$1262:AC$2702),0,IF(AA2702>0.01*U$2703,0,$C2702/60)))","v":{"$error":"#VALUE!"}},0,0,0,0,{"$error":"#VALUE!"},{"$error":"#VALUE!"},{"$error":"#VALUE!"},{"$error":"#VALUE!"},{"$error":"#VALUE!"},{"$error":"#VALUE!"},{"$error":"#VALUE!"},{"$error":"#VALUE!"},{"$error":"#VALUE!"},{"$error":"#VALUE!"},{"$error":"#VALUE!"},{"$f":"IF(SUM(BA$1262:BA2701)>0,0,IF(MAX(AT2702:AT$2702)=MAX(AT$1262:AT$2702),0,IF(AR2702>0.03*AL$2703,0,$C2702/60)))","v":{"$error":"#VALUE!"}},{"$f":"IF(SUM(BB$1262:BB2701)>0,0,IF(MAX(AT2702:AT$2702)=MAX(AT$1262:AT$2702),0,IF(AR2702>0.01*AL$2703,0,$C2702/60)))","v":{"$error":"#VALUE!"}},0,0,0,0,{"$error":"#VALUE!"},{"$error":"#VALUE!"},{"$error":"#VALUE!"},{"$error":"#VALUE!"},{"$error":"#VALUE!"},{"$error":"#VALUE!"},{"$error":"#VALUE!"},{"$error":"#VALUE!"},{"$error":"#VALUE!"},{"$error":"#VALUE!"},{"$error":"#VALUE!"},{"$f":"IF(SUM(BR$1262:BR2701)>0,0,IF(MAX(BK2702:BK$2702)=MAX(BK$1262:BK$2702),0,IF(BI2702>0.03*BC$2703,0,$C2702/60)))","v":{"$error":"#VALUE!"}},{"$f":"IF(SUM(BS$1262:BS2701)>0,0,IF(MAX(BK2702:BK$2702)=MAX(BK$1262:BK$2702),0,IF(BI2702>0.01*BC$2703,0,$C2702/60)))","v":{"$error":"#VALUE!"}},0,0,0,0,{"$error":"#VALUE!"},{"$error":"#VALUE!"},{"$error":"#VALUE!"},{"$error":"#VALUE!"},{"$error":"#VALUE!"},{"$error":"#VALUE!"},{"$error":"#VALUE!"},{"$error":"#VALUE!"},{"$error":"#VALUE!"},{"$error":"#VALUE!"},{"$error":"#VALUE!"},{"$f":"IF(SUM(CI$1262:CI2701)>0,0,IF(MAX(CB2702:CB$2702)=MAX(CB$1262:CB$2702),0,IF(BZ2702>0.03*BT$2703,0,$C2702/60)))","v":{"$error":"#VALUE!"}},{"$f":"IF(SUM(CJ$1262:CJ2701)>0,0,IF(MAX(CB2702:CB$2702)=MAX(CB$1262:CB$2702),0,IF(BZ2702>0.01*BT$2703,0,$C2702/60)))","v":{"$error":"#VALUE!"}},0,0,0,0,{"$error":"#VALUE!"},{"$error":"#VALUE!"},{"$error":"#VALUE!"},{"$error":"#VALUE!"},{"$error":"#VALUE!"},{"$error":"#VALUE!"},{"$error":"#VALUE!"},{"$error":"#VALUE!"},{"$error":"#VALUE!"},{"$error":"#VALUE!"},{"$error":"#VALUE!"},{"$f":"IF(SUM(CZ$1262:CZ2701)>0,0,IF(MAX(CS2702:CS$2702)=MAX(CS$1262:CS$2702),0,IF(CQ2702>0.03*CK$2703,0,$C2702/60)))","v":{"$error":"#VALUE!"}},{"$f":"IF(SUM(DA$1262:DA2701)>0,0,IF(MAX(CS2702:CS$2702)=MAX(CS$1262:CS$2702),0,IF(CQ2702>0.01*CK$2703,0,$C2702/60)))","v":{"$error":"#VALUE!"}}]
[null,null,null,{"$f":"SUM(D1262:D2702)*($C$1260*60)/43560","v":0},null,"Maximum Values:",{"$f":"MAX(G1262:G2207)","v":0},null,{"$f":"MAX(I1262:I2207)","v":0},{"$f":"MAX(J1262:J2207)","v":0},null,{"$f":"MAX(L1262:L2702)","v":0},null,null,null,null,null,null,null,null,{"$f":"SUM(U1262:U2702)*($C$1260*60)/43560","v":0},null,"Maximum Values:",{"$f":"MAX(X1262:X2207)","v":0},null,{"$f":"MAX(Z1262:Z2207)","v":{"$error":"#VALUE!"}},{"$f":"MAX(AA1262:AA2207)","v":{"$error":"#VALUE!"}},null,{"$f":"MAX(AC1262:AC2702)","v":{"$error":"#VALUE!"}},null,null,null,null,null,null,null,null,{"$f":"SUM(AL1262:AL2702)*($C$1260*60)/43560","v":0},null,"Maximum Values:",{"$f":"MAX(AO1262:AO2207)","v":0},null,{"$f":"MAX(AQ1262:AQ2207)","v":{"$error":"#VALUE!"}},{"$f":"MAX(AR1262:AR2207)","v":{"$error":"#VALUE!"}},null,{"$f":"MAX(AT1262:AT2702)","v":{"$error":"#VALUE!"}},null,null,null,null,null,null,null,null,{"$f":"SUM(BC1262:BC2702)*($C$1260*60)/43560","v":0},null,"Maximum Values:",{"$f":"MAX(BF1262:BF2207)","v":0},null,{"$f":"MAX(BH1262:BH2207)","v":{"$error":"#VALUE!"}},{"$f":"MAX(BI1262:BI2207)","v":{"$error":"#VALUE!"}},null,{"$f":"MAX(BK1262:BK2702)","v":{"$error":"#VALUE!"}},null,null,null,null,null,null,null,null,{"$f":"SUM(BT1262:BT2702)*($C$1260*60)/43560","v":0},null,"Maximum Values:",{"$f":"MAX(BW1262:BW2207)","v":0},null,{"$f":"MAX(BY1262:BY2207)","v":{"$error":"#VALUE!"}},{"$f":"MAX(BZ1262:BZ2207)","v":{"$error":"#VALUE!"}},null,{"$f":"MAX(CB1262:CB2702)","v":{"$error":"#VALUE!"}},null,null,null,null,null,null,null,null,{"$f":"SUM(CK1262:CK2702)*($C$1260*60)/43560","v":0},null,"Maximum Values:",{"$f":"MAX(CN1262:CN2207)","v":0},null,{"$f":"MAX(CP1262:CP2207)","v":{"$error":"#VALUE!"}},{"$f":"MAX(CQ1262:CQ2207)","v":{"$error":"#VALUE!"}},null,{"$f":"MAX(CS1262:CS2702)","v":{"$error":"#VALUE!"}}]
[]
[]
["TIME [min]","WQCV [cfs]","2 Year [cfs]","5 Year [cfs]","10 Year [cfs]","50 Year [cfs]","100 Year [cfs]"]
[0,{"$f":"IF(WQCV=\"\",\"\",0)","v":""},{"$f":"IF(CUHP_2yr_Volume=\"\",\"\",0)","v":""},{"$f":"IF(CUHP_5yr_Volume=\"\",\"\",0)","v":""},{"$f":"IF(CUHP_10yr_Volume=\"\",\"\",0)","v":""},{"$f":"IF(CUHP_50yr_Volume=\"\",\"\",0)","v":""},{"$f":"IF(CUHP_100yr_Volume=\"\",\"\",0)","v":""}]
[{"$f":"1*Time_Interval","v":5},""]
[{"$f":"2*Time_Interval","v":10},""]
[{"$f":"3*Time_Interval","v":15},""]
[{"$f":"4*Time_Interval","v":20},""]
[{"$f":"5*Time_Interval","v":25},""]
[{"$f":"6*Time_Interval","v":30},""]
[{"$f":"7*Time_Interval","v":35},""]
[{"$f":"8*Time_Interval","v":40},""]
[{"$f":"9*Time_Interval","v":45},""]
[{"$f":"10*Time_Interval","v":50},""]
[{"$f":"11*Time_Interval","v":55},""]
[{"$f":"12*Time_Interval","v":60},""]
[{"$f":"13*Time_Interval","v":65},""]
[{"$f":"14*Time_Interval","v":70},""]
[{"$f":"15*Time_Interval","v":75},""]
[{"$f":"16*Time_Interval","v":80},""]
[{"$f":"17*Time_Interval","v":85},""]
[{"$f":"18*Time_Interval","v":90},""]
[{"$f":"19*Time_Interval","v":95},""]
[{"$f":"20*Time_Interval","v":100},""]
[{"$f":"21*Time_Interval","v":105},""]
[{"$f":"22*Time_Interval","v":110},""]
[{"$f":"23*Time_Interval","v":115},""]
[{"$f":"24*Time_Interval","v":120},""]
[{"$f":"25*Time_Interval","v":125},""]
[{"$f":"26*Time_Interval","v":130},""]
[{"$f":"27*Time_Interval","v":135},""]
[{"$f":"28*Time_Interval","v":140},""]
[{"$f":"29*Time_Interval","v":145},""]
[{"$f":"30*Time_Interval","v":150},""]
[{"$f":"31*Time_Interval","v":155},""]
[{"$f":"32*Time_Interval","v":160},{"$f":"IF(WQCV=\"\",\"\",0)","v":""}]
[{"$f":"33*Time_Interval","v":165},""]
[{"$f":"34*Time_Interval","v":170},""]
[{"$f":"35*Time_Interval","v":175},""]
[{"$f":"36*Time_Interval","v":180},""]
[{"$f":"37*Time_Interval","v":185},""]
[{"$f":"38*Time_Interval","v":190},""]
[{"$f":"39*Time_Interval","v":195},""]
[{"$f":"40*Time_Interval","v":200},""]
[{"$f":"41*Time_Interval","v":205},""]
[{"$f":"42*Time_Interval","v":210},""]
[{"$f":"43*Time_Interval","v":215},""]
[{"$f":"44*Time_Interval","v":220},""]
[{"$f":"45*Time_Interval","v":225},""]
[{"$f":"46*Time_Interval","v":230},""]
[{"$f":"47*Time_Interval","v":235},""]
[{"$f":"48*Time_Interval","v":240},""]
[{"$f":"49*Time_Interval","v":245},""]
[{"$f":"50*Time_Interval","v":250},""]
[{"$f":"51*Time_Interval","v":255},""]
[{"$f":"52*Time_Interval","v":260},""]
[{"$f":"53*Time_Interval","v":265},""]
[{"$f":"54*Time_Interval","v":270},""]
[{"$f":"55*Time_Interval","v":275},""]
[{"$f":"56*Time_Interval","v":280},""]
[{"$f":"57*Time_Interval","v":285},""]
[{"$f":"58*Time_Interval","v":290},""]
[{"$f":"59*Time_Interval","v":295},""]
[{"$f":"60*Time_Interval","v":300},""]
[{"$f":"61*Time_Interval","v":305},""]
[{"$f":"62*Time_Interval","v":310},""]
[{"$f":"63*Time_Interval","v":315},""]
[{"$f":"64*Time_Interval","v":320},{"$f":"IF(WQCV=\"\",\"\",0)","v":""}]
[{"$f":"65*Time_Interval","v":325},""]
[{"$f":"66*Time_Interval","v":330},""]
[{"$f":"67*Time_Interval","v":335},""]
[{"$f":"68*Time_Interval","v":340},""]
[{"$f":"69*Time_Interval","v":345},""]
[{"$f":"70*Time_Interval","v":350},""]
[{"$f":"71*Time_Interval","v":355},""]
[{"$f":"72*Time_Interval","v":360},""]
[null,{"$f":"SUM(B2707:B2779)*300/43560","v":0},0,0,0,0,0]

{"sheet":"CUHP_Calcs","index":1,"n_rows":76,"n_cols":130,"rows_kept":76,"cut":false,"hidden":true,"merged":[[6,129,7,129],[4,128,5,129],[5,123,7,123],[5,124,6,125],[5,126,7,126],[6,128,7,128],[4,123,4,126],[5,100,6,100],[5,101,5,107],[15,115,15,117],[15,118,15,120],[1,28,1,30],[1,31,1,32],[1,33,1,36],[2,28,3,28],[2,29,3,29],[2,30,3,30],[2,31,3,31],[2,32,3,32],[2,33,3,33],[2,34,3,34],[2,35,3,35],[2,36,3,36],[2,27,3,27],[3,93,3,94],[3,95,3,96],[3,97,3,98],[4,100,4,107],[3,91,3,92],[3,81,3,82],[2,8,2,9],[2,10,2,12],[2,14,2,15],[2,16,2,17],[2,19,2,20],[1,13,1,17],[1,19,1,26],[29,112,29,120],[30,112,30,114],[30,115,30,117],[30,118,30,120],[4,112,4,115],[14,112,14,120],[15,112,15,114],[3,83,3,84],[3,85,3,86],[3,87,3,88],[3,89,3,90],[2,21,2,22],[2,23,2,24],[2,25,2,26]]}
["Colorado Urban Hydrograph Procedure (CUHP-Lite)",null,null,null,null,null,null,null,null,null,null,null,null,null,null,null,null,null,null,null,null,null,null,null,null,null,null,null,null,null,null,null,null,null,null,null,null,null,null,"CUHP-Lite Printouts for Unit Hydrographs",null,null,null,null,null,null,null,null,null,null,null,null,null,null,null,null,null,null,null,null,"CUHP-Lite Printouts for Storm Hydrographs",null,null,null,null,null,null,null,null,null,null,null,null,null,null,null,null,null,null,null,null,"Raingages",null,null,null,null,null,null,null,null,null,null,null,null,null,null,null,null,null,null,null,null,null,null,null,null,null,null,null,null,null,null,"CUHP Unit Hydrograph Shaping Parameters",null,null,null,null,null,null,null,null,null,null,"CUHP Default Infiltration and Depression Storage Parameters"]
["Worksheet Protected",null,null,null,null,null,null,null,null,null,null,null,null,"DCIA Level and Fractions",null,null,null,null,null,"Unit Hydrograph Parameters",null,null,null,null,null,null,null,null,"Unit Hydrograph Results",null,null,"Excess Precip.",null,"Storm Hydrograph"]
["Subcatchments",null,null,null,null,null,null,null,"Depression Storage",null,"Horton's Infiltration Parameters",null,null,"DCIA","DCIF (Decimal)",null,"RPF (Decimal)",null,"Eff. Imp","CT",null,"Cp",null,"Width of UH (min)",null,"Fraction of Width Before Peak (Decimal)",null,"Comment","Time to Peak\n(min)","Peak\n(cfs)","Volume\n(c.f.)","Excess\n(inches)","Excess\n(c.f.)","Time to Peak\n(min)","Peak Flow\n(cfs)","Total Volume\n(c.f.)","Runoff per Unit Area\n(cfs/acre)"]
["Subcatchment\nName","EPA SWMM\nTarget Node","Raingage","Area\n(mi2)","Length to \nCentroid\n(mi)","Length\n(mi)","Slope\n(ft/ft)","Percent Imperviousness","Pervious\nDS\n(in)","Impervious\nDS\n(in)","Initial\nInfiltration\n(in/hr)","Decay\nCoeff.\n(1/sec)","Final\nInfiltration\n(in/hr)","Level 0, 1, or 2","Override","Used","Override","Used","(Percent)","Override","Used","Override","Used","Used\nAt 50%","Used\nAt 75%","Used\nAt 50%","Used\nAt 75%",null,null,null,null,null,null,null,null,null,null,null,null,"Time\n(min)",{"$f":"A5","v":"Pre-WQCV"},{"$f":"A6","v":"Pre-EURV"},{"$f":"A7","v":"Pre-2yr"},{"$f":"A8","v":"Pre-5yr"},{"$f":"A9","v":"Pre-10yr"},{"$f":"A10","v":"Pre-25yr"},{"$f":"A11","v":"Pre-50yr"},{"$f":"A12","v":"Pre-100yr"},{"$f":"A13","v":"Pre-500yr"},{"$f":"A14","v":"Post-WQCV"},{"$f":"A15","v":"Post-EURV"},{"$f":"A16","v":"Post-2yr"},{"$f":"A17","v":"Post-5yr"},{"$f":"A18","v":"Post-10yr"},{"$f":"A19","v":"Post-25yr"},{"$f":"A20","v":"Post-50yr"},{"$f":"A21","v":"Post-100yr"},{"$f":"A22","v":"Post-500yr"},null,null,"Time\n(min)","Pre-WQCV",{"$f":"AP4","v":"Pre-EURV"},"Pre-2yr","Pre-5yr","Pre-10yr","Pre-25yr","Pre-50yr","Pre-100yr","Pre-500yr","Post-WQCV","Post-EURV","Post-2yr","Post-5yr","Post-10yr","Post-25yr","Post-50yr","Post-100yr","Post-500yr",null,null,"WQCV",null,"EURV",null,"2yr",null,"5yr",null,"10yr",null,"25yr",null,"50yr",null,"100yr",null,"500yr"]
["Pre-WQCV",null,"WQCV",{"$f":"IF(Watershed_Area=\"\",\"\",Watershed_Area/640)","v":""},{"$f":"IF(Watershed_CentroidLength=\"\",\"\",Watershed_CentroidLength/5280)","v":""},{"$f":"IF(Watershed_Length=\"\",\"\",Watershed_Length/5280)","v":""},{"$f":"IF(Watershed_Slope=\"\",\"\",Watershed_Slope)","v":""},{"$f":"IF(Watershed_Imp=\"\",\"\",2)","v":""},{"$f":"DS_perv","v":0.35},{"$f":"DS_imp","v":0.1},{"$f":"IF(OR(Pct_A=\"\",Pct_B=\"\",Pct_CD=\"\"),\"\",Pct_A*(Fi_A)+Pct_B*(Fi_B)+Pct_CD*(Fi_CD))","v":""},{"$f":"IF(OR(Pct_A=\"\",Pct_B=\"\",Pct_CD=\"\"),\"\",Pct_A*(decay_A)+Pct_B*(decay_B)+Pct_CD*(decay_CD))","v":""},{"$f":"IF(OR(Pct_A=\"\",Pct_B=\"\",Pct_CD=\"\"),\"\",Pct_A*(Fo_A)+Pct_B*(Fo_B)+Pct_CD*(Fo_CD))","v":""},null,null,null,null,null,null,null,null,null,null,null,null,null,null,null,null,null,null,null,null,null,null,null,null,null,null,5,null,null,null,null,null,null,null,null,null,null,null,null,null,null,null,null,null,null,null,null,5,null,null,null,null,null,null,null,null,null,null,null,null,null,null,null,null,null,null,null,null,"1hr Depth",0.6,"1hr Depth",1.07,"1hr Depth",{"$f":"P_2yr","v":0.82499999999999996},"1hr Depth",{"$f":"P_5yr","v":1.0900000000000001},"1hr Depth",{"$f":"P_10yr","v":1.33},"1hr Depth",1.5,"1hr Depth",{"$f":"P_50yr","v":1.99},"1hr Depth",{"$f":"P_100yr","v":2.31},"1hr Depth",3,null,"Design Storm Distributions of 1-Hour NOAA Atlas Depths (Table 4-2)",null,null,null,null,null,null,null,null,null,null,null,"CT/CP Lookups",null,null,null,null,null,null,null,null,null,null,"Default Horton's Equation Parameters",null,null,null,null,"Default\nDepression Storage"]
["Pre-EURV",null,"EURV",{"$f":"IF(D$5=\"\",\"\",D$5)","v":""},{"$f":"IF(E$5=\"\",\"\",E$5)","v":""},"","",{"$f":"IF(H$14=\"\",\"\",2)","v":""},{"$f":"IF(I$5=\"\",\"\",I$5)","v":0.35},0.1,"","","",null,null,null,null,null,null,null,null,null,null,null,null,null,null,null,null,null,null,null,null,null,null,null,null,null,null,10,null,null,null,null,null,null,null,null,null,null,null,null,null,null,null,null,null,null,null,null,10,null,null,null,null,null,null,null,null,null,null,null,null,null,null,null,null,null,null,null,null,"Return Period",2,"Return Period",5,"Return Period",2,"Return Period",5,"Return Period",10,"Return Period",25,"Return Period",50,"Return Period",100,"Return Period",500,null,"Time","Return Period",null,null,null,null,null,null,null,null,null,null,"CTLookup","a","b","c",null,null,null,null,null,null,null,"NRCS Hydrologic Group","Infiltration\n(inches per hour)",null,"Decay Coefficient (1/sec)"]
["Pre-2yr",null,"2yr",{"$f":"IF(D$5=\"\",\"\",D$5)","v":""},"","","","",0.35,0.1,"","","",null,null,null,null,null,null,null,null,null,null,null,null,null,null,null,null,null,null,null,null,null,null,null,null,null,null,15,null,null,null,null,null,null,null,null,null,null,null,null,null,null,null,null,null,null,null,null,15,null,null,null,null,null,null,null,null,null,null,null,null,null,null,null,null,null,null,null,null,"Time (min)","Depth (in)","Time (min)","Depth (in)","Time (min)","Depth (in)","Time (min)","Depth (in)","Time (min)","Depth (in)","Time (min)","Depth (in)","Time (min)","Depth (in)","Time (min)","Depth (in)","Time (min)","Depth (in)","row",null,2,5,10,25,50,100,500,null,null,null,null,0,0,-3.7100000000000002E-3,0.16300000000000001,null,null,null,null,null,null,null,null,null,null,null,null,"Impervious (in)","Pervious (in)"]
["Pre-5yr",null,"5yr","","","","","",0.35,0.1,"","","",null,null,null,null,null,null,null,null,null,null,null,null,null,null,null,null,null,null,null,null,null,null,null,null,null,null,20,null,null,null,null,null,null,null,null,null,null,null,null,null,null,null,null,null,null,null,null,20,null,null,null,null,null,null,null,null,null,null,null,null,null,null,null,null,null,null,null,null,"00:05:00",{"$f":"CE$5*HLOOKUP(CE$6,Table4_2,$CV8,FALSE)","v":1.2E-2},"00:05:00",{"$f":"CG$5*HLOOKUP(CG$6,Table4_2,$CV8,FALSE)","v":2.1400000000000002E-2},"00:05:00",{"$f":"CI$5*HLOOKUP(CI$6,Table4_2,$CV8,FALSE)","v":1.6500000000000001E-2},"00:05:00",{"$f":"CK$5*HLOOKUP(CK$6,Table4_2,$CV8,FALSE)","v":2.1800000000000003E-2},"00:05:00",{"$f":"CM$5*HLOOKUP(CM$6,Table4_2,$CV8,FALSE)","v":2.6600000000000002E-2},"00:05:00",{"$f":"CO$5*HLOOKUP(CO$6,Table4_2,$CV8,FALSE)","v":1.95E-2},"00:05:00",{"$f":"CQ$5*HLOOKUP(CQ$6,Table4_2,$CV8,FALSE)","v":2.5869999999999997E-2},"00:05:00",{"$f":"CS$5*HLOOKUP(CS$6,Table4_2,$CV8,FALSE)","v":2.3100000000000002E-2},"00:05:00",{"$f":"CU$5*HLOOKUP(CU$6,Table4_2,$CV8,FALSE)","v":0.03},2,"00:05:00",0.02,0.02,0.02,1.2999999999999999E-2,1.2999999999999999E-2,0.01,0.01,null,null,null,null,10,2.3E-5,-2.2399999999999998E-3,0.14599999999999999,null,null,null,null,null,null,null,null,"Initial - fi","Final - fo"]
["Pre-10yr",null,"10yr","","","","","",0.35,0.1,"","","",null,null,null,null,null,null,null,null,null,null,null,null,null,null,null,null,null,null,null,null,null,null,null,null,null,null,25,null,null,null,null,null,null,null,null,null,null,null,null,null,null,null,null,null,null,null,null,25,null,null,null,null,null,null,null,null,null,null,null,null,null,null,null,null,null,null,null,null,"00:10:00",2.4E-2,"00:10:00",3.959E-2,"00:10:00",3.3000000000000002E-2,"00:10:00",4.0329999999999998E-2,"00:10:00",4.9209999999999997E-2,"00:10:00",5.2500000000000005E-2,"00:10:00",6.9650000000000004E-2,"00:10:00",6.93E-2,"00:10:00",0.09,3,"00:10:00",0.04,3.6999999999999998E-2,3.6999999999999998E-2,3.5000000000000003E-2,3.5000000000000003E-2,0.03,0.03,null,null,null,null,40,3.3000000000000002E-6,-8.0099999999999995E-4,0.12,null,null,null,null,null,null,null,"A",5,1,6.9999999999999999E-4,null,0.1,0.35]
["Pre-25yr",null,"25yr","","","","","",0.35,0.1,"","","",null,null,null,null,null,null,null,null,null,null,null,null,null,null,null,null,null,null,null,null,null,null,null,null,null,null,30,null,null,null,null,null,null,null,null,null,null,null,null,null,null,null,null,null,null,null,null,30,null,null,null,null,null,null,null,null,null,null,null,null,null,null,null,null,null,null,null,null,"00:15:00",5.04E-2,"00:15:00",9.3089999999999992E-2,"00:15:00",6.93E-2,"00:15:00",9.4829999999999998E-2,"00:15:00",0.10906,"00:15:00",7.5000000000000011E-2,"00:15:00",9.9500000000000005E-2,"00:15:00",0.10626000000000001,"00:15:00",0.13800000000000001,4,"00:15:00",8.4000000000000005E-2,8.6999999999999994E-2,8.2000000000000003E-2,0.05,0.05,4.5999999999999999E-2,4.5999999999999999E-2,null,null,null,null,"NEW 9-6-16",null,null,null,"NEW 9-6-16",null,null,null,null,null,null,"B",4.5,0.6,1.8E-3]
["Pre-50yr",null,"50yr","","","","","",0.35,0.1,"","","",null,null,null,null,null,null,null,null,null,null,null,null,null,null,null,null,null,null,null,null,null,null,null,null,null,null,35,null,null,null,null,null,null,null,null,null,null,null,null,null,null,null,null,null,null,null,null,35,null,null,null,null,null,null,null,null,null,null,null,null,null,null,null,null,null,null,null,null,"00:20:00",9.6000000000000002E-2,"00:20:00",0.16370999999999999,"00:20:00",0.13200000000000001,"00:20:00",0.16677,"00:20:00",0.19950000000000001,"00:20:00",0.12,"00:20:00",0.15920000000000001,"00:20:00",0.18480000000000002,"00:20:00",0.24,5,"00:20:00",0.16,0.153,0.15,0.08,0.08,0.08,0.08,null,null,null,null,"P Lookup","a","b","c","Cp_Lookup","a","b",null,null,null,null,"C/D",3,0.5,1.8E-3]
["Pre-100yr",null,"100yr","","","","","",0.35,0.1,"","","",null,null,null,null,null,null,null,null,null,null,null,null,null,null,null,null,null,null,null,null,null,null,null,null,null,null,40,null,null,null,null,null,null,null,null,null,null,null,null,null,null,null,null,null,null,null,null,40,null,null,null,null,null,null,null,null,null,null,null,null,null,null,null,null,null,null,null,null,"00:25:00",0.15,"00:25:00",0.26750000000000002,"00:25:00",0.20624999999999999,"00:25:00",0.27250000000000002,"00:25:00",0.33250000000000002,"00:25:00",0.22499999999999998,"00:25:00",0.29849999999999999,"00:25:00",0.32340000000000002,"00:25:00",0.42000000000000004,6,"00:25:00",0.25,0.25,0.25,0.15,0.15,0.14000000000000001,0.14000000000000001,null,null,null,null,0,5.9999999999999995E-4,0,2.2999999999999998,"<= 120 ac",1.3,0.45]
["Pre-500yr",null,"500yr","","","","","",0.35,0.1,"","","",null,null,null,null,null,null,null,null,null,null,null,null,null,null,null,null,null,null,null,null,null,null,null,null,"Runoff",null,45,null,null,null,null,null,null,null,null,null,null,null,null,null,null,null,null,null,null,null,null,45,null,null,null,null,null,null,null,null,null,null,null,null,null,null,null,null,null,null,null,null,"00:30:00",8.4000000000000005E-2,"00:30:00",0.1391,"00:30:00",0.11550000000000001,"00:30:00",0.14170000000000002,"00:30:00",0.15959999999999999,"00:30:00",0.375,"00:30:00",0.4975,"00:30:00",0.57750000000000001,"00:30:00",0.75,7,"00:30:00",0.14000000000000001,0.13,0.12,0.25,0.25,0.25,0.25,null,null,null,null,25,-5.0000000000000001E-4,0.12,0,"> 120 ac",1,0.3]
["Post-WQCV",null,"WQCV","","","","",{"$f":"IF(Watershed_Imp=\"\",\"\",Watershed_Imp*100)","v":""},0.35,0.1,"","","",null,null,null,null,null,null,null,null,null,null,null,null,null,null,null,null,null,null,null,null,null,null,null,null,"Volume",null,50,null,null,null,null,null,null,null,null,null,null,null,null,null,null,null,null,null,null,null,null,50,null,null,null,null,null,null,null,null,null,null,null,null,null,null,null,null,null,null,null,null,"00:35:00",3.78E-2,"00:35:00",6.2060000000000004E-2,"00:35:00",5.1975E-2,"00:35:00",6.3220000000000012E-2,"00:35:00",7.4480000000000005E-2,"00:35:00",0.18,"00:35:00",0.23879999999999998,"00:35:00",0.32340000000000002,"00:35:00",0.42000000000000004,8,"00:35:00",6.3E-2,5.8000000000000003E-2,5.6000000000000001E-2,0.12,0.12,0.14000000000000001,0.14000000000000001]
["Post-EURV",null,"EURV","","","","",{"$f":"IF(H$14=\"\",\"\",H$14)","v":""},0.35,0.1,"","","",null,null,null,null,null,null,null,null,null,null,null,null,null,null,null,null,null,null,null,null,null,null,null,null,"(ac-ft)",null,55,null,null,null,null,null,null,null,null,null,null,null,null,null,null,null,null,null,null,null,null,55,null,null,null,null,null,null,null,null,null,null,null,null,null,null,null,null,null,null,null,null,"00:40:00",0.03,"00:40:00",4.7079999999999997E-2,"00:40:00",4.1250000000000002E-2,"00:40:00",4.7960000000000003E-2,"00:40:00",5.7189999999999998E-2,"00:40:00",0.12,"00:40:00",0.15920000000000001,"00:40:00",0.18480000000000002,"00:40:00",0.24,9,"00:40:00",0.05,4.3999999999999997E-2,4.2999999999999997E-2,0.08,0.08,0.08,0.08,null,null,null,null,"DCIF Lookups"]
["Post-2yr",null,"2yr","","","","",{"$f":"IF(H$14=\"\",\"\",H$14)","v":""},0.35,0.1,"","","",null,null,null,null,null,null,null,null,null,null,null,null,null,null,null,null,null,null,null,null,null,null,null,null,{"$f":"AJ16/43560","v":0},null,60,null,null,null,null,null,null,null,null,null,null,null,null,null,null,null,null,null,null,null,null,60,null,null,null,null,null,null,null,null,null,null,null,null,null,null,null,null,null,null,null,null,"00:45:00",1.7999999999999999E-2,"00:45:00",3.8519999999999999E-2,"00:45:00",2.4749999999999998E-2,"00:45:00",3.9239999999999997E-2,"00:45:00",5.0540000000000002E-2,"00:45:00",7.5000000000000011E-2,"00:45:00",9.9500000000000005E-2,"00:45:00",0.14322000000000001,"00:45:00",0.186,10,"00:45:00",0.03,3.5999999999999997E-2,3.7999999999999999E-2,0.05,0.05,6.2E-2,6.2E-2,null,null,null,null,"DCIA Level 0",null,null,"DCIA Level 1",null,null,"DCIA Level 2"]
["Post-5yr",null,"5yr","","","","","",0.35,0.1,"","","",null,null,null,null,null,null,null,null,null,null,null,null,null,null,null,null,null,null,null,null,null,null,null,null,{"$f":"AJ17/43560","v":0},null,65,null,null,null,null,null,null,null,null,null,null,null,null,null,null,null,null,null,null,null,null,65,null,null,null,null,null,null,null,null,null,null,null,null,null,null,null,null,null,null,null,null,"00:50:00",1.7999999999999999E-2,"00:50:00",3.8519999999999999E-2,"00:50:00",2.4749999999999998E-2,"00:50:00",3.9239999999999997E-2,"00:50:00",4.2560000000000001E-2,"00:50:00",7.5000000000000011E-2,"00:50:00",9.9500000000000005E-2,"00:50:00",0.11550000000000001,"00:50:00",0.15000000000000002,11,"00:50:00",0.03,3.5999999999999997E-2,3.2000000000000001E-2,0.05,0.05,0.05,0.05,null,null,null,null,"Imperv","a","b","Imperv","a","b","Imperv","a","b"]
["Post-10yr",null,"10yr","","","","","",0.35,0.1,"","","",null,null,null,null,null,null,null,null,null,null,null,null,null,null,null,null,null,null,null,null,null,null,null,null,0,null,70,null,null,null,null,null,null,null,null,null,null,null,null,null,null,null,null,null,null,null,null,70,null,null,null,null,null,null,null,null,null,null,null,null,null,null,null,null,null,null,null,null,"00:55:00",1.7999999999999999E-2,"00:55:00",3.2100000000000004E-2,"00:55:00",2.4749999999999998E-2,"00:55:00",3.27E-2,"00:55:00",4.2560000000000001E-2,"00:55:00",4.8000000000000001E-2,"00:55:00",6.368E-2,"00:55:00",9.240000000000001E-2,"00:55:00",0.12,12,"00:55:00",0.03,0.03,3.2000000000000001E-2,3.2000000000000001E-2,3.2000000000000001E-2,0.04,0.04,null,null,null,null,0,2,0,0,1.1000000000000001,0,0,0.5,0]
["Post-25yr",null,"25yr","","","","","",0.35,0.1,"","","",null,null,null,null,null,null,null,null,null,null,null,null,null,null,null,null,null,null,null,null,null,null,null,null,0,null,75,null,null,null,null,null,null,null,null,null,null,null,null,null,null,null,null,null,null,null,null,75,null,null,null,null,null,null,null,null,null,null,null,null,null,null,null,null,null,null,null,null,"01:00:00",1.7999999999999999E-2,"01:00:00",3.2100000000000004E-2,"01:00:00",2.4749999999999998E-2,"01:00:00",3.27E-2,"01:00:00",4.2560000000000001E-2,"01:00:00",4.8000000000000001E-2,"01:00:00",6.368E-2,"01:00:00",9.240000000000001E-2,"01:00:00",0.12,13,"01:00:00",0.03,0.03,3.2000000000000001E-2,3.2000000000000001E-2,3.2000000000000001E-2,0.04,0.04,null,null,null,null,10,2,0,10,1.2,-0.01,10,0.5,0]
["Post-50yr",null,"50yr","","","","","",0.35,0.1,"","","",null,null,null,null,null,null,null,null,null,null,null,null,null,null,null,null,null,null,null,null,null,null,null,null,0,null,80,null,null,null,null,null,null,null,null,null,null,null,null,null,null,null,null,null,null,null,null,80,null,null,null,null,null,null,null,null,null,null,null,null,null,null,null,null,null,null,null,null,"01:05:00",1.7999999999999999E-2,"01:05:00",3.2100000000000004E-2,"01:05:00",2.4749999999999998E-2,"01:05:00",3.27E-2,"01:05:00",4.2560000000000001E-2,"01:05:00",4.8000000000000001E-2,"01:05:00",6.368E-2,"01:05:00",9.240000000000001E-2,"01:05:00",0.12,14,"01:05:00",0.03,0.03,3.2000000000000001E-2,3.2000000000000001E-2,3.2000000000000001E-2,0.04,0.04,null,null,null,null,20,2,0,20,1.4,-0.05,20,0.5,0]
["Post-100yr",null,"100yr","","","","","",0.35,0.1,"","","",null,null,null,null,null,null,null,null,null,null,null,null,null,null,null,null,null,null,null,null,null,null,null,null,0,null,85,null,null,null,null,null,null,null,null,null,null,null,null,null,null,null,null,null,null,null,null,85,null,null,null,null,null,null,null,null,null,null,null,null,null,null,null,null,null,null,null,null,"01:10:00",1.2E-2,"01:10:00",3.2100000000000004E-2,"01:10:00",1.6500000000000001E-2,"01:10:00",3.27E-2,"01:10:00",4.2560000000000001E-2,"01:10:00",3.6000000000000004E-2,"01:10:00",4.7760000000000004E-2,"01:10:00",4.6200000000000005E-2,"01:10:00",0.06,15,"01:10:00",0.02,0.03,3.2000000000000001E-2,2.4E-2,2.4E-2,0.02,0.02,null,null,null,null,30,2,0,30,1.3,-0.02,30,0.5,0]
["Post-500yr",null,"500yr","","","","","",0.35,0.1,"","","",null,null,null,null,null,null,null,null,null,null,null,null,null,null,null,null,null,null,null,null,null,null,null,null,0,null,90,null,null,null,null,null,null,null,null,null,null,null,null,null,null,null,null,null,null,null,null,90,null,null,null,null,null,null,null,null,null,null,null,null,null,null,null,null,null,null,null,null,"01:15:00",1.2E-2,"01:15:00",2.6750000000000003E-2,"01:15:00",1.6500000000000001E-2,"01:15:00",2.7250000000000003E-2,"01:15:00",4.2560000000000001E-2,"01:15:00",3.6000000000000004E-2,"01:15:00",4.7760000000000004E-2,"01:15:00",4.6200000000000005E-2,"01:15:00",0.06,16,"01:15:00",0.02,2.5000000000000001E-2,3.2000000000000001E-2,2.4E-2,2.4E-2,0.02,0.02,null,null,null,null,40,0.5,0.6,40,1.1000000000000001,0.06,40,0.5,0]
[null,null,null,null,null,null,null,null,null,null,null,null,null,null,null,null,null,null,null,null,null,null,null,null,null,null,null,null,null,null,null,null,null,null,null,null,null,null,null,95,null,null,null,null,null,null,null,null,null,null,null,null,null,null,null,null,null,null,null,null,95,null,null,null,null,null,null,null,null,null,null,null,null,null,null,null,null,null,null,null,null,"01:20:00",1.2E-2,"01:20:00",2.3539999999999998E-2,"01:20:00",1.6500000000000001E-2,"01:20:00",2.3980000000000001E-2,"01:20:00",3.3250000000000002E-2,"01:20:00",2.6999999999999996E-2,"01:20:00",3.5819999999999998E-2,"01:20:00",2.7720000000000002E-2,"01:20:00",3.6000000000000004E-2,17,"01:20:00",0.02,2.1999999999999999E-2,2.5000000000000001E-2,1.7999999999999999E-2,1.7999999999999999E-2,1.2E-2,1.2E-2,null,null,null,null,50,0.5,0.6,50,0.9,0.16,50,0.5,0]
[null,null,null,null,null,null,null,null,null,null,null,null,null,null,null,null,null,null,null,null,null,null,null,null,null,null,null,null,null,null,"Predevelopment Peak Flows",null,null,null,null,null,null,null,null,100,null,null,null,null,null,null,null,null,null,null,null,null,null,null,null,null,null,null,null,null,100,null,null,null,null,null,null,null,null,null,null,null,null,null,null,null,null,null,null,null,null,"01:25:00",1.2E-2,"01:25:00",2.3539999999999998E-2,"01:25:00",1.6500000000000001E-2,"01:25:00",2.3980000000000001E-2,"01:25:00",2.5270000000000001E-2,"01:25:00",2.6999999999999996E-2,"01:25:00",3.5819999999999998E-2,"01:25:00",2.7720000000000002E-2,"01:25:00",3.6000000000000004E-2,18,"01:25:00",0.02,2.1999999999999999E-2,1.9E-2,1.7999999999999999E-2,1.7999999999999999E-2,1.2E-2,1.2E-2,null,null,null,null,60,0.2,0.78,60,0.7,0.28000000000000003,60,1,-0.3]
[null,null,null,null,null,null,null,null,null,null,null,null,null,null,null,null,null,null,null,null,null,null,null,null,null,null,null,null,null,null,"2yr","5yr","10yr","25yr","50yr","100yr","500yr",null,null,105,null,null,null,null,null,null,null,null,null,null,null,null,null,null,null,null,null,null,null,null,105,null,null,null,null,null,null,null,null,null,null,null,null,null,null,null,null,null,null,null,null,"01:30:00",1.2E-2,"01:30:00",2.3539999999999998E-2,"01:30:00",1.6500000000000001E-2,"01:30:00",2.3980000000000001E-2,"01:30:00",2.5270000000000001E-2,"01:30:00",2.1000000000000001E-2,"01:30:00",2.7859999999999999E-2,"01:30:00",2.7720000000000002E-2,"01:30:00",3.6000000000000004E-2,19,"01:30:00",0.02,2.1999999999999999E-2,1.9E-2,1.4E-2,1.4E-2,1.2E-2,1.2E-2,null,null,null,null,70,0.2,0.78,70,0.8,0.21,70,2,-1]
[null,null,null,null,null,null,null,null,null,null,null,null,null,null,null,null,null,null,null,null,null,null,null,null,null,null,null,null,null,null,{"$f":"AI7","v":0},{"$f":"AI8","v":0},{"$f":"AI9","v":0},{"$f":"AI10","v":0},{"$f":"AI11","v":0},{"$f":"AI12","v":0},{"$f":"AI13","v":0},null,null,110,null,null,null,null,null,null,null,null,null,null,null,null,null,null,null,null,null,null,null,null,110,null,null,null,null,null,null,null,null,null,null,null,null,null,null,null,null,null,null,null,null,"01:35:00",1.2E-2,"01:35:00",2.3539999999999998E-2,"01:35:00",1.6500000000000001E-2,"01:35:00",2.3980000000000001E-2,"01:35:00",2.5270000000000001E-2,"01:35:00",2.1000000000000001E-2,"01:35:00",2.7859999999999999E-2,"01:35:00",2.7720000000000002E-2,"01:35:00",3.6000000000000004E-2,20,"01:35:00",0.02,2.1999999999999999E-2,1.9E-2,1.4E-2,1.4E-2,1.2E-2,1.2E-2,null,null,null,null,80,0.2,0.78,80,0.7,0.28999999999999998,80,2,-1]
[null,null,null,null,null,null,null,null,null,null,null,null,null,null,null,null,null,null,null,null,null,null,null,null,null,null,null,null,null,null,null,null,null,null,null,null,null,null,null,115,null,null,null,null,null,null,null,null,null,null,null,null,null,null,null,null,null,null,null,null,115,null,null,null,null,null,null,null,null,null,null,null,null,null,null,null,null,null,null,null,null,"01:40:00",1.2E-2,"01:40:00",1.6050000000000002E-2,"01:40:00",1.6500000000000001E-2,"01:40:00",1.635E-2,"01:40:00",2.5270000000000001E-2,"01:40:00",2.1000000000000001E-2,"01:40:00",2.7859999999999999E-2,"01:40:00",2.7720000000000002E-2,"01:40:00",3.6000000000000004E-2,21,"01:40:00",0.02,1.4999999999999999E-2,1.9E-2,1.4E-2,1.4E-2,1.2E-2,1.2E-2,null,null,null,null,90,0.4,0.59999000000000002,90,0.8,0.19999,90,2,-1.0000100000000001]
[null,null,null,null,null,null,null,null,null,null,null,null,null,null,null,null,null,null,null,null,null,null,null,null,null,null,null,null,null,null,null,null,null,null,null,null,null,null,null,120,null,null,null,null,null,null,null,null,null,null,null,null,null,null,null,null,null,null,null,null,120,null,null,null,null,null,null,null,null,null,null,null,null,null,null,null,null,null,null,null,null,"01:45:00",1.2E-2,"01:45:00",1.6050000000000002E-2,"01:45:00",1.6500000000000001E-2,"01:45:00",1.635E-2,"01:45:00",2.5270000000000001E-2,"01:45:00",2.1000000000000001E-2,"01:45:00",2.7859999999999999E-2,"01:45:00",2.7720000000000002E-2,"01:45:00",3.6000000000000004E-2,22,"01:45:00",0.02,1.4999999999999999E-2,1.9E-2,1.4E-2,1.4E-2,1.2E-2,1.2E-2,null,null,null,null,100,0.4,0.59999000000000002,100,0.8,0.19999,100,2,-1.0000100135803223]
[null,null,null,null,null,null,null,null,null,null,null,null,null,null,null,null,null,null,null,null,null,null,null,null,null,null,null,null,null,null,"Runoff Volume (ac-ft)",null,null,null,null,null,null,null,null,125,null,null,null,null,null,null,null,null,null,null,null,null,null,null,null,null,null,null,null,null,125,null,null,null,null,null,null,null,null,null,null,null,null,null,null,null,null,null,null,null,null,"01:50:00",1.2E-2,"01:50:00",1.6050000000000002E-2,"01:50:00",1.6500000000000001E-2,"01:50:00",1.635E-2,"01:50:00",2.5270000000000001E-2,"01:50:00",2.1000000000000001E-2,"01:50:00",2.7859999999999999E-2,"01:50:00",2.7720000000000002E-2,"01:50:00",3.6000000000000004E-2,23,"01:50:00",0.02,1.4999999999999999E-2,1.9E-2,1.4E-2,1.4E-2,1.2E-2,1.2E-2]
[null,null,null,null,null,null,null,null,null,null,null,null,null,null,null,null,null,null,null,null,null,null,null,null,null,null,null,null,null,null,"2yr","5yr","10yr","50yr","100yr",null,null,null,null,130,null,null,null,null,null,null,null,null,null,null,null,null,null,null,null,null,null,null,null,null,130,null,null,null,null,null,null,null,null,null,null,null,null,null,null,null,null,null,null,null,null,"01:55:00",6.0000000000000001E-3,"01:55:00",1.6050000000000002E-2,"01:55:00",8.2500000000000004E-3,"01:55:00",1.635E-2,"01:55:00",2.2610000000000002E-2,"01:55:00",2.1000000000000001E-2,"01:55:00",2.7859999999999999E-2,"01:55:00",2.7720000000000002E-2,"01:55:00",3.6000000000000004E-2,24,"01:55:00",0.01,1.4999999999999999E-2,1.7000000000000001E-2,1.4E-2,1.4E-2,1.2E-2,1.2E-2,null,null,null,null,"RPF Lookups"]
[null,null,null,null,null,null,null,null,null,null,null,null,null,null,null,null,null,null,null,null,null,null,null,null,null,null,null,null,null,null,{"$f":"AL16","v":0},{"$f":"AL17","v":0},{"$f":"AL18","v":0},{"$f":"AL20","v":0},{"$f":"AL21","v":0},null,null,null,null,135,null,null,null,null,null,null,null,null,null,null,null,null,null,null,null,null,null,null,null,null,135,null,null,null,null,null,null,null,null,null,null,null,null,null,null,null,null,null,null,null,null,"02:00:00",6.0000000000000001E-3,"02:00:00",1.391E-2,"02:00:00",8.2500000000000004E-3,"02:00:00",1.417E-2,"02:00:00",1.729E-2,"02:00:00",2.1000000000000001E-2,"02:00:00",2.7859999999999999E-2,"02:00:00",2.7720000000000002E-2,"02:00:00",3.6000000000000004E-2,25,"02:00:00",0.01,1.2999999999999999E-2,1.2999999999999999E-2,1.4E-2,1.4E-2,1.2E-2,1.2E-2,null,null,null,null,"DCIA Level 0",null,null,"DCIA Level 1",null,null,"DCIA Level 2"]
[null,null,null,null,null,null,null,null,null,null,null,null,null,null,null,null,null,null,null,null,null,null,null,null,null,null,null,null,null,null,null,null,null,null,null,null,null,null,null,140,null,null,null,null,null,null,null,null,null,null,null,null,null,null,null,null,null,null,null,null,140,null,null,null,null,null,null,null,null,null,null,null,null,null,null,null,null,null,null,null,null,"02:05:00",0,"02:05:00",0,"02:05:00",0,"02:05:00",0,"02:05:00",0,"02:05:00",0,"02:05:00",0,"02:05:00",0,"02:05:00",0,null,null,null,null,null,null,null,null,null,null,null,null,null,"Imperv","a","b","Imperv","a","b","Imperv","a","b"]
[null,null,null,null,null,null,null,null,null,null,null,null,null,null,null,null,null,null,null,null,null,null,null,null,null,null,null,null,null,null,null,null,null,null,null,null,null,null,null,145,null,null,null,null,null,null,null,null,null,null,null,null,null,null,null,null,null,null,null,null,145,null,null,null,null,null,null,null,null,null,null,null,null,null,null,null,null,null,null,null,null,null,null,null,null,null,null,null,null,null,null,null,null,null,null,null,null,null,null,null,null,null,null,null,null,null,null,null,null,null,null,null,0,1,0,0,2,0,0,3,0]
[null,null,null,null,null,null,null,null,null,null,null,null,null,null,null,null,null,null,null,null,null,null,null,null,null,null,null,null,null,null,null,null,null,null,null,null,null,null,null,150,null,null,null,null,null,null,null,null,null,null,null,null,null,null,null,null,null,null,null,null,150,null,null,null,null,null,null,null,null,null,null,null,null,null,null,null,null,null,null,null,null,null,null,null,null,null,null,null,null,null,null,null,null,null,null,null,null,null,null,null,null,null,null,null,null,null,null,null,null,null,null,null,10,0.3,7.0000000000000007E-2,10,0.4,0.16,10,0.6,0.24]
[null,null,null,null,null,null,null,null,null,null,null,null,null,null,null,null,null,null,null,null,null,null,null,null,null,null,null,null,null,null,null,null,null,null,null,null,null,null,null,155,null,null,null,null,null,null,null,null,null,null,null,null,null,null,null,null,null,null,null,null,155,null,null,null,null,null,null,null,null,null,null,null,null,null,null,null,null,null,null,null,null,null,null,null,null,null,null,null,null,null,null,null,null,null,null,null,null,null,null,null,null,null,null,null,null,null,null,null,null,null,null,null,20,0.4,0.05,20,0.5,0.14000000000000001,20,0.5,0.26]
[null,null,null,null,null,null,null,null,null,null,null,null,null,null,null,null,null,null,null,null,null,null,null,null,null,null,null,null,null,null,null,null,null,null,null,null,null,null,null,160,null,null,null,null,null,null,null,null,null,null,null,null,null,null,null,null,null,null,null,null,160,null,null,null,null,null,null,null,null,null,null,null,null,null,null,null,null,null,null,null,null,null,null,null,null,null,null,null,null,null,null,null,null,null,null,null,null,null,null,null,null,null,null,null,null,null,null,null,null,null,null,null,30,0.3,0.08,30,0.4,0.17,30,0.6,0.23]
[null,null,null,null,null,null,null,null,null,null,null,null,null,null,null,null,null,null,null,null,null,null,null,null,null,null,null,null,null,null,null,null,null,null,null,null,null,null,null,165,null,null,null,null,null,null,null,null,null,null,null,null,null,null,null,null,null,null,null,null,165,null,null,null,null,null,null,null,null,null,null,null,null,null,null,null,null,null,null,null,null,null,null,null,null,null,null,null,null,null,null,null,null,null,null,null,null,null,null,null,null,null,null,null,null,null,null,null,null,null,null,null,40,0.3,0.08,40,0.5,0.13,40,0.5,0.27]
[null,null,null,null,null,null,null,null,null,null,null,null,null,null,null,null,null,null,null,null,null,null,null,null,null,null,null,null,null,null,null,null,null,null,null,null,null,null,null,170,null,null,null,null,null,null,null,null,null,null,null,null,null,null,null,null,null,null,null,null,170,null,null,null,null,null,null,null,null,null,null,null,null,null,null,null,null,null,null,null,null,null,"Raingage","Time","Start","End",null,null,null,null,null,null,null,null,null,null,null,null,null,null,null,null,null,null,null,null,null,null,null,null,null,null,50,0.4,0.03,50,0.4,0.18,50,0.6,0.22]
[null,null,null,null,null,null,null,null,null,null,null,null,null,null,null,null,null,null,null,null,null,null,null,null,null,null,null,null,null,null,null,null,null,null,null,null,null,null,null,175,null,null,null,null,null,null,null,null,null,null,null,null,null,null,null,null,null,null,null,null,175,null,null,null,null,null,null,null,null,null,null,null,null,null,null,null,null,null,null,null,null,null,"List","Column","Row","Row",null,null,null,null,null,null,null,null,null,null,null,null,null,null,null,null,null,null,null,null,null,null,null,null,null,null,60,0.3,0.09,60,0.5,0.12,60,0.5,0.28000000000000003]
[null,null,null,null,null,null,null,null,null,null,null,null,null,null,null,null,null,null,null,null,null,null,null,null,null,null,null,null,null,null,null,null,null,null,null,null,null,null,null,180,null,null,null,null,null,null,null,null,null,null,null,null,null,null,null,null,null,null,null,null,180,null,null,null,null,null,null,null,null,null,null,null,null,null,null,null,null,null,null,null,null,null,"WQCV",{"$f":"COLUMN(CD$8)","v":82},{"$f":"ROW(CD8)","v":8},{"$f":"ROW(CD32)","v":32},null,null,null,null,null,null,null,null,null,null,null,null,null,null,null,null,null,null,null,null,null,null,null,null,null,null,70,0.3,0.09,70,0.4,0.19,70,0.6,0.21]
[null,null,null,null,null,null,null,null,null,null,null,null,null,null,null,null,null,null,null,null,null,null,null,null,null,null,null,null,null,null,null,null,null,null,null,null,null,null,null,185,null,null,null,null,null,null,null,null,null,null,null,null,null,null,null,null,null,null,null,null,185,null,null,null,null,null,null,null,null,null,null,null,null,null,null,null,null,null,null,null,null,null,"EURV",{"$f":"COLUMN(CF$8)","v":84},null,null,null,null,null,null,null,null,null,null,null,null,null,null,null,null,null,null,null,null,null,null,null,null,null,null,null,null,80,0.4,0.01,80,0.5,0.11,80,0.5,0.28999999999999998]
[null,null,null,null,null,null,null,null,null,null,null,null,null,null,null,null,null,null,null,null,null,null,null,null,null,null,null,null,null,null,null,null,null,null,null,null,null,null,null,190,null,null,null,null,null,null,null,null,null,null,null,null,null,null,null,null,null,null,null,null,190,null,null,null,null,null,null,null,null,null,null,null,null,null,null,null,null,null,null,null,null,null,"2yr",{"$f":"COLUMN(CH$8)","v":86},null,null,null,null,null,null,null,null,null,null,null,null,null,null,null,null,null,null,null,null,null,null,null,null,null,null,null,null,90,0.3,0.1,90,0.4,0.2,90,0.6,0.2]
[null,null,null,null,null,null,null,null,null,null,null,null,null,null,null,null,null,null,null,null,null,null,null,null,null,null,null,null,null,null,null,null,null,null,null,null,null,null,null,195,null,null,null,null,null,null,null,null,null,null,null,null,null,null,null,null,null,null,null,null,195,null,null,null,null,null,null,null,null,null,null,null,null,null,null,null,null,null,null,null,null,null,"5yr",{"$f":"COLUMN(CJ$8)","v":88},null,null,null,null,null,null,null,null,null,null,null,null,null,null,null,null,null,null,null,null,null,null,null,null,null,null,null,null,100,0.3,0.1,100,0.4,0.2,100,0.6,0.2]
[null,null,null,null,null,null,null,null,null,null,null,null,null,null,null,null,null,null,null,null,null,null,null,null,null,null,null,null,null,null,null,null,null,null,null,null,null,null,null,200,null,null,null,null,null,null,null,null,null,null,null,null,null,null,null,null,null,null,null,null,200,null,null,null,null,null,null,null,null,null,null,null,null,null,null,null,null,null,null,null,null,null,"10yr",{"$f":"COLUMN(CL$8)","v":90}]
[null,null,null,null,null,null,null,null,null,null,null,null,null,null,null,null,null,null,null,null,null,null,null,null,null,null,null,null,null,null,null,null,null,null,null,null,null,null,null,205,null,null,null,null,null,null,null,null,null,null,null,null,null,null,null,null,null,null,null,null,205,null,null,null,null,null,null,null,null,null,null,null,null,null,null,null,null,null,null,null,null,null,"25yr",{"$f":"COLUMN(CN$8)","v":92}]
[null,null,null,null,null,null,null,null,null,null,null,null,null,null,null,null,null,null,null,null,null,null,null,null,null,null,null,null,null,null,null,null,null,null,null,null,null,null,null,210,null,null,null,null,null,null,null,null,null,null,null,null,null,null,null,null,null,null,null,null,210,null,null,null,null,null,null,null,null,null,null,null,null,null,null,null,null,null,null,null,null,null,"50yr",{"$f":"COLUMN(CP$8)","v":94}]
[null,null,null,null,null,null,null,null,null,null,null,null,null,null,null,null,null,null,null,null,null,null,null,null,null,null,null,null,null,null,null,null,null,null,null,null,null,null,null,215,null,null,null,null,null,null,null,null,null,null,null,null,null,null,null,null,null,null,null,null,215,null,null,null,null,null,null,null,null,null,null,null,null,null,null,null,null,null,null,null,null,null,"100yr",{"$f":"COLUMN(CR$8)","v":96}]
[null,null,null,null,null,null,null,null,null,null,null,null,null,null,null,null,null,null,null,null,null,null,null,null,null,null,null,null,null,null,null,null,null,null,null,null,null,null,null,220,null,null,null,null,null,null,null,null,null,null,null,null,null,null,null,null,null,null,null,null,220,null,null,null,null,null,null,null,null,null,null,null,null,null,null,null,null,null,null,null,null,null,"500yr",{"$f":"COLUMN(CT$8)","v":98}]
[null,null,null,null,null,null,null,null,null,null,null,null,null,null,null,null,null,null,null,null,null,null,null,null,null,null,null,null,null,null,null,null,null,null,null,null,null,null,null,225,null,null,null,null,null,null,null,null,null,null,null,null,null,null,null,null,null,null,null,null,225]
[null,null,null,null,null,null,null,null,null,null,null,null,null,null,null,null,null,null,null,null,null,null,null,null,null,null,null,null,null,null,null,null,null,null,null,null,null,null,null,230,null,null,null,null,null,null,null,null,null,null,null,null,null,null,null,null,null,null,null,null,230]
[null,null,null,null,null,null,null,null,null,null,null,null,null,null,null,null,null,null,null,null,null,null,null,null,null,null,null,null,null,null,null,null,null,null,null,null,null,null,null,235,null,null,null,null,null,null,null,null,null,null,null,null,null,null,null,null,null,null,null,null,235]
[null,null,null,null,null,null,null,null,null,null,null,null,null,null,null,null,null,null,null,null,null,null,null,null,null,null,null,null,null,null,null,null,null,null,null,null,null,null,null,240,null,null,null,null,null,null,null,null,null,null,null,null,null,null,null,null,null,null,null,null,240]
[null,null,null,null,null,null,null,null,null,null,null,null,null,null,null,null,null,null,null,null,null,null,null,null,null,null,null,null,null,null,null,null,null,null,null,null,null,null,null,245,null,null,null,null,null,null,null,null,null,null,null,null,null,null,null,null,null,null,null,null,245]
[null,null,null,null,null,null,null,null,null,null,null,null,null,null,null,null,null,null,null,null,null,null,null,null,null,null,null,null,null,null,null,null,null,null,null,null,null,null,null,250,null,null,null,null,null,null,null,null,null,null,null,null,null,null,null,null,null,null,null,null,250]
[null,null,null,null,null,null,null,null,null,null,null,null,null,null,null,null,null,null,null,null,null,null,null,null,null,null,null,null,null,null,null,null,null,null,null,null,null,null,null,255,null,null,null,null,null,null,null,null,null,null,null,null,null,null,null,null,null,null,null,null,255]
[null,null,null,null,null,null,null,null,null,null,null,null,null,null,null,null,null,null,null,null,null,null,null,null,null,null,null,null,null,null,null,null,null,null,null,null,null,null,null,260,null,null,null,null,null,null,null,null,null,null,null,null,null,null,null,null,null,null,null,null,260]
[null,null,null,null,null,null,null,null,null,null,null,null,null,null,null,null,null,null,null,null,null,null,null,null,null,null,null,null,null,null,null,null,null,null,null,null,null,null,null,265,null,null,null,null,null,null,null,null,null,null,null,null,null,null,null,null,null,null,null,null,265]
[null,null,null,null,null,null,null,null,null,null,null,null,null,null,null,null,null,null,null,null,null,null,null,null,null,null,null,null,null,null,null,null,null,null,null,null,null,null,null,270,null,null,null,null,null,null,null,null,null,null,null,null,null,null,null,null,null,null,null,null,270]
[null,null,null,null,null,null,null,null,null,null,null,null,null,null,null,null,null,null,null,null,null,null,null,null,null,null,null,null,null,null,null,null,null,null,null,null,null,null,null,275,null,null,null,null,null,null,null,null,null,null,null,null,null,null,null,null,null,null,null,null,275]
[null,null,null,null,null,null,null,null,null,null,null,null,null,null,null,null,null,null,null,null,null,null,null,null,null,null,null,null,null,null,null,null,null,null,null,null,null,null,null,280,null,null,null,null,null,null,null,null,null,null,null,null,null,null,null,null,null,null,null,null,280]
[null,null,null,null,null,null,null,null,null,null,null,null,null,null,null,null,null,null,null,null,null,null,null,null,null,null,null,null,null,null,null,null,null,null,null,null,null,null,null,285,null,null,null,null,null,null,null,null,null,null,null,null,null,null,null,null,null,null,null,null,285]
[null,null,null,null,null,null,null,null,null,null,null,null,null,null,null,null,null,null,null,null,null,null,null,null,null,null,null,null,null,null,null,null,null,null,null,null,null,null,null,290,null,null,null,null,null,null,null,null,null,null,null,null,null,null,null,null,null,null,null,null,290]
[null,null,null,null,null,null,null,null,null,null,null,null,null,null,null,null,null,null,null,null,null,null,null,null,null,null,null,null,null,null,null,null,null,null,null,null,null,null,null,295,null,null,null,null,null,null,null,null,null,null,null,null,null,null,null,null,null,null,null,null,295]
[null,null,null,null,null,null,null,null,null,null,null,null,null,null,null,null,null,null,null,null,null,null,null,null,null,null,null,null,null,null,null,null,null,null,null,null,null,null,null,300,null,null,null,null,null,null,null,null,null,null,null,null,null,null,null,null,null,null,null,null,300]
[null,null,null,null,null,null,null,null,null,null,null,null,null,null,null,null,null,null,null,null,null,null,null,null,null,null,null,null,null,null,null,null,null,null,null,null,null,null,null,305,null,null,null,null,null,null,null,null,null,null,null,null,null,null,null,null,null,null,null,null,305]
[null,null,null,null,null,null,null,null,null,null,null,null,null,null,null,null,null,null,null,null,null,null,null,null,null,null,null,null,null,null,null,null,null,null,null,null,null,null,null,310,null,null,null,null,null,null,null,null,null,null,null,null,null,null,null,null,null,null,null,null,310]
[null,null,null,null,null,null,null,null,null,null,null,null,null,null,null,null,null,null,null,null,null,null,null,null,null,null,null,null,null,null,null,null,null,null,null,null,null,null,null,315,null,null,null,null,null,null,null,null,null,null,null,null,null,null,null,null,null,null,null,null,315]
[null,null,null,null,null,null,null,null,null,null,null,null,null,null,null,null,null,null,null,null,null,null,null,null,null,null,null,null,null,null,null,null,null,null,null,null,null,null,null,320,null,null,null,null,null,null,null,null,null,null,null,null,null,null,null,null,null,null,null,null,320]
[null,null,null,null,null,null,null,null,null,null,null,null,null,null,null,null,null,null,null,null,null,null,null,null,null,null,null,null,null,null,null,null,null,null,null,null,null,null,null,325,null,null,null,null,null,null,null,null,null,null,null,null,null,null,null,null,null,null,null,null,325]
[null,null,null,null,null,null,null,null,null,null,null,null,null,null,null,null,null,null,null,null,null,null,null,null,null,null,null,null,null,null,null,null,null,null,null,null,null,null,null,330,null,null,null,null,null,null,null,null,null,null,null,null,null,null,null,null,null,null,null,null,330]
[null,null,null,null,null,null,null,null,null,null,null,null,null,null,null,null,null,null,null,null,null,null,null,null,null,null,null,null,null,null,null,null,null,null,null,null,null,null,null,335,null,null,null,null,null,null,null,null,null,null,null,null,null,null,null,null,null,null,null,null,335]
[null,null,null,null,null,null,null,null,null,null,null,null,null,null,null,null,null,null,null,null,null,null,null,null,null,null,null,null,null,null,null,null,null,null,null,null,null,null,null,340,null,null,null,null,null,null,null,null,null,null,null,null,null,null,null,null,null,null,null,null,340]
[null,null,null,null,null,null,null,null,null,null,null,null,null,null,null,null,null,null,null,null,null,null,null,null,null,null,null,null,null,null,null,null,null,null,null,null,null,null,null,345,null,null,null,null,null,null,null,null,null,null,null,null,null,null,null,null,null,null,null,null,345]
[null,null,null,null,null,null,null,null,null,null,null,null,null,null,null,null,null,null,null,null,null,null,null,null,null,null,null,null,null,null,null,null,null,null,null,null,null,null,null,350,null,null,null,null,null,null,null,null,null,null,null,null,null,null,null,null,null,null,null,null,350]
[null,null,null,null,null,null,null,null,null,null,null,null,null,null,null,null,null,null,null,null,null,null,null,null,null,null,null,null,null,null,null,null,null,null,null,null,null,null,null,355,null,null,null,null,null,null,null,null,null,null,null,null,null,null,null,null,null,null,null,null,355]
[null,null,null,null,null,null,null,null,null,null,null,null,null,null,null,null,null,null,null,null,null,null,null,null,null,null,null,null,null,null,null,null,null,null,null,null,null,null,null,360,null,null,null,null,null,null,null,null,null,null,null,null,null,null,null,null,null,null,null,null,360]

{"sheet":"INTERPOLATION","index":2,"n_rows":1247,"n_cols":16018,"rows_kept":1247,"cut":false,"hidden":true,"merged":[[50,10,50,13],[2,1,2,7],[3,1,3,7],[4,30,4,35],[43,10,43,13]]}
[]
["Worksheet Protected"]
[]
[]
[null,null,null,null,null,"stage1","area1","stage 2","discharge2"]
[null,null,null,null,null,"User Defined","User Defined","User Defined","User Defined"]
[null,null,null,null,null,"Stage (ft)","Area (ft^2)","Stage (ft)","Discharge (cfs)"]
[null,null,null,null,null,{"$f":"IF('Design Data'!F8=\"\",\"\",'Design Data'!F8)","v":0},{"$f":"IF('Design Data'!G8=\"\",\"\",'Design Data'!G8)","v":""},{"$f":"IF('Design Data'!H8=\"\",\"\",'Design Data'!H8)","v":0},{"$f":"IF('Design Data'!I8=\"\",\"\",'Design Data'!I8)","v":""}]
[null,null,null,null,null,{"$f":"IF('Design Data'!F9=\"\",\"\",'Design Data'!F9)","v":""},{"$f":"IF('Design Data'!G9=\"\",\"\",'Design Data'!G9)","v":""},{"$f":"IF('Design Data'!H9=\"\",\"\",'Design Data'!H9)","v":""},{"$f":"IF('Design Data'!I9=\"\",\"\",'Design Data'!I9)","v":""}]
[null,null,null,null,null,{"$f":"IF('Design Data'!F10=\"\",\"\",'Design Data'!F10)","v":""},{"$f":"IF('Design Data'!G10=\"\",\"\",'Design Data'!G10)","v":""},{"$f":"IF('Design Data'!H10=\"\",\"\",'Design Data'!H10)","v":""},{"$f":"IF('Design Data'!I10=\"\",\"\",'Design Data'!I10)","v":""}]
[null,null,null,null,null,{"$f":"IF('Design Data'!F11=\"\",\"\",'Design Data'!F11)","v":""},{"$f":"IF('Design Data'!G11=\"\",\"\",'Design Data'!G11)","v":""},{"$f":"IF('Design Data'!H11=\"\",\"\",'Design Data'!H11)","v":""},{"$f":"IF('Design Data'!I11=\"\",\"\",'Design Data'!I11)","v":""}]
[null,null,null,null,null,{"$f":"IF('Design Data'!F12=\"\",\"\",'Design Data'!F12)","v":""},{"$f":"IF('Design Data'!G12=\"\",\"\",'Design Data'!G12)","v":""},{"$f":"IF('Design Data'!H12=\"\",\"\",'Design Data'!H12)","v":""},{"$f":"IF('Design Data'!I12=\"\",\"\",'Design Data'!I12)","v":""}]
[null,null,null,null,null,{"$f":"IF('Design Data'!F13=\"\",\"\",'Design Data'!F13)","v":""},{"$f":"IF('Design Data'!G13=\"\",\"\",'Design Data'!G13)","v":""},{"$f":"IF('Design Data'!H13=\"\",\"\",'Design Data'!H13)","v":""},{"$f":"IF('Design Data'!I13=\"\",\"\",'Design Data'!I13)","v":""}]
[null,null,null,null,null,{"$f":"IF('Design Data'!F14=\"\",\"\",'Design Data'!F14)","v":""},{"$f":"IF('Design Data'!G14=\"\",\"\",'Design Data'!G14)","v":""},{"$f":"IF('Design Data'!H14=\"\",\"\",'Design Data'!H14)","v":""},{"$f":"IF('Design Data'!I14=\"\",\"\",'Design Data'!I14)","v":""}]
[null,null,null,null,null,{"$f":"IF('Design Data'!F15=\"\",\"\",'Design Data'!F15)","v":""},{"$f":"IF('Design Data'!G15=\"\",\"\",'Design Data'!G15)","v":""},{"$f":"IF('Design Data'!H15=\"\",\"\",'Design Data'!H15)","v":""},{"$f":"IF('Design Data'!I15=\"\",\"\",'Design Data'!I15)","v":""}]
[null,null,null,null,null,{"$f":"IF('Design Data'!F16=\"\",\"\",'Design Data'!F16)","v":""},{"$f":"IF('Design Data'!G16=\"\",\"\",'Design Data'!G16)","v":""},{"$f":"IF('Design Data'!H16=\"\",\"\",'Design Data'!H16)","v":""},{"$f":"IF('Design Data'!I16=\"\",\"\",'Design Data'!I16)","v":""}]
[null,null,null,null,null,{"$f":"IF('Design Data'!F17=\"\",\"\",'Design Data'!F17)","v":""},{"$f":"IF('Design Data'!G17=\"\",\"\",'Design Data'!G17)","v":""},{"$f":"IF('Design Data'!H17=\"\",\"\",'Design Data'!H17)","v":""},{"$f":"IF('Design Data'!I17=\"\",\"\",'Design Data'!I17)","v":""}]
[null,null,null,null,null,{"$f":"IF('Design Data'!F18=\"\",\"\",'Design Data'!F18)","v":""},{"$f":"IF('Design Data'!G18=\"\",\"\",'Design Data'!G18)","v":""},{"$f":"IF('Design Data'!H18=\"\",\"\",'Design Data'!H18)","v":""},{"$f":"IF('Design Data'!I18=\"\",\"\",'Design Data'!I18)","v":""}]
[null,null,null,null,null,{"$f":"IF('Design Data'!F19=\"\",\"\",'Design Data'!F19)","v":""},{"$f":"IF('Design Data'!G19=\"\",\"\",'Design Data'!G19)","v":""},{"$f":"IF('Design Data'!H19=\"\",\"\",'Design Data'!H19)","v":""},{"$f":"IF('Design Data'!I19=\"\",\"\",'Design Data'!I19)","v":""}]
[null,null,null,null,null,{"$f":"IF('Design Data'!F20=\"\",\"\",'Design Data'!F20)","v":""},{"$f":"IF('Design Data'!G20=\"\",\"\",'Design Data'!G20)","v":""},{"$f":"IF('Design Data'!H20=\"\",\"\",'Design Data'!H20)","v":""},{"$f":"IF('Design Data'!I20=\"\",\"\",'Design Data'!I20)","v":""}]
[null,null,null,null,null,{"$f":"IF('Design Data'!F21=\"\",\"\",'Design Data'!F21)","v":""},{"$f":"IF('Design Data'!G21=\"\",\"\",'Design Data'!G21)","v":""},{"$f":"IF('Design Data'!H21=\"\",\"\",'Design Data'!H21)","v":""},{"$f":"IF('Design Data'!I21=\"\",\"\",'Design Data'!I21)","v":""}]
[null,null,null,null,null,{"$f":"IF('Design Data'!F22=\"\",\"\",'Design Data'!F22)","v":""},{"$f":"IF('Design Data'!G22=\"\",\"\",'Design Data'!G22)","v":""},{"$f":"IF('Design Data'!H22=\"\",\"\",'Design Data'!H22)","v":""},{"$f":"IF('Design Data'!I22=\"\",\"\",'Design Data'!I22)","v":""}]
[null,null,null,null,null,{"$f":"IF('Design Data'!F23=\"\",\"\",'Design Data'!F23)","v":""},{"$f":"IF('Design Data'!G23=\"\",\"\",'Design Data'!G23)","v":""},{"$f":"IF('Design Data'!H23=\"\",\"\",'Design Data'!H23)","v":""},{"$f":"IF('Design Data'!I23=\"\",\"\",'Design Data'!I23)","v":""}]
[null,null,null,null,null,{"$f":"IF('Design Data'!F24=\"\",\"\",'Design Data'!F24)","v":""},{"$f":"IF('Design Data'!G24=\"\",\"\",'Design Data'!G24)","v":""},{"$f":"IF('Design Data'!H24=\"\",\"\",'Design Data'!H24)","v":""},{"$f":"IF('Design Data'!I24=\"\",\"\",'Design Data'!I24)","v":""}]
[null,null,null,null,null,{"$f":"IF('Design Data'!F25=\"\",\"\",'Design Data'!F25)","v":""},{"$f":"IF('Design Data'!G25=\"\",\"\",'Design Data'!G25)","v":""},{"$f":"IF('Design Data'!H25=\"\",\"\",'Design Data'!H25)","v":""},{"$f":"IF('Design Data'!I25=\"\",\"\",'Design Data'!I25)","v":""}]
[null,null,null,null,null,{"$f":"IF('Design Data'!F26=\"\",\"\",'Design Data'!F26)","v":""},{"$f":"IF('Design Data'!G26=\"\",\"\",'Design Data'!G26)","v":""},{"$f":"IF('Design Data'!H26=\"\",\"\",'Design Data'!H26)","v":""},{"$f":"IF('Design Data'!I26=\"\",\"\",'Design Data'!I26)","v":""}]
[null,null,null,null,null,{"$f":"IF('Design Data'!F27=\"\",\"\",'Design Data'!F27)","v":""},{"$f":"IF('Design Data'!G27=\"\",\"\",'Design Data'!G27)","v":""},{"$f":"IF('Design Data'!H27=\"\",\"\",'Design Data'!H27)","v":""},{"$f":"IF('Design Data'!I27=\"\",\"\",'Design Data'!I27)","v":""}]
[null,null,null,null,null,{"$f":"IF('Design Data'!F28=\"\",\"\",'Design Data'!F28)","v":""},{"$f":"IF('Design Data'!G28=\"\",\"\",'Design Data'!G28)","v":""},{"$f":"IF('Design Data'!H28=\"\",\"\",'Design Data'!H28)","v":""},{"$f":"IF('Design Data'!I28=\"\",\"\",'Design Data'!I28)","v":""}]
[null,null,null,null,null,{"$f":"IF('Design Data'!F29=\"\",\"\",'Design Data'!F29)","v":""},{"$f":"IF('Design Data'!G29=\"\",\"\",'Design Data'!G29)","v":""},{"$f":"IF('Design Data'!H29=\"\",\"\",'Design Data'!H29)","v":""},{"$f":"IF('Design Data'!I29=\"\",\"\",'Design Data'!I29)","v":""}]
[null,null,null,null,null,{"$f":"IF('Design Data'!F30=\"\",\"\",'Design Data'!F30)","v":""},{"$f":"IF('Design Data'!G30=\"\",\"\",'Design Data'!G30)","v":""},{"$f":"IF('Design Data'!H30=\"\",\"\",'Design Data'!H30)","v":""},{"$f":"IF('Design Data'!I30=\"\",\"\",'Design Data'!I30)","v":""}]
[null,null,null,null,null,{"$f":"IF('Design Data'!F31=\"\",\"\",'Design Data'!F31)","v":""},{"$f":"IF('Design Data'!G31=\"\",\"\",'Design Data'!G31)","v":""},{"$f":"IF('Design Data'!H31=\"\",\"\",'Design Data'!H31)","v":""},{"$f":"IF('Design Data'!I31=\"\",\"\",'Design Data'!I31)","v":""}]
[null,null,null,null,null,{"$f":"IF('Design Data'!F32=\"\",\"\",'Design Data'!F32)","v":""},{"$f":"IF('Design Data'!G32=\"\",\"\",'Design Data'!G32)","v":""},{"$f":"IF('Design Data'!H32=\"\",\"\",'Design Data'!H32)","v":""},{"$f":"IF('Design Data'!I32=\"\",\"\",'Design Data'!I32)","v":""}]
[null,null,null,null,null,{"$f":"IF('Design Data'!F33=\"\",\"\",'Design Data'!F33)","v":""},{"$f":"IF('Design Data'!G33=\"\",\"\",'Design Data'!G33)","v":""},{"$f":"IF('Design Data'!H33=\"\",\"\",'Design Data'!H33)","v":""},{"$f":"IF('Design Data'!I33=\"\",\"\",'Design Data'!I33)","v":""}]
[null,null,null,null,null,{"$f":"IF('Design Data'!F34=\"\",\"\",'Design Data'!F34)","v":""},{"$f":"IF('Design Data'!G34=\"\",\"\",'Design Data'!G34)","v":""},{"$f":"IF('Design Data'!H34=\"\",\"\",'Design Data'!H34)","v":""},{"$f":"IF('Design Data'!I34=\"\",\"\",'Design Data'!I34)","v":""}]
[null,null,null,null,null,{"$f":"IF('Design Data'!F35=\"\",\"\",'Design Data'!F35)","v":""},{"$f":"IF('Design Data'!G35=\"\",\"\",'Design Data'!G35)","v":""},{"$f":"IF('Design Data'!H35=\"\",\"\",'Design Data'!H35)","v":""},{"$f":"IF('Design Data'!I35=\"\",\"\",'Design Data'!I35)","v":""}]
[null,null,null,null,null,{"$f":"IF('Design Data'!F36=\"\",\"\",'Design Data'!F36)","v":""},{"$f":"IF('Design Data'!G36=\"\",\"\",'Design Data'!G36)","v":""},{"$f":"IF('Design Data'!H36=\"\",\"\",'Design Data'!H36)","v":""},{"$f":"IF('Design Data'!I36=\"\",\"\",'Design Data'!I36)","v":""}]
[null,null,null,null,null,{"$f":"IF('Design Data'!F37=\"\",\"\",'Design Data'!F37)","v":""},{"$f":"IF('Design Data'!G37=\"\",\"\",'Design Data'!G37)","v":""},{"$f":"IF('Design Data'!H37=\"\",\"\",'Design Data'!H37)","v":""},{"$f":"IF('Design Data'!I37=\"\",\"\",'Design Data'!I37)","v":""}]
[null,null,null,null,null,{"$f":"IF('Design Data'!F38=\"\",\"\",'Design Data'!F38)","v":""},{"$f":"IF('Design Data'!G38=\"\",\"\",'Design Data'!G38)","v":""},{"$f":"IF('Design Data'!H38=\"\",\"\",'Design Data'!H38)","v":""},{"$f":"IF('Design Data'!I38=\"\",\"\",'Design Data'!I38)","v":""}]
[null,null,null,null,null,{"$f":"IF('Design Data'!F39=\"\",\"\",'Design Data'!F39)","v":""},{"$f":"IF('Design Data'!G39=\"\",\"\",'Design Data'!G39)","v":""},{"$f":"IF('Design Data'!H39=\"\",\"\",'Design Data'!H39)","v":""},{"$f":"IF('Design Data'!I39=\"\",\"\",'Design Data'!I39)","v":""}]
[null,null,null,null,null,{"$f":"IF('Design Data'!F40=\"\",\"\",'Design Data'!F40)","v":""},{"$f":"IF('Design Data'!G40=\"\",\"\",'Design Data'!G40)","v":""},{"$f":"IF('Design Data'!H40=\"\",\"\",'Design Data'!H40)","v":""},{"$f":"IF('Design Data'!I40=\"\",\"\",'Design Data'!I40)","v":""}]
[null,null,null,null,null,{"$f":"IF('Design Data'!F41=\"\",\"\",'Design Data'!F41)","v":""},{"$f":"IF('Design Data'!G41=\"\",\"\",'Design Data'!G41)","v":""},{"$f":"IF('Design Data'!H41=\"\",\"\",'Design Data'!H41)","v":""},{"$f":"IF('Design Data'!I41=\"\",\"\",'Design Data'!I41)","v":""}]
[]
[]
[]
[]
[]
[]
[]
[]
[]
[]
[]
[]
[]
[]
[]
[]
[]
[]
[]
[]
[]
[]
[]
[]
[]
[]
[]
[]
[]
[null,"stage0","area0","discharge0",null,null,null,null,null,null,null,null,"Count S-A","Count S-D"]
[null,null,null,"Storage Depth Calculation Increment =",null,null,null,null,null,null,null,null,{"$f":"COUNT(F8:F41)","v":1},{"$f":"COUNT(H8:H41)","v":1}]
[null,"User Defined","User Defined","User Defined"]
[null,"Stage (ft)","Area (ft^2)","Discharge (cfs)",null,null,null,null,null,null,null,null,"Match S-A","Match S-D"]
[null,null,null,null,null,null,null,null,null,null,null,null,{"$f":"MATCH(B75,$F$8:$F$41)","v":1},{"$f":"MATCH(B75,$H$8:$H$41)","v":1}]
[null,null,null,null,null,null,null,null,null,null,null,null,{"$f":"MATCH(B76,$F$8:$F$41)","v":1},{"$f":"MATCH(B76,$H$8:$H$41)","v":1}]
[null,null,null,null,null,null,null,null,null,null,null,null,1,1]
[null,null,null,null,null,null,null,null,null,null,null,null,1,1]
[null,null,null,null,null,null,null,null,null,null,null,null,1,1]
[null,null,null,null,null,null,null,null,null,null,null,null,1,1]
[null,null,null,null,null,null,null,null,null,null,null,null,1,1]
[null,null,null,null,null,null,null,null,null,null,null,null,1,1]
[null,null,null,null,null,null,null,null,null,null,null,null,1,1]
[null,null,null,null,null,null,null,null,null,null,null,null,1,1]
[null,null,null,null,null,null,null,null,null,null,null,null,1,1]
[null,null,null,null,null,null,null,null,null,null,null,null,1,1]
[null,null,null,null,null,null,null,null,null,null,null,null,1,1]
[null,null,null,null,null,null,null,null,null,null,null,null,1,1]
[null,null,null,null,null,null,null,null,null,null,null,null,1,1]
[null,null,null,null,null,null,null,null,null,null,null,null,1,1]
[null,null,null,null,null,null,null,null,null,null,null,null,1,1]
[null,null,null,null,null,null,null,null,null,null,null,null,1,1]
[null,null,null,null,null,null,null,null,null,null,null,null,1,1]
[null,null,null,null,null,null,null,null,null,null,null,null,1,1]
[null,null,null,null,null,null,null,null,null,null,null,null,1,1]
[null,null,null,null,null,null,null,null,null,null,null,null,1,1]
[null,null,null,null,null,null,null,null,null,null,null,null,1,1]
[null,null,null,null,null,null,null,null,null,null,null,null,1,1]
[null,null,null,null,null,null,null,null,null,null,null,null,1,1]
[null,null,null,null,null,null,null,null,null,null,null,null,1,1]
[null,null,null,null,null,null,null,null,null,null,null,null,1,1]
[null,null,null,null,null,null,null,null,null,null,null,null,1,1]
[null,null,null,null,null,null,null,null,null,null,null,null,1,1]
[null,null,null,null,null,null,null,null,null,null,null,null,1,1]
[null,null,null,null,null,null,null,null,null,null,null,null,1,1]
[null,null,null,null,null,null,null,null,null,null,null,null,1,1]
[null,null,null,null,null,null,null,null,null,null,null,null,1,1]
[null,null,null,null,null,null,null,null,null,null,null,null,1,1]
[null,null,null,null,null,null,null,null,null,null,null,null,1,1]
[null,null,null,null,null,null,null,null,null,null,null,null,1,1]
[null,null,null,null,null,null,null,null,null,null,null,null,1,1]
[null,null,null,null,null,null,null,null,null,null,null,null,1,1]
[null,null,null,null,null,null,null,null,null,null,null,null,1,1]
[null,null,null,null,null,null,null,null,null,null,null,null,1,1]
[null,null,null,null,null,null,null,null,null,null,null,null,1,1]
[null,null,null,null,null,null,null,null,null,null,null,null,1,1]
[null,null,null,null,null,null,null,null,null,null,null,null,1,1]
[null,null,null,null,null,null,null,null,null,null,null,null,1,1]
[null,null,null,null,null,null,null,null,null,null,null,null,1,1]
[null,null,null,null,null,null,null,null,null,null,null,null,1,1]
[null,null,null,null,null,null,null,null,null,null,null,null,1,1]
[null,null,null,null,null,null,null,null,null,null,null,null,1,1]
[null,null,null,null,null,null,null,null,null,null,null,null,1,1]
[null,null,null,null,null,null,null,null,null,null,null,null,1,1]
[null,null,null,null,null,null,null,null,null,null,null,null,1,1]
[null,null,null,null,null,null,null,null,null,null,null,null,1,1]
[null,null,null,null,null,null,null,null,null,null,null,null,1,1]
[null,null,null,null,null,null,null,null,null,null,null,null,1,1]
[null,null,null,null,null,null,null,null,null,null,null,null,1,1]
[null,null,null,null,null,null,null,null,null,null,null,null,1,1]
[null,null,null,null,null,null,null,null,null,null,null,null,1,1]
[null,null,null,null,null,null,null,null,null,null,null,null,1,1]
[null,null,null,null,null,null,null,null,null,null,null,null,1,1]
[null,null,null,null,null,null,null,null,null,null,null,null,1,1]
[null,null,null,null,null,null,null,null,null,null,null,null,1,1]
[null,null,null,null,null,null,null,null,null,null,null,null,1,1]
[null,null,null,null,null,null,null,null,null,null,null,null,1,1]
[null,null,null,null,null,null,null,null,null,null,null,null,1,1]
[null,null,null,null,null,null,null,null,null,null,null,null,1,1]
[null,null,null,null,null,null,null,null,null,null,null,null,{"$f":"MATCH(B140,$F$8:$F$41)","v":1},{"$f":"MATCH(B140,$H$8:$H$41)","v":1}]
[null,null,null,null,null,null,null,null,null,null,null,null,1,1]
[null,null,null,null,null,null,null,null,null,null,null,null,1,1]
[null,null,null,null,null,null,null,null,null,null,null,null,1,1]
[null,null,null,null,null,null,null,null,null,null,null,null,1,1]
[null,null,null,null,null,null,null,null,null,null,null,null,1,1]
[null,null,null,null,null,null,null,null,null,null,null,null,1,1]
[null,null,null,null,null,null,null,null,null,null,null,null,1,1]
[null,null,null,null,null,null,null,null,null,null,null,null,1,1]
[null,null,null,null,null,null,null,null,null,null,null,null,1,1]
[null,null,null,null,null,null,null,null,null,null,null,null,1,1]
[null,null,null,null,null,null,null,null,null,null,null,null,1,1]
[null,null,null,null,null,null,null,null,null,null,null,null,1,1]
[null,null,null,null,null,null,null,null,null,null,null,null,1,1]
[null,null,null,null,null,null,null,null,null,null,null,null,1,1]
[null,null,null,null,null,null,null,null,null,null,null,null,1,1]
[null,null,null,null,null,null,null,null,null,null,null,null,1,1]
[null,null,null,null,null,null,null,null,null,null,null,null,1,1]
[null,null,null,null,null,null,null,null,null,null,null,null,1,1]
[null,null,null,null,null,null,null,null,null,null,null,null,1,1]
[null,null,null,null,null,null,null,null,null,null,null,null,1,1]
[null,null,null,null,null,null,null,null,null,null,null,null,1,1]
[null,null,null,null,null,null,null,null,null,null,null,null,1,1]
[null,null,null,null,null,null,null,null,null,null,null,null,1,1]
[null,null,null,null,null,null,null,null,null,null,null,null,1,1]
[null,null,null,null,null,null,null,null,null,null,null,null,1,1]
[null,null,null,null,null,null,null,null,null,null,null,null,1,1]
[null,null,null,null,null,null,null,null,null,null,null,null,1,1]
[null,null,null,null,null,null,null,null,null,null,null,null,1,1]
[null,null,null,null,null,null,null,null,null,null,null,null,1,1]
[null,null,null,null,null,null,null,null,null,null,null,null,1,1]
[null,null,null,null,null,null,null,null,null,null,null,null,1,1]
[null,null,null,null,null,null,null,null,null,null,null,null,1,1]
[null,null,null,null,null,null,null,null,null,null,null,null,1,1]
[null,null,null,null,null,null,null,null,null,null,null,null,1,1]
[null,null,null,null,null,null,null,null,null,null,null,null,1,1]
[null,null,null,null,null,null,null,null,null,null,null,null,1,1]
[null,null,null,null,null,null,null,null,null,null,null,null,1,1]
[null,null,null,null,null,null,null,null,null,null,null,null,1,1]
[null,null,null,null,null,null,null,null,null,null,null,null,1,1]
[null,null,null,null,null,null,null,null,null,null,null,null,1,1]
[null,null,null,null,null,null,null,null,null,null,null,null,1,1]
[null,null,null,null,null,null,null,null,null,null,null,null,1,1]
[null,null,null,null,null,null,null,null,null,null,null,null,1,1]
[null,null,null,null,null,null,null,null,null,null,null,null,1,1]
[null,null,null,null,null,null,null,null,null,null,null,null,1,1]
[null,null,null,null,null,null,null,null,null,null,null,null,1,1]
[null,null,null,null,null,null,null,null,null,null,null,null,1,1]
[null,null,null,null,null,null,null,null,null,null,null,null,1,1]
[null,null,null,null,null,null,null,null,null,null,null,null,1,1]
[null,null,null,null,null,null,null,null,null,null,null,null,1,1]
[null,null,null,null,null,null,null,null,null,null,null,null,1,1]
[null,null,null,null,null,null,null,null,null,null,null,null,1,1]
[null,null,null,null,null,null,null,null,null,null,null,null,1,1]
[null,null,null,null,null,null,null,null,null,null,null,null,1,1]
[null,null,null,null,null,null,null,null,null,null,null,null,1,1]
[null,null,null,null,null,null,null,null,null,null,null,null,1,1]
[null,null,null,null,null,null,null,null,null,null,null,null,1,1]
[null,null,null,null,null,null,null,null,null,null,null,null,1,1]
[null,null,null,null,null,null,null,null,null,null,null,null,1,1]
[null,null,null,null,null,null,null,null,null,null,null,null,1,1]
[null,null,null,null,null,null,null,null,null,null,null,null,1,1]
[null,null,null,null,null,null,null,null,null,null,null,null,1,1]
[null,null,null,null,null,null,null,null,null,null,null,null,1,1]
[null,null,null,null,null,null,null,null,null,null,null,null,{"$f":"MATCH(B204,$F$8:$F$41)","v":1},{"$f":"MATCH(B204,$H$8:$H$41)","v":1}]
[null,null,null,null,null,null,null,null,null,null,null,null,1,1]
[null,null,null,null,null,null,null,null,null,null,null,null,1,1]
[null,null,null,null,null,null,null,null,null,null,null,null,1,1]
[null,null,null,null,null,null,null,null,null,null,null,null,1,1]
[null,null,null,null,null,null,null,null,null,null,null,null,1,1]
[null,null,null,null,null,null,null,null,null,null,null,null,1,1]
[null,null,null,null,null,null,null,null,null,null,null,null,1,1]
[null,null,null,null,null,null,null,null,null,null,null,null,1,1]
[null,null,null,null,null,null,null,null,null,null,null,null,1,1]
[null,null,null,null,null,null,null,null,null,null,null,null,1,1]
[null,null,null,null,null,null,null,null,null,null,null,null,1,1]
[null,null,null,null,null,null,null,null,null,null,null,null,1,1]
[null,null,null,null,null,null,null,null,null,null,null,null,1,1]
[null,null,null,null,null,null,null,null,null,null,null,null,1,1]
[null,null,null,null,null,null,null,null,null,null,null,null,1,1]
[null,null,null,null,null,null,null,null,null,null,null,null,1,1]
[null,null,null,null,null,null,null,null,null,null,null,null,1,1]
[null,null,null,null,null,null,null,null,null,null,null,null,1,1]
[null,null,null,null,null,null,null,null,null,null,null,null,1,1]
[null,null,null,null,null,null,null,null,null,null,null,null,1,1]
[null,null,null,null,null,null,null,null,null,null,null,null,1,1]
[null,null,null,null,null,null,null,null,null,null,null,null,1,1]
[null,null,null,null,null,null,null,null,null,null,null,null,1,1]
[null,null,null,null,null,null,null,null,null,null,null,null,1,1]
[null,null,null,null,null,null,null,null,null,null,null,null,1,1]
[null,null,null,null,null,null,null,null,null,null,null,null,1,1]
[null,null,null,null,null,null,null,null,null,null,null,null,1,1]
[null,null,null,null,null,null,null,null,null,null,null,null,1,1]
[null,null,null,null,null,null,null,null,null,null,null,null,1,1]
[null,null,null,null,null,null,null,null,null,null,null,null,1,1]
[null,null,null,null,null,null,null,null,null,null,null,null,1,1]
[null,null,null,null,null,null,null,null,null,null,null,null,1,1]
[null,null,null,null,null,null,null,null,null,null,null,null,1,1]
[null,null,null,null,null,null,null,null,null,null,null,null,1,1]
[null,null,null,null,null,null,null,null,null,null,null,null,1,1]
[null,null,null,null,null,null,null,null,null,null,null,null,1,1]
[null,null,null,null,null,null,null,null,null,null,null,null,1,1]
[null,null,null,null,null,null,null,null,null,null,null,null,1,1]
[null,null,null,null,null,null,null,null,null,null,null,null,1,1]
[null,null,null,null,null,null,null,null,null,null,null,null,1,1]
[null,null,null,null,null,null,null,null,null,null,null,null,1,1]
[null,null,null,null,null,null,null,null,null,null,null,null,1,1]
[null,null,null,null,null,null,null,null,null,null,null,null,1,1]
[null,null,null,null,null,null,null,null,null,null,null,null,1,1]
[null,null,null,null,null,null,null,null,null,null,null,null,1,1]
[null,null,null,null,null,null,null,null,null,null,null,null,1,1]
[null,null,null,null,null,null,null,null,null,null,null,null,1,1]
[null,null,null,null,null,null,null,null,null,null,null,null,1,1]
[null,null,null,null,null,null,null,null,null,null,null,null,1,1]
[null,null,null,null,null,null,null,null,null,null,null,null,1,1]
[null,null,null,null,null,null,null,null,null,null,null,null,1,1]
[null,null,null,null,null,null,null,null,null,null,null,null,1,1]
[null,null,null,null,null,null,null,null,null,null,null,null,1,1]
[null,null,null,null,null,null,null,null,null,null,null,null,1,1]
[null,null,null,null,null,null,null,null,null,null,null,null,1,1]
[null,null,null,null,null,null,null,null,null,null,null,null,1,1]
[null,null,null,null,null,null,null,null,null,null,null,null,1,1]
[null,null,null,null,null,null,null,null,null,null,null,null,1,1]
[null,null,null,null,null,null,null,null,null,null,null,null,1,1]
[null,null,null,null,null,null,null,null,null,null,null,null,1,1]
[null,null,null,null,null,null,null,null,null,null,null,null,1,1]
[null,null,null,null,null,null,null,null,null,null,null,null,1,1]
[null,null,null,null,null,null,null,null,null,null,null,null,1,1]
[null,null,null,null,null,null,null,null,null,null,null,null,{"$f":"MATCH(B268,$F$8:$F$41)","v":1},{"$f":"MATCH(B268,$H$8:$H$41)","v":1}]
[null,null,null,null,null,null,null,null,null,null,null,null,1,1]
[null,null,null,null,null,null,null,null,null,null,null,null,1,1]
[null,null,null,null,null,null,null,null,null,null,null,null,1,1]
[null,null,null,null,null,null,null,null,null,null,null,null,1,1]
[null,null,null,null,null,null,null,null,null,null,null,null,1,1]
[null,null,null,null,null,null,null,null,null,null,null,null,1,1]
[null,null,null,null,null,null,null,null,null,null,null,null,1,1]
[null,null,null,null,null,null,null,null,null,null,null,null,1,1]
[null,null,null,null,null,null,null,null,null,null,null,null,1,1]
[null,null,null,null,null,null,null,null,null,null,null,null,1,1]
[null,null,null,null,null,null,null,null,null,null,null,null,1,1]
[null,null,null,null,null,null,null,null,null,null,null,null,1,1]
[null,null,null,null,null,null,null,null,null,null,null,null,1,1]
[null,null,null,null,null,null,null,null,null,null,null,null,1,1]
[null,null,null,null,null,null,null,null,null,null,null,null,1,1]
[null,null,null,null,null,null,null,null,null,null,null,null,1,1]
[null,null,null,null,null,null,null,null,null,null,null,null,1,1]
[null,null,null,null,null,null,null,null,null,null,null,null,1,1]
[null,null,null,null,null,null,null,null,null,null,null,null,1,1]
[null,null,null,null,null,null,null,null,null,null,null,null,1,1]
[null,null,null,null,null,null,null,null,null,null,null,null,1,1]
[null,null,null,null,null,null,null,null,null,null,null,null,1,1]
[null,null,null,null,null,null,null,null,null,null,null,null,1,1]
[null,null,null,null,null,null,null,null,null,null,null,null,1,1]
[null,null,null,null,null,null,null,null,null,null,null,null,1,1]
[null,null,null,null,null,null,null,null,null,null,null,null,1,1]
[null,null,null,null,null,null,null,null,null,null,null,null,1,1]
[null,null,null,null,null,null,null,null,null,null,null,null,1,1]
[null,null,null,null,null,null,null,null,null,null,null,null,1,1]
[null,null,null,null,null,null,null,null,null,null,null,null,1,1]
[null,null,null,null,null,null,null,null,null,null,null,null,1,1]
[null,null,null,null,null,null,null,null,null,null,null,null,1,1]
[null,null,null,null,null,null,null,null,null,null,null,null,1,1]
[null,null,null,null,null,null,null,null,null,null,null,null,1,1]
[null,null,null,null,null,null,null,null,null,null,null,null,1,1]
[null,null,null,null,null,null,null,null,null,null,null,null,1,1]
[null,null,null,null,null,null,null,null,null,null,null,null,1,1]
[null,null,null,null,null,null,null,null,null,null,null,null,1,1]
[null,null,null,null,null,null,null,null,null,null,null,null,1,1]
[null,null,null,null,null,null,null,null,null,null,null,null,1,1]
[null,null,null,null,null,null,null,null,null,null,null,null,1,1]
[null,null,null,null,null,null,null,null,null,null,null,null,1,1]
[null,null,null,null,null,null,null,null,null,null,null,null,1,1]
[null,null,null,null,null,null,null,null,null,null,null,null,1,1]
[null,null,null,null,null,null,null,null,null,null,null,null,1,1]
[null,null,null,null,null,null,null,null,null,null,null,null,1,1]
[null,null,null,null,null,null,null,null,null,null,null,null,1,1]
[null,null,null,null,null,null,null,null,null,null,null,null,1,1]
[null,null,null,null,null,null,null,null,null,null,null,null,1,1]
[null,null,null,null,null,null,null,null,null,null,null,null,1,1]
[null,null,null,null,null,null,null,null,null,null,null,null,1,1]
[null,null,null,null,null,null,null,null,null,null,null,null,1,1]
[null,null,null,null,null,null,null,null,null,null,null,null,1,1]
[null,null,null,null,null,null,null,null,null,null,null,null,1,1]
[null,null,null,null,null,null,null,null,null,null,null,null,1,1]
[null,null,null,null,null,null,null,null,null,null,null,null,1,1]
[null,null,null,null,null,null,null,null,null,null,null,null,1,1]
[null,null,null,null,null,null,null,null,null,null,null,null,1,1]
[null,null,null,null,null,null,null,null,null,null,null,null,1,1]
[null,null,null,null,null,null,null,null,null,null,null,null,1,1]
[null,null,null,null,null,null,null,null,null,null,null,null,1,1]
[null,null,null,null,null,null,null,null,null,null,null,null,1,1]
[null,null,null,null,null,null,null,null,null,null,null,null,1,1]
[null,null,null,null,null,null,null,null,null,null,null,null,{"$f":"MATCH(B332,$F$8:$F$41)","v":1},{"$f":"MATCH(B332,$H$8:$H$41)","v":1}]
[null,null,null,null,null,null,null,null,null,null,null,null,1,1]
[null,null,null,null,null,null,null,null,null,null,null,null,1,1]
[null,null,null,null,null,null,null,null,null,null,null,null,1,1]
[null,null,null,null,null,null,null,null,null,null,null,null,1,1]
[null,null,null,null,null,null,null,null,null,null,null,null,1,1]
[null,null,null,null,null,null,null,null,null,null,null,null,1,1]
[null,null,null,null,null,null,null,null,null,null,null,null,1,1]
[null,null,null,null,null,null,null,null,null,null,null,null,1,1]
[null,null,null,null,null,null,null,null,null,null,null,null,1,1]
[null,null,null,null,null,null,null,null,null,null,null,null,1,1]
[null,null,null,null,null,null,null,null,null,null,null,null,1,1]
[null,null,null,null,null,null,null,null,null,null,null,null,1,1]
[null,null,null,null,null,null,null,null,null,null,null,null,1,1]
[null,null,null,null,null,null,null,null,null,null,null,null,1,1]
[null,null,null,null,null,null,null,null,null,null,null,null,1,1]
[null,null,null,null,null,null,null,null,null,null,null,null,1,1]
[null,null,null,null,null,null,null,null,null,null,null,null,1,1]
[null,null,null,null,null,null,null,null,null,null,null,null,1,1]
[null,null,null,null,null,null,null,null,null,null,null,null,1,1]
[null,null,null,null,null,null,null,null,null,null,null,null,1,1]
[null,null,null,null,null,null,null,null,null,null,null,null,1,1]
[null,null,null,null,null,null,null,null,null,null,null,null,1,1]
[null,null,null,null,null,null,null,null,null,null,null,null,1,1]
[null,null,null,null,null,null,null,null,null,null,null,null,1,1]
[null,null,null,null,null,null,null,null,null,null,null,null,1,1]
[null,null,null,null,null,null,null,null,null,null,null,null,1,1]
[null,null,null,null,null,null,null,null,null,null,null,null,1,1]
[null,null,null,null,null,null,null,null,null,null,null,null,1,1]
[null,null,null,null,null,null,null,null,null,null,null,null,1,1]
[null,null,null,null,null,null,null,null,null,null,null,null,1,1]
[null,null,null,null,null,null,null,null,null,null,null,null,1,1]
[null,null,null,null,null,null,null,null,null,null,null,null,1,1]
[null,null,null,null,null,null,null,null,null,null,null,null,1,1]
[null,null,null,null,null,null,null,null,null,null,null,null,1,1]
[null,null,null,null,null,null,null,null,null,null,null,null,1,1]
[null,null,null,null,null,null,null,null,null,null,null,null,1,1]
[null,null,null,null,null,null,null,null,null,null,null,null,1,1]
[null,null,null,null,null,null,null,null,null,null,null,null,1,1]
[null,null,null,null,null,null,null,null,null,null,null,null,1,1]
[null,null,null,null,null,null,null,null,null,null,null,null,1,1]
[null,null,null,null,null,null,null,null,null,null,null,null,1,1]
[null,null,null,null,null,null,null,null,null,null,null,null,1,1]
[null,null,null,null,null,null,null,null,null,null,null,null,1,1]
[null,null,null,null,null,null,null,null,null,null,null,null,1,1]
[null,null,null,null,null,null,null,null,null,null,null,null,1,1]
[null,null,null,null,null,null,null,null,null,null,null,null,1,1]
[null,null,null,null,null,null,null,null,null,null,null,null,1,1]
[null,null,null,null,null,null,null,null,null,null,null,null,1,1]
[null,null,null,null,null,null,null,null,null,null,null,null,1,1]
[null,null,null,null,null,null,null,null,null,null,null,null,1,1]
[null,null,null,null,null,null,null,null,null,null,null,null,1,1]
[null,null,null,null,null,null,null,null,null,null,null,null,1,1]
[null,null,null,null,null,null,null,null,null,null,null,null,1,1]
[null,null,null,null,null,null,null,null,null,null,null,null,1,1]
[null,null,null,null,null,null,null,null,null,null,null,null,1,1]
[null,null,null,null,null,null,null,null,null,null,null,null,1,1]
[null,null,null,null,null,null,null,null,null,null,null,null,1,1]
[null,null,null,null,null,null,null,null,null,null,null,null,1,1]
[null,null,null,null,null,null,null,null,null,null,null,null,1,1]
[null,null,null,null,null,null,null,null,null,null,null,null,1,1]
[null,null,null,null,null,null,null,null,null,null,null,null,1,1]
[null,null,null,null,null,null,null,null,null,null,null,null,1,1]
[null,null,null,null,null,null,null,null,null,null,null,null,1,1]
[null,null,null,null,null,null,null,null,null,null,null,null,{"$f":"MATCH(B396,$F$8:$F$41)","v":1},{"$f":"MATCH(B396,$H$8:$H$41)","v":1}]
[null,null,null,null,null,null,null,null,null,null,null,null,1,1]
[null,null,null,null,null,null,null,null,null,null,null,null,1,1]
[null,null,null,null,null,null,null,null,null,null,null,null,1,1]
[null,null,null,null,null,null,null,null,null,null,null,null,1,1]
[null,null,null,null,null,null,null,null,null,null,null,null,1,1]
[null,null,null,null,null,null,null,null,null,null,null,null,1,1]
[null,null,null,null,null,null,null,null,null,null,null,null,1,1]
[null,null,null,null,null,null,null,null,null,null,null,null,1,1]
[null,null,null,null,null,null,null,null,null,null,null,null,1,1]
[null,null,null,null,null,null,null,null,null,null,null,null,1,1]
[null,null,null,null,null,null,null,null,null,null,null,null,1,1]
[null,null,null,null,null,null,null,null,null,null,null,null,1,1]
[null,null,null,null,null,null,null,null,null,null,null,null,1,1]
[null,null,null,null,null,null,null,null,null,null,null,null,1,1]
[null,null,null,null,null,null,null,null,null,null,null,null,1,1]
[null,null,null,null,null,null,null,null,null,null,null,null,1,1]
[null,null,null,null,null,null,null,null,null,null,null,null,1,1]
[null,null,null,null,null,null,null,null,null,null,null,null,1,1]
[null,null,null,null,null,null,null,null,null,null,null,null,1,1]
[null,null,null,null,null,null,null,null,null,null,null,null,1,1]
[null,null,null,null,null,null,null,null,null,null,null,null,1,1]
[null,null,null,null,null,null,null,null,null,null,null,null,1,1]
[null,null,null,null,null,null,null,null,null,null,null,null,1,1]
[null,null,null,null,null,null,null,null,null,null,null,null,1,1]
[null,null,null,null,null,null,null,null,null,null,null,null,1,1]
[null,null,null,null,null,null,null,null,null,null,null,null,1,1]
[null,null,null,null,null,null,null,null,null,null,null,null,1,1]
[null,null,null,null,null,null,null,null,null,null,null,null,1,1]
[null,null,null,null,null,null,null,null,null,null,null,null,1,1]
[null,null,null,null,null,null,null,null,null,null,null,null,1,1]
[null,null,null,null,null,null,null,null,null,null,null,null,1,1]
[null,null,null,null,null,null,null,null,null,null,null,null,1,1]
[null,null,null,null,null,null,null,null,null,null,null,null,1,1]
[null,null,null,null,null,null,null,null,null,null,null,null,1,1]
[null,null,null,null,null,null,null,null,null,null,null,null,1,1]
[null,null,null,null,null,null,null,null,null,null,null,null,1,1]
[null,null,null,null,null,null,null,null,null,null,null,null,1,1]
[null,null,null,null,null,null,null,null,null,null,null,null,1,1]
[null,null,null,null,null,null,null,null,null,null,null,null,1,1]
[null,null,null,null,null,null,null,null,null,null,null,null,1,1]
[null,null,null,null,null,null,null,null,null,null,null,null,1,1]
[null,null,null,null,null,null,null,null,null,null,null,null,1,1]
[null,null,null,null,null,null,null,null,null,null,null,null,1,1]
[null,null,null,null,null,null,null,null,null,null,null,null,1,1]
[null,null,null,null,null,null,null,null,null,null,null,null,1,1]
[null,null,null,null,null,null,null,null,null,null,null,null,1,1]
[null,null,null,null,null,null,null,null,null,null,null,null,1,1]
[null,null,null,null,null,null,null,null,null,null,null,null,1,1]
[null,null,null,null,null,null,null,null,null,null,null,null,1,1]
[null,null,null,null,null,null,null,null,null,null,null,null,1,1]
[null,null,null,null,null,null,null,null,null,null,null,null,1,1]
[null,null,null,null,null,null,null,null,null,null,null,null,1,1]
[null,null,null,null,null,null,null,null,null,null,null,null,1,1]
[null,null,null,null,null,null,null,null,null,null,null,null,1,1]
[null,null,null,null,null,null,null,null,null,null,null,null,1,1]
[null,null,null,null,null,null,null,null,null,null,null,null,1,1]
[null,null,null,null,null,null,null,null,null,null,null,null,1,1]
[null,null,null,null,null,null,null,null,null,null,null,null,1,1]
[null,null,null,null,null,null,null,null,null,null,null,null,1,1]
[null,null,null,null,null,null,null,null,null,null,null,null,1,1]
[null,null,null,null,null,null,null,null,null,null,null,null,1,1]
[null,null,null,null,null,null,null,null,null,null,null,null,1,1]
[null,null,null,null,null,null,null,null,null,null,null,null,1,1]
[null,null,null,null,null,null,null,null,null,null,null,null,{"$f":"MATCH(B460,$F$8:$F$41)","v":1},{"$f":"MATCH(B460,$H$8:$H$41)","v":1}]
[null,null,null,null,null,null,null,null,null,null,null,null,1,1]
[null,null,null,null,null,null,null,null,null,null,null,null,1,1]
[null,null,null,null,null,null,null,null,null,null,null,null,1,1]
[null,null,null,null,null,null,null,null,null,null,null,null,1,1]
[null,null,null,null,null,null,null,null,null,null,null,null,1,1]
[null,null,null,null,null,null,null,null,null,null,null,null,1,1]
[null,null,null,null,null,null,null,null,null,null,null,null,1,1]
[null,null,null,null,null,null,null,null,null,null,null,null,1,1]
[null,null,null,null,null,null,null,null,null,null,null,null,1,1]
[null,null,null,null,null,null,null,null,null,null,null,null,1,1]
[null,null,null,null,null,null,null,null,null,null,null,null,1,1]
[null,null,null,null,null,null,null,null,null,null,null,null,1,1]
[null,null,null,null,null,null,null,null,null,null,null,null,1,1]
[null,null,null,null,null,null,null,null,null,null,null,null,1,1]
[null,null,null,null,null,null,null,null,null,null,null,null,1,1]
[null,null,null,null,null,null,null,null,null,null,null,null,1,1]
[null,null,null,null,null,null,null,null,null,null,null,null,1,1]
[null,null,null,null,null,null,null,null,null,null,null,null,1,1]
[null,null,null,null,null,null,null,null,null,null,null,null,1,1]
[null,null,null,null,null,null,null,null,null,null,null,null,1,1]
[null,null,null,null,null,null,null,null,null,null,null,null,1,1]
[null,null,null,null,null,null,null,null,null,null,null,null,1,1]
[null,null,null,null,null,null,null,null,null,null,null,null,1,1]
[null,null,null,null,null,null,null,null,null,null,null,null,1,1]
[null,null,null,null,null,null,null,null,null,null,null,null,1,1]
[null,null,null,null,null,null,null,null,null,null,null,null,1,1]
[null,null,null,null,null,null,null,null,null,null,null,null,1,1]
[null,null,null,null,null,null,null,null,null,null,null,null,1,1]
[null,null,null,null,null,null,null,null,null,null,null,null,1,1]
[null,null,null,null,null,null,null,null,null,null,null,null,1,1]
[null,null,null,null,null,null,null,null,null,null,null,null,1,1]
[null,null,null,null,null,null,null,null,null,null,null,null,1,1]
[null,null,null,null,null,null,null,null,null,null,null,null,1,1]
[null,null,null,null,null,null,null,null,null,null,null,null,1,1]
[null,null,null,null,null,null,null,null,null,null,null,null,1,1]
[null,null,null,null,null,null,null,null,null,null,null,null,1,1]
[null,null,null,null,null,null,null,null,null,null,null,null,1,1]
[null,null,null,null,null,null,null,null,null,null,null,null,1,1]
[null,null,null,null,null,null,null,null,null,null,null,null,1,1]
[null,null,null,null,null,null,null,null,null,null,null,null,1,1]
[null,null,null,null,null,null,null,null,null,null,null,null,1,1]
[null,null,null,null,null,null,null,null,null,null,null,null,1,1]
[null,null,null,null,null,null,null,null,null,null,null,null,1,1]
[null,null,null,null,null,null,null,null,null,null,null,null,1,1]
[null,null,null,null,null,null,null,null,null,null,null,null,1,1]
[null,null,null,null,null,null,null,null,null,null,null,null,1,1]
[null,null,null,null,null,null,null,null,null,null,null,null,1,1]
[null,null,null,null,null,null,null,null,null,null,null,null,1,1]
[null,null,null,null,null,null,null,null,null,null,null,null,1,1]
[null,null,null,null,null,null,null,null,null,null,null,null,1,1]
[null,null,null,null,null,null,null,null,null,null,null,null,1,1]
[null,null,null,null,null,null,null,null,null,null,null,null,1,1]
[null,null,null,null,null,null,null,null,null,null,null,null,1,1]
[null,null,null,null,null,null,null,null,null,null,null,null,1,1]
[null,null,null,null,null,null,null,null,null,null,null,null,1,1]
[null,null,null,null,null,null,null,null,null,null,null,null,1,1]
[null,null,null,null,null,null,null,null,null,null,null,null,1,1]
[null,null,null,null,null,null,null,null,null,null,null,null,1,1]
[null,null,null,null,null,null,null,null,null,null,null,null,1,1]
[null,null,null,null,null,null,null,null,null,null,null,null,1,1]
[null,null,null,null,null,null,null,null,null,null,null,null,1,1]
[null,null,null,null,null,null,null,null,null,null,null,null,1,1]
[null,null,null,null,null,null,null,null,null,null,null,null,1,1]
[null,null,null,null,null,null,null,null,null,null,null,null,{"$f":"MATCH(B524,$F$8:$F$41)","v":1},{"$f":"MATCH(B524,$H$8:$H$41)","v":1}]
[null,null,null,null,null,null,null,null,null,null,null,null,1,1]
[null,null,null,null,null,null,null,null,null,null,null,null,1,1]
[null,null,null,null,null,null,null,null,null,null,null,null,1,1]
[null,null,null,null,null,null,null,null,null,null,null,null,1,1]
[null,null,null,null,null,null,null,null,null,null,null,null,1,1]
[null,null,null,null,null,null,null,null,null,null,null,null,1,1]
[null,null,null,null,null,null,null,null,null,null,null,null,1,1]
[null,null,null,null,null,null,null,null,null,null,null,null,1,1]
[null,null,null,null,null,null,null,null,null,null,null,null,1,1]
[null,null,null,null,null,null,null,null,null,null,null,null,1,1]
[null,null,null,null,null,null,null,null,null,null,null,null,1,1]
[null,null,null,null,null,null,null,null,null,null,null,null,1,1]
[null,null,null,null,null,null,null,null,null,null,null,null,1,1]
[null,null,null,null,null,null,null,null,null,null,null,null,1,1]
[null,null,null,null,null,null,null,null,null,null,null,null,1,1]
[null,null,null,null,null,null,null,null,null,null,null,null,1,1]
[null,null,null,null,null,null,null,null,null,null,null,null,1,1]
[null,null,null,null,null,null,null,null,null,null,null,null,1,1]
[null,null,null,null,null,null,null,null,null,null,null,null,1,1]
[null,null,null,null,null,null,null,null,null,null,null,null,1,1]
[null,null,null,null,null,null,null,null,null,null,null,null,1,1]
[null,null,null,null,null,null,null,null,null,null,null,null,1,1]
[null,null,null,null,null,null,null,null,null,null,null,null,1,1]
[null,null,null,null,null,null,null,null,null,null,null,null,1,1]
[null,null,null,null,null,null,null,null,null,null,null,null,1,1]
[null,null,null,null,null,null,null,null,null,null,null,null,1,1]
[null,null,null,null,null,null,null,null,null,null,null,null,1,1]
[null,null,null,null,null,null,null,null,null,null,null,null,1,1]
[null,null,null,null,null,null,null,null,null,null,null,null,1,1]
[null,null,null,null,null,null,null,null,null,null,null,null,1,1]
[null,null,null,null,null,null,null,null,null,null,null,null,1,1]
[null,null,null,null,null,null,null,null,null,null,null,null,1,1]
[null,null,null,null,null,null,null,null,null,null,null,null,1,1]
[null,null,null,null,null,null,null,null,null,null,null,null,1,1]
[null,null,null,null,null,null,null,null,null,null,null,null,1,1]
[null,null,null,null,null,null,null,null,null,null,null,null,1,1]
[null,null,null,null,null,null,null,null,null,null,null,null,1,1]
[null,null,null,null,null,null,null,null,null,null,null,null,1,1]
[null,null,null,null,null,null,null,null,null,null,null,null,1,1]
[null,null,null,null,null,null,null,null,null,null,null,null,1,1]
[null,null,null,null,null,null,null,null,null,null,null,null,1,1]
[null,null,null,null,null,null,null,null,null,null,null,null,1,1]
[null,null,null,null,null,null,null,null,null,null,null,null,1,1]
[null,null,null,null,null,null,null,null,null,null,null,null,1,1]
[null,null,null,null,null,null,null,null,null,null,null,null,1,1]
[null,null,null,null,null,null,null,null,null,null,null,null,1,1]
[null,null,null,null,null,null,null,null,null,null,null,null,1,1]
[null,null,null,null,null,null,null,null,null,null,null,null,1,1]
[null,null,null,null,null,null,null,null,null,null,null,null,1,1]
[null,null,null,null,null,null,null,null,null,null,null,null,1,1]
[null,null,null,null,null,null,null,null,null,null,null,null,1,1]
[null,null,null,null,null,null,null,null,null,null,null,null,1,1]
[null,null,null,null,null,null,null,null,null,null,null,null,1,1]
[null,null,null,null,null,null,null,null,null,null,null,null,1,1]
[null,null,null,null,null,null,null,null,null,null,null,null,1,1]
[null,null,null,null,null,null,null,null,null,null,null,null,1,1]
[null,null,null,null,null,null,null,null,null,null,null,null,1,1]
[null,null,null,null,null,null,null,null,null,null,null,null,1,1]
[null,null,null,null,null,null,null,null,null,null,null,null,1,1]
[null,null,null,null,null,null,null,null,null,null,null,null,1,1]
[null,null,null,null,null,null,null,null,null,null,null,null,1,1]
[null,null,null,null,null,null,null,null,null,null,null,null,1,1]
[null,null,null,null,null,null,null,null,null,null,null,null,1,1]
[null,null,null,null,null,null,null,null,null,null,null,null,{"$f":"MATCH(B588,$F$8:$F$41)","v":1},{"$f":"MATCH(B588,$H$8:$H$41)","v":1}]
[null,null,null,null,null,null,null,null,null,null,null,null,1,1]
[null,null,null,null,null,null,null,null,null,null,null,null,1,1]
[null,null,null,null,null,null,null,null,null,null,null,null,1,1]
[null,null,null,null,null,null,null,null,null,null,null,null,1,1]
[null,null,null,null,null,null,null,null,null,null,null,null,1,1]
[null,null,null,null,null,null,null,null,null,null,null,null,1,1]
[null,null,null,null,null,null,null,null,null,null,null,null,1,1]
[null,null,null,null,null,null,null,null,null,null,null,null,1,1]
[null,null,null,null,null,null,null,null,null,null,null,null,1,1]
[null,null,null,null,null,null,null,null,null,null,null,null,1,1]
[null,null,null,null,null,null,null,null,null,null,null,null,1,1]
[null,null,null,null,null,null,null,null,null,null,null,null,1,1]
[null,null,null,null,null,null,null,null,null,null,null,null,1,1]
[null,null,null,null,null,null,null,null,null,null,null,null,1,1]
[null,null,null,null,null,null,null,null,null,null,null,null,1,1]
[null,null,null,null,null,null,null,null,null,null,null,null,1,1]
[null,null,null,null,null,null,null,null,null,null,null,null,1,1]
[null,null,null,null,null,null,null,null,null,null,null,null,1,1]
[null,null,null,null,null,null,null,null,null,null,null,null,1,1]
[null,null,null,null,null,null,null,null,null,null,null,null,1,1]
[null,null,null,null,null,null,null,null,null,null,null,null,1,1]
[null,null,null,null,null,null,null,null,null,null,null,null,1,1]
[null,null,null,null,null,null,null,null,null,null,null,null,1,1]
[null,null,null,null,null,null,null,null,null,null,null,null,1,1]
[null,null,null,null,null,null,null,null,null,null,null,null,1,1]
[null,null,null,null,null,null,null,null,null,null,null,null,1,1]
[null,null,null,null,null,null,null,null,null,null,null,null,1,1]
[null,null,null,null,null,null,null,null,null,null,null,null,1,1]
[null,null,null,null,null,null,null,null,null,null,null,null,1,1]
[null,null,null,null,null,null,null,null,null,null,null,null,1,1]
[null,null,null,null,null,null,null,null,null,null,null,null,1,1]
[null,null,null,null,null,null,null,null,null,null,null,null,1,1]
[null,null,null,null,null,null,null,null,null,null,null,null,1,1]
[null,null,null,null,null,null,null,null,null,null,null,null,1,1]
[null,null,null,null,null,null,null,null,null,null,null,null,1,1]
[null,null,null,null,null,null,null,null,null,null,null,null,1,1]
[null,null,null,null,null,null,null,null,null,null,null,null,1,1]
[null,null,null,null,null,null,null,null,null,null,null,null,1,1]
[null,null,null,null,null,null,null,null,null,null,null,null,1,1]
[null,null,null,null,null,null,null,null,null,null,null,null,1,1]
[null,null,null,null,null,null,null,null,null,null,null,null,1,1]
[null,null,null,null,null,null,null,null,null,null,null,null,1,1]
[null,null,null,null,null,null,null,null,null,null,null,null,1,1]
[null,null,null,null,null,null,null,null,null,null,null,null,1,1]
[null,null,null,null,null,null,null,null,null,null,null,null,1,1]
[null,null,null,null,null,null,null,null,null,null,null,null,1,1]
[null,null,null,null,null,null,null,null,null,null,null,null,1,1]
[null,null,null,null,null,null,null,null,null,null,null,null,1,1]
[null,null,null,null,null,null,null,null,null,null,null,null,1,1]
[null,null,null,null,null,null,null,null,null,null,null,null,1,1]
[null,null,null,null,null,null,null,null,null,null,null,null,1,1]
[null,null,null,null,null,null,null,null,null,null,null,null,1,1]
[null,null,null,null,null,null,null,null,null,null,null,null,1,1]
[null,null,null,null,null,null,null,null,null,null,null,null,1,1]
[null,null,null,null,null,null,null,null,null,null,null,null,1,1]
[null,null,null,null,null,null,null,null,null,null,null,null,1,1]
[null,null,null,null,null,null,null,null,null,null,null,null,1,1]
[null,null,null,null,null,null,null,null,null,null,null,null,1,1]
[null,null,null,null,null,null,null,null,null,null,null,null,1,1]
[null,null,null,null,null,null,null,null,null,null,null,null,1,1]
[null,null,null,null,null,null,null,null,null,null,null,null,1,1]
[null,null,null,null,null,null,null,null,null,null,null,null,1,1]
[null,null,null,null,null,null,null,null,null,null,null,null,1,1]
[null,null,null,null,null,null,null,null,null,null,null,null,{"$f":"MATCH(B652,$F$8:$F$41)","v":1},{"$f":"MATCH(B652,$H$8:$H$41)","v":1}]
[null,null,null,null,null,null,null,null,null,null,null,null,1,1]
[null,null,null,null,null,null,null,null,null,null,null,null,1,1]
[null,null,null,null,null,null,null,null,null,null,null,null,1,1]
[null,null,null,null,null,null,null,null,null,null,null,null,1,1]
[null,null,null,null,null,null,null,null,null,null,null,null,1,1]
[null,null,null,null,null,null,null,null,null,null,null,null,1,1]
[null,null,null,null,null,null,null,null,null,null,null,null,1,1]
[null,null,null,null,null,null,null,null,null,null,null,null,1,1]
[null,null,null,null,null,null,null,null,null,null,null,null,1,1]
[null,null,null,null,null,null,null,null,null,null,null,null,1,1]
[null,null,null,null,null,null,null,null,null,null,null,null,1,1]
[null,null,null,null,null,null,null,null,null,null,null,null,1,1]
[null,null,null,null,null,null,null,null,null,null,null,null,1,1]
[null,null,null,null,null,null,null,null,null,null,null,null,1,1]
[null,null,null,null,null,null,null,null,null,null,null,null,1,1]
[null,null,null,null,null,null,null,null,null,null,null,null,1,1]
[null,null,null,null,null,null,null,null,null,null,null,null,1,1]
[null,null,null,null,null,null,null,null,null,null,null,null,1,1]
[null,null,null,null,null,null,null,null,null,null,null,null,1,1]
[null,null,null,null,null,null,null,null,null,null,null,null,1,1]
[null,null,null,null,null,null,null,null,null,null,null,null,1,1]
[null,null,null,null,null,null,null,null,null,null,null,null,1,1]
[null,null,null,null,null,null,null,null,null,null,null,null,1,1]
[null,null,null,null,null,null,null,null,null,null,null,null,1,1]
[null,null,null,null,null,null,null,null,null,null,null,null,1,1]
[null,null,null,null,null,null,null,null,null,null,null,null,1,1]
[null,null,null,null,null,null,null,null,null,null,null,null,1,1]
[null,null,null,null,null,null,null,null,null,null,null,null,1,1]
[null,null,null,null,null,null,null,null,null,null,null,null,1,1]
[null,null,null,null,null,null,null,null,null,null,null,null,1,1]
[null,null,null,null,null,null,null,null,null,null,null,null,1,1]
[null,null,null,null,null,null,null,null,null,null,null,null,1,1]
[null,null,null,null,null,null,null,null,null,null,null,null,1,1]
[null,null,null,null,null,null,null,null,null,null,null,null,1,1]
[null,null,null,null,null,null,null,null,null,null,null,null,1,1]
[null,null,null,null,null,null,null,null,null,null,null,null,1,1]
[null,null,null,null,null,null,null,null,null,null,null,null,1,1]
[null,null,null,null,null,null,null,null,null,null,null,null,1,1]
[null,null,null,null,null,null,null,null,null,null,null,null,1,1]
[null,null,null,null,null,null,null,null,null,null,null,null,1,1]
[null,null,null,null,null,null,null,null,null,null,null,null,1,1]
[null,null,null,null,null,null,null,null,null,null,null,null,1,1]
[null,null,null,null,null,null,null,null,null,null,null,null,1,1]
[null,null,null,null,null,null,null,null,null,null,null,null,1,1]
[null,null,null,null,null,null,null,null,null,null,null,null,1,1]
[null,null,null,null,null,null,null,null,null,null,null,null,1,1]
[null,null,null,null,null,null,null,null,null,null,null,null,1,1]
[null,null,null,null,null,null,null,null,null,null,null,null,1,1]
[null,null,null,null,null,null,null,null,null,null,null,null,1,1]
[null,null,null,null,null,null,null,null,null,null,null,null,1,1]
[null,null,null,null,null,null,null,null,null,null,null,null,1,1]
[null,null,null,null,null,null,null,null,null,null,null,null,1,1]
[null,null,null,null,null,null,null,null,null,null,null,null,1,1]
[null,null,null,null,null,null,null,null,null,null,null,null,1,1]
[null,null,null,null,null,null,null,null,null,null,null,null,1,1]
[null,null,null,null,null,null,null,null,null,null,null,null,1,1]
[null,null,null,null,null,null,null,null,null,null,null,null,1,1]
[null,null,null,null,null,null,null,null,null,null,null,null,1,1]
[null,null,null,null,null,null,null,null,null,null,null,null,1,1]
[null,null,null,null,null,null,null,null,null,null,null,null,1,1]
[null,null,null,null,null,null,null,null,null,null,null,null,1,1]
[null,null,null,null,null,null,null,null,null,null,null,null,1,1]
[null,null,null,null,null,null,null,null,null,null,null,null,1,1]
[null,null,null,null,null,null,null,null,null,null,null,null,{"$f":"MATCH(B716,$F$8:$F$41)","v":1},{"$f":"MATCH(B716,$H$8:$H$41)","v":1}]
[null,null,null,null,null,null,null,null,null,null,null,null,1,1]
[null,null,null,null,null,null,null,null,null,null,null,null,1,1]
[null,null,null,null,null,null,null,null,null,null,null,null,1,1]
[null,null,null,null,null,null,null,null,null,null,null,null,1,1]
[null,null,null,null,null,null,null,null,null,null,null,null,1,1]
[null,null,null,null,null,null,null,null,null,null,null,null,1,1]
[null,null,null,null,null,null,null,null,null,null,null,null,1,1]
[null,null,null,null,null,null,null,null,null,null,null,null,1,1]
[null,null,null,null,null,null,null,null,null,null,null,null,1,1]
[null,null,null,null,null,null,null,null,null,null,null,null,1,1]
[null,null,null,null,null,null,null,null,null,null,null,null,1,1]
[null,null,null,null,null,null,null,null,null,null,null,null,1,1]
[null,null,null,null,null,null,null,null,null,null,null,null,1,1]
[null,null,null,null,null,null,null,null,null,null,null,null,1,1]
[null,null,null,null,null,null,null,null,null,null,null,null,1,1]
[null,null,null,null,null,null,null,null,null,null,null,null,1,1]
[null,null,null,null,null,null,null,null,null,null,null,null,1,1]
[null,null,null,null,null,null,null,null,null,null,null,null,1,1]
[null,null,null,null,null,null,null,null,null,null,null,null,1,1]
[null,null,null,null,null,null,null,null,null,null,null,null,1,1]
[null,null,null,null,null,null,null,null,null,null,null,null,1,1]
[null,null,null,null,null,null,null,null,null,null,null,null,1,1]
[null,null,null,null,null,null,null,null,null,null,null,null,1,1]
[null,null,null,null,null,null,null,null,null,null,null,null,1,1]
[null,null,null,null,null,null,null,null,null,null,null,null,1,1]
[null,null,null,null,null,null,null,null,null,null,null,null,1,1]
[null,null,null,null,null,null,null,null,null,null,null,null,1,1]
[null,null,null,null,null,null,null,null,null,null,null,null,1,1]
[null,null,null,null,null,null,null,null,null,null,null,null,1,1]
[null,null,null,null,null,null,null,null,null,null,null,null,1,1]
[null,null,null,null,null,null,null,null,null,null,null,null,1,1]
[null,null,null,null,null,null,null,null,null,null,null,null,1,1]
[null,null,null,null,null,null,null,null,null,null,null,null,1,1]
[null,null,null,null,null,null,null,null,null,null,null,null,1,1]
[null,null,null,null,null,null,null,null,null,null,null,null,1,1]
[null,null,null,null,null,null,null,null,null,null,null,null,1,1]
[null,null,null,null,null,null,null,null,null,null,null,null,1,1]
[null,null,null,null,null,null,null,null,null,null,null,null,1,1]
[null,null,null,null,null,null,null,null,null,null,null,null,1,1]
[null,null,null,null,null,null,null,null,null,null,null,null,1,1]
[null,null,null,null,null,null,null,null,null,null,null,null,1,1]
[null,null,null,null,null,null,null,null,null,null,null,null,1,1]
[null,null,null,null,null,null,null,null,null,null,null,null,1,1]
[null,null,null,null,null,null,null,null,null,null,null,null,1,1]
[null,null,null,null,null,null,null,null,null,null,null,null,1,1]
[null,null,null,null,null,null,null,null,null,null,null,null,1,1]
[null,null,null,null,null,null,null,null,null,null,null,null,1,1]
[null,null,null,null,null,null,null,null,null,null,null,null,1,1]
[null,null,null,null,null,null,null,null,null,null,null,null,1,1]
[null,null,null,null,null,null,null,null,null,null,null,null,1,1]
[null,null,null,null,null,null,null,null,null,null,null,null,1,1]
[null,null,null,null,null,null,null,null,null,null,null,null,1,1]
[null,null,null,null,null,null,null,null,null,null,null,null,1,1]
[null,null,null,null,null,null,null,null,null,null,null,null,1,1]
[null,null,null,null,null,null,null,null,null,null,null,null,1,1]
[null,null,null,null,null,null,null,null,null,null,null,null,1,1]
[null,null,null,null,null,null,null,null,null,null,null,null,1,1]
[null,null,null,null,null,null,null,null,null,null,null,null,1,1]
[null,null,null,null,null,null,null,null,null,null,null,null,1,1]
[null,null,null,null,null,null,null,null,null,null,null,null,1,1]
[null,null,null,null,null,null,null,null,null,null,null,null,1,1]
[null,null,null,null,null,null,null,null,null,null,null,null,1,1]
[null,null,null,null,null,null,null,null,null,null,null,null,1,1]
[null,null,null,null,null,null,null,null,null,null,null,null,{"$f":"MATCH(B780,$F$8:$F$41)","v":1},{"$f":"MATCH(B780,$H$8:$H$41)","v":1}]
[null,null,null,null,null,null,null,null,null,null,null,null,1,1]
[null,null,null,null,null,null,null,null,null,null,null,null,1,1]
[null,null,null,null,null,null,null,null,null,null,null,null,1,1]
[null,null,null,null,null,null,null,null,null,null,null,null,1,1]
[null,null,null,null,null,null,null,null,null,null,null,null,1,1]
[null,null,null,null,null,null,null,null,null,null,null,null,1,1]
[null,null,null,null,null,null,null,null,null,null,null,null,1,1]
[null,null,null,null,null,null,null,null,null,null,null,null,1,1]
[null,null,null,null,null,null,null,null,null,null,null,null,1,1]
[null,null,null,null,null,null,null,null,null,null,null,null,1,1]
[null,null,null,null,null,null,null,null,null,null,null,null,1,1]
[null,null,null,null,null,null,null,null,null,null,null,null,1,1]
[null,null,null,null,null,null,null,null,null,null,null,null,1,1]
[null,null,null,null,null,null,null,null,null,null,null,null,1,1]
[null,null,null,null,null,null,null,null,null,null,null,null,1,1]
[null,null,null,null,null,null,null,null,null,null,null,null,1,1]
[null,null,null,null,null,null,null,null,null,null,null,null,1,1]
[null,null,null,null,null,null,null,null,null,null,null,null,1,1]
[null,null,null,null,null,null,null,null,null,null,null,null,1,1]
[null,null,null,null,null,null,null,null,null,null,null,null,1,1]
[null,null,null,null,null,null,null,null,null,null,null,null,1,1]
[null,null,null,null,null,null,null,null,null,null,null,null,1,1]
[null,null,null,null,null,null,null,null,null,null,null,null,1,1]
[null,null,null,null,null,null,null,null,null,null,null,null,1,1]
[null,null,null,null,null,null,null,null,null,null,null,null,1,1]
[null,null,null,null,null,null,null,null,null,null,null,null,1,1]
[null,null,null,null,null,null,null,null,null,null,null,null,1,1]
[null,null,null,null,null,null,null,null,null,null,null,null,1,1]
[null,null,null,null,null,null,null,null,null,null,null,null,1,1]
[null,null,null,null,null,null,null,null,null,null,null,null,1,1]
[null,null,null,null,null,null,null,null,null,null,null,null,1,1]
[null,null,null,null,null,null,null,null,null,null,null,null,1,1]
[null,null,null,null,null,null,null,null,null,null,null,null,1,1]
[null,null,null,null,null,null,null,null,null,null,null,null,1,1]
[null,null,null,null,null,null,null,null,null,null,null,null,1,1]
[null,null,null,null,null,null,null,null,null,null,null,null,1,1]
[null,null,null,null,null,null,null,null,null,null,null,null,1,1]
[null,null,null,null,null,null,null,null,null,null,null,null,1,1]
[null,null,null,null,null,null,null,null,null,null,null,null,1,1]
[null,null,null,null,null,null,null,null,null,null,null,null,1,1]
[null,null,null,null,null,null,null,null,null,null,null,null,1,1]
[null,null,null,null,null,null,null,null,null,null,null,null,1,1]
[null,null,null,null,null,null,null,null,null,null,null,null,1,1]
[null,null,null,null,null,null,null,null,null,null,null,null,1,1]
[null,null,null,null,null,null,null,null,null,null,null,null,1,1]
[null,null,null,null,null,null,null,null,null,null,null,null,1,1]
[null,null,null,null,null,null,null,null,null,null,null,null,1,1]
[null,null,null,null,null,null,null,null,null,null,null,null,1,1]
[null,null,null,null,null,null,null,null,null,null,null,null,1,1]
[null,null,null,null,null,null,null,null,null,null,null,null,1,1]
[null,null,null,null,null,null,null,null,null,null,null,null,1,1]
[null,null,null,null,null,null,null,null,null,null,null,null,1,1]
[null,null,null,null,null,null,null,null,null,null,null,null,1,1]
[null,null,null,null,null,null,null,null,null,null,null,null,1,1]
[null,null,null,null,null,null,null,null,null,null,null,null,1,1]
[null,null,null,null,null,null,null,null,null,null,null,null,1,1]
[null,null,null,null,null,null,null,null,null,null,null,null,1,1]
[null,null,null,null,null,null,null,null,null,null,null,null,1,1]
[null,null,null,null,null,null,null,null,null,null,null,null,1,1]
[null,null,null,null,null,null,null,null,null,null,null,null,1,1]
[null,null,null,null,null,null,null,null,null,null,null,null,1,1]
[null,null,null,null,null,null,null,null,null,null,null,null,1,1]
[null,null,null,null,null,null,null,null,null,null,null,null,1,1]
[null,null,null,null,null,null,null,null,null,null,null,null,{"$f":"MATCH(B844,$F$8:$F$41)","v":1},{"$f":"MATCH(B844,$H$8:$H$41)","v":1}]
[null,null,null,null,null,null,null,null,null,null,null,null,1,1]
[null,null,null,null,null,null,null,null,null,null,null,null,1,1]
[null,null,null,null,null,null,null,null,null,null,null,null,1,1]
[null,null,null,null,null,null,null,null,null,null,null,null,1,1]
[null,null,null,null,null,null,null,null,null,null,null,null,1,1]
[null,null,null,null,null,null,null,null,null,null,null,null,1,1]
[null,null,null,null,null,null,null,null,null,null,null,null,1,1]
[null,null,null,null,null,null,null,null,null,null,null,null,1,1]
[null,null,null,null,null,null,null,null,null,null,null,null,1,1]
[null,null,null,null,null,null,null,null,null,null,null,null,1,1]
[null,null,null,null,null,null,null,null,null,null,null,null,1,1]
[null,null,null,null,null,null,null,null,null,null,null,null,1,1]
[null,null,null,null,null,null,null,null,null,null,null,null,1,1]
[null,null,null,null,null,null,null,null,null,null,null,null,1,1]
[null,null,null,null,null,null,null,null,null,null,null,null,1,1]
[null,null,null,null,null,null,null,null,null,null,null,null,1,1]
[null,null,null,null,null,null,null,null,null,null,null,null,1,1]
[null,null,null,null,null,null,null,null,null,null,null,null,1,1]
[null,null,null,null,null,null,null,null,null,null,null,null,1,1]
[null,null,null,null,null,null,null,null,null,null,null,null,1,1]
[null,null,null,null,null,null,null,null,null,null,null,null,1,1]
[null,null,null,null,null,null,null,null,null,null,null,null,1,1]
[null,null,null,null,null,null,null,null,null,null,null,null,1,1]
[null,null,null,null,null,null,null,null,null,null,null,null,1,1]
[null,null,null,null,null,null,null,null,null,null,null,null,1,1]
[null,null,null,null,null,null,null,null,null,null,null,null,1,1]
[null,null,null,null,null,null,null,null,null,null,null,null,1,1]
[null,null,null,null,null,null,null,null,null,null,null,null,1,1]
[null,null,null,null,null,null,null,null,null,null,null,null,1,1]
[null,null,null,null,null,null,null,null,null,null,null,null,1,1]
[null,null,null,null,null,null,null,null,null,null,null,null,1,1]
[null,null,null,null,null,null,null,null,null,null,null,null,1,1]
[null,null,null,null,null,null,null,null,null,null,null,null,1,1]
[null,null,null,null,null,null,null,null,null,null,null,null,1,1]
[null,null,null,null,null,null,null,null,null,null,null,null,1,1]
[null,null,null,null,null,null,null,null,null,null,null,null,1,1]
[null,null,null,null,null,null,null,null,null,null,null,null,1,1]
[null,null,null,null,null,null,null,null,null,null,null,null,1,1]
[null,null,null,null,null,null,null,null,null,null,null,null,1,1]
[null,null,null,null,null,null,null,null,null,null,null,null,1,1]
[null,null,null,null,null,null,null,null,null,null,null,null,1,1]
[null,null,null,null,null,null,null,null,null,null,null,null,1,1]
[null,null,null,null,null,null,null,null,null,null,null,null,1,1]
[null,null,null,null,null,null,null,null,null,null,null,null,1,1]
[null,null,null,null,null,null,null,null,null,null,null,null,1,1]
[null,null,null,null,null,null,null,null,null,null,null,null,1,1]
[null,null,null,null,null,null,null,null,null,null,null,null,1,1]
[null,null,null,null,null,null,null,null,null,null,null,null,1,1]
[null,null,null,null,null,null,null,null,null,null,null,null,1,1]
[null,null,null,null,null,null,null,null,null,null,null,null,1,1]
[null,null,null,null,null,null,null,null,null,null,null,null,1,1]
[null,null,null,null,null,null,null,null,null,null,null,null,1,1]
[null,null,null,null,null,null,null,null,null,null,null,null,1,1]
[null,null,null,null,null,null,null,null,null,null,null,null,1,1]
[null,null,null,null,null,null,null,null,null,null,null,null,1,1]
[null,null,null,null,null,null,null,null,null,null,null,null,1,1]
[null,null,null,null,null,null,null,null,null,null,null,null,1,1]
[null,null,null,null,null,null,null,null,null,null,null,null,1,1]
[null,null,null,null,null,null,null,null,null,null,null,null,1,1]
[null,null,null,null,null,null,null,null,null,null,null,null,1,1]
[null,null,null,null,null,null,null,null,null,null,null,null,1,1]
[null,null,null,null,null,null,null,null,null,null,null,null,1,1]
[null,null,null,null,null,null,null,null,null,null,null,null,1,1]
[null,null,null,null,null,null,null,null,null,null,null,null,{"$f":"MATCH(B908,$F$8:$F$41)","v":1},{"$f":"MATCH(B908,$H$8:$H$41)","v":1}]
[null,null,null,null,null,null,null,null,null,null,null,null,1,1]
[null,null,null,null,null,null,null,null,null,null,null,null,1,1]
[null,null,null,null,null,null,null,null,null,null,null,null,1,1]
[null,null,null,null,null,null,null,null,null,null,null,null,1,1]
[null,null,null,null,null,null,null,null,null,null,null,null,1,1]
[null,null,null,null,null,null,null,null,null,null,null,null,1,1]
[null,null,null,null,null,null,null,null,null,null,null,null,1,1]
[null,null,null,null,null,null,null,null,null,null,null,null,1,1]
[null,null,null,null,null,null,null,null,null,null,null,null,1,1]
[null,null,null,null,null,null,null,null,null,null,null,null,1,1]
[null,null,null,null,null,null,null,null,null,null,null,null,1,1]
[null,null,null,null,null,null,null,null,null,null,null,null,1,1]
[null,null,null,null,null,null,null,null,null,null,null,null,1,1]
[null,null,null,null,null,null,null,null,null,null,null,null,1,1]
[null,null,null,null,null,null,null,null,null,null,null,null,1,1]
[null,null,null,null,null,null,null,null,null,null,null,null,1,1]
[null,null,null,null,null,null,null,null,null,null,null,null,1,1]
[null,null,null,null,null,null,null,null,null,null,null,null,1,1]
[null,null,null,null,null,null,null,null,null,null,null,null,1,1]
[null,null,null,null,null,null,null,null,null,null,null,null,1,1]
[null,null,null,null,null,null,null,null,null,null,null,null,1,1]
[null,null,null,null,null,null,null,null,null,null,null,null,1,1]
[null,null,null,null,null,null,null,null,null,null,null,null,1,1]
[null,null,null,null,null,null,null,null,null,null,null,null,1,1]
[null,null,null,null,null,null,null,null,null,null,null,null,1,1]
[null,null,null,null,null,null,null,null,null,null,null,null,1,1]
[null,null,null,null,null,null,null,null,null,null,null,null,1,1]
[null,null,null,null,null,null,null,null,null,null,null,null,1,1]
[null,null,null,null,null,null,null,null,null,null,null,null,1,1]
[null,null,null,null,null,null,null,null,null,null,null,null,1,1]
[null,null,null,null,null,null,null,null,null,null,null,null,1,1]
[null,null,null,null,null,null,null,null,null,null,null,null,1,1]
[null,null,null,null,null,null,null,null,null,null,null,null,1,1]
[null,null,null,null,null,null,null,null,null,null,null,null,1,1]
[null,null,null,null,null,null,null,null,null,null,null,null,1,1]
[null,null,null,null,null,null,null,null,null,null,null,null,1,1]
[null,null,null,null,null,null,null,null,null,null,null,null,1,1]
[null,null,null,null,null,null,null,null,null,null,null,null,1,1]
[null,null,null,null,null,null,null,null,null,null,null,null,1,1]
[null,null,null,null,null,null,null,null,null,null,null,null,1,1]
[null,null,null,null,null,null,null,null,null,null,null,null,1,1]
[null,null,null,null,null,null,null,null,null,null,null,null,1,1]
[null,null,null,null,null,null,null,null,null,null,null,null,1,1]
[null,null,null,null,null,null,null,null,null,null,null,null,1,1]
[null,null,null,null,null,null,null,null,null,null,null,null,1,1]
[null,null,null,null,null,null,null,null,null,null,null,null,1,1]
[null,null,null,null,null,null,null,null,null,null,null,null,1,1]
[null,null,null,null,null,null,null,null,null,null,null,null,1,1]
[null,null,null,null,null,null,null,null,null,null,null,null,1,1]
[null,null,null,null,null,null,null,null,null,null,null,null,1,1]
[null,null,null,null,null,null,null,null,null,null,null,null,1,1]
[null,null,null,null,null,null,null,null,null,null,null,null,1,1]
[null,null,null,null,null,null,null,null,null,null,null,null,1,1]
[null,null,null,null,null,null,null,null,null,null,null,null,1,1]
[null,null,null,null,null,null,null,null,null,null,null,null,1,1]
[null,null,null,null,null,null,null,null,null,null,null,null,1,1]
[null,null,null,null,null,null,null,null,null,null,null,null,1,1]
[null,null,null,null,null,null,null,null,null,null,null,null,1,1]
[null,null,null,null,null,null,null,null,null,null,null,null,1,1]
[null,null,null,null,null,null,null,null,null,null,null,null,1,1]
[null,null,null,null,null,null,null,null,null,null,null,null,1,1]
[null,null,null,null,null,null,null,null,null,null,null,null,1,1]
[null,null,null,null,null,null,null,null,null,null,null,null,1,1]
[null,null,null,null,null,null,null,null,null,null,null,null,{"$f":"MATCH(B972,$F$8:$F$41)","v":1},{"$f":"MATCH(B972,$H$8:$H$41)","v":1}]
[null,null,null,null,null,null,null,null,null,null,null,null,1,1]
[null,null,null,null,null,null,null,null,null,null,null,null,1,1]
[null,null,null,null,null,null,null,null,null,null,null,null,1,1]
[null,null,null,null,null,null,null,null,null,null,null,null,1,1]
[null,null,null,null,null,null,null,null,null,null,null,null,1,1]
[null,null,null,null,null,null,null,null,null,null,null,null,1,1]
[null,null,null,null,null,null,null,null,null,null,null,null,1,1]
[null,null,null,null,null,null,null,null,null,null,null,null,1,1]
[null,null,null,null,null,null,null,null,null,null,null,null,1,1]
[null,null,null,null,null,null,null,null,null,null,null,null,1,1]
[null,null,null,null,null,null,null,null,null,null,null,null,1,1]
[null,null,null,null,null,null,null,null,null,null,null,null,1,1]
[null,null,null,null,null,null,null,null,null,null,null,null,1,1]
[null,null,null,null,null,null,null,null,null,null,null,null,1,1]
[null,null,null,null,null,null,null,null,null,null,null,null,1,1]
[null,null,null,null,null,null,null,null,null,null,null,null,1,1]
[null,null,null,null,null,null,null,null,null,null,null,null,1,1]
[null,null,null,null,null,null,null,null,null,null,null,null,1,1]
[null,null,null,null,null,null,null,null,null,null,null,null,1,1]
[null,null,null,null,null,null,null,null,null,null,null,null,1,1]
[null,null,null,null,null,null,null,null,null,null,null,null,1,1]
[null,null,null,null,null,null,null,null,null,null,null,null,1,1]
[null,null,null,null,null,null,null,null,null,null,null,null,1,1]
[null,null,null,null,null,null,null,null,null,null,null,null,1,1]
[null,null,null,null,null,null,null,null,null,null,null,null,1,1]
[null,null,null,null,null,null,null,null,null,null,null,null,1,1]
[null,null,null,null,null,null,null,null,null,null,null,null,1,1]
[null,null,null,null,null,null,null,null,null,null,null,null,1,1]
[null,null,null,null,null,null,null,null,null,null,null,null,1,1]
[null,null,null,null,null,null,null,null,null,null,null,null,1,1]
[null,null,null,null,null,null,null,null,null,null,null,null,1,1]
[null,null,null,null,null,null,null,null,null,null,null,null,1,1]
[null,null,null,null,null,null,null,null,null,null,null,null,1,1]
[null,null,null,null,null,null,null,null,null,null,null,null,1,1]
[null,null,null,null,null,null,null,null,null,null,null,null,1,1]
[null,null,null,null,null,null,null,null,null,null,null,null,1,1]
[null,null,null,null,null,null,null,null,null,null,null,null,1,1]
[null,null,null,null,null,null,null,null,null,null,null,null,1,1]
[null,null,null,null,null,null,null,null,null,null,null,null,1,1]
[null,null,null,null,null,null,null,null,null,null,null,null,1,1]
[null,null,null,null,null,null,null,null,null,null,null,null,1,1]
[null,null,null,null,null,null,null,null,null,null,null,null,1,1]
[null,null,null,null,null,null,null,null,null,null,null,null,1,1]
[null,null,null,null,null,null,null,null,null,null,null,null,1,1]
[null,null,null,null,null,null,null,null,null,null,null,null,1,1]
[null,null,null,null,null,null,null,null,null,null,null,null,1,1]
[null,null,null,null,null,null,null,null,null,null,null,null,1,1]
[null,null,null,null,null,null,null,null,null,null,null,null,1,1]
[null,null,null,null,null,null,null,null,null,null,null,null,1,1]
[null,null,null,null,null,null,null,null,null,null,null,null,1,1]
[null,null,null,null,null,null,null,null,null,null,null,null,1,1]
[null,null,null,null,null,null,null,null,null,null,null,null,1,1]
[null,null,null,null,null,null,null,null,null,null,null,null,1,1]
[null,null,null,null,null,null,null,null,null,null,null,null,1,1]
[null,null,null,null,null,null,null,null,null,null,null,null,1,1]
[null,null,null,null,null,null,null,null,null,null,null,null,1,1]
[null,null,null,null,null,null,null,null,null,null,null,null,1,1]
[null,null,null,null,null,null,null,null,null,null,null,null,1,1]
[null,null,null,null,null,null,null,null,null,null,null,null,1,1]
[null,null,null,null,null,null,null,null,null,null,null,null,1,1]
[null,null,null,null,null,null,null,null,null,null,null,null,1,1]
[null,null,null,null,null,null,null,null,null,null,null,null,1,1]
[null,null,null,null,null,null,null,null,null,null,null,null,1,1]
[null,null,null,null,null,null,null,null,null,null,null,null,{"$f":"MATCH(B1036,$F$8:$F$41)","v":1},{"$f":"MATCH(B1036,$H$8:$H$41)","v":1}]
[null,null,null,null,null,null,null,null,null,null,null,null,1,1]
[null,null,null,null,null,null,null,null,null,null,null,null,1,1]
[null,null,null,null,null,null,null,null,null,null,null,null,1,1]
[null,null,null,null,null,null,null,null,null,null,null,null,1,1]
[null,null,null,null,null,null,null,null,null,null,null,null,1,1]
[null,null,null,null,null,null,null,null,null,null,null,null,1,1]
[null,null,null,null,null,null,null,null,null,null,null,null,1,1]
[null,null,null,null,null,null,null,null,null,null,null,null,1,1]
[null,null,null,null,null,null,null,null,null,null,null,null,1,1]
[null,null,null,null,null,null,null,null,null,null,null,null,1,1]
[null,null,null,null,null,null,null,null,null,null,null,null,1,1]
[null,null,null,null,null,null,null,null,null,null,null,null,1,1]
[null,null,null,null,null,null,null,null,null,null,null,null,1,1]
[null,null,null,null,null,null,null,null,null,null,null,null,1,1]
[null,null,null,null,null,null,null,null,null,null,null,null,1,1]
[null,null,null,null,null,null,null,null,null,null,null,null,1,1]
[null,null,null,null,null,null,null,null,null,null,null,null,1,1]
[null,null,null,null,null,null,null,null,null,null,null,null,1,1]
[null,null,null,null,null,null,null,null,null,null,null,null,1,1]
[null,null,null,null,null,null,null,null,null,null,null,null,1,1]
[null,null,null,null,null,null,null,null,null,null,null,null,1,1]
[null,null,null,null,null,null,null,null,null,null,null,null,1,1]
[null,null,null,null,null,null,null,null,null,null,null,null,1,1]
[null,null,null,null,null,null,null,null,null,null,null,null,1,1]
[null,null,null,null,null,null,null,null,null,null,null,null,1,1]
[null,null,null,null,null,null,null,null,null,null,null,null,1,1]
[null,null,null,null,null,null,null,null,null,null,null,null,1,1]
[null,null,null,null,null,null,null,null,null,null,null,null,1,1]
[null,null,null,null,null,null,null,null,null,null,null,null,1,1]
[null,null,null,null,null,null,null,null,null,null,null,null,1,1]
[null,null,null,null,null,null,null,null,null,null,null,null,1,1]
[null,null,null,null,null,null,null,null,null,null,null,null,1,1]
[null,null,null,null,null,null,null,null,null,null,null,null,1,1]
[null,null,null,null,null,null,null,null,null,null,null,null,1,1]
[null,null,null,null,null,null,null,null,null,null,null,null,1,1]
[null,null,null,null,null,null,null,null,null,null,null,null,1,1]
[null,null,null,null,null,null,null,null,null,null,null,null,1,1]
[null,null,null,null,null,null,null,null,null,null,null,null,1,1]
[null,null,null,null,null,null,null,null,null,null,null,null,1,1]
[null,null,null,null,null,null,null,null,null,null,null,null,1,1]
[null,null,null,null,null,null,null,null,null,null,null,null,1,1]
[null,null,null,null,null,null,null,null,null,null,null,null,1,1]
[null,null,null,null,null,null,null,null,null,null,null,null,1,1]
[null,null,null,null,null,null,null,null,null,null,null,null,1,1]
[null,null,null,null,null,null,null,null,null,null,null,null,1,1]
[null,null,null,null,null,null,null,null,null,null,null,null,1,1]
[null,null,null,null,null,null,null,null,null,null,null,null,1,1]
[null,null,null,null,null,null,null,null,null,null,null,null,1,1]
[null,null,null,null,null,null,null,null,null,null,null,null,1,1]
[null,null,null,null,null,null,null,null,null,null,null,null,1,1]
[null,null,null,null,null,null,null,null,null,null,null,null,1,1]
[null,null,null,null,null,null,null,null,null,null,null,null,1,1]
[null,null,null,null,null,null,null,null,null,null,null,null,1,1]
[null,null,null,null,null,null,null,null,null,null,null,null,1,1]
[null,null,null,null,null,null,null,null,null,null,null,null,1,1]
[null,null,null,null,null,null,null,null,null,null,null,null,1,1]
[null,null,null,null,null,null,null,null,null,null,null,null,1,1]
[null,null,null,null,null,null,null,null,null,null,null,null,1,1]
[null,null,null,null,null,null,null,null,null,null,null,null,1,1]
[null,null,null,null,null,null,null,null,null,null,null,null,1,1]
[null,null,null,null,null,null,null,null,null,null,null,null,1,1]
[null,null,null,null,null,null,null,null,null,null,null,null,1,1]
[null,null,null,null,null,null,null,null,null,null,null,null,1,1]
[null,null,null,null,null,null,null,null,null,null,null,null,{"$f":"MATCH(B1100,$F$8:$F$41)","v":1},{"$f":"MATCH(B1100,$H$8:$H$41)","v":1}]
[null,null,null,null,null,null,null,null,null,null,null,null,1,1]
[null,null,null,null,null,null,null,null,null,null,null,null,1,1]
[null,null,null,null,null,null,null,null,null,null,null,null,1,1]
[null,null,null,null,null,null,null,null,null,null,null,null,1,1]
[null,null,null,null,null,null,null,null,null,null,null,null,1,1]
[null,null,null,null,null,null,null,null,null,null,null,null,1,1]
[null,null,null,null,null,null,null,null,null,null,null,null,1,1]
[null,null,null,null,null,null,null,null,null,null,null,null,1,1]
[null,null,null,null,null,null,null,null,null,null,null,null,1,1]
[null,null,null,null,null,null,null,null,null,null,null,null,1,1]
[null,null,null,null,null,null,null,null,null,null,null,null,1,1]
[null,null,null,null,null,null,null,null,null,null,null,null,1,1]
[null,null,null,null,null,null,null,null,null,null,null,null,1,1]
[null,null,null,null,null,null,null,null,null,null,null,null,1,1]
[null,null,null,null,null,null,null,null,null,null,null,null,1,1]
[null,null,null,null,null,null,null,null,null,null,null,null,1,1]
[null,null,null,null,null,null,null,null,null,null,null,null,1,1]
[null,null,null,null,null,null,null,null,null,null,null,null,1,1]
[null,null,null,null,null,null,null,null,null,null,null,null,1,1]
[null,null,null,null,null,null,null,null,null,null,null,null,1,1]
[null,null,null,null,null,null,null,null,null,null,null,null,1,1]
[null,null,null,null,null,null,null,null,null,null,null,null,1,1]
[null,null,null,null,null,null,null,null,null,null,null,null,1,1]
[null,null,null,null,null,null,null,null,null,null,null,null,1,1]
[null,null,null,null,null,null,null,null,null,null,null,null,1,1]
[null,null,null,null,null,null,null,null,null,null,null,null,1,1]
[null,null,null,null,null,null,null,null,null,null,null,null,1,1]
[null,null,null,null,null,null,null,null,null,null,null,null,1,1]
[null,null,null,null,null,null,null,null,null,null,null,null,1,1]
[null,null,null,null,null,null,null,null,null,null,null,null,1,1]
[null,null,null,null,null,null,null,null,null,null,null,null,1,1]
[null,null,null,null,null,null,null,null,null,null,null,null,1,1]
[null,null,null,null,null,null,null,null,null,null,null,null,1,1]
[null,null,null,null,null,null,null,null,null,null,null,null,1,1]
[null,null,null,null,null,null,null,null,null,null,null,null,1,1]
[null,null,null,null,null,null,null,null,null,null,null,null,1,1]
[null,null,null,null,null,null,null,null,null,null,null,null,1,1]
[null,null,null,null,null,null,null,null,null,null,null,null,1,1]
[null,null,null,null,null,null,null,null,null,null,null,null,1,1]
[null,null,null,null,null,null,null,null,null,null,null,null,1,1]
[null,null,null,null,null,null,null,null,null,null,null,null,1,1]
[null,null,null,null,null,null,null,null,null,null,null,null,1,1]
[null,null,null,null,null,null,null,null,null,null,null,null,1,1]
[null,null,null,null,null,null,null,null,null,null,null,null,1,1]
[null,null,null,null,null,null,null,null,null,null,null,null,1,1]
[null,null,null,null,null,null,null,null,null,null,null,null,1,1]
[null,null,null,null,null,null,null,null,null,null,null,null,1,1]
[null,null,null,null,null,null,null,null,null,null,null,null,1,1]
[null,null,null,null,null,null,null,null,null,null,null,null,1,1]
[null,null,null,null,null,null,null,null,null,null,null,null,1,1]
[null,null,null,null,null,null,null,null,null,null,null,null,1,1]
[null,null,null,null,null,null,null,null,null,null,null,null,1,1]
[null,null,null,null,null,null,null,null,null,null,null,null,1,1]
[null,null,null,null,null,null,null,null,null,null,null,null,1,1]
[null,null,null,null,null,null,null,null,null,null,null,null,1,1]
[null,null,null,null,null,null,null,null,null,null,null,null,1,1]
[null,null,null,null,null,null,null,null,null,null,null,null,1,1]
[null,null,null,null,null,null,null,null,null,null,null,null,1,1]
[null,null,null,null,null,null,null,null,null,null,null,null,1,1]
[null,null,null,null,null,null,null,null,null,null,null,null,1,1]
[null,null,null,null,null,null,null,null,null,null,null,null,1,1]
[null,null,null,null,null,null,null,null,null,null,null,null,1,1]
[null,null,null,null,null,null,null,null,null,null,null,null,1,1]
[null,null,null,null,null,null,null,null,null,null,null,null,{"$f":"MATCH(B1164,$F$8:$F$41)","v":1},{"$f":"MATCH(B1164,$H$8:$H$41)","v":1}]
[null,null,null,null,null,null,null,null,null,null,null,null,1,1]
[null,null,null,null,null,null,null,null,null,null,null,null,1,1]
[null,null,null,null,null,null,null,null,null,null,null,null,1,1]
[null,null,null,null,null,null,null,null,null,null,null,null,1,1]
[null,null,null,null,null,null,null,null,null,null,null,null,1,1]
[null,null,null,null,null,null,null,null,null,null,null,null,1,1]
[null,null,null,null,null,null,null,null,null,null,null,null,1,1]
[null,null,null,null,null,null,null,null,null,null,null,null,1,1]
[null,null,null,null,null,null,null,null,null,null,null,null,1,1]
[null,null,null,null,null,null,null,null,null,null,null,null,1,1]
[null,null,null,null,null,null,null,null,null,null,null,null,1,1]
[null,null,null,null,null,null,null,null,null,null,null,null,1,1]
[null,null,null,null,null,null,null,null,null,null,null,null,1,1]
[null,null,null,null,null,null,null,null,null,null,null,null,1,1]
[null,null,null,null,null,null,null,null,null,null,null,null,1,1]
[null,null,null,null,null,null,null,null,null,null,null,null,1,1]
[null,null,null,null,null,null,null,null,null,null,null,null,1,1]
[null,null,null,null,null,null,null,null,null,null,null,null,1,1]
[null,null,null,null,null,null,null,null,null,null,null,null,1,1]
[null,null,null,null,null,null,null,null,null,null,null,null,1,1]
[null,null,null,null,null,null,null,null,null,null,null,null,1,1]
[null,null,null,null,null,null,null,null,null,null,null,null,1,1]
[null,null,null,null,null,null,null,null,null,null,null,null,1,1]
[null,null,null,null,null,null,null,null,null,null,null,null,1,1]
[null,null,null,null,null,null,null,null,null,null,null,null,1,1]
[null,null,null,null,null,null,null,null,null,null,null,null,1,1]
[null,null,null,null,null,null,null,null,null,null,null,null,1,1]
[null,null,null,null,null,null,null,null,null,null,null,null,1,1]
[null,null,null,null,null,null,null,null,null,null,null,null,1,1]
[null,null,null,null,null,null,null,null,null,null,null,null,1,1]
[null,null,null,null,null,null,null,null,null,null,null,null,1,1]
[null,null,null,null,null,null,null,null,null,null,null,null,1,1]
[null,null,null,null,null,null,null,null,null,null,null,null,1,1]
[null,null,null,null,null,null,null,null,null,null,null,null,1,1]
[null,null,null,null,null,null,null,null,null,null,null,null,1,1]
[null,null,null,null,null,null,null,null,null,null,null,null,1,1]
[null,null,null,null,null,null,null,null,null,null,null,null,1,1]
[null,null,null,null,null,null,null,null,null,null,null,null,1,1]
[null,null,null,null,null,null,null,null,null,null,null,null,1,1]
[null,null,null,null,null,null,null,null,null,null,null,null,1,1]
[null,null,null,null,null,null,null,null,null,null,null,null,1,1]
[null,null,null,null,null,null,null,null,null,null,null,null,1,1]
[null,null,null,null,null,null,null,null,null,null,null,null,1,1]
[null,null,null,null,null,null,null,null,null,null,null,null,1,1]
[null,null,null,null,null,null,null,null,null,null,null,null,1,1]
[null,null,null,null,null,null,null,null,null,null,null,null,1,1]
[null,null,null,null,null,null,null,null,null,null,null,null,1,1]
[null,null,null,null,null,null,null,null,null,null,null,null,1,1]
[null,null,null,null,null,null,null,null,null,null,null,null,1,1]
[null,null,null,null,null,null,null,null,null,null,null,null,1,1]
[null,null,null,null,null,null,null,null,null,null,null,null,1,1]
[null,null,null,null,null,null,null,null,null,null,null,null,1,1]
[null,null,null,null,null,null,null,null,null,null,null,null,1,1]
[null,null,null,null,null,null,null,null,null,null,null,null,1,1]
[null,null,null,null,null,null,null,null,null,null,null,null,1,1]
[null,null,null,null,null,null,null,null,null,null,null,null,1,1]
[null,null,null,null,null,null,null,null,null,null,null,null,1,1]
[null,null,null,null,null,null,null,null,null,null,null,null,1,1]
[null,null,null,null,null,null,null,null,null,null,null,null,1,1]
[null,null,null,null,null,null,null,null,null,null,null,null,1,1]
[null,null,null,null,null,null,null,null,null,null,null,null,1,1]
[null,null,null,null,null,null,null,null,null,null,null,null,1,1]
[null,null,null,null,null,null,null,null,null,null,null,null,1,1]
[null,null,null,null,null,null,null,null,null,null,null,null,{"$f":"MATCH(B1228,$F$8:$F$41)","v":1},{"$f":"MATCH(B1228,$H$8:$H$41)","v":1}]
[null,null,null,null,null,null,null,null,null,null,null,null,1,1]
[null,null,null,null,null,null,null,null,null,null,null,null,1,1]
[null,null,null,null,null,null,null,null,null,null,null,null,1,1]
[null,null,null,null,null,null,null,null,null,null,null,null,1,1]
[null,null,null,null,null,null,null,null,null,null,null,null,1,1]
[null,null,null,null,null,null,null,null,null,null,null,null,1,1]
[null,null,null,null,null,null,null,null,null,null,null,null,1,1]
[null,null,null,null,null,null,null,null,null,null,null,null,1,1]
[null,null,null,null,null,null,null,null,null,null,null,null,1,1]
[null,null,null,null,null,null,null,null,null,null,null,null,1,1]
[null,null,null,null,null,null,null,null,null,null,null,null,1,1]
[null,null,null,null,null,null,null,null,null,null,null,null,1,1]
[null,null,null,null,null,null,null,null,null,null,null,null,1,1]
[null,null,null,null,null,null,null,null,null,null,null,null,1,1]
[null,null,null,null,null,null,null,null,null,null,null,null,1,1]
[null,null,null,null,null,null,null,null,null,null,null,null,1,1]
[null,null,null,null,null,null,null,null,null,null,null,null,1,1]
[null,null,null,null,null,null,null,null,null,null,null,null,1,1]
[null,null,null,null,null,null,null,null,null,null,null,null,null,null,null,null,null,null,null,null,null,null,null,null,null,null,null,null,null,null,null,null,null,null,null,null,null,null,null,null,null,null,null,null,null,null,null,null,null,null,null,null,null,null,null,null,null,null,null,null,null,null,null,null,null,null,null,null,null,null,null,null,null,null,null,null,null,null,null,null,null,null,null,null,null,null,null,null,null,null,null,null,null,null,null,null,null,null,null,null,null,null,null,null,null,null,null,null,null,null,null,null,null,null,null,null,null,null,null,null,null,null,null,null,null,null,null,null,null,null,null,null,null,null,null,null,null,null,null,null,null,null,null,null,null,null,null,null,null,null,null,null,null,null,null,null,null,null,null,null,null,null,null,null,null,null,null,null,null,null,null,null,null,null,null,null,null,null,null,null,null,null,null,null,null,null,null,null,null,null,null,null,null,null,null,null,null,null,null,null,null,null,null,null,null,null,null,null,null,null,null,null,null,null,null,null,null,null,null,null,null,null,null,null,null,null,null,null,null,null,null,null,null,null,null,null,null,null,null,null,null,null,null,null,null,null,null,null,null,null,null,null,null,null,null,null,null,null,null,null,null,null,null,null,null,null,null,null,null,null,null,null,null,null,null,null,null,null,null,null,null,null,null,null,null,null,null,null,null,null,null,null,null,null,null,null,null,null,null,null,null,null,null,null,null,null,null,null,null,null,null,null,null,null,null,null,null,null,null,null,null,null,null,null,null,null,null,null,null,null,null,null,null,null,null,null,null,null,null,null,null,null,null,null,null,null,null,null,null,null,null,null,null,null,null,null,null,null,null,null,null,null,null,null,null,null,null,null,null,null,null,null,null,null,null,null,null,null,null,null,null,null,null,null,null,null,null,null,null,null,null,null,null,null,null,null,null,null,null,null,null,null,null,null,null,null,null,null,null,null,null,null,null,null,null,null,null,null,null,null,null,null,null,null,null,null,null,null,null,null,null,null,null,null,null,null,null,null,null,null,null,null,null,null,null,null,null,null,null,null,null,null,null,null,null,null,null,null,null,null,null,null,null,null,null,null,null,null,null,null,null,null,null,null,null,null,null,null,null,null,null,null,null,null,null,null,null,null,null,null,null,null,null,null,null,null,null,null,null,null,null,null,null,null,null,null,null,null,null,null,null,null,null,null,null,null,null,null,null,null,null,null,null,null,null,null,null,null,null,null,null,null,null,null,null,null,null,null,null,null,null,null,null,null,null,null,null,null,null,null,null,null,null,null,null,null,null,null,null,null,null,null,null,null,null,null,null,null,null,null,null,null,null,null,null,null,null,null,null,null,null,null,null,null,null,null,null,null,null,null,null,null,null,null,null,null,null,null,null,null,null,null,null,null,null,null,null,null,null,null,null,null,null,null,null,null,null,null,null,null,null,null,null,null,null,null,null,null,null,null,null,null,null,null,null,null,null,null,null,null,null,null,null,null,null,null,null,null,null,null,null,null,null,null,null,null,null,null,null,null,null,null,null,null,null,null,null,null,null,null,null,null,null,null,null,null,null,null,null,null,null,null,null,null,null,null,null,null,null,null,null,null,null,null,null,null,null,null,null,null,null,null,null,null,null,null,null,null,null,null,null,null,null,null,null,null,null,null,null,null,null,null,null,null,null,null,null,null,null,null,null,null,null,null,null,null,null,null,null,null,null,null,null,null,null,null,null,null,null,null,null,null,null,null,null,null,null,null,null,null,null,null,null,null,null,null,null,null,null,null,null,null,null,null,null,null,null,null,null,null,null,null,null,null,null,null,null,null,null,null,null,null,null,null,null,null,null,null,null,null,null,null,null,null,null,null,null,null,null,null,null,null,null,null,null,null,null,null,null,null,null,null,null,null,null,null,null,null,null,null,null,null,null,null,null,null,null,null,null,null,null,null,null,null,null,null,null,null,null,null,null,null,null,null,null,null,null,null,null,null,null,null,null,null,null,null,null,null,null,null,null,null,null,null,null,null,null,null,null,null,null,null,null,null,null,null,null,null,null,null,null,null,null,null,null,null,null,null,null,null,null,null,null,null,null,null,null,null,null,null,null,null,null,null,null,null,null,null,null,null,null,null,null,null,null,null,null,null,null,null,null,null,null,null,null,null,null,null,null,null,null,null,null,null,null,null,null,null,null,null,null,null,null,null,null,null,null,null,null,null,null,null,null,null,null,null,null,null,null,null,null,null,null,null,null,null,null,null,null,null,null,null,null,null,null,null,null,null,null,null,null,null,null,null,null,null,null,null,null,null,null,null,null,null,null,null,null,null,null,null,null,null,null,null,null,null,null,null,null,null,null,null,null,null,null,null,null,null,null,null,null,null,null,null,null,null,null,null,null,null,null,null,null,null,null,null,null,null,null,null,null,null,null,null,null,null,null,null,null,null,null,null,null,null,null,null,null,null,null,null,null,null,null,null,null,null,null,null,null,null,null,null,null,null,null,null,null,null,null,null,null,null,null,null,null,null,null,null,null,null,null,null,null,null,null,null,null,null,null,null,null,null,null,null,null,null,null,null,null,null,null,null,null,null,null,null,null,null,null,null,null,null,null,null,null,null,null,null,null,null,null,null,null,null,null,null,null,null,null,null,null,null,null,null,null,null,null,null,null,null,null,null,null,null,null,null,null,null,null,null,null,null,null,null,null,null,null,null,null,null,null,null,null,null,null,null,null,null,null,null,null,null,null,null,null,null,null,null,null,null,null,null,null,null,null,null,null,null,null,null,null,null,null,null,null,null,null,null,null,null,null,null,null,null,null,null,null,null,null,null,null,null,null,null,null,null,null,null,null,null,null,null,null,null,null,null,null,null,null,null,null,null,null,null,null,null,null,null,null,null,null,null,null,null,null,null,null,null,null,null,null,null,null,null,null,null,null,null,null,null,null,null,null,null,null,null,null,null,null,null,null,null,null,null,null,null,null,null,null,null,null,null,null,null,null,null,null,null,null,null,null,null,null,null,null,null,null,null,null,null,null,null,null,null,null,null,null,null,null,null,null,null,null,null,null,null,null,null,null,null,null,null,null,null,null,null,null,null,null,null,null,null,null,null,null,null,null,null,null,null,null,null,null,null,null,null,null,null,null,null,null,null,null,null,null,null,null,null,null,null,null,null,null,null,null,null,null,null,null,null,null,null,null,null,null,null,null,null,null,null,null,null,null,null,null,null,null,null,null,null,null,null,null,null,null,null,null,null,null,null,null,null,null,null,null,null,null,null,null,null,null,null,null,null,null,null,null,null,null,null,null,null,null,null,null,null,null,null,null,null,null,null,null,null,null,null,null,null,null,null,null,null,null,null,null,null,null,null,null,null,null,null,null,null,null,null,null,null,null,null,null,null,null,null,null,null,null,null,null,null,null,null,null,null,null,null,null,null,null,null,null,null,null,null,null,null,null,null,null,null,null,null,null,null,null,null,null,null,null,null,null,null,null,null,null,null,null,null,null,null,null,null,null,null,null,null,null,null,null,null,null,null,null,null,null,null,null,null,null,null,null,null,null,null,null,null,null,null,null,null,null,null,null,null,null,null,null,null,null,null,null,null,null,null,null,null,null,null,null,null,null,null,null,null,null,null,null,null,null,null,null,null,null,null,null,null,null,null,null,null,null,null,null,null,null,null,null,null,null,null,null,null,null,null,null,null,null,null,null,null,null,null,null,null,null,null,null,null,null,null,null,null,null,null,null,null,null,null,null,null,null,null,null,null,null,null,null,null,null,null,null,null,null,null,null,null,null,null,null,null,null,null,null,null,null,null,null,null,null,null,null,null,null,null,null,null,null,null,null,null,null,null,null,null,null,null,null,null,null,null,null,null,null,null,null,null,null,null,null,null,null,null,null,null,null,null,null,null,null,null,null,null,null,null,null,null,null,null,null,null,null,null,null,null,null,null,null,null,null,null,null,null,null,null,null,null,null,null,null,null,null,null,null,null,null,null,null,null,null,null,null,null,null,null,null,null,null,null,null,null,null,null,null,null,null,null,null,null,null,null,null,null,null,null,null,null,null,null,null,null,null,null,null,null,null,null,null,null,null,null,null,null,null,null,null,null,null,null,null,null,null,null,null,null,null,null,null,null,null,null,null,null,null,null,null,null,null,null,null,null,null,null,null,null,null,null,null,null,null,null,null,null,null,null,null,null,null,null,null,null,null,null,null,null,null,null,null,null,null,null,null,null,null,null,null,null,null,null,null,null,null,null,null,null,null,null,null,null,null,null,null,null,null,null,null,null,null,null,null,null,null,null,null,null,null,null,null,null,null,null,null,null,null,null,null,null,null,null,null,null,null,null,null,null,null,null,null,null,null,null,null,null,null,null,null,null,null,null,null,null,null,null,null,null,null,null,null,null,null,null,null,null,null,null,null,null,null,null,null,null,null,null,null,null,null,null,null,null,null,null,null,null,null,null,null,null,null,null,null,null,null,null,null,null,null,null,null,null,null,null,null,null,null,null,null,null,null,null,null,null,null,null,null,null,null,null,null,null,null,null,null,null,null,null,null,null,null,null,null,null,null,null,null,null,null,null,null,null,null,null,null,null,null,null,null,null,null,null,null,null,null,null,null,null,null,null,null,null,null,null,null,null,null,null,null,null,null,null,null,null,null,null,null,null,null,null,null,null,null,null,null,null,null,null,null,null,null,null,null,null,null,null,null,null,null,null,null,null,null,null,null,null,null,null,null,null,null,null,null,null,null,null,null,null,null,null,null,null,null,null,null,null,null,null,null,null,null,null,null,null,null,null,null,null,null,null,null,null,null,null,null,null,null,null,null,null,null,null,null,null,null,null,null,null,null,null,null,null,null,null,null,null,null,null,null,null,null,null,null,null,null,null,null,null,null,null,null,null,null,null,null,null,null,null,null,null,null,null,null,null,null,null,null,null,null,null,null,null,null,null,null,null,null,null,null,null,null,null,null,null,null,null,null,null,null,null,null,null,null,null,null,null,null,null,null,null,null,null,null,null,null,null,null,null,null,null,null,null,null,null,null,null,null,null,null,null,null,null,null,null,null,null,null,null,null,null,null,null,null,null,null,null,null,null,null,null,null,null,null,null,null,null,null,null,null,null,null,null,null,null,null,null,null,null,null,null,null,null,null,null,null,null,null,null,null,null,null,null,null,null,null,null,null,null,null,null,null,null,null,null,null,null,null,null,null,null,null,null,null,null,null,null,null,null,null,null,null,null,null,null,null,null,null,null,null,null,null,null,null,null,null,null,null,null,null,null,null,null,null,null,null,null,null,null,null,null,null,null,null,null,null,null,null,null,null,null,null,null,null,null,null,null,null,null,null,null,null,null,null,null,null,null,null,null,null,null,null,null,null,null,null,null,null,null,null,null,null,null,null,null,null,null,null,null,null,null,null,null,null,null,null,null,null,null,null,null,null,null,null,null,null,null,null,null,null,null,null,null,null,null,null,null,null,null,null,null,null,null,null,null,null,null,null,null,null,null,null,null,null,null,null,null,null,null,null,null,null,null,null,null,null,null,null,null,null,null,null,null,null,null,null,null,null,null,null,null,null,null,null,null,null,null,null,null,null,null,null,null,null,null,null,null,null,null,null,null,null,null,null,null,null,null,null,null,null,null,null,null,null,null,null,null,null,null,null,null,null,null,null,null,null,null,null,null,null,null,null,null,null,null,null,null,null,null,null,null,null,null,null,null,null,null,null,null,null,null,null,null,null,null,null,null,null,null,null,null,null,null,null,null,null,null,null,null,null,null,null,null,null,null,null,null,null,null,null,null,null,null,null,null,null,null,null,null,null,null,null,null,null,null,null,null,null,null,null,null,null,null,null,null,null,null,null,null,null,null,null,null,null,null,null,null,null,null,null,null,null,null,null,null,null,null,null,null,null,null,null,null,null,null,null,null,null,null,null,null,null,null,null,null,null,null,null,null,null,null,null,null,null,null,null,null,null,null,null,null,null,null,null,null,null,null,null,null,null,null,null,null,null,null,null,null,null,null,null,null,null,null,null,null,null,null,null,null,null,null,null,null,null,null,null,null,null,null,null,null,null,null,null,null,null,null,null,null,null,null,null,null,null,null,null,null,null,null,null,null,null,null,null,null,null,null,null,null,null,null,null,null,null,null,null,null,null,null,null,null,null,null,null,null,null,null,null,null,null,null,null,null,null,null,null,null,null,null,null,null,null,null,null,null,null,null,null,null,null,null,null,null,null,null,null,null,null,null,null,null,null,null,null,null,null,null,null,null,null,null,null,null,null,null,null,null,null,null,null,null,null,null,null,null,null,null,null,null,null,null,null,null,null,null,null,null,null,null,null,null,null,null,null,null,null,null,null,null,null,null,null,null,null,null,null,null,null,null,null,null,null,null,null,null,null,null,null,null,null,null,null,null,null,null,null,null,null,null,null,null,null,null,null,null,null,null,null,null,null,null,null,null,null,null,null,null,null,null,null,null,null,null,null,null,null,null,null,null,null,null,null,null,null,null,null,null,null,null,null,null,null,null,null,null,null,null,null,null,null,null,null,null,null,null,null,null,null,null,null,null,null,null,null,null,null,null,null,null,null,null,null,null,null,null,null,null,null,null,null,null,null,null,null,null,null,null,null,null,null,null,null,null,null,null,null,null,null,null,null,null,null,null,null,null,null,null,null,null,null,null,null,null,null,null,null,null,null,null,null,null,null,null,null,null,null,null,null,null,null,null,null,null,null,null,null,null,null,null,null,null,null,null,null,null,null,null,null,null,null,null,null,null,null,null,null,null,null,null,null,null,null,null,null,null,null,null,null,null,null,null,null,null,null,null,null,null,null,null,null,null,null,null,null,null,null,null,null,null,null,null,null,null,null,null,null,null,null,null,null,null,null,null,null,null,null,null,null,null,null,null,null,null,null,null,null,null,null,null,null,null,null,null,null,null,null,null,null,null,null,null,null,null,null,null,null,null,null,null,null,null,null,null,null,null,null,null,null,null,null,null,null,null,null,null,null,null,null,null,null,null,null,null,null,null,null,null,null,null,null,null,null,null,null,null,null,null,null,null,null,null,null,null,null,null,null,null,null,null,null,null,null,null,null,null,null,null,null,null,null,null,null,null,null,null,null,null,null,null,null,null,null,null,null,null,null,null,null,null,null,null,null,null,null,null,null,null,null,null,null,null,null,null,null,null,null,null,null,null,null,null,null,null,null,null,null,null,null,null,null,null,null,null,null,null,null,null,null,null,null,null,null,null,null,null,null,null,null,null,null,null,null,null,null,null,null,null,null,null,null,null,null,null,null,null,null,null,null,null,null,null,null,null,null,null,null,null,null,null,null,null,null,null,null,null,null,null,null,null,null,null,null,null,null,null,null,null,null,null,null,null,null,null,null,null,null,null,null,null,null,null,null,null,null,null,null,null,null,null,null,null,null,null,null,null,null,null,null,null,null,null,null,null,null,null,null,null,null,null,null,null,null,null,null,null,null,null,null,null,null,null,null,null,null,null,null,null,null,null,null,null,null,null,null,null,null,null,null,null,null,null,null,null,null,null,null,null,null,null,null,null,null,null,null,null,null,null,null,null,null,null,null,null,null,null,null,null,null,null,null,null,null,null,null,null,null,null,null,null,null,null,null,null,null,null,null,null,null,null,null,null,null,null,null,null,null,null,null,null,null,null,null,null,null,null,null,null,null,null,null,null,null,null,null,null,null,null,null,null,null,null,null,null,null,null,null,null,null,null,null,null,null,null,null,null,null,null,null,null,null,null,null,null,null,null,null,null,null,null,null,null,null,null,null,null,null,null,null,null,null,null,null,null,null,null,null,null,null,null,null,null,null,null,null,null,null,null,null,null,null,null,null,null,null,null,null,null,null,null,null,null,null,null,null,null,null,null,null,null,null,null,null,null,null,null,null,null,null,null,null,null,null,null,null,null,null,null,null,null,null,null,null,null,null,null,null,null,null,null,null,null,null,null,null,null,null,null,null,null,null,null,null,null,null,null,null,null,null,null,null,null,null,null,null,null,null,null,null,null,null,null,null,null,null,null,null,null,null,null,null,null,null,null,null,null,null,null,null,null,null,null,null,null,null,null,null,null,null,null,null,null,null,null,null,null,null,null,null,null,null,null,null,null,null,null,null,null,null,null,null,null,null,null,null,null,null,null,null,null,null,null,null,null,null,null,null,null,null,null,null,null,null,null,null,null,null,null,null,null,null,null,null,null,null,null,null,null,null,null,null,null,null,null,null,null,null,null,null,null,null,null,null,null,null,null,null,null,null,null,null,null,null,null,null,null,null,null,null,null,null,null,null,null,null,null,null,null,null,null,null,null,null,null,null,null,null,null,null,null,null,null,null,null,null,null,null,null,null,null,null,null,null,null,null,null,null,null,null,null,null,null,null,null,null,null,null,null,null,null,null,null,null,null,null,null,null,null,null,null,null,null,null,null,null,null,null,null,null,null,null,null,null,null,null,null,null,null,null,null,null,null,null,null,null,null,null,null,null,null,null,null,null,null,null,null,null,null,null,null,null,null,null,null,null,null,null,null,null,null,null,null,null,null,null,null,null,null,null,null,null,null,null,null,null,null,null,null,null,null,null,null,null,null,null,null,null,null,null,null,null,null,null,null,null,null,null,null,null,null,null,null,null,null,null,null,null,null,null,null,null,null,null,null,null,null,null,null,null,null,null,null,null,null,null,null,null,null,null,null,null,null,null,null,null,null,null,null,null,null,null,null,null,null,null,null,null,null,null,null,null,null,null,null,null,null,null,null,null,null,null,null,null,null,null,null,null,null,null,null,null,null,null,null,null,null,null,null,null,null,null,null,null,null,null,null,null,null,null,null,null,null,null,null,null,null,null,null,null,null,null,null,null,null,null,null,null,null,null,null,null,null,null,null,null,null,null,null,null,null,null,null,null,null,null,null,null,null,null,null,null,null,null,null,null,null,null,null,null,null,null,null,null,null,null,null,null,null,null,null,null,null,null,null,null,null,null,null,null,null,null,null,null,null,null,null,null,null,null,null,null,null,null,null,null,null,null,null,null,null,null,null,null,null,null,null,null,null,null,null,null,null,null,null,null,null,null,null,null,null,null,null,null,null,null,null,null,null,null,null,null,null,null,null,null,null,null,null,null,null,null,null,null,null,null,null,null,null,null,null,null,null,null,null,null,null,null,null,null,null,null,null,null,null,null,null,null,null,null,null,null,null,null,null,null,null,null,null,null,null,null,null,null,null,null,null,null,null,null,null,null,null,null,null,null,null,null,null,null,null,null,null,null,null,null,null,null,null,null,null,null,null,null,null,null,null,null,null,null,null,null,null,null,null,null,null,null,null,null,null,null,null,null,null,null,null,null,null,null,null,null,null,null,null,null,null,null,null,null,null,null,null,null,null,null,null,null,null,null,null,null,null,null,null,null,null,null,null,null,null,null,null,null,null,null,null,null,null,null,null,null,null,null,null,null,null,null,null,null,null,null,null,null,null,null,null,null,null,null,null,null,null,null,null,null,null,null,null,null,null,null,null,null,null,null,null,null,null,null,null,null,null,null,null,null,null,null,null,null,null,null,null,null,null,null,null,null,null,null,null,null,null,null,null,null,null,null,null,null,null,null,null,null,null,null,null,null,null,null,null,null,null,null,null,null,null,null,null,null,null,null,null,null,null,null,null,null,null,null,null,null,null,null,null,null,null,null,null,null,null,null,null,null,null,null,null,null,null,null,null,null,null,null,null,null,null,null,null,null,null,null,null,null,null,null,null,null,null,null,null,null,null,null,null,null,null,null,null,null,null,null,null,null,null,null,null,null,null,null,null,null,null,null,null,null,null,null,null,null,null,null,null,null,null,null,null,null,null,null,null,null,null,null,null,null,null,null,null,null,null,null,null,null,null,null,null,null,null,null,null,null,null,null,null,null,null,null,null,null,null,null,null,null,null,null,null,null,null,null,null,null,null,null,null,null,null,null,null,null,null,null,null,null,null,null,null,null,null,null,null,null,null,null,null,null,null,null,null,null,null,null,null,null,null,null,null,null,null,null,null,null,null,null,null,null,null,null,null,null,null,null,null,null,null,null,null,null,null,null,null,null,null,null,null,null,null,null,null,null,null,null,null,null,null,null,null,null,null,null,null,null,null,null,null,null,null,null,null,null,null,null,null,null,null,null,null,null,null,null,null,null,null,null,null,null,null,null,null,null,null,null,null,null,null,null,null,null,null,null,null,null,null,null,null,null,null,null,null,null,null,null,null,null,null,null,null,null,null,null,null,null,null,null,null,null,null,null,null,null,null,null,null,null,null,null,null,null,null,null,null,null,null,null,null,null,null,null,null,null,null,null,null,null,null,null,null,null,null,null,null,null,null,null,null,null,null,null,null,null,null,null,null,null,null,null,null,null,null,null,null,null,null,null,null,null,null,null,null,null,null,null,null,null,null,null,null,null,null,null,null,null,null,null,null,null,null,null,null,null,null,null,null,null,null,null,null,null,null,null,null,null,null,null,null,null,null,null,null,null,null,null,null,null,null,null,null,null,null,null,null,null,null,null,null,null,null,null,null,null,null,null,null,null,null,null,null,null,null,null,null,null,null,null,null,null,null,null,null,null,null,null,null,null,null,null,null,null,null,null,null,null,null,null,null,null,null,null,null,null,null,null,null,null,null,null,null,null,null,null,null,null,null,null,null,null,null,null,null,null,null,null,null,null,null,null,null,null,null,null,null,null,null,null,null,null,null,null,null,null,null,null,null,null,null,null,null,null,null,null,null,null,null,null,null,null,null,null,null,null,null,null,null,null,null,null,null,null,null,null,null,null,null,null,null,null,null,null,null,null,null,null,null,null,null,null,null,null,null,null,null,null,null,null,null,null,null,null,null,null,null,null,null,null,null,null,null,null,null,null,null,null,null,null,null,null,null,null,null,null,null,null,null,null,null,null,null,null,null,null,null,null,null,null,null,null,null,null,null,null,null,null,null,null,null,null,null,null,null,null,null,null,null,null,null,null,null,null,null,null,null,null,null,null,null,null,null,null,null,null,null,null,null,null,null,null,null,null,null,null,null,null,null,null,null,null,null,null,null,null,null,null,null,null,null,null,null,null,null,null,null,null,null,null,null,null,null,null,null,null,null,null,null,null,null,null,null,null,null,null,null,null,null,null,null,null,null,null,null,null,null,null,null,null,null,null,null,null,null,null,null,null,null,null,null,null,null,null,null,null,null,null,null,null,null,null,null,null,null,null,null,null,null,null,null,null,null,null,null,null,null,null,null,null,null,null,null,null,null,null,null,null,null,null,null,null,null,null,null,null,null,null,null,null,null,null,null,null,null,null,null,null,null,null,null,null,null,null,null,null,null,null,null,null,null,null,null,null,null,null,null,null,null,null,null,null,null,null,null,null,null,null,null,null,null,null,null,null,null,null,null,null,null,null,null,null,null,null,null,null,null,null,null,null,null,null,null,null,null,null,null,null,null,null,null,null,null,null,null,null,null,null,null,null,null,null,null,null,null,null,null,null,null,null,null,null,null,null,null,null,null,null,null,null,null,null,null,null,null,null,null,null,null,null,null,null,null,null,null,null,null,null,null,null,null,null,null,null,null,null,null,null,null,null,null,null,null,null,null,null,null,null,null,null,null,null,null,null,null,null,null,null,null,null,null,null,null,null,null,null,null,null,null,null,null,null,null,null,null,null,null,null,null,null,null,null,null,null,null,null,null,null,null,null,null,null,null,null,null,null,null,null,null,null,null,null,null,null,null,null,null,null,null,null,null,null,null,null,null,null,null,null,null,null,null,null,null,null,null,null,null,null,null,null,null,null,null,null,null,null,null,null,null,null,null,null,null,null,null,null,null,null,null,null,null,null,null,null,null,null,null,null,null,null,null,null,null,null,null,null,null,null,null,null,null,null,null,null,null,null,null,null,null,null,null,null,null,null,null,null,null,null,null,null,null,null,null,null,null,null,null,null,null,null,null,null,null,null,null,null,null,null,null,null,null,null,null,null,null,null,null,null,null,null,null,null,null,null,null,null,null,null,null,null,null,null,null,null,null,null,null,null,null,null,null,null,null,null,null,null,null,null,null,null,null,null,null,null,null,null,null,null,null,null,null,null,null,null,null,null,null,null,null,null,null,null,null,null,null,null,null,null,null,null,null,null,null,null,null,null,null,null,null,null,null,null,null,null,null,null,null,null,null,null,null,null,null,null,null,null,null,null,null,null,null,null,null,null,null,null,null,null,null,null,null,null,null,null,null,null,null,null,null,null,null,null,null,null,null,null,null,null,null,null,null,null,null,null,null,null,null,null,null,null,null,null,null,null,null,null,null,null,null,null,null,null,null,null,null,null,null,null,null,null,null,null,null,null,null,null,null,null,null,null,null,null,null,null,null,null,null,null,null,null,null,null,null,null,null,null,null,null,null,null,null,null,null,null,null,null,null,null,null,null,null,null,null,null,null,null,null,null,null,null,null,null,null,null,null,null,null,null,null,null,null,null,null,null,null,null,null,null,null,null,null,null,null,null,null,null,null,null,null,null,null,null,null,null,null,null,null,null,null,null,null,null,null,null,null,null,null,null,null,null,null,null,null,null,null,null,null,null,null,null,null,null,null,null,null,null,null,null,null,null,null,null,null,null,null,null,null,null,null,null,null,null,null,null,null,null,null,null,null,null,null,null,null,null,null,null,null,null,null,null,null,null,null,null,null,null,null,null,null,null,null,null,null,null,null,null,null,null,null,null,null,null,null,null,null,null,null,null,null,null,null,null,null,null,null,null,null,null,null,null,null,null,null,null,null,null,null,null,null,null,null,null,null,null,null,null,null,null,null,null,null,null,null,null,null,null,null,null,null,null,null,null,null,null,null,null,null,null,null,null,null,null,null,null,null,null,null,null,null,null,null,null,null,null,null,null,null,null,null,null,null,null,null,null,null,null,null,null,null,null,null,null,null,null,null,null,null,null,null,null,null,null,null,null,null,null,null,null,null,null,null,null,null,null,null,null,null,null,null,null,null,null,null,null,null,null,null,null,null,null,null,null,null,null,null,null,null,null,null,null,null,null,null,null,null,null,null,null,null,null,null,null,null,null,null,null,null,null,null,null,null,null,null,null,null,null,null,null,null,null,null,null,null,null,null,null,null,null,null,null,null,null,null,null,null,null,null,null,null,null,null,null,null,null,null,null,null,null,null,null,null,null,null,null,null,null,null,null,null,null,null,null,null,null,null,null,null,null,null,null,null,null,null,null,null,null,null,null,null,null,null,null,null,null,null,null,null,null,null,null,null,null,null,null,null,null,null,null,null,null,null,null,null,null,null,null,null,null,null,null,null,null,null,null,null,null,null,null,null,null,null,null,null,null,null,null,null,null,null,null,null,null,null,null,null,null,null,null,null,null,null,null,null,null,null,null,null,null,null,null,null,null,null,null,null,null,null,null,null,null,null,null,null,null,null,null,null,null,null,null,null,null,null,null,null,null,null,null,null,null,null,null,null,null,null,null,null,null,null,null,null,null,null,null,null,null,null,null,null,null,null,null,null,null,null,null,null,null,null,null,null,null,null,null,null,null,null,null,null,null,null,null,null,null,null,null,null,null,null,null,null,null,null,null,null,null,null,null,null,null,null,null,null,null,null,null,null,null,null,null,null,null,null,null,null,null,null,null,null,null,null,null,null,null,null,null,null,null,null,null,null,null,null,null,null,null,null,null,null,null,null,null,null,null,null,null,null,null,null,null,null,null,null,null,null,null,null,null,null,null,null,null,null,null,null,null,null,null,null,null,null,null,null,null,null,null,null,null,null,null,null,null,null,null,null,null,null,null,null,null,null,null,null,null,null,null,null,null,null,null,null,null,null,null,null,null,null,null,null,null,null,null,null,null,null,null,null,null,null,null,null,null,null,null,null,null,null,null,null,null,null,null,null,null,null,null,null,null,null,null,null,null,null,null,null,null,null,null,null,null,null,null,null,null,null,null,null,null,null,null,null,null,null,null,null,null,null,null,null,null,null,null,null,null,null,null,null,null,null,null,null,null,null,null,null,null,null,null,null,null,null,null,null,null,null,null,null,null,null,null,null,null,null,null,null,null,null,null,null,null,null,null,null,null,null,null,null,null,null,null,null,null,null,null,null,null,null,null,null,null,null,null,null,null,null,null,null,null,null,null,null,null,null,null,null,null,null,null,null,null,null,null,null,null,null,null,null,null,null,null,null,null,null,null,null,null,null,null,null,null,null,null,null,null,null,null,null,null,null,null,null,null,null,null,null,null,null,null,null,null,null,null,null,null,null,null,null,null,null,null,null,null,null,null,null,null,null,null,null,null,null,null,null,null,null,null,null,null,null,null,null,null,null,null,null,null,null,null,null,null,null,null,null,null,null,null,null,null,null,null,null,null,null,null,null,null,null,null,null,null,null,null,null,null,null,null,null,null,null,null,null,null,null,null,null,null,null,null,null,null,null,null,null,null,null,null,null,null,null,null,null,null,null,null,null,null,null,null,null,null,null,null,null,null,null,null,null,null,null,null,null,null,null,null,null,null,null,null,null,null,null,null,null,null,null,null,null,null,null,null,null,null,null,null,null,null,null,null,null,null,null,null,null,null,null,null,null,null,null,null,null,null,null,null,null,null,null,null,null,null,null,null,null,null,null,null,null,null,null,null,null,null,null,null,null,null,null,null,null,null,null,null,null,null,null,null,null,null,null,null,null,null,null,null,null,null,null,null,null,null,null,null,null,null,null,null,null,null,null,null,null,null,null,null,null,null,null,null,null,null,null,null,null,null,null,null,null,null,null,null,null,null,null,null,null,null,null,null,null,null,null,null,null,null,null,null,null,null,null,null,null,null,null,null,null,null,null,null,null,null,null,null,null,null,null,null,null,null,null,null,null,null,null,null,null,null,null,null,null,null,null,null,null,null,null,null,null,null,null,null,null,null,null,null,null,null,null,null,null,null,null,null,null,null,null,null,null,null,null,null,null,null,null,null,null,null,null,null,null,null,null,null,null,null,null,null,null,null,null,null,null,null,null,null,null,null,null,null,null,null,null,null,null,null,null,null,null,null,null,null,null,null,null,null,null,null,null,null,null,null,null,null,null,null,null,null,null,null,null,null,null,null,null,null,null,null,null,null,null,null,null,null,null,null,null,null,null,null,null,null,null,null,null,null,null,null,null,null,null,null,null,null,null,null,null,null,null,null,null,null,null,null,null,null,null,null,null,null,null,null,null,null,null,null,null,null,null,null,null,null,null,null,null,null,null,null,null,null,null,null,null,null,null,null,null,null,null,null,null,null,null,null,null,null,null,null,null,null,null,null,null,null,null,null,null,null,null,null,null,null,null,null,null,null,null,null,null,null,null,null,null,null,null,null,null,null,null,null,null,null,null,null,null,null,null,null,null,null,null,null,null,null,null,null,null,null,null,null,null,null,null,null,null,null,null,null,null,null,null,null,null,null,null,null,null,null,null,null,null,null,null,null,null,null,null,null,null,null,null,null,null,null,null,null,null,null,null,null,null,null,null,null,null,null,null,null,null,null,null,null,null,null,null,null,null,null,null,null,null,null,null,null,null,null,null,null,null,null,null,null,null,null,null,null,null,null,null,null,null,null,null,null,null,null,null,null,null,null,null,null,null,null,null,null,null,null,null,null,null,null,null,null,null,null,null,null,null,null,null,null,null,null,null,null,null,null,null,null,null,null,null,null,null,null,null,null,null,null,null,null,null,null,null,null,null,null,null,null,null,null,null,null,null,null,null,null,null,null,null,null,null,null,null,null,null,null,null,null,null,null,null,null,null,null,null,null,null,null,null,null,null,null,null,null,null,null,null,null,null,null,null,null,null,null,null,null,null,null,null,null,null,null,null,null,null,null,null,null,null,null,null,null,null,null,null,null,null,null,null,null,null,null,null,null,null,null,null,null,null,null,null,null,null,null,null,null,null,null,null,null,null,null,null,null,null,null,null,null,null,null,null,null,null,null,null,null,null,null,null,null,null,null,null,null,null,null,null,null,null,null,null,null,null,null,null,null,null,null,null,null,null,null,null,null,null,null,null,null,null,null,null,null,null,null,null,null,null,null,null,null,null,null,null,null,null,null,null,null,null,null,null,null,null,null,null,null,null,null,null,null,null,null,null,null,null,null,null,null,null,null,null,null,null,null,null,null,null,null,null,null,null,null,null,null,null,null,null,null,null,null,null,null,null,null,null,null,null,null,null,null,null,null,null,null,null,null,null,null,null,null,null,null,null,null,null,null,null,null,null,null,null,null,null,null,null,null,null,null,null,null,null,null,null,null,null,null,null,null,null,null,null,null,null,null,null,null,null,null,null,null,null,null,null,null,null,null,null,null,null,null,null,null,null,null,null,null,null,null,null,null,null,null,null,null,null,null,null,null,null,null,null,null,null,null,null,null,null,null,null,null,null,null,null,null,null,null,null,null,null,null,null,null,null,null,null,null,null,null,null,null,null,null,null,null,null,null,null,null,null,null,null,null,null,null,null,null,null,null,null,null,null,null,null,null,null,null,null,null,null,null,null,null,null,null,null,null,null,null,null,null,null,null,null,null,null,null,null,null,null,null,null,null,null,null,null,null,null,null,null,null,null,null,null,null,null,null,null,null,null,null,null,null,null,null,null,null,null,null,null,null,null,null,null,null,null,null,null,null,null,null,null,null,null,null,null,null,null,null,null,null,null,null,null,null,null,null,null,null,null,null,null,null,null,null,null,null,null,null,null,null,null,null,null,null,null,null,null,null,null,null,null,null,null,null,null,null,null,null,null,null,null,null,null,null,null,null,null,null,null,null,null,null,null,null,null,null,null,null,null,null,null,null,null,null,null,null,null,null,null,null,null,null,null,null,null,null,null,null,null,null,null,null,null,null,null,null,null,null,null,null,null,null,null,null,null,null,null,null,null,null,null,null,null,null,null,null,null,null,null,null,null,null,null,null,null,null,null,null,null,null,null,null,null,null,null,null,null,null,null,null,null,null,null,null,null,null,null,null,null,null,null,null,null,null,null,null,null,null,null,null,null,null,null,null,null,null,null,null,null,null,null,null,null,null,null,null,null,null,null,null,null,null,null,null,null,null,null,null,null,null,null,null,null,null,null,null,null,null,null,null,null,null,null,null,null,null,null,null,null,null,null,null,null,null,null,null,null,null,null,null,null,null,null,null,null,null,null,null,null,null,null,null,null,null,null,null,null,null,null,null,null,null,null,null,null,null,null,null,null,null,null,null,null,null,null,null,null,null,null,null,null,null,null,null,null,null,null,null,null,null,null,null,null,null,null,null,null,null,null,null,null,null,null,null,null,null,null,null,null,null,null,null,null,null,null,null,null,null,null,null,null,null,null,null,null,null,null,null,null,null,null,null,null,null,null,null,null,null,null,null,null,null,null,null,null,null,null,null,null,null,null,null,null,null,null,null,null,null,null,null,null,null,null,null,null,null,null,null,null,null,null,null,null,null,null,null,null,null,null,null,null,null,null,null,null,null,null,null,null,null,null,null,null,null,null,null,null,null,null,null,null,null,null,null,null,null,null,null,null,null,null,null,null,null,null,null,null,null,null,null,null,null,null,null,null,null,null,null,null,null,null,null,null,null,null,null,null,null,null,null,null,null,null,null,null,null,null,null,null,null,null,null,null,null,null,null,null,null,null,null,null,null,null,null,null,null,null,null,null,null,null,null,null,null,null,null,null,null,null,null,null,null,null,null,null,null,null,null,null,null,null,null,null,null,null,null,null,null,null,null,null,null,null,null,null,null,null,null,null,null,null,null,null,null,null,null,null,null,null,null,null,null,null,null,null,null,null,null,null,null,null,null,null,null,null,null,null,null,null,null,null,null,null,null,null,null,null,null,null,null,null,null,null,null,null,null,null,null,null,null,null,null,null,null,null,null,null,null,null,null,null,null,null,null,null,null,null,null,null,null,null,null,null,null,null,null,null,null,null,null,null,null,null,null,null,null,null,null,null,null,null,null,null,null,null,null,null,null,null,null,null,null,null,null,null,null,null,null,null,null,null,null,null,null,null,null,null,null,null,null,null,null,null,null,null,null,null,null,null,null,null,null,null,null,null,null,null,null,null,null,null,null,null,null,null,null,null,null,null,null,null,null,null,null,null,null,null,null,null,null,null,null,null,null,null,null,null,null,null,null,null,null,null,null,null,null,null,null,null,null,null,null,null,null,null,null,null,null,null,null,null,null,null,null,null,null,null,null,null,null,null,null,null,null,null,null,null,null,null,null,null,null,null,null,null,null,null,null,null,null,null,null,null,null,null,null,null,null,null,null,null,null,null,null,null,null,null,null,null,null,null,null,null,null,null,null,null,null,null,null,null,null,null,null,null,null,null,null,null,null,null,null,null,null,null,null,null,null,null,null,null,null,null,null,null,null,null,null,null,null,null,null,null,null,null,null,null,null,null,null,null,null,null,null,null,null,null,null,null,null,null,null,null,null,null,null,null,null,null,null,null,null,null,null,null,null,null,null,null,null,null,null,null,null,null,null,null,null,null,null,null,null,null,null,null,null,null,null,null,null,null,null,null,null,null,null,null,null,null,null,null,null,null,null,null,null,null,null,null,null,null,null,null,null,null,null,null,null,null,null,null,null,null,null,null,null,null,null,null,null,null,null,null,null,null,null,null,null,null,null,null,null,null,null,null,null,null,null,null,null,null,null,null,null,null,null,null,null,null,null,null,null,null,null,null,null,null,null,null,null,null,null,null,null,null,null,null,null,null,null,null,null,null,null,null,null,null,null,null,null,null,null,null,null,null,null,null,null,null,null,null,null,null,null,null,null,null,null,null,null,null,null,null,null,null,null,null,null,null,null,null,null,null,null,null,null,null,null,null,null,null,null,null,null,null,null,null,null,null,null,null,null,null,null,null,null,null,null,null,null,null,null,null,null,null,null,null,null,null,null,null,null,null,null,null,null,null,null,null,null,null,null,null,null,null,null,null,null,null,null,null,null,null,null,null,null,null,null,null,null,null,null,null,null,null,null,null,null,null,null,null,null,null,null,null,null,null,null,null,null,null,null,null,null,null,null,null,null,null,null,null,null,null,null,null,null,null,null,null,null,null,null,null,null,null,null,null,null,null,null,null,null,null,null,null,null,null,null,null,null,null,null,null,null,null,null,null,null,null,null,null,null,null,null,null,null,null,null,null,null,null,null,null,null,null,null,null,null,null,null,null,null,null,null,null,null,null,null,null,null,null,null,null,null,null,null,null,null,null,null,null,null,null,null,null,null,null,null,null,null,null,null,null,null,null,null,null,null,null,null,null,null,null,null,null,null,null,null,null,null,null,null,null,null,null,null,null,null,null,null,null,null,null,null,null,null,null,null,null,null,null,null,null,null,null,null,null,null,null,null,null,null,null,null,null,null,null,null,null,null,null,null,null,null,null,null,null,null,null,null,null,null,null,null,null,null,null,null,null,null,null,null,null,null,null,null,null,null,null,null,null,null,null,null,null,null,null,null,null,null,null,null,null,null,null,null,null,null,null,null,null,null,null,null,null,null,null,null,null,null,null,null,null,null,null,null,null,null,null,null,null,null,null,null,null,null,null,null,null,null,null,null,null,null,null,null,null,null,null,null,null,null,null,null,null,null,null,null,null,null,null,null,null,null,null,null,null,null,null,null,null,null,null,null,null,null,null,null,null,null,null,null,null,null,null,null,null,null,null,null,null,null,null,null,null,null,null,null,null,null,null,null,null,null,null,null,null,null,null,null,null,null,null,null,null,null,null,null,null,null,null,null,null,null,null,null,null,null,null,null,null,null,null,null,null,null,null,null,null,null,null,null,null,null,null,null,null,null,null,null,null,null,null,null,null,null,null,null,null,null,null,null,null,null,null,null,null,null,null,null,null,null,null,null,null,null,null,null,null,null,null,null,null,null,null,null,null,null,null,null,null,null,null,null,null,null,null,null,null,null,null,null,null,null,null,null,null,null,null,null,null,null,null,null,null,null,null,null,null,null,null,null,null,null,null,null,null,null,null,null,null,null,null,null,null,null,null,null,null,null,null,null,null,null,null,null,null,null,null,null,null,null,null,null,null,null,null,null,null,null,null,null,null,null,null,null,null,null,null,null,null,null,null,null,null,null,null,null,null,null,null,null,null,null,null,null,null,null,null,null,null,null,null,null,null,null,null,null,null,null,null,null,null,null,null,null,null,null,null,null,null,null,null,null,null,null,null,null,null,null,null,null,null,null,null,null,null,null,null,null,null,null,null,null,null,null,null,null,null,null,null,null,null,null,null,null,null,null,null,null,null,null,null,null,null,null,null,null,null,null,null,null,null,null,null,null,null,null,null,null,null,null,null,null,null,null,null,null,null,null,null,null,null,null,null,null,null,null,null,null,null,null,null,null,null,null,null,null,null,null,null,null,null,null,null,null,null,null,null,null,null,null,null,null,null,null,null,null,null,null,null,null,null,null,null,null,null,null,null,null,null,null,null,null,null,null,null,null,null,null,null,null,null,null,null,null,null,null,null,null,null,null,null,null,null,null,null,null,null,null,null,null,null,null,null,null,null,null,null,null,null,null,null,null,null,null,null,null,null,null,null,null,null,null,null,null,null,null,null,null,null,null,null,null,null,null,null,null,null,null,null,null,null,null,null,null,null,null,null,null,null,null,null,null,null,null,null,null,null,null,null,null,null,null,null,null,null,null,null,null,null,null,null,null,null,null,null,null,null,null,null,null,null,null,null,null,null,null,null,null,null,null,null,null,null,null,null,null,null,null,null,null,null,null,null,null,null,null,null,null,null,null,null,null,null,null,null,null,null,null,null,null,null,null,null,null,null,null,null,null,null,null,null,null,null,null,null,null,null,null,null,null,null,null,null,null,null,null,null,null,null,null,null,null,null,null,null,null,null,null,null,null,null,null,null,null,null,null,null,null,null,null,null,null,null,null,null,null,null,null,null,null,null,null,null,null,null,null,null,null,null,null,null,null,null,null,null,null,null,null,null,null,null,null,null,null,null,null,null,null,null,null,null,null,null,null,null,null,null,null,null,null,null,null,null,null,null,null,null,null,null,null,null,null,null,null,null,null,null,null,null,null,null,null,null,null,null,null,null,null,null,null,null,null,null,null,null,null,null,null,null,null,null,null,null,null,null,null,null,null,null,null,null,null,null,null,null,null,null,null,null,null,null,null,null,null,null,null,null,null,null,null,null,null,null,null,null,null,null,null,null,null,null,null,null,null,null,null,null,null,null,null,null,null,null,null,null,null,null,null,null,null,null,null,null,null,null,null,null,null,null,null,null,null,null,null,null,null,null,null,null,null,null,null,null,null,null,null,null,null,null,null,null,null,null,null,null,null,null,null,null,null,null,null,null,null,null,null,null,null,null,null,null,null,null,null,null,null,null,null,null,null,null,null,null,null,null,null,null,null,null,null,null,null,null,null,null,null,null,null,null,null,null,null,null,null,null,null,null,null,null,null,null,null,null,null,null,null,null,null,null,null,null,null,null,null,null,null,null,null,null,null,null,null,null,null,null,null,null,null,null,null,null,null,null,null,null,null,null,null,null,null,null,null,null,null,null,null,null,null,null,null,null,null,null,null,null,null,null,null,null,null,null,null,null,null,null,null,null,null,null,null,null,null,null,null,null,null,null,null,null,null,null,null,null,null,null,null,null,null,null,null,null,null,null,null,null,null,null,null,null,null,null,null,null,null,null,null,null,null,null,null,null,null,null,null,null,null,null,null,null,null,null,null,null,null,null,null,null,null,null,null,null,null,null,null,null,null,null,null,null,null,null,null,null,null,null,null,null,null,null,null,null,null,null,null,null,null,null,null,null,null,null,null,null,null,null,null,null,null,null,null,null,null,null,null,null,null,null,null,null,null,null,null,null,null,null,null,null,null,null,null,null,null,null,null,null,null,null,null,null,null,null,null,null,null,null,null,null,null,null,null,null,null,null,null,null,null,null,null,null,null,null,null,null,null,null,null,null,null,null,null,null,null,null,null,null,null,null,null,null,null,null,null,null,null,null,null,null,null,null,null,null,null,null,null,null,null,null,null,null,null,null,null,null,null,null,null,null,null,null,null,null,null,null,null,null,null,null,null,null,null,null,null,null,null,null,null,null,null,null,null,null,null,null,null,null,null,null,null,null,null,null,null,null,null,null,null,null,null,null,null,null,null,null,null,null,null,null,null,null,null,null,null,null,null,null,null,null,null,null,null,null,null,null,null,null,null,null,null,null,null,null,null,null,null,null,null,null,null,null,null,null,null,null,null,null,null,null,null,null,null,null,null,null,null,null,null,null,null,null,null,null,null,null,null,null,null,null,null,null,null,null,null,null,null,null,null,null,null,null,null,null,null,null,null,null,null,null,null,null,null,null,null,null,null,null,null,null,null,null,null,null,null,null,null,null,null,null,null,null,null,null,null,null,null,null,null,null,null,null,null,null,null,null,null,null,null,null,null,null,null,null,null,null,null,null,null,null,null,null,null,null,null,null,null,null,null,null,null,null,null,null,null,null,null,null,null,null,null,null,null,null,null,null,null,null,null,null,null,null,null,null,null,null,null,null,null,null,null,null,null,null,null,null,null,null,null,null,null,null,null,null,null,null,null,null,null,null,null,null,null,null,null,null,null,null,null,null,null,null,null,null,null,null,null,null,null,null,null,null,null,null,null,null,null,null,null,null,null,null,null,null,null,null,null,null,null,null,null,null,null,null,null,null,null,null,null,null,null,null,null,null,null,null,null,null,null,null,null,null,null,null,null,null,null,null,null,null,null,null,null,null,null,null,null,null,null,null,null,null,null,null,null,null,null,null,null,null,null,null,null,null,null,null,null,null,null,null,null,null,null,null,null,null,null,null,null,null,null,null,null,null,null,null,null,null,null,null,null,null,null,null,null,null,null,null,null,null,null,null,null,null,null,null,null,null,null,null,null,null,null,null,null,null,null,null,null,null,null,null,null,null,null,null,null,null,null,null,null,null,null,null,null,null,null,null,null,null,null,null,null,null,null,null,null,null,null,null,null,null,null,null,null,null,null,null,null,null,null,null,null,null,null,null,null,null,null,null,null,null,null,null,null,null,null,null,null,null,null,null,null,null,null,null,null,null,null,null,null,null,null,null,null,null,null,null,null,null,null,null,null,null,null,null,null,null,null,null,null,null,null,null,null,null,null,null,null,null,null,null,null,null,null,null,null,null,null,null,null,null,null,null,null,null,null,null,null,null,null,null,null,null,null,null,null,null,null,null,null,null,null,null,null,null,null,null,null,null,null,null,null,null,null,null,null,null,null,null,null,null,null,null,null,null,null,null,null,null,null,null,null,null,null,null,null,null,null,null,null,null,null,null,null,null,null,null,null,null,null,null,null,null,null,null,null,null,null,null,null,null,null,null,null,null,null,null,null,null,null,null,null,null,null,null,null,null,null,null,null,null,null,null,null,null,null,null,null,null,null,null,null,null,null,null,null,null,null,null,null,null,null,null,null,null,null,null,null,null,null,null,null,null,null,null,null,null,null,null,null,null,null,null,null,null,null,null,null,null,null,null,null,null,null,null,null,null,null,null,null,null,null,null,null,null,null,null,null,null,null,null,null,null,null,null,null,null,null,null,null,null,null,null,null,null,null,null,null,null,null,null,null,null,null,null,null,null,null,null,null,null,null,null,null,null,null,null,null,null,null,null,null,null,null,null,null,null,null,null,null,null,null,null,null,null,null,null,null,null,null,null,null,null,null,null,null,null,null,null,null,null,null,null,null,null,null,null,null,null,null,null,null,null,null,null,null,null,null,null,null,null,null,null,null,null,null,null,null,null,null,null,null,null,null,null,null,null,null,null,null,null,null,null,null,null,null,null,null,null,null,null,null,null,null,null,null,null,null,null,null,null,null,null,null,null,null,null,null,null,null,null,null,null,null,null,null,null,null,null,null,null,null,null,null,null,null,null,null,null,null,null,null,null,null,null,null,null,null,null,null,null,null,null,null,null,null,null,null,null,null,null,null,null,null,null,null,null,null,null,null,null,null,null,null,null,null,null,null,null,null,null,null,null,null,null,null,null,null,null,null,null,null,null,null,null,null,null,null,null,null,null,null,null,null,null,null,null,null,null,null,null,null,null,null,null,null,null,null,null,null,null,null,null,null,null,null,null,null,null,null,null,null,null,null,null,null,null,null,null,null,null,null,null,null,null,null,null,null,null,null,null,null,null,null,null,null,null,null,null,null,null,null,null,null,null,null,null,null,null,null,null,null,null,null,null,null,null,null,null,null,null,null,null,null,null,null,null,null,null,null,null,null,null,null,null,null,null,null,null,null,null,null,null,null,null,null,null,null,null,null,null,null,null,null,null,null,null,null,null,null,null,null,null,null,null,null,null,null,null,null,null,null,null,null,null,null,null,null,null,null,null,null,null,null,null,null,null,null,null,null,null,null,null,null,null,null,null,null,null,null,null,null,null,null,null,null,null,null,null,null,null,null,null,null,null,null,null,null,null,null,null,null,null,null,null,null,null,null,null,null,null,null,null,null,null,null,null,null,null,null,null,null,null,null,null,null,null,null,null,null,null,null,null,null,null,null,null,null,null,null,null,null,null,null,null,null,null,null,null,null,null,null,null,null,null,null,null,null,null,null,null,null,null,null,null,null,null,null,null,null,null,null,null,null,null,null,null,null,null,null,null,null,null,null,null,null,null,null,null,null,null,null,null,null,null,null,null,null,null,null,null,null,null,null,null,null,null,null,null,null,null,null,null,null,null,null,null,null,null,null,null,null,null,null,null,null,null,null,null,null,null,null,null,null,null,null,null,null,null,null,null,null,null,null,null,null,null,null,null,null,null,null,null,null,null,null,null,null,null,null,null,null,null,null,null,null,null,null,null,null,null,null,null,null,null,null,null,null,null,null,null,null,null,null,null,null,null,null,null,null,null,null,null,null,null,null,null,null,null,null,null,null,null,null,null,null,null,null,null,null,null,null,null,null,null,null,null,null,null,null,null,null,null,null,null,null,null,null,null,null,null,null,null,null,null,null,null,null,null,null,null,null,null,null,null,null,null,null,null,null,null,null,null,null,null,null,null,null,null,null,null,null,null,null,null,null,null,null,null,null,null,null,null,null,null,null,null,null,null,null,null,null,null,null,null,null,null,null,null,null,null,null,null,null,null,null,null,null,null,null,null,null,null,null,null,null,null,null,null,null,null,null,null,null,null,null,null,null,null,null,null,null,null,null,null,null,null,null,null,null,null,null,null,null,null,null,null,null,null,null,null,null,null,null,null,null,null,null,null,null,null,null,null,null,null,null,null,null,null,null,null,null,null,null,null,null,null,null,null,null,null,null,null,null,null,null,null,null,null,null,null,null,null,null,null,null,null,null,null,null,null,null,null,null,null,null,null,null,null,null,null,null,null,null,null,null,null,null,null,null,null,null,null,null,null,null,null,null,null,null,null,null,null,null,null,null,null,null,null,null,null,null,null,null,null,null,null,null,null,null,null,null,null,null,null,null,null,null,null,null,null,null,null,null,null,null,null,null,null,null,null,null,null,null,null,null,null,null,null,null,null,null,null,null,null,null,null,null,null,null,null,null,null,null,null,null,null,null,null,null,null,null,null,null,null,null,null,null,null,null,null,null,null,null,null,null,null,null,null,null,null,null,null,null,null,null,null,null,null,null,null,null,null,null,null,null,null,null,null,null,null,null,null,null,null,null,null,null,null,null,null,null,null,null,null,null,null,null,null,null,null,null,null,null,null,null,null,null,null,null,null,null,null,null,null,null,null,null,null,null,null,null,null,null,null,null,null,null,null,null,null,null,null,null,null,null,null,null,null,null,null,null,null,null,null,null,null,null,null,null,null,null,null,null,null,null,null,null,null,null,null,null,null,null,null,null,null,null,null,null,null,null,null,null,null,null,null,null,null,null,null,null,null,null,null,null,null,null,null,null,null,null,null,null,null,null,null,null,null,null,null,null,null,null,null,null,null,null,null,null,null,null,null,null,null,null,null,null,null,null,null,null,null,null,null,null,null,null,null,null,null,null,null,null,null,null,null,null,null,null,null,null,null,null,null,null,null,null,null,null,null,null,null,null,null,null,null,null,null,null,null,null,null,null,null,null,null,null,null,null,null,null,null,null,null,null,null,null,null,null,null,null,null,null,null,null,null,null,null,null,null,null,null,null,null,null,null,null,null,null,null,null,null,null,null,null,null,null,null,null,null,null,null,null,null,null,null,null,null,null,null,null,null,null,null,null,null,null,null,null,null,null,null,null,null,null,null,null,null,null,null,null,null,null,null,null,null,null,null,null,null,null,null,null,null,null,null,null,null,null,null,null,null,null,null,null,null,null,null,null,null,null,null,null,null,null,null,null,null,null,null,null,null,null,null,null,null,null,null,null,null,null,null,null,null,null,null,null,null,null,null,null,null,null,null,null,null,null,null,null,null,null,null,null,null,null,null,null,null,null,null,null,null,null,null,null,null,null,null,null,null,null,null,null,null,null,null,null,null,null,null,null,null,null,null,null,null,null,null,null,null,null,null,null,null,null,null,null,null,null,null,null,null,null,null,null,null,null,null,null,null,null,null,null,null,null,null,null,null,null,null,null,null,null,null,null,null,null,null,null,null,null,null,null,null,null,null,null,null,null,null,null,null,null,null,null,null,null,null,null,null,null,null,null,null,null,null,null,null,null,null,null,null,null,null,null,null,null,null,null,null,null,null,null,null,null,null,null,null,null,null,null,null,null,null,null,null,null,null,null,null,null,null,null,null,null,null,null,null,null,null,null,null,null,null,null,null,null,null,null,null,null,null,null,null,null,null,null,null,null,null,null,null,null,null,null,null,null,null,null,null,null,null,null,null,null,null,null,null,null,null,null,null,null,null,null,null,null,null,null,null,null,null,null,null,null,null,null,null,null,null,null,null,null,null,null,null,null,null,null,null,null,null,null,null,null,null,null,null,null,null,null,null,null,null,null,null,null,null,null,null,null,null,null,null,null,null,null,null,null,null,null,null,null,null,null,null,null,null,null,null,null,null,null,null,null,null,null,null,null,null,null,null,null,null,null,null,null,null,null,null,null,null,null,null,null,null,null,null,null,null,null,null,null,null,null,null,null,null,null,null,null,null,null,null,null,null,null,null,null,null,null,null,null,null,null,null,null,null,null,null,null,null,null,null,null,null,null,null,null,null,null,null,null,null,null,null,null,null,null,null,null,null,null,null,null,null,null,null,null,null,null,null,null,null,null,null,null,null,null,null,null,null,null,null,null,null,null,null,null,null,null,null,null,null,null,null,null,null,null,null,null,null,null,null,null,null,null,null,null,null,null,null,null,null,null,null,null,null,null,null,null,null,null,null,null,null,null,null,null,null,null,null,null,null,null,null,null,null,null,null,null,null,null,null,null,null,null,null,null,null,null,null,null,null,null,null,null,null,null,null,null,null,null,null,null,null,null,null,null,null,null,null,null,null,null,null,null,null,null,null,null,null,null,null,null,null,null,null,null,null,null,null,null,null,null,null,null,null,null,null,null,null,null,null,null,null,null,null,null,null,null,null,null,null,null,null,null,null,null,null,null,null,null,null,null,null,null,null,null,null,null,null,null,null,null,null,null,null,null,null,null,null,null,null,null,null,null,null,null,null,null,null,null,null,null,null,null,null,null,null,null,null,null,null,null,null,null,null,null,null,null,null,null,null,null,null,null,null,null,null,null,null,null,null,null,null,null,null,null,null,null,null,null,null,null,null,null,null,null,null,null,null,null,null,null,null,null,null,null,null,null,null,null,null,null,null,null,null,null,null,null,null,null,null,null,null,null,null,null,null,null,null,null,null,null,null,null,null,null,null,null,null,null,null,null,null,null,null,null,null,null,null,null,null,null,null,null,null,null,null,null,null,null,null,null,null,null,null,null,null,null,null,null,null,null,null,null,null,null,null,null,null,null,null,null,null,null,null,null,null,null,null,null,null,null,null,null,null,null,null,null,null,null,null,null,null,null,null,null,null,null,null,null,null,null,null,null,null,null,null,null,null,null,null,null,null,null,null,null,null,null,null,null,null,null,null,null,null,null,null,null,null,null,null,null,null,null,null,null,null,null,null,null,null,null,null,null,null,null,null,null,null,null,null,null,null,null,null,null,null,null,null,null,null,null,null,null,null,null,null,null,null,null,null,null,null,null,null,null,null,null,null,null,null,null,null,null,null,null,null,null,null,null,null,null,null,null,null,null,null,null,null,null,null,null,null,null,null,null,null,null,null,null,null,null,null,null,null,null,null,null,null,null,null,null,null,null,null,null,null,null,null,null,null,null,null,null,null,null,null,null,null,null,null,null,null,null,null,null,null,null,null,null,null,null,null,null,null,null,null,null,null,null,null,null,null,null,null,null,null,null,null,null,null,null,null,null,null,null,null,null,null,null,null,null,null,null,null,null,null,null,null,null,null,null,null,null,null,null,null,null,null,null,null,null,null,null,null,null,null,null,null,null,null,null,null,null,null,null,null,null,null,null,null,null,null,null,null,null,null,null,null,null,null,null,null,null,null,null,null,null,null,null,null,null,null,null,null,null,null,null,null,null,null,null,null,null,null,null,null,null,null,null,null,null,null,null,null,null,null,null,null,null,null,null,null,null,null,null,null,null,null,null,null,null,null,null,null,null,null,null,null,null,null,null,null,null,null,null,null,null,null,null,null,null,null,null,null,null,null,null,null,null,null,null,null,null,null,null,null,null,null,null,null,null,null,null,null,null,null,null,null,null,null,null,null,null,null,null,null,null,null,null,null,null,null,null,null,null,null,null,null,null,null,null,null,null,null,null,null,null,null,null,null,null,null,null,null,null,null,null,null,null,null,null,null,null,null,null,null,null,null,null,null,null,null,null,null,null,null,null,null,null,null,null,null,null,null,null,null,null,null,null,null,null,null,null,null,null,null,null,null,null,null,null,null,null,null,null,null,null,null,null,null,null,null,null,null,null,null,null,null,null,null,null,null,null,null,null,null,null,null,null,null,null,null,null,null,null,null,null,null,null,null,null,null,null,null,null,null,null,null,null,null,null,null,null,null,null,null,null,null,null,null,null,null,null,null,null,null,null,null,null,null,null,null,null,null,null,null,null,null,null,null,null,null,null,null,null,null,null,null,null,null,null,null,null,null,null,null,null,null,null,null,null,null,null,null,null,null,null,null,null,null,null,null,null,null,null,null,null,null,null,null,null,null,null,null,null,null,null,null,null,null,null,null,null,null,null,null,null,null,null,null,null,null,null,null,null,null,null,null,null,null,null,null,null,null,null,null,null,null,null,null,null,null,null,null,null,null,null,null,null,null,null,null,null,null,null,null,null,null,null,null,null,null,null,null,null,null,null,null,null,null,null,null,null,null,null,null,null,null,null,null,null,null,null,null,null,null,null,null,null,null,null,null,null,null,null,null,null,null,null,null,null,null,null,null,null,null,null,null,null,null,null,null,null,null,null,null,null,null,null,null,null,null,null,null,null,null,null,null,null,null,null,null,null,null,null,null,null,null,null,null,null,null,null,null,null,null,null,null,null,null,null,null,null,null,null,null,null,null,null,null,null,null,null,null,null,null,null,null,null,null,null,null,null,null,null,null,null,null,null,null,null,null,null,null,null,null,null,null,null,null,null,null,null,null,null,null,null,null,null,null,null,null,null,null,null,null,null,null,null,null,null,null,null,null,null,null,null,null,null,null,null,null,null,null,null,null,null,null,null,null,null,null,null,null,null,null,null,null,null,null,null,null,null,null,null,null,null,null,null,null,null,null,null,null,null,null,null,null,null,null,null,null,null,null,null,null,null,null,null,null,null,null,null,null,null,null,null,null,null,null,null,null,null,null,null,null,null,null,null,null,null,null,null,null,null,null,null,null,null,null,null,null,null,null,null,null,null,null,null,null,null,null,null,null,null,null,null,null,null,null,null,null,null,null,null,null,null,null,null,null,null,null,null,null,null,null,null,null,null,null,null,null,null,null,null,null,null,null,null,null,null,null,null,null,null,null,null,null,null,null,null,null,null,null,null,null,null,null,null,null,null,null,null,null,null,null,null,null,null,null,null,null,null,null,null,null,null,null,null,null,null,null,null,null,null,null,null,null,null,null,null,null,null,null,null,null,null,null,null,null,null,null,null,null,null,null,null,null,null,null,null,null,null,null,null,null,null,null,null,null,null,null,null,null,null,null,null,null,null,null,null,null,null,null,null,null,null,null,null,null,null,null,null,null,null,null,null,null,null,null,null,null,null,null,null,null,null,null,null,null,null,null,null,null,null,null,null,null,null,null,null,null,null,null,null,null,null,null,null,null,null,null,null,null,null,null,null,null,null,null,null,null,null,null,null,null,null,null,null,null,null,null,null,null,null,null,null,null,null,null,null,null,null,null,null,null,null,null,null,null,null,null,null,null,null,null,null,null,null,null,null,null,null,null,null,null,null,null,null,null,null,null,null,null,null,null,null,null,null,null,null,null,null,null,null,null,null,null,null,null,null,null,null,null,null,null,null,null,null,null,null,null,null,null,null,null,null,null,null,null,null,null,null,null,null,null,null,null,null,null,null,null,null,null,null,null,null,null,null,null,null,null,null,null,null,null,null,null,null,null,null,null,null,null,null,null,null,null,null,null,null,null,null,null,null,null,null,null,null,null,null,null,null,null,null,null,null,null,null,null,null,null,null,null,null,null,null,null,null,null,null,null,null,null,null,null,null,null,null,null,null,null,null,null,null,null,null,null,null,null,null,null,null,null,null,null,null,null,null,null,null,null,null,null,null,null,null,null,null,null,null,null,null,null,null,null,null,null,null,null,null,null,null,null,null,null,null,null,null,null,null,null,null,null,null,null,null,null,null,null,null,null,null,null,null,null,null,null,null,null,null,null,null,null,null,null,null,null,null,null,null,null,null,null,null,null,null,null,null,null,null,null,null,null,null,null,null,null,null,null,null,null,null,null,null,null,null,null,null,null,null,null,null,null,null,null,null,null,null,null,null,null,null,null,null,null,null,null,null,null,null,null,null,null,null,null,null,null,null,null,null,null,null,null,null,null,null,null,null,null,null,null,null,null,null,null,null,null,null,null,null,null,null,null,null,null,null,null,null,null,null,null,null,null,null,null,null,null,null,null,null,null,null,null,null,null,null,null,null,null,null,null,null,null,null,null,null,null,null,null,null,null,null,null,null,null,null,null,null,null,null,null,null,null,null,null,null,null,null,null,null,null,null,null,null,null,null,null,null,null,null,null,null,null,null,null,null,null,null,null,null,null,null,null,null,null,null,null,null,null,null,null,null,null,null,null,null,null,null,null,null,null,null,null,null,null,null,null,null,null,null,null,null,null,null,null,null,null,null,null,null,null,null,null,null,null,null,null,null,null,null,null,null,null,null,null,null,null,null,null,null,null,null,null,null,null,null,null,null,null,null,null,null,null,null,null,null,null,null,null,null,null,null,null,null,null,null,null,null,null,null,null,null,null,null,null,null,null,null,null,null,null,null,null,null,null,null,null,null,null,null,null,null,null,null,null,null,null,null,null,null,null,null,null,null,null,null,null,null,null,null,null,null,null,null,null,null,null,null,null,null,null,null,null,null,null,null,null,null,null,null,null,null,null,null,null,null,null,null,null,null,null,null,null,null,null,null,null,null,null,null,null,null,null,null,null,null,null,null,null,null,null,null,null,null,null,null,null,null,null,null,null,null,null,null,null,null,null,null,null,null,null,null,null,null,null,null,null,null,null,null,null,null,null,null,null,null,null,null,null,null,null,null,null,null,null,null,null,null,null,null,null,null,null,null,null,null,null,null,null,null,null,null,null,null,null,null,null,null,null,null,null,null,null,null,null,null,null,null,null,null,null,null,null,null,null,null,null,null,null,null,null,null,null,null,null,null,null,null,null,null,null,null,null,null,null,null,null,null,null,null,null,null,null,null,null,null,null,null,null,null,null,null,null,null,null,null,null,null,null,null,null,null,null,null,null,null,null,null,null,null,null,null,null,null,null,null,null,null,null,null,null,null,null,null,null,null,null,null,null,null,null,null,null,null,null,null,null,null,null,null,null,null,null,null,null,null,null,null,null,null,null,null,null,null,null,null,null,null,null,null,null,null,null,null,null,null,null,null,null,null,null,null,null,null,null,null,null,null,null,null,null,null,null,null,null,null,null,null,null,null,null,null,null,null,null,null,null,null,null,null,null,null,null,null,null,null,null,null,null,null,null,null,null,null,null,null,null,null,null,null,null,null,null,null,null,null,null,null,null,null,null,null,null,null,null,null,null,null,null,null,null,null,null,null,null,null,null,null,null,null,null,null,null,null,null,null,null,null,null,null,null,null,null,null,null,null,null,null,null,null,null,null,null,null,null,null,null,null,null,null,null,null,null,null,null,null,null,null,null,null,null,null,null,null,null,null,null,null,null,null,null,null,null,null,null,null,null,null,null,null,null,null,null,null,null,null,null,null,null,null,null,null,null,null,null,null,null,null,null,null,null,null,null,null,null,null,null,null,null,null,null,null,null,null,null,null,null,null,null,null,null,null,null,null,null,null,null,null,null,null,null,null,null,null,null,null,null,null,null,null,null,null,null,null,null,null,null,null,null,null,null,null,null,null,null,null,null,null,null,null,null,null,null,null,null,null,null,null,null,null,null,null,null,null,null,null,null,null,null,null,null,null,null,null,null,null,null,null,null,null,null,null,null,null,null,null,null,null,null,null,null,null,null,null,null,null,null,null,null,null,null,null,null,null,null,null,null,null,null,null,null,null,null,null,null,null,null,null,null,null,null,null,null,null,null,null,null,null,null,null,null,null,null,null,null,null,null,null,null,null,null,null,null,null,null,null,null,null,null,null,null,null,null,null,null,null,null,null,null,null,null,null,null,null,null,null,null,null,null,null,null,null,null,null,null,null,null,null,null,null,null,null,null,null,null,null,null,null,null,null,null,null,null,null,null,null,null,null,null,null,null,null,null,null,null,null,null,null,null,null,null,null,null,null,null,null,null,null,null,null,null,null,null,null,null,null,null,null,null,null,null,null,null,null,null,null,null,null,null,null,null,null,null,null,null,null,null,null,null,null,null,null,null,null,null,null,null,null,null,null,null,null,null,null,null,null,null,null,null,null,null,null,null,null,null,null,null,null,null,null,null,null,null,null,null,null,null,null,null,null,null,null,null,null,null,null,null,null,null,null,null,null,null,null,null,null,null,null,null,null,null,null,null,null,null,null,null,null,null,null,null,null,null,null,null,null,null,null,null,null,null,null,null,null,null,null,null,null,null,null,null,null,null,null,null,null,null,null,null,null,null,null,null,null,null,null,null,null,null,null,null,null,null,null,null,null,null,null,null,null,null,null,null,null,null,null,null,null,null,null,null,null,null,null,null,null,null,null,null,null,null,null,null,null,null,null,null,null,null,null,null,null,null,null,null,null,null,null,null,null,null,null,null,null,null,null,null,null,null,null,null,null,null,null,null,null,null,null,null,null,null,null,null,null,null,null,null,null,null,null,null,null,null,null,null,null,null,null,null,null,null,null,null,null,null,null,null,null,null,null,null,null,null,null,null,null,null,null,null,null,null,null,null,null,null,null,null,null,null,null,null,null,null,null,null,null,null,null,null,null,null,null,null,null,null,null,null,null,null,null,null,null,null,null,null,null,null,null,null,null,null,null,null,null,null,null,null,null,null,null,null,null,null,null,null,null,null,null,null,null,null,null,null,null,null,null,null,null,null,null,null,null,null,null,null,null,null,null,null,null,null,null,null,null,null,null,null,null,null,null,null,null,null,null,null,null,null,null,null,null,null,null,null,null,null,null,null,null,null,null,null,null,null,null,null,null,null,null,null,null,null,null,null,null,null,null,null,null,null,null,null,null,null,null,null,null,null,null,null,null,null,null,null,null,null,null,null,null,null,null,null,null,null,null,null,null,null,null,null,null,null,null,null,null,null,null,null,null,null,null,null,null,null,null,null,null,null,null,null,null,null,null,null,null,null,null,null,null,null,null,null,null,null,null,null,null,null,null,null,null,null,null,null,null,null,null,null,null,null,null,null,null,null,null,null,null,null,null,null,null,null,null,null,null,null,null,null,null,null,null,null,null,null,null,null,null,null,null,null,null,null,null,null,null,null,null,null,null,null,null,null,null,null,null,null,null,null,null,null,null,null,null,null,null,null,null,null,null,null,null,null,null,null,null,null,null,null,null,null,null,null,null,null,null,null,null,null,null,null,null,null,null,null,null,null,null,null,null,null,null,null,null,null,null,null,null,null,null,null,null,null,null,null,null,null,null,null,null,null,null,null,null,null,null,null,null,null,null,null,null,null,null,null,null,null,null,null,null,null,null,null,null,null,null,null,null,null,null,null,null,null,null,null,null,null,null,null,null,null,null,null,null,null,null,null,null,null,null,null,null,null,null,null,null,null,null,null,null,null,null,null,null,null,null,null,null,null,null,null,null,null,null,null,null,null,null,null,null,null,null,null,null,null,null,null,null,null,null,null,null,null,null,null,null,null,null,null,null,null,null,null,null,null,null,null,null,null,null,null,null,null,null,null,null,null,null,null,null,null,null,null,null,null,null,null,null,null,null,null,null,null,null,null,null,null,null,null,null,null,null,null,null,null,null,null,null,null,null,null,null,null,null,null,null,null,null,null,null,null,null,null,null,null,null,null,null,null,null,null,null,null,null,null,null,null,null,null,null,null,null,null,null,null,null,null,null,null,null,null,null,null,null,null,null,null,null,null,null,null,null,null,null,null,null,null,null,null,null,null,null,null,null,null,null,null,null,null,null,null,null,null,null,null,null,null,null,null,null,null,null,null,null,null,null,null,null,null,null,null,null,null,null,null,null,null,null,null,null,null,null,null,null,null,null,null,null,null,null,null,null,null,null,null,null,null,null,null,null,null,null,null,null,null,null,null,null,null,null,null,null,null,null,null,null,null,null,null,null,null,null,null,null,null,null,null,null,null,null,null,null,null,null,null,null,null,null,null,null,null,null,null,null,null,null,null,null,null,null,null,null,null,null,null,null,null,null,null,null,null,null,null,null,null,null,null,null,null,null,null,null,null,null,null,null,null,null,null,null,null,null,null,null,null,null,null,null,null,null,null,null,null,null,null,null,null,null,null,null,null,null,null,null,null,null,null,null,null,null,null,null,null,null,null,null,null,null,null,null,null,null,null,null,null,null,null,null,null,null,null,null,null,null,null,null,null,null,null,null,null,null,null,null,null,null,null,null,null,null,null,null,null,null,null,null,null,null,null,null,null,null,null,null,null,null,null,null,null,null,null,null,null,null,null,null,null,null,null,null,null,null,null,null,null,null,null,null,null,null,null,null,null,null,null,null,null,null,null,null,null,null,null,null,null,null,null,null,null,null,null,null,null,null,null,null,null,null,null,null,null,null,null,null,null,null,null,null,null,null,null,null,null,null,null,null,null,null,null,null,null,null,null,null,null,null,null,null,null,null,null,null,null,null,null,null,null,null,null,null,null,null,null,null,null,null,null,null,null,null,null,null,null,null,null,null,null,null,null,null,null,null,null,null,null,null,null,null,null,null,null,null,null,null,null,null,null,null,null,null,null,null,null,null,null,null,null,null,null,null,null,null,null,null,null,null,null,null,null,null,null,null,null,null,null,null,null,null,null,null,null,null,null,null,null,null,null,null,null,null,null,null,null,null,null,null,null,null,null,null,null,null,null,null,null,null,null,null,null,null,null,null,null,null,null,null,null,null,null,null,null,null,null,null,null,null,null,null,null,null,null,null,null,null,null,null,null,null,null,null,null,null,null,null,null,null,null,null,null,null,null,null,null,null,null,null,null,null,null,null,null,null,null,null,null,null,null,null,null,null,null,null,null,null,null,null,null,null,null,null,null,null,null,null,null,null,null,null,null,null,null,null,null,null,null,null,null,null,null,null,null,null,null,null,null,null,null,null,null,null,null,null,null,null,null,null,null,null,null,null,null,null,null,null,null,null,null,null,null,null,null,null,null,null,null,null,null,null,null,null,null,null,null,null,null,null,null,null,null,null,null,null,null,null,null,null,null,null,null,null,null,null,null,null,null,null,null,null,null,null,null,null,null,null,null,null,null,null,null,null,null,null,null,null,null,null,null,null,null,null,null,null,null,null,null,null,null,null,null,null,null,null,null,null,null,null,null,null,null,null,null,null,null,null,null,null,null,null,null,null,null,null,null,null,null,null,null,null,null,null,null,null,null,null,null,null,null,null,null,{"$error":"#N/A"},{"$error":"#N/A"},{"$error":"#N/A"},{"$error":"#N/A"},{"$error":"#N/A"},{"$error":"#N/A"},{"$error":"#N/A"},{"$error":"#N/A"}]

{"sheet":"Program Data","index":3,"n_rows":78,"n_cols":13,"rows_kept":78,"cut":false,"hidden":true,"merged":[[1,6,1,12]]}
["This is a hidden worksheet.  If you're viewing this, the workbook you're using may be compromised and you should download the most recent version of SDI-Design Data at www.udfcd.org"]
["Worksheet Protected","Selection","Location",null,"Longitude","Latitude","Rainfall Depth-Duration-Frequency (inches)"]
[null,null,null,null,null,null,"2-year, 1-hour","5-year, 1-hour","10-year, 1-hour","25-year, 1-hour","50-year, 1-hour","100-year, 1-hour","500-year, 1-hour"]
[null,1,"Arvada - City Hall","8101 Ralston Road, Arvada, CO",39.8033,-105.0874,0.78200000000000003,1.05,1.3,1.66,1.95,2.27,3.08]
[null,2,"Aurora  - Municipal Center","15151 E. Alameda Pkwy, Aurora, CO",39.710700000000003,-104.8124,0.86499999999999999,1.1399999999999999,1.39,1.76,2.08,2.42,3.3]
[null,3,"Aurora Reservoir","5800 South Powhaton Rd, Aurora, CO",39.611699999999999,-104.6707,0.84299999999999997,1.1299999999999999,1.39,1.77,2.08,2.42,3.3]
[null,4,"Boulder - University of Colorado","2005 Baker Drive, Bouder, CO",40.006100000000004,-105.2675,0.77400000000000002,1.04,1.29,1.69,2.04,2.4300000000000002,3.48]
[null,5,"Bow Mar","4800 Bow Mar Drive, Bow Mar, CO",39.6295,-105.05329999999999,0.80100000000000005,1.07,1.3,1.65,1.94,2.23,3]
[null,6,"Brighton - City Hall","500 S. 4th Ave., Brighton, CO",39.978499999999997,-104.81740000000001,0.83199999999999996,1.1100000000000001,1.38,1.8,2.17,2.58,3.68]
[null,7,"Broomfield - City and County Building","1 Descombes Drive, Broomfield, CO",39.919499999999999,-105.0672,0.81699999999999995,1.1000000000000001,1.37,1.78,2.12,2.5,3.51]
[null,8,"Castle Pines - City Office","360 Village Square Lane, Castle Pines, CO",39.470500000000001,-104.8788,0.84399999999999997,1.1200000000000001,1.36,1.72,2.0099999999999998,2.31,3.07]
[null,9,"Centennial - Municipal Court","13133 E. Arapahoe Road, Centennial, CO",39.595799999999997,-104.8361,0.85199999999999998,1.1100000000000001,1.35,1.7,2,2.3199999999999998,3.15]
[null,10,"Cherry Hills Village - City Hall","2450 E. Quincy Ave., Cherry Hills Village, CO",39.6374,-104.958,0.83,1.0900000000000001,1.33,1.68,1.97,2.2799999999999998,3.08]
[null,11,"Columbine Valley - Town Hall","2 Middlefield Road, Columbine Valley, CO",39.605899999999998,-105.035,0.80500000000000005,1.07,1.31,1.65,1.94,2.2400000000000002,3]
[null,12,"Commerce City - Civic Center","7887 E. 60th Ave. , Commerce City, CO",39.807000000000002,-104.8976,0.84099999999999997,1.1200000000000001,1.37,1.75,2.08,2.4300000000000002,3.35]
[null,13,"Denver - Capitol Building","200 E. Colfax Ave., Denver, CO",39.739899999999999,-104.9846,0.82499999999999996,1.0900000000000001,1.33,1.69,1.99,2.31,3.14]
[null,14,"D.I.A.","8500 Pena Blvd., Denver, CO",39.838799999999999,-104.6718,0.84699999999999998,1.1299999999999999,1.39,1.8,2.15,2.5299999999999998,3.55]
[null,15,"Douglas County - Zone 1",null,null,null,1.06,1.43,1.66,null,2.2599999999999998,2.6]
[null,16,"Douglas County - Zone 2",null,null,null,0.98,1.32,1.53,null,2.0699999999999998,2.34]
[null,17,"Douglas County - Zone 3",null,null,null,0.72,1.05,1.26,null,1.78,2.0499999999999998]
[null,18,"Edgewater - City Office","2401 Sheridan Blvd., Edgewater, CO",39.751399999999997,-105.0538,0.78400000000000003,1.05,1.28,1.62,1.91,2.21,2.98]
[null,19,"Eldorado Springs","294 Artesian Drive, Eldorado Springs, CO",39.932499999999997,-105.2801,0.84399999999999997,1.1299999999999999,1.39,1.79,2.14,2.5099999999999998,3.52]
[null,20,"Englewood - Civic Center","1000 Englewood Parkway, Englewood, CO",39.654699999999998,-104.9992,0.81499999999999995,1.07,1.31,1.65,1.94,2.25,3.04]
[null,21,"Erie","645 Holbrook Street, Erie, CO",40.050699999999999,-105.0498,0.81200000000000006,1.1100000000000001,1.39,1.84,2.2400000000000002,2.68,3.89]
[null,22,"Federal Heights","2380 W. 90th Ave., Federal Heights, CO",39.859400000000001,-105.0155,0.82399999999999995,1.1100000000000001,1.37,1.76,2.08,2.44,3.36]
[null,23,"Foxfield - Town Office","18896 E Powers Dr, Aurora, CO ",39.615400000000001,-104.71,0.85299999999999998,1.1399999999999999,1.39,1.77,2.09,2.4300000000000002,3.3]
[null,24,"Front Range Airport","5200 Front Range Pkwy, Watkins, CO",39.790599999999998,-104.5508,0.85399999999999998,1.1399999999999999,1.41,1.82,2.17,2.5499999999999998,3.58]
[null,25,"Glendale - Utility Building","950 S Birch St, Glendale, CO ",39.699199999999998,-104.9358,0.83899999999999997,1.1000000000000001,1.34,1.7,2,2.3199999999999998,3.16]
[null,26,"Golden - School of Mines","1221 West Campus Road, Golden, CO",39.750900000000001,-105.224,0.751,1.03,1.26,1.61,1.89,2.19,2.93]
[null,27,"Greenwood Village - Greenwood Village City Hall","6060 S. Quebec St., Greenwood Village, CO",39.606299999999997,-104.9029,0.85299999999999998,1.1200000000000001,1.35,1.71,2.0099999999999998,2.33,3.15]
[null,28,"Highlands Ranch - Highlands Ranch Mansion","9950 E Gateway Dr, Highlands Ranch, CO ",39.536099999999998,-104.97110000000001,0.81799999999999995,1.0900000000000001,1.32,1.67,1.95,2.25,3.01]
[null,29,"Lafayette - City Hall","1290 S. Public Road, Lafayette, CO",39.987400000000001,-105.08969999999999,0.81,1.1000000000000001,1.37,1.8,2.17,2.58,3.69]
[null,30,"Lakeside / Mountain View - Amusement Park","4601 Sheridan Blvd, Lakeside, CO ",39.778199999999998,-105.0536,0.78700000000000003,1.05,1.29,1.64,1.93,2.2400000000000002,3.04]
[null,31,"Lakewood - Lakewood Cultural Center","470 S Allison Pkwy, Lakewood, CO ",39.708100000000002,-105.0855,0.78500000000000003,1.06,1.3,1.64,1.93,2.23,2.99]
[null,32,"Leyden","16400 W. 82nd Ave., Arvada CO",39.844700000000003,-105.1842,0.77200000000000002,1.04,1.29,1.66,1.97,2.29,3.15]
[null,33,"Littleton - City Hall","2255 W Berry Ave, Littleton, CO",39.618000000000002,-105.0137,0.81,1.08,1.31,1.66,1.94,2.2400000000000002,3.01]
[null,34,"Littleton - Chatfield High School","7227 South Simms Street, Littleton, CO",39.586799999999997,-105.1319,0.77,1.04,1.28,1.62,1.89,2.1800000000000002,2.91]
[null,35,"Lone Tree - Municipal Court","9220 Kimmer Dr., Lone Tree, CO",39.552199999999999,-104.881,0.83499999999999996,1.1000000000000001,1.33,1.68,1.97,2.2799999999999998,3.07]
[null,36,"Louisville - City Hall","749 Main St, Louisville, CO ",39.977400000000003,-105.13249999999999,0.80300000000000005,1.0900000000000001,1.35,1.78,2.14,2.54,3.63]
[null,37,"Morrison - Red Rocks Ampitheatre","18300 W Alameda Pkwy, Morrison, CO ",39.666600000000003,-105.2079,0.76,1.04,1.29,1.64,1.93,2.2200000000000002,2.96]
[null,38,"Northglenn - City Hall","11701 Community Center Dr, Northglenn, CO ",39.910200000000003,-104.98869999999999,0.82799999999999996,1.1200000000000001,1.38,1.79,2.13,2.5099999999999998,3.5]
[null,39,"Parker - Town Hall","20120 Mainstreet, Parker, CO ",39.517600000000002,-104.7547,0.82199999999999995,1.1000000000000001,1.34,1.69,1.98,2.29,3.08]
[null,40,"Parker - The Pinery Country Club","6900 N Pinery Pkwy, Parker, CO",39.456499999999998,-104.7585,0.83199999999999996,1.1100000000000001,1.36,1.72,2.0099999999999998,2.3199999999999998,3.1]
[null,41,"Roxborough Park - Middle School","6222 Roxborough Park Rd, Littleton, CO ",39.468400000000003,-105.0714,0.81699999999999995,1.1000000000000001,1.34,1.7,1.98,2.27,3]
[null,42,"Sedalia","3992 Platte Avenue, Sedalia, CO",39.437899999999999,-104.9619,0.82599999999999996,1.1100000000000001,1.36,1.71,2,2.29,3.03]
[null,43,"Sheridan - City Hall","4101 S Federal Blvd, Sheridan, CO ",39.641800000000003,-105.02670000000001,0.80800000000000005,1.07,1.31,1.65,1.94,2.2400000000000002,3.02]
[null,44,"Stapleton - Old Airport Tower","8195 M.L.K. Jr Blvd, Denver, CO",39.760399999999997,-104.89279999999999,0.84399999999999997,1.1200000000000001,1.36,1.74,2.0499999999999998,2.39,3.28]
[null,45,"Superior - Town Hall","124 E Coal Creek Dr, Superior, CO ",39.953499999999998,-105.1662,0.79800000000000004,1.08,1.34,1.75,2.1,2.4900000000000002,3.53]
[null,46,"Thornton - Civic Center","9500 Civic Center Dr, Thornton, CO ",39.870199999999997,-104.9842,0.83,1.1100000000000001,1.37,1.77,2.1,2.46,3.4]
[null,47,"Westminster - City Hall","4800 W 92nd Ave, Westminster, CO ",39.863399999999999,-105.0475,0.81599999999999995,1.1000000000000001,1.36,1.75,2.08,2.4300000000000002,3.37]
[null,48,"Wheat Ridge","7500 W. 29th Ave., Wheat Ridge, CO",39.7575,-105.0802,0.77500000000000002,1.04,1.28,1.63,1.91,2.21,2.98]
[null,49,"User Input",null,"-","-",0.82499999999999996,1.0900000000000001,1.33,1.69,1.99,2.31,3.14]
[null,13,"Rainfall Location Selection"]
[null,{"$f":"VLOOKUP(Rainfall_Selected,$B$4:$C$52,2)","v":"Denver - Capitol Building"}]
[null,null,"Latitude"]
[null,null,"Longitude"]
[null,1,2,3,4,5,6,7,8,9,10]
[null,null,null,"wqcv","eurv"]
[null,null,null,0.6,1.07]
[]
[]
[]
[]
[]
[]
[]
[]
[]
[]
[]
[null,null,"BMP Type Selection"]
[null,null,"Selection","Type","Volume Time","Drain Time"]
[null,null,1,"Select BMP Type"]
[null,null,2,"Extended Detention Basin (EDB)",40,40]
[null,null,3,"Sand Filter (SF)",12,12]
[null,null,4,"Rain Garden (RG) - Bioretention",12,12]
[null,null,5,"Flood Control Only","N/A","N/A"]
[null,null,1,"BMP Type Selection"]